{"text_format":"1","workbook":"xlsx","n_sheets":14,"sheets":["1.Instructions","2.Concussion data by sport","3.Brain regions","4.Impact simulator data","5.Saved trial data","6.References","Data In","Data Out","Settings","TT","Infograph backend","Reference Cells","BrainSensorVals","Backend"],"not_rendered":{"charts":30,"images":100,"macros":1,"external_links":0,"defined_names":98,"comments":0,"pivot_tables":0},"unopened":[],"bounds":{"document_bytes":16777216,"sheet_cells":100000,"rows_first":2000,"rows_last":500,"rows_between":2000,"halvings":0,"cell_chars":16384,"cell_head_chars":4096},"cells_cut":0,"cells_raw":0,"read":"whole","date_system":"1900"}

{"sheet":"1.Instructions","index":0,"n_rows":7,"n_cols":8,"rows_kept":7,"cut":false,"hidden":false,"merged":[[3,6,3,9],[3,2,3,5],[1,1,1,10],[6,7,6,10]]}
[null,"v. 210714"]
[{"$f":"RIGHT(CELL(\"filename\",A2),LEN(CELL(\"filename\",A2))-FIND(\"]\",CELL(\"filename\",A2)))","v":"1.Instructions"},{"$f":"TT!$O$156","v":"Workbook Setup"}]
[]
[null,null,{"$f":"TT!$O$3","v":"Select Language "},null,null,null,"English"]
[]
[]
[null,null,null,null,null,null,null,{"$f":"TT!$O$8","v":"Next "}]

{"sheet":"2.Concussion data by sport","index":1,"n_rows":29,"n_cols":33,"rows_kept":29,"cut":false,"hidden":false,"merged":[[28,1,28,4],[28,32,28,34],[14,15,14,33],[17,5,17,8],[15,15,15,33],[28,14,28,29],[18,5,20,8],[12,1,12,12],[9,3,9,7],[9,16,9,19],[9,27,9,30],[12,14,12,34],[1,1,1,34],[7,3,8,11],[6,3,6,11],[7,16,8,22],[6,16,6,22],[6,27,6,33],[7,27,8,33]]}
[]
[{"$f":"RIGHT(CELL(\"filename\",A2),LEN(CELL(\"filename\",A2))-FIND(\"]\",CELL(\"filename\",A2)))","v":"2.Concussion data by sport"},{"$f":"TT!$O$10","v":"Sport Categories"}]
[]
[]
[]
[]
[null,null,null,{"$f":"TT!$O14","v":"Contact"},null,null,null,null,null,null,null,null,null,null,null,null,{"$f":"TT!$O15","v":"Limited Contact"},null,null,null,null,null,null,null,null,null,null,{"$f":"TT!$O16","v":"Non-Contact"}]
[null,null,null,{"$f":"TT!$O$17","v":"Athletes purposely hit or collide with each other or with the ground; includes consistent, frequent or inadvertent contact"},null,null,null,null,null,null,null,null,null,null,null,null,{"$f":"TT!$O$18","v":"Contact with other athletes or inanimate objects is infrequent and/or inadvertent"},null,null,null,null,null,null,null,null,null,null,{"$f":"TT!$O$19","v":"Does not involve contact, or inadvertent contact only"}]
[]
[null,null,null,{"$f":"TT!$O$84","v":"View Data "},null,null,null,null,null,null,null,null,null,null,null,null,{"$f":"TT!$O$84","v":"View Data "},null,null,null,null,null,null,null,null,null,null,{"$f":"TT!$O$84","v":"View Data "}]
[]
[]
[null,{"$f":"TT!$O$20","v":"Concussion Percentage Overview"},null,null,null,null,null,null,null,null,null,null,null,null,{"$f":"TT!$O$21","v":"Concussion Percentage by Sport"}]
[]
[null,null,null,null,null,null,null,null,null,null,null,null,null,null,null,{"$f":"ActiveChartTitleText","v":"Top 5 contact sports that cause concussion"}]
[null,null,null,null,null,null,null,null,null,null,null,null,null,null,null,{"$f":"ActiveChartTitleText2","v":"(percentage based on sample size of 605 adolescents)"}]
[]
[null,null,null,null,null,{"$f":"ActiveCategoryValue","v":0.58117195004803079}]
[null,null,null,null,null,{"$f":"ActiveRadialText","v":"of all concussions occurred in contact sports"}]
[]
[]
[]
[]
[]
[]
[]
[]
[]
[null,{"$f":"TT!$O$9","v":" Previous"},null,null,null,null,null,null,null,null,null,null,null,null,{"$f":"HYPERLINK(\"https://www.ncbi.nlm.nih.gov/pmc/articles/PMC6029621/\",TT!$O$83)","v":"For additional details, refer to the Variations in Mechanisms of Injury for Children with Concussion report"},null,null,null,null,null,null,null,null,null,null,null,null,null,null,null,null,null,{"$f":"TT!$O$8","v":"Next "}]

{"sheet":"3.Brain regions","index":2,"n_rows":36,"n_cols":27,"rows_kept":36,"cut":false,"hidden":false,"merged":[[1,1,1,10],[1,12,1,29],[3,14,3,16],[24,17,24,19],[16,17,16,19],[8,17,8,19],[3,17,3,28],[24,21,24,23],[4,17,6,27],[12,17,14,27],[20,17,22,27],[35,1,35,3],[35,26,35,29],[11,14,11,16],[19,14,19,16],[27,14,27,16],[32,17,32,19],[11,17,11,28],[19,17,19,28],[27,17,27,28],[28,17,30,27]]}
[]
[{"$f":"RIGHT(CELL(\"filename\",A2),LEN(CELL(\"filename\",A2))-FIND(\"]\",CELL(\"filename\",A2)))","v":"3.Brain regions"},{"$f":"TT!$O$85","v":"Explore 3D Brain Model"},null,null,null,null,null,null,null,null,null,null,{"$f":"TT!$O$86","v":"Brain Lobes and Functions"}]
[]
[null,null,null,null,null,null,null,null,null,null,null,null,null,"➊",{"$f":"TT!$O$87","v":"Frontal"},null,null,{"$f":"TT!$O$93","v":"Emotions and Behaviors"}]
[null,null,null,null,null,null,null,null,null,null,null,null,null,null,null,null,null,{"$f":"TT!$O$94","v":"Expressive language, motor skills, emotions, judgment, reasoning, and problem solving"}]
[]
[]
[]
[null,null,null,null,null,null,null,null,null,null,null,null,null,null,null,null,null,{"$f":"TT!$O$98","v":"VIEW "}]
[]
[]
[null,null,null,null,null,null,null,null,null,null,null,null,null,"➋",{"$f":"TT!$O$88","v":"Parietal"},null,null,{"$f":"TT!$O$93","v":"Emotions and Behaviors"}]
[null,null,null,null,null,null,null,null,null,null,null,null,null,null,null,null,null,{"$f":"TT!$O$95","v":"Sensory processing related to body orientation, pain, taste, pressure, touch and temperature"}]
[]
[]
[]
[null,null,null,null,null,null,null,null,null,null,null,null,null,null,null,null,null,{"$f":"TT!$O$98","v":"VIEW "}]
[]
[]
[null,null,null,null,null,null,null,null,null,null,null,null,null,"➌",{"$f":"TT!$O$92","v":"Temporal"},null,null,{"$f":"TT!$O$93","v":"Emotions and Behaviors"}]
[null,null,null,null,null,null,null,null,null,null,null,null,null,null,null,null,null,{"$f":"TT!$O$96","v":"Memory, interpreting language, behavior, and interpreting and processing sounds"}]
[]
[]
[]
[null,null,null,null,null,null,null,null,null,null,null,null,null,null,null,null,null,{"$f":"TT!$O$99","v":"VIEW LEFT "},null,null,null,{"$f":"TT!$O$100","v":"VIEW RIGHT "}]
[]
[]
[null,null,null,null,null,null,null,null,null,null,null,null,null,"➍",{"$f":"TT!$O$91","v":"Occipital"},null,null,{"$f":"TT!$O$93","v":"Emotions and Behaviors"}]
[null,null,null,null,null,null,null,null,null,null,null,null,null,null,null,null,null,{"$f":"TT!$O$97","v":"Vision, object recognition, distance and perception of color"}]
[]
[]
[]
[null,null,null,null,null,null,null,null,null,null,null,null,null,null,null,null,null,{"$f":"TT!$O$98","v":"VIEW "}]
[]
[]
[null,{"$f":"TT!$O$9","v":" Previous"},null,null,null,null,null,null,null,null,null,null,null,null,null,null,null,null,null,null,null,null,null,null,null,null,{"$f":"TT!$O$8","v":"Next "}]

{"sheet":"4.Impact simulator data","index":3,"n_rows":46,"n_cols":63,"rows_kept":46,"cut":false,"hidden":false,"merged":[[4,1,5,15],[4,16,5,22],[7,2,9,21],[11,2,11,3],[11,5,11,6],[11,8,11,11],[20,6,22,7],[26,6,29,7],[33,6,35,7],[39,6,41,7],[14,6,16,7],[13,21,42,21],[5,25,6,28],[5,34,6,39],[21,30,21,31],[11,18,11,21],[20,39,20,40],[21,25,21,29],[22,25,23,29],[28,25,28,29],[21,34,21,38],[21,39,21,40],[22,34,23,38],[22,39,23,40],[24,34,26,38],[24,39,26,40],[22,30,23,31],[5,44,6,49],[5,54,6,59],[20,49,20,50],[20,59,20,60],[21,44,21,48],[21,54,21,58],[21,59,21,60],[24,30,26,31],[27,30,27,31],[28,30,28,31],[24,25,26,29],[27,25,27,29],[27,34,27,38],[27,39,27,40],[28,34,28,38],[28,39,28,40],[27,49,27,50],[28,44,28,48],[28,49,28,50],[27,44,27,48],[27,54,27,58],[27,59,27,60],[24,49,26,50],[21,49,21,50],[22,44,23,48],[22,49,23,50],[22,54,23,58],[22,59,23,60],[24,44,26,48],[24,54,26,58],[24,59,26,60],[41,38,42,41],[41,48,42,51],[41,58,42,61],[28,54,28,58],[28,59,28,60],[35,44,39,51],[31,54,32,60],[33,54,33,60],[35,54,39,61],[31,34,32,40],[33,34,33,40],[35,34,39,41],[45,1,45,9],[43,6,43,8],[43,11,43,13],[43,20,43,21],[2,55,2,61],[45,56,45,62],[19,39,19,40],[19,49,19,50],[19,59,19,60],[1,1,3,1],[1,2,3,21],[1,22,3,22],[1,24,3,24],[1,25,3,52],[31,44,32,50],[33,44,33,50]]}
[30,25,10,20,15,10,20,15,35,15,25,45,15,30,15,30,60,60,60,60,30,30,25,15,25,15,48,15,48,15,48,15,25,25,15,48,15,48,15,24,24,15,25,25,15,48,15,48,15,24,24,15,25,25,15,48,15,48,15,24,24,15,25]
[null,{"$f":"TT!$O$101","v":"Live Data"},{"$f":"TT!$O$101","v":"Live Data"},null,null,null,null,null,null,null,null,null,null,null,null,null,null,null,null,null,null,null,{"$f":"TT!$O$101","v":"Live Data"},null,{"$f":"TT!$O$101","v":"Live Data"},{"$f":"'Reference Cells'!$C$35","v":"Trials: Baseline Session"}]
[{"$f":"RIGHT(CELL(\"filename\",A2),LEN(CELL(\"filename\",A2))-FIND(\"]\",CELL(\"filename\",A2)))","v":"4.Impact simulator data"},null,null,null,null,null,null,null,null,null,null,null,null,null,null,null,null,null,null,null,null,null,null,null,null,null,null,null,null,null,null,null,null,null,null,null,null,null,null,null,null,null,null,null,null,null,null,null,null,null,null,null,null,null,null,{"$f":"'Reference Cells'!$C$33","v":"Save Baseline "}]
[40]
[25,{"$f":"TT!$O$102","v":"Capture Data"},null,null,null,null,null,null,null,null,null,null,null,null,null,null,{"$f":"TT!$O$103","v":"Review Data"}]
[15,null,null,null,null,null,null,null,null,null,null,null,null,null,null,null,null,null,null,null,null,null,null,null,null,{"$f":"TT!$O$101","v":"Live Data"},null,null,null,null,null,null,null,null,{"$f":"TT!$O$111","v":"Save Trial 1 "},null,null,null,null,null,null,null,null,null,{"$f":"TT!$O$112","v":"Save Trial 2 "},null,null,null,null,null,null,null,null,null,{"$f":"TT!$O$113","v":"Save Trial 3 "}]
[15]
[25,null,{"$f":"TT!$O$153&\" \"&TT!$O$154","v":"Run and save trials, making sure to calibrate sensors before each impact.  Use the ‘Review data’ tab to analyze current saved trials moment by moment. "}]
[25]
[25]
[10]
[30,null,"",null,null,"",null,null,{"$f":"IF(TimeEntry<0,TT!$O$120,TimeEntry)","v":0},null,null,null,null,"",null,"",null,null,{"$f":"TT!$O$108","v":"Calibrate Sensors "}]
[15]
[5,null,null,null,null,null,null,null,null,null,null,null,null,null,null,null,null,null,null,null,null,{"$f":"TT!$O$152","v":"BIU (Brain Impact Units)"}]
[20,null,null,null,null,null,{"$f":"TT!$O$87","v":"Frontal"}]
[25]
[20]
[5]
[15]
[5]
[20,null,null,null,null,null,{"$f":"TT!$O$88","v":"Parietal"},null,null,null,null,null,null,null,null,null,null,null,null,null,null,null,null,null,null,null,{"$f":"TT!$O$115","v":"High"},null,{"$f":"TT!$O$116","v":"Medium"},null,{"$f":"TT!$O$117","v":"Low"},null,null,null,null,{"$f":"TT!$O$115","v":"High"},null,{"$f":"TT!$O$116","v":"Medium"},null,{"$f":"TT!$O$117","v":"Low"},null,null,null,null,null,{"$f":"TT!$O$115","v":"High"},null,{"$f":"TT!$O$116","v":"Medium"},null,{"$f":"TT!$O$117","v":"Low"},null,null,null,null,null,{"$f":"TT!$O$115","v":"High"},null,{"$f":"TT!$O$116","v":"Medium"},null,{"$f":"TT!$O$117","v":"Low"}]
[25,null,null,null,null,null,null,null,null,null,null,null,null,null,null,null,null,null,null,null,null,null,null,null,null,{"$f":"TT!$O$87","v":"Frontal"},null,null,null,null,{"$f":"BrainSensorVals!$K$11","v":0},null,null,null,{"$f":"TT!$O$87","v":"Frontal"},null,null,null,null,{"$f":"BrainSensorVals!$K$16","v":0},null,null,null,null,{"$f":"TT!$O$87","v":"Frontal"},null,null,null,null,{"$f":"BrainSensorVals!$K$21","v":0},null,null,null,null,{"$f":"TT!$O$87","v":"Frontal"},null,null,null,null,{"$f":"BrainSensorVals!$K$26","v":0}]
[20,null,null,null,null,null,null,null,null,null,null,null,null,null,null,null,null,null,null,null,null,null,null,null,null,{"$f":"TT!$O$88","v":"Parietal"},null,null,null,null,{"$f":"BrainSensorVals!$K$12","v":0},null,null,null,{"$f":"TT!$O$88","v":"Parietal"},null,null,null,null,{"$f":"BrainSensorVals!$K$17","v":0},null,null,null,null,{"$f":"TT!$O$88","v":"Parietal"},null,null,null,null,{"$f":"BrainSensorVals!$K$22","v":0},null,null,null,null,{"$f":"TT!$O$88","v":"Parietal"},null,null,null,null,{"$f":"BrainSensorVals!$K$27","v":0}]
[5]
[15,null,null,null,null,null,null,null,null,null,null,null,null,null,null,null,null,null,null,null,null,null,null,null,null,{"$f":"TT!$O$131","v":"Left Temporal"},null,null,null,null,{"$f":"BrainSensorVals!$K$13","v":0},null,null,null,{"$f":"TT!$O$131","v":"Left Temporal"},null,null,null,null,{"$f":"BrainSensorVals!$K$18","v":0},null,null,null,null,{"$f":"TT!$O$131","v":"Left Temporal"},null,null,null,null,{"$f":"BrainSensorVals!$K$23","v":0},null,null,null,null,{"$f":"TT!$O$131","v":"Left Temporal"},null,null,null,null,{"$f":"BrainSensorVals!$K$28","v":0}]
[5]
[5,null,null,null,null,null,{"$f":"TT!$O$89","v":"Temporal (L)"}]
[25,null,null,null,null,null,null,null,null,null,null,null,null,null,null,null,null,null,null,null,null,null,null,null,null,{"$f":"TT!$O$130","v":"Right Temporal"},null,null,null,null,{"$f":"BrainSensorVals!$K$14","v":0},null,null,null,{"$f":"TT!$O$130","v":"Right Temporal"},null,null,null,null,{"$f":"BrainSensorVals!$K$19","v":0},null,null,null,null,{"$f":"TT!$O$130","v":"Right Temporal"},null,null,null,null,{"$f":"BrainSensorVals!$K$24","v":0},null,null,null,null,{"$f":"TT!$O$130","v":"Right Temporal"},null,null,null,null,{"$f":"BrainSensorVals!$K$29","v":0}]
[25,null,null,null,null,null,null,null,null,null,null,null,null,null,null,null,null,null,null,null,null,null,null,null,null,{"$f":"TT!$O$91","v":"Occipital"},null,null,null,null,{"$f":"BrainSensorVals!$K$15","v":0},null,null,null,{"$f":"TT!$O$91","v":"Occipital"},null,null,null,null,{"$f":"BrainSensorVals!$K$20","v":0},null,null,null,null,{"$f":"TT!$O$91","v":"Occipital"},null,null,null,null,{"$f":"BrainSensorVals!$K$25","v":0},null,null,null,null,{"$f":"TT!$O$91","v":"Occipital"},null,null,null,null,{"$f":"BrainSensorVals!$K$30","v":0}]
[10]
[5]
[15,null,null,null,null,null,null,null,null,null,null,null,null,null,null,null,null,null,null,null,null,null,null,null,null,null,null,null,null,null,null,null,null,null,{"$f":"TT!$O$118","v":"Highest Impact:"},null,null,null,null,null,null,null,null,null,{"$f":"TT!$O$118","v":"Highest Impact:"},null,null,null,null,null,null,null,null,null,{"$f":"TT!$O$118","v":"Highest Impact:"}]
[5]
[20,null,null,null,null,null,{"$f":"TT!$O$90","v":"Temporal (R)"},null,null,null,null,null,null,null,null,null,null,null,null,null,null,null,null,null,null,null,null,null,null,null,null,null,null,null,{"$f":"MaxSensorT1","v":""},null,null,null,null,null,null,null,null,null,{"$f":"MaxSensorT2","v":""},null,null,null,null,null,null,null,null,null,{"$f":"MaxSensorT3","v":""}]
[10]
[35,null,null,null,null,null,null,null,null,null,null,null,null,null,null,null,null,null,null,null,null,null,null,null,null,null,null,null,null,null,null,null,null,null,{"$f":"MaxTextT1","v":""},null,null,null,null,null,null,null,null,null,{"$f":"MaxTextT2","v":""},null,null,null,null,null,null,null,null,null,{"$f":"MaxTextT3","v":""}]
[5]
[15]
[5]
[30,null,null,null,null,null,{"$f":"TT!$O$91","v":"Occipital"}]
[10]
[25,null,null,null,null,null,null,null,null,null,null,null,null,null,null,null,null,null,null,null,null,null,null,null,null,null,null,null,null,null,null,null,null,null,null,null,null,null,{"$f":"TT!$O$146","v":"Clear "},null,null,null,null,null,null,null,null,null,{"$f":"TT!$O$146","v":"Clear "},null,null,null,null,null,null,null,null,null,{"$f":"TT!$O$146","v":"Clear "}]
[5]
[20,null,null,null,null,null,0,null,null,null,null,0.5,null,null,null,null,1,null,1.5,null,2]
[15]
[30,{"$f":"TT!$O$9","v":" Previous"},null,null,null,null,null,null,null,null,null,null,null,null,null,null,null,null,null,null,null,null,null,null,null,null,null,null,null,null,null,null,null,null,null,null,null,null,null,null,null,null,null,null,null,null,null,null,null,null,null,null,null,null,null,null,{"$f":"TT!$O$8","v":"Next "}]

{"sheet":"5.Saved trial data","index":4,"n_rows":32,"n_cols":30,"rows_kept":32,"cut":false,"hidden":false,"merged":[[31,27,31,31],[5,5,5,6],[6,5,6,6],[31,1,31,5],[3,5,3,6],[7,3,11,4],[26,5,26,6],[22,5,22,6],[23,5,23,6],[24,5,24,6],[25,5,25,6],[21,5,21,6],[21,3,23,3],[24,3,26,3],[15,3,17,3],[11,5,11,6],[1,1,1,31],[7,5,7,6],[8,5,8,6],[9,5,9,6],[10,5,10,6],[12,5,12,6],[13,5,13,6],[14,5,14,6],[15,5,15,6],[12,3,14,3],[18,3,20,3],[16,5,16,6],[17,5,17,6],[18,5,18,6],[19,5,19,6],[20,5,20,6]]}
[]
[{"$f":"RIGHT(CELL(\"filename\",A2),LEN(CELL(\"filename\",A2))-FIND(\"]\",CELL(\"filename\",A2)))","v":"5.Saved trial data"},{"$f":"TT!$O$125","v":"Session Summary"}]
[]
[null,null,null,null,null,{"$f":"TT!$O$136","v":"Session Name"}]
[]
[null,null,null,null,null,{"$f":"TT!$O141","v":"Session Date"}]
[null,null,null,null,null,{"$f":"TT!$O142","v":"Session Time"}]
[null,null,null,{"$f":"TT!$O$127","v":"Trial Averages"},null,{"$f":"TT!$O128","v":"Frontal Lobe"}]
[null,null,null,null,null,{"$f":"TT!$O129","v":"Parietal Lobe"}]
[null,null,null,null,null,{"$f":"TT!$O130","v":"Right Temporal"}]
[null,null,null,null,null,{"$f":"TT!$O131","v":"Left Temporal"}]
[null,null,null,null,null,{"$f":"TT!$O132","v":"Occipital Lobe"}]
[null,null,null,{"$f":"TT!$O87","v":"Frontal"},null,{"$f":"TT!$O$133","v":"Trial 1"}]
[null,null,null,null,null,{"$f":"TT!$O$134","v":"Trial 2"}]
[null,null,null,null,null,{"$f":"TT!$O$135","v":"Trial 3"}]
[null,null,null,{"$f":"TT!$O88","v":"Parietal"},null,{"$f":"TT!$O$133","v":"Trial 1"}]
[null,null,null,null,null,{"$f":"TT!$O$134","v":"Trial 2"}]
[null,null,null,null,null,{"$f":"TT!$O$135","v":"Trial 3"}]
[null,null,null,{"$f":"TT!$O89","v":"Temporal (L)"},null,{"$f":"TT!$O$133","v":"Trial 1"}]
[null,null,null,null,null,{"$f":"TT!$O$134","v":"Trial 2"}]
[null,null,null,null,null,{"$f":"TT!$O$135","v":"Trial 3"}]
[null,null,null,{"$f":"TT!$O90","v":"Temporal (R)"},null,{"$f":"TT!$O$133","v":"Trial 1"}]
[null,null,null,null,null,{"$f":"TT!$O$134","v":"Trial 2"}]
[null,null,null,null,null,{"$f":"TT!$O$135","v":"Trial 3"}]
[null,null,null,{"$f":"TT!$O91","v":"Occipital"},null,{"$f":"TT!$O$133","v":"Trial 1"}]
[null,null,null,null,null,{"$f":"TT!$O$134","v":"Trial 2"}]
[null,null,null,null,null,{"$f":"TT!$O$135","v":"Trial 3"}]
[]
[null,null,null,null,null,null,null,null,{"$f":"TT!$O$146","v":"Clear "},null,null,{"$f":"TT!$O$146","v":"Clear "},null,null,{"$f":"TT!$O$146","v":"Clear "},null,null,{"$f":"TT!$O$146","v":"Clear "},null,null,{"$f":"TT!$O$146","v":"Clear "},null,null,{"$f":"TT!$O$146","v":"Clear "},null,null,{"$f":"TT!$O$146","v":"Clear "},null,null,{"$f":"TT!$O$146","v":"Clear "}]
[]
[]
[null,{"$f":"TT!$O$9","v":" Previous"},null,null,null,null,null,null,null,null,null,null,null,null,null,null,null,null,null,null,null,null,null,null,null,null,null,{"$f":"TT!$O$8","v":"Next "}]

{"sheet":"6.References","index":5,"n_rows":25,"n_cols":14,"rows_kept":25,"cut":false,"hidden":false,"merged":[[1,1,1,23],[3,2,6,22],[24,1,24,4],[10,13,10,21],[11,13,11,21],[12,13,12,21],[13,13,13,21],[14,13,14,21],[15,13,15,21],[16,13,16,21],[10,2,11,10],[12,2,13,10],[14,2,15,10],[16,2,17,10]]}
[]
[{"$f":"RIGHT(CELL(\"filename\",A2),LEN(CELL(\"filename\",A2))-FIND(\"]\",CELL(\"filename\",A2)))","v":"6.References"},{"$f":"TT!$O$143","v":"References"}]
[]
[null,null,{"$f":"TT!$O$144","v":"Brain research is an evolving scientific field. Scientists are making new discoveries every day about how the brain works. Information about the functioning of the brain and the effect of impact on brain functions as stated in this lesson and workbook are based on information gathered from the referenced sources. It is possible that this information will change in time."}]
[]
[]
[]
[]
[null,null,{"$f":"TT!$O$145","v":"Source"},null,null,null,null,null,null,null,null,null,null,{"$f":"TT!$O$151","v":"Link to data"}]
[]
[null,null,{"$f":"TT!$O$147","v":"Variations in Mechanisms for Children with Concussion"},null,null,null,null,null,null,null,null,null,null,{"$f":"HYPERLINK(\"https://www.ncbi.nlm.nih.gov/pmc/articles/PMC6029621/\")","v":"https://www.ncbi.nlm.nih.gov/pmc/articles/PMC6029621/"}]
[]
[null,null,{"$f":"TT!$O$148","v":"Anatomy of the Brain, Mayfield Brain and Spine"},null,null,null,null,null,null,null,null,null,null,{"$f":"HYPERLINK(\"https://mayfieldclinic.com/pe-anatbrain.htm\")","v":"https://mayfieldclinic.com/pe-anatbrain.htm"}]
[]
[null,null,{"$f":"TT!$O$149","v":"Cognitive Skills of the Brain, Brain Injury Alliance of Utah"},null,null,null,null,null,null,null,null,null,null,{"$f":"HYPERLINK(\"https://biau.org/about-brain-injuries/cognitive-skills-of-the-brain/\")","v":"https://biau.org/about-brain-injuries/cognitive-skills-of-the-brain/"}]
[]
[null,null,{"$f":"TT!$O$150","v":"Overview of Cerebral Function, Merck Manuals"},null,null,null,null,null,null,null,null,null,null,{"$f":"HYPERLINK(\"https://www.merckmanuals.com/professional/neurologic-disorders/function-and-dysfunction-of-the-cerebral-lobes/overview-of-cerebral-function\")","v":"https://www.merckmanuals.com/professional/neurologic-disorders/function-and-dysfunction-of-the-cerebral-lobes/overview-of-cerebral-function"}]
[]
[]
[]
[]
[]
[]
[]
[null,{"$f":"TT!$O$9","v":" Previous"}]

{"sheet":"Data In","index":6,"n_rows":7,"n_cols":11,"rows_kept":7,"cut":false,"hidden":false,"merged":[[0,0,0,9],[1,0,1,9],[2,0,2,5],[5,0,5,5]]}
["Data In (From Source)",null,null,null,null,null,null,null,null,null,"update"]
["Data coming from the current data source will appear below as it is received."]
["Current Data"]
["Time","S1","S2","S3","S4","S5"]
[]
["Historical Data"]
[{"$f":"IF(A4=\"\",\"\",A4)","v":"Time"},{"$f":"IF(B4=\"\",\"\",B4)","v":"S1"},"S2","S3","S4","S5"]

{"sheet":"Data Out","index":7,"n_rows":4,"n_cols":11,"rows_kept":4,"cut":false,"hidden":false,"merged":[[0,0,0,9],[1,0,1,9]]}
["Data Out (To Device)",null,null,null,null,null,null,null,null,null,"update"]
["Data entered into the channels below will be sent to the currently connected device as a comma-delimited string."]
[]
["CH1","CH2","CH3","CH4","CH5"]

{"sheet":"Settings","index":8,"n_rows":12,"n_cols":8,"rows_kept":12,"cut":false,"hidden":false,"merged":[[0,0,0,6],[1,0,1,6],[11,0,11,6]]}
["Workbook Settings",null,null,null,null,null,null,"update"]
["Settings below will affect how data is read into the current workbook from data sources. Clear a field's contents to revert to its default setting."]
[]
["Data interval (ms):  ","150",50]
[]
["Data rows:  ","15",500]
[]
["Data channels:  ","10",5]
[]
["Data orientation:  ","Newest last"]
[]
["WARNING: Changing settings may result in the loss of content and/or custom formatting in the Data In and Data Out worksheets. Always save before changing values."]

{"sheet":"TT","index":9,"n_rows":156,"n_cols":20,"rows_kept":156,"cut":false,"hidden":true,"merged":[]}
[]
[null,"Row","Tab","Location","Language 1","Language 2","Language 3","Language 4","Language 5","Language 6","Language 7","Language 8","Language 9","Language 10","Display"]
[null,{"$f":"ROW()","v":3},"Instructions",{"$f":"TT[[#This Row],[Tab]]&TT[[#This Row],[Row]]","v":"Instructions3"},"Select Language ","Selecionar idioma ","Selecciona el idioma ","Sprache auswählen ","Choisir la langue ",null,null,null,null,null,{"$f":"INDEX(TT[[#This Row],[Language 1]:[Language 10]],1,LanguageSelect)","v":"Select Language "},null,null,"Select Language",{"$f":"'1.Instructions'!$G$4","v":"English"},{"$f":"INDEX($R$5:$R$14,MATCH($S$3,$S$5:$S$14,0))","v":1}]
[null,{"$f":"ROW()","v":4},"Instructions",{"$f":"TT[[#This Row],[Tab]]&TT[[#This Row],[Row]]","v":"Instructions4"},"This workbook uses \"Macros\" (automated Excel commands) to assist in the data collection process.","Esta pasta de trabalho usa \"Macros\" (comandos automatizados do Excel) para auxiliar no processo de coleta de dados","Este libro de trabajo utiliza \"Macros\" (comandos automatizados de Excel) para ayudar en el proceso de recopilación de datos.","Diese Arbeitsmappe verwendet \"Makros\" (automatisierte Excel-Befehle), um den Datenerfassungsprozess zu unterstützen.","Ce classeur utilise des « Macros » (commandes Excel automatisées) pour faciliter le processus de collecte de données.",null,null,null,null,null,{"$f":"INDEX(TT[[#This Row],[Language 1]:[Language 10]],1,LanguageSelect)","v":"This workbook uses \"Macros\" (automated Excel commands) to assist in the data collection process."}]
[null,{"$f":"ROW()","v":5},"Instructions",{"$f":"TT[[#This Row],[Tab]]&TT[[#This Row],[Row]]","v":"Instructions5"},"To use these Macros and have buttons on the spreadsheets work, you must \"Enable\" the Macros.","Para usar essas Macros e ter botões nas planilhas funcionando, você deve \"Habilitar\" as Macros","Para utilizar estas macros y tener botones en las hojas de cálculo, debes \"Habilitar\" las macros.","Um diese Makros zu verwenden und Schaltflächen auf den Tabellenkalkulationen zu haben, musst du die Makros \"aktivieren\".","Pour utiliser ces Macros et utiliser des boutons sur les feuilles de calcul, vous devez « activer » les Macros.",null,null,null,null,null,{"$f":"INDEX(TT[[#This Row],[Language 1]:[Language 10]],1,LanguageSelect)","v":"To use these Macros and have buttons on the spreadsheets work, you must \"Enable\" the Macros."},null,null,1,"English"]
[null,{"$f":"ROW()","v":6},"Instructions",{"$f":"TT[[#This Row],[Tab]]&TT[[#This Row],[Row]]","v":"Instructions6"},"Click the \"Enable Content\" button that appears above when you first open this workbook.","Clique no botão \"Habilitar Conteúdo\" exibido acima quando você abrir a pasta de trabalho pela primeira vez","Haz clic en el botón \"Habilitar contenido\" que aparece arriba cuando abras por primera vez este libro de trabajo.","Klicke auf die Schaltfläche \"Inhalt aktivieren\", die oben erscheint, wenn du diese Arbeitsmappe zum ersten Mal öffnest.","Cliquez sur le bouton « Activer le contenu » qui apparaît ci-dessus lorsque vous ouvrez ce classeur pour la première fois.",null,null,null,null,null,{"$f":"INDEX(TT[[#This Row],[Language 1]:[Language 10]],1,LanguageSelect)","v":"Click the \"Enable Content\" button that appears above when you first open this workbook."},null,null,2,"Português"]
[null,{"$f":"ROW()","v":7},"Instructions",{"$f":"TT[[#This Row],[Tab]]&TT[[#This Row],[Row]]","v":"Instructions7"},"Once you have enabled macros, you can use the workbook.  If you do not see this message, macros are enabled.","Depois de habilitar as macros, você poderá usar a pasta de trabalho.  Se você não vir essa mensagem, as macros serão habilitadas","Una vez que hayas activado las macros, podrás utilizar el libro de trabajo.  Si no ves este mensaje, las macros están habilitadas","Sobald du Makros aktiviert hast, kannst du die Arbeitsmappe verwenden.  Wenn du diese Meldung nicht siehst, sind die Makros aktiviert.","Une fois que vous avez activé les Macros, vous pouvez utiliser le classeur. Si vous ne voyez pas ce message, les Macros sont activées.",null,null,null,null,null,{"$f":"INDEX(TT[[#This Row],[Language 1]:[Language 10]],1,LanguageSelect)","v":"Once you have enabled macros, you can use the workbook.  If you do not see this message, macros are enabled."},null,null,3,"Español"]
[null,{"$f":"ROW()","v":8},"*Navigation",{"$f":"TT[[#This Row],[Tab]]&TT[[#This Row],[Row]]","v":"*Navigation8"},"Next ","Próximo ","Siguiente ","Weiter ","Suivant ",null,null,null,null,null,{"$f":"INDEX(TT[[#This Row],[Language 1]:[Language 10]],1,LanguageSelect)","v":"Next "},null,null,4,"Deutsch"]
[null,{"$f":"ROW()","v":9},"*Navigation",{"$f":"TT[[#This Row],[Tab]]&TT[[#This Row],[Row]]","v":"*Navigation9"}," Previous"," Anterior"," Anterior"," Vorherige"," Précédent",null,null,null,null,null,{"$f":"INDEX(TT[[#This Row],[Language 1]:[Language 10]],1,LanguageSelect)","v":" Previous"},null,null,5,"Français"]
[null,{"$f":"ROW()","v":10},"1.Concussion data by sport",{"$f":"TT[[#This Row],[Tab]]&TT[[#This Row],[Row]]","v":"1.Concussion data by sport10"},"Sport Categories","Categorias de Esporte","Categorías de Deportes","Sportkategorien","Catégories de sport",null,null,null,null,null,{"$f":"INDEX(TT[[#This Row],[Language 1]:[Language 10]],1,LanguageSelect)","v":"Sport Categories"},null,null,6]
[null,{"$f":"ROW()","v":11},"1.Concussion data by sport",{"$f":"TT[[#This Row],[Tab]]&TT[[#This Row],[Row]]","v":"1.Concussion data by sport11"},"Contact Sports","Esportes de Contato","Deportes de contacto","Kontakt Sportarten","Sports de contact",null,null,null,null,null,{"$f":"INDEX(TT[[#This Row],[Language 1]:[Language 10]],1,LanguageSelect)","v":"Contact Sports"},null,null,7]
[null,{"$f":"ROW()","v":12},"1.Concussion data by sport",{"$f":"TT[[#This Row],[Tab]]&TT[[#This Row],[Row]]","v":"1.Concussion data by sport12"},"Limited Contact Sports","Esportes de Contato Limitados","Deportes de contacto limitado","Begrenzter Kontakt Sport","Sports de contact limité",null,null,null,null,null,{"$f":"INDEX(TT[[#This Row],[Language 1]:[Language 10]],1,LanguageSelect)","v":"Limited Contact Sports"},null,null,8]
[null,{"$f":"ROW()","v":13},"1.Concussion data by sport",{"$f":"TT[[#This Row],[Tab]]&TT[[#This Row],[Row]]","v":"1.Concussion data by sport13"},"Non-Contact Sports","Esportes Sem Contato","Deportes sin contacto","Kontaktloser Sport","Sports sans contact",null,null,null,null,null,{"$f":"INDEX(TT[[#This Row],[Language 1]:[Language 10]],1,LanguageSelect)","v":"Non-Contact Sports"},null,null,9]
[null,{"$f":"ROW()","v":14},"1.Concussion data by sport",{"$f":"TT[[#This Row],[Tab]]&TT[[#This Row],[Row]]","v":"1.Concussion data by sport14"},"Contact","Contato","Contacto","Kontakt","Contact",null,null,null,null,null,{"$f":"INDEX(TT[[#This Row],[Language 1]:[Language 10]],1,LanguageSelect)","v":"Contact"},null,null,10]
[null,{"$f":"ROW()","v":15},"1.Concussion data by sport",{"$f":"TT[[#This Row],[Tab]]&TT[[#This Row],[Row]]","v":"1.Concussion data by sport15"},"Limited Contact","Contato Limitado","Contacto Limitado","Begrenzter Kontakt","Contact limité",null,null,null,null,null,{"$f":"INDEX(TT[[#This Row],[Language 1]:[Language 10]],1,LanguageSelect)","v":"Limited Contact"}]
[null,{"$f":"ROW()","v":16},"1.Concussion data by sport",{"$f":"TT[[#This Row],[Tab]]&TT[[#This Row],[Row]]","v":"1.Concussion data by sport16"},"Non-Contact","Sem Contato","Sin contacto","Kontaktlos","Sans contact",null,null,null,null,null,{"$f":"INDEX(TT[[#This Row],[Language 1]:[Language 10]],1,LanguageSelect)","v":"Non-Contact"}]
[null,{"$f":"ROW()","v":17},"1.Concussion data by sport",{"$f":"TT[[#This Row],[Tab]]&TT[[#This Row],[Row]]","v":"1.Concussion data by sport17"},"Athletes purposely hit or collide with each other or with the ground; includes consistent, frequent or inadvertent contact","Os atletas batem ou colidem propositadamente entre si ou com o chão; inclui contato consistente, frequente ou inadvertido","Los atletas se golpean o chocan intencionalmente entre sí o con el suelo; incluye contacto constante, frecuente o inadvertido","Sportler treffen oder kollidieren absichtlich miteinander oder mit dem Boden; beinhaltet gleichmäßigen, häufigen oder versehentlichen Kontakt.","Les athlètes se frappent ou entre en collision entre eux ou avec le sol délibérément; cela comprend des contacts constants, fréquents ou involontaires",null,null,null,null,null,{"$f":"INDEX(TT[[#This Row],[Language 1]:[Language 10]],1,LanguageSelect)","v":"Athletes purposely hit or collide with each other or with the ground; includes consistent, frequent or inadvertent contact"},null,null,""]
[null,{"$f":"ROW()","v":18},"1.Concussion data by sport",{"$f":"TT[[#This Row],[Tab]]&TT[[#This Row],[Row]]","v":"1.Concussion data by sport18"},"Contact with other athletes or inanimate objects is infrequent and/or inadvertent","O contato com outros atletas ou objetos inanimados é infrequente e/ou inadvertido","El contacto con otros atletas u objetos inanimados es infrecuente y/o inadvertido","Der Kontakt mit anderen Athleten oder unbelebten Gegenständen ist selten und/oder versehentlich.","Le contact avec d’autres athlètes ou des objets inanimés est peu fréquent et / ou involontaire",null,null,null,null,null,{"$f":"INDEX(TT[[#This Row],[Language 1]:[Language 10]],1,LanguageSelect)","v":"Contact with other athletes or inanimate objects is infrequent and/or inadvertent"}]
[null,{"$f":"ROW()","v":19},"1.Concussion data by sport",{"$f":"TT[[#This Row],[Tab]]&TT[[#This Row],[Row]]","v":"1.Concussion data by sport19"},"Does not involve contact, or inadvertent contact only","Não envolve contato ou apenas contato inadvertido","No involucra contacto, o solo contacto inadvertido ","Es handelt sich nicht um Kontakt oder versehentlichen Kontakt.","N'implique pas de contact, ou des contacts involontaires uniquement",null,null,null,null,null,{"$f":"INDEX(TT[[#This Row],[Language 1]:[Language 10]],1,LanguageSelect)","v":"Does not involve contact, or inadvertent contact only"}]
[null,{"$f":"ROW()","v":20},"1.Concussion data by sport",{"$f":"TT[[#This Row],[Tab]]&TT[[#This Row],[Row]]","v":"1.Concussion data by sport20"},"Concussion Percentage Overview","Visão Geral da Porcentagem de Concussão","Resumen de porcentaje de concusión","Übersicht über den Prozentsatz der Gehirnerschütterungen","Aperçu du pourcentage de commotion cérébrale",null,null,null,null,null,{"$f":"INDEX(TT[[#This Row],[Language 1]:[Language 10]],1,LanguageSelect)","v":"Concussion Percentage Overview"}]
[null,{"$f":"ROW()","v":21},"1.Concussion data by sport",{"$f":"TT[[#This Row],[Tab]]&TT[[#This Row],[Row]]","v":"1.Concussion data by sport21"},"Concussion Percentage by Sport","Porcentagem de Concussão por Esporte","Porcentaje de conmoción cerebral por deporte","Prozentualer Anteil der Gehirnerschütterungen nach Sportart","Pourcentage de commotion cérébrale due au sport",null,null,null,null,null,{"$f":"INDEX(TT[[#This Row],[Language 1]:[Language 10]],1,LanguageSelect)","v":"Concussion Percentage by Sport"}]
[null,{"$f":"ROW()","v":22},"1.Concussion data by sport",{"$f":"TT[[#This Row],[Tab]]&TT[[#This Row],[Row]]","v":"1.Concussion data by sport22"},"Football","Futebol Americano","Fútbol americano","Football","Football américain",null,null,null,null,null,{"$f":"INDEX(TT[[#This Row],[Language 1]:[Language 10]],1,LanguageSelect)","v":"Football"}]
[null,{"$f":"ROW()","v":23},"1.Concussion data by sport",{"$f":"TT[[#This Row],[Tab]]&TT[[#This Row],[Row]]","v":"1.Concussion data by sport23"},"Soccer","Futebol","Fútbol soccer","Fußball","Football",null,null,null,null,null,{"$f":"INDEX(TT[[#This Row],[Language 1]:[Language 10]],1,LanguageSelect)","v":"Soccer"}]
[null,{"$f":"ROW()","v":24},"1.Concussion data by sport",{"$f":"TT[[#This Row],[Tab]]&TT[[#This Row],[Row]]","v":"1.Concussion data by sport24"},"Basketball","Basquete","Baloncesto","Basketball","Basket-ball",null,null,null,null,null,{"$f":"INDEX(TT[[#This Row],[Language 1]:[Language 10]],1,LanguageSelect)","v":"Basketball"}]
[null,{"$f":"ROW()","v":25},"1.Concussion data by sport",{"$f":"TT[[#This Row],[Tab]]&TT[[#This Row],[Row]]","v":"1.Concussion data by sport25"},"Ice hockey","Hóquei no gelo","Hockey sobre hielo","Eishockey","Hockey sur glace",null,null,null,null,null,{"$f":"INDEX(TT[[#This Row],[Language 1]:[Language 10]],1,LanguageSelect)","v":"Ice hockey"}]
[null,{"$f":"ROW()","v":26},"1.Concussion data by sport",{"$f":"TT[[#This Row],[Tab]]&TT[[#This Row],[Row]]","v":"1.Concussion data by sport26"},"Lacrosse","Lacrosse","Lacrosse","Lacrosse","Lacrosse",null,null,null,null,null,{"$f":"INDEX(TT[[#This Row],[Language 1]:[Language 10]],1,LanguageSelect)","v":"Lacrosse"}]
[null,{"$f":"ROW()","v":27},"1.Concussion data by sport",{"$f":"TT[[#This Row],[Tab]]&TT[[#This Row],[Row]]","v":"1.Concussion data by sport27"},"Wrestling","Luta Livre","Lucha libre","Ringen","Lutte",null,null,null,null,null,{"$f":"INDEX(TT[[#This Row],[Language 1]:[Language 10]],1,LanguageSelect)","v":"Wrestling"}]
[null,{"$f":"ROW()","v":28},"1.Concussion data by sport",{"$f":"TT[[#This Row],[Tab]]&TT[[#This Row],[Row]]","v":"1.Concussion data by sport28"},"Field hockey","Hóquei em campo","Hockey sobre césped","Feldhockey","Hockey sur gazon",null,null,null,null,null,{"$f":"INDEX(TT[[#This Row],[Language 1]:[Language 10]],1,LanguageSelect)","v":"Field hockey"}]
[null,{"$f":"ROW()","v":29},"1.Concussion data by sport",{"$f":"TT[[#This Row],[Tab]]&TT[[#This Row],[Row]]","v":"1.Concussion data by sport29"},"Rugby","Rúgbi","Rugby","Rugby","Rugby",null,null,null,null,null,{"$f":"INDEX(TT[[#This Row],[Language 1]:[Language 10]],1,LanguageSelect)","v":"Rugby"}]
[null,{"$f":"ROW()","v":30},"1.Concussion data by sport",{"$f":"TT[[#This Row],[Tab]]&TT[[#This Row],[Row]]","v":"1.Concussion data by sport30"},"Water polo","Pólo aquático","Waterpolo","Wasserball","Water-polo",null,null,null,null,null,{"$f":"INDEX(TT[[#This Row],[Language 1]:[Language 10]],1,LanguageSelect)","v":"Water polo"}]
[null,{"$f":"ROW()","v":31},"1.Concussion data by sport",{"$f":"TT[[#This Row],[Tab]]&TT[[#This Row],[Row]]","v":"1.Concussion data by sport31"},"Martial arts","Artes marciais","Artes marciales","Kampfsport","Arts martiaux",null,null,null,null,null,{"$f":"INDEX(TT[[#This Row],[Language 1]:[Language 10]],1,LanguageSelect)","v":"Martial arts"}]
[null,{"$f":"ROW()","v":32},"1.Concussion data by sport",{"$f":"TT[[#This Row],[Tab]]&TT[[#This Row],[Row]]","v":"1.Concussion data by sport32"},"Diving","Mergulho","Buceo","Tauchen","Plongée",null,null,null,null,null,{"$f":"INDEX(TT[[#This Row],[Language 1]:[Language 10]],1,LanguageSelect)","v":"Diving"}]
[null,{"$f":"ROW()","v":33},"1.Concussion data by sport",{"$f":"TT[[#This Row],[Tab]]&TT[[#This Row],[Row]]","v":"1.Concussion data by sport33"},"Floor hockey","Hóquei","Hockey sobre suelo","Bodenhockey","Hockey au sol",null,null,null,null,null,{"$f":"INDEX(TT[[#This Row],[Language 1]:[Language 10]],1,LanguageSelect)","v":"Floor hockey"}]
[null,{"$f":"ROW()","v":34},"1.Concussion data by sport",{"$f":"TT[[#This Row],[Tab]]&TT[[#This Row],[Row]]","v":"1.Concussion data by sport34"},"Street hockey","Hóquei de rua","Hockey callejero","Straßenhockey","Hockey de rue",null,null,null,null,null,{"$f":"INDEX(TT[[#This Row],[Language 1]:[Language 10]],1,LanguageSelect)","v":"Street hockey"}]
[null,{"$f":"ROW()","v":35},"1.Concussion data by sport",{"$f":"TT[[#This Row],[Tab]]&TT[[#This Row],[Row]]","v":"1.Concussion data by sport35"},"Cheerleading","Cheerleading","Porristas","Cheerleading","Cheerleading",null,null,null,null,null,{"$f":"INDEX(TT[[#This Row],[Language 1]:[Language 10]],1,LanguageSelect)","v":"Cheerleading"}]
[null,{"$f":"ROW()","v":36},"1.Concussion data by sport",{"$f":"TT[[#This Row],[Tab]]&TT[[#This Row],[Row]]","v":"1.Concussion data by sport36"},"Baseball","Basebol","Béisbol","Baseball","Base-ball",null,null,null,null,null,{"$f":"INDEX(TT[[#This Row],[Language 1]:[Language 10]],1,LanguageSelect)","v":"Baseball"}]
[null,{"$f":"ROW()","v":37},"1.Concussion data by sport",{"$f":"TT[[#This Row],[Tab]]&TT[[#This Row],[Row]]","v":"1.Concussion data by sport37"},"Volleyball","Vôlei","Voleibol","Volleyball","Volley-ball",null,null,null,null,null,{"$f":"INDEX(TT[[#This Row],[Language 1]:[Language 10]],1,LanguageSelect)","v":"Volleyball"}]
[null,{"$f":"ROW()","v":38},"1.Concussion data by sport",{"$f":"TT[[#This Row],[Tab]]&TT[[#This Row],[Row]]","v":"1.Concussion data by sport38"},"Bike riding","Ciclismo","Andar en bicicleta","Radfahren","Vélo",null,null,null,null,null,{"$f":"INDEX(TT[[#This Row],[Language 1]:[Language 10]],1,LanguageSelect)","v":"Bike riding"}]
[null,{"$f":"ROW()","v":39},"1.Concussion data by sport",{"$f":"TT[[#This Row],[Tab]]&TT[[#This Row],[Row]]","v":"1.Concussion data by sport39"},"Softball","Softbol","Softbol","Softball","Softball",null,null,null,null,null,{"$f":"INDEX(TT[[#This Row],[Language 1]:[Language 10]],1,LanguageSelect)","v":"Softball"}]
[null,{"$f":"ROW()","v":40},"1.Concussion data by sport",{"$f":"TT[[#This Row],[Tab]]&TT[[#This Row],[Row]]","v":"1.Concussion data by sport40"},"Gymnastics","Ginástica","Gimnasia","Gymnastik","Gymnastique",null,null,null,null,null,{"$f":"INDEX(TT[[#This Row],[Language 1]:[Language 10]],1,LanguageSelect)","v":"Gymnastics"}]
[null,{"$f":"ROW()","v":41},"1.Concussion data by sport",{"$f":"TT[[#This Row],[Tab]]&TT[[#This Row],[Row]]","v":"1.Concussion data by sport41"},"Snowboarding","Snowboarding","Snowboarding","Snowboarden","Surf des neiges",null,null,null,null,null,{"$f":"INDEX(TT[[#This Row],[Language 1]:[Language 10]],1,LanguageSelect)","v":"Snowboarding"}]
[null,{"$f":"ROW()","v":42},"1.Concussion data by sport",{"$f":"TT[[#This Row],[Tab]]&TT[[#This Row],[Row]]","v":"1.Concussion data by sport42"},"Ice skating","Patinação no gelo","Patinaje sobre hielo","Eislaufen","Patinage sur glace",null,null,null,null,null,{"$f":"INDEX(TT[[#This Row],[Language 1]:[Language 10]],1,LanguageSelect)","v":"Ice skating"}]
[null,{"$f":"ROW()","v":43},"1.Concussion data by sport",{"$f":"TT[[#This Row],[Tab]]&TT[[#This Row],[Row]]","v":"1.Concussion data by sport43"},"Sledding","Trenó","Trineo","Rodeln","Luge",null,null,null,null,null,{"$f":"INDEX(TT[[#This Row],[Language 1]:[Language 10]],1,LanguageSelect)","v":"Sledding"}]
[null,{"$f":"ROW()","v":44},"1.Concussion data by sport",{"$f":"TT[[#This Row],[Tab]]&TT[[#This Row],[Row]]","v":"1.Concussion data by sport44"},"Skiing","Esquiar","Esquí","Skifahren","Ski",null,null,null,null,null,{"$f":"INDEX(TT[[#This Row],[Language 1]:[Language 10]],1,LanguageSelect)","v":"Skiing"}]
[null,{"$f":"ROW()","v":45},"1.Concussion data by sport",{"$f":"TT[[#This Row],[Tab]]&TT[[#This Row],[Row]]","v":"1.Concussion data by sport45"},"Equestrian","Equestres","Equitación","Pferdesport","Équitation",null,null,null,null,null,{"$f":"INDEX(TT[[#This Row],[Language 1]:[Language 10]],1,LanguageSelect)","v":"Equestrian"}]
[null,{"$f":"ROW()","v":46},"1.Concussion data by sport",{"$f":"TT[[#This Row],[Tab]]&TT[[#This Row],[Row]]","v":"1.Concussion data by sport46"},"Skateboarding","Skate","Patinaje","skateboardfahren","Planche à roulettes",null,null,null,null,null,{"$f":"INDEX(TT[[#This Row],[Language 1]:[Language 10]],1,LanguageSelect)","v":"Skateboarding"}]
[null,{"$f":"ROW()","v":47},"1.Concussion data by sport",{"$f":"TT[[#This Row],[Tab]]&TT[[#This Row],[Row]]","v":"1.Concussion data by sport47"},"Dodgeball","Dodgeball","Dodgeball","Völkerball","Ballon-chasseur",null,null,null,null,null,{"$f":"INDEX(TT[[#This Row],[Language 1]:[Language 10]],1,LanguageSelect)","v":"Dodgeball"}]
[null,{"$f":"ROW()","v":48},"1.Concussion data by sport",{"$f":"TT[[#This Row],[Tab]]&TT[[#This Row],[Row]]","v":"1.Concussion data by sport48"},"Kickball","Kickball","Kickball","Kickball","Kickball",null,null,null,null,null,{"$f":"INDEX(TT[[#This Row],[Language 1]:[Language 10]],1,LanguageSelect)","v":"Kickball"}]
[null,{"$f":"ROW()","v":49},"1.Concussion data by sport",{"$f":"TT[[#This Row],[Tab]]&TT[[#This Row],[Row]]","v":"1.Concussion data by sport49"},"Trampoline","Trampolim","Trampolín","Trampolin","Trampoline",null,null,null,null,null,{"$f":"INDEX(TT[[#This Row],[Language 1]:[Language 10]],1,LanguageSelect)","v":"Trampoline"}]
[null,{"$f":"ROW()","v":50},"1.Concussion data by sport",{"$f":"TT[[#This Row],[Tab]]&TT[[#This Row],[Row]]","v":"1.Concussion data by sport50"},"Squash","Squash","Squash","Squash","Squash",null,null,null,null,null,{"$f":"INDEX(TT[[#This Row],[Language 1]:[Language 10]],1,LanguageSelect)","v":"Squash"}]
[null,{"$f":"ROW()","v":51},"1.Concussion data by sport",{"$f":"TT[[#This Row],[Tab]]&TT[[#This Row],[Row]]","v":"1.Concussion data by sport51"},"Go carts","Kart","Kartings","Go-Karts","Karting",null,null,null,null,null,{"$f":"INDEX(TT[[#This Row],[Language 1]:[Language 10]],1,LanguageSelect)","v":"Go carts"}]
[null,{"$f":"ROW()","v":52},"1.Concussion data by sport",{"$f":"TT[[#This Row],[Tab]]&TT[[#This Row],[Row]]","v":"1.Concussion data by sport52"},"Flag football","Flag Football","Fútbol bandera","Flaggenfußball","Flag football ",null,null,null,null,null,{"$f":"INDEX(TT[[#This Row],[Language 1]:[Language 10]],1,LanguageSelect)","v":"Flag football"}]
[null,{"$f":"ROW()","v":53},"1.Concussion data by sport",{"$f":"TT[[#This Row],[Tab]]&TT[[#This Row],[Row]]","v":"1.Concussion data by sport53"},"Bouncy house","Casa insuflável","Casa hinchable","Hüpfburg","Maison gonflable",null,null,null,null,null,{"$f":"INDEX(TT[[#This Row],[Language 1]:[Language 10]],1,LanguageSelect)","v":"Bouncy house"}]
[null,{"$f":"ROW()","v":54},"1.Concussion data by sport",{"$f":"TT[[#This Row],[Tab]]&TT[[#This Row],[Row]]","v":"1.Concussion data by sport54"},"Rollerskating","Patinação sobre rodas","Patinaje sobre ruedas","Rollschuhlaufen","Patins à roulettes",null,null,null,null,null,{"$f":"INDEX(TT[[#This Row],[Language 1]:[Language 10]],1,LanguageSelect)","v":"Rollerskating"}]
[null,{"$f":"ROW()","v":55},"1.Concussion data by sport",{"$f":"TT[[#This Row],[Tab]]&TT[[#This Row],[Row]]","v":"1.Concussion data by sport55"},"Playing tag","Pega Pega","Jugar a la mancha","Abschlagen spielen","Jeu du chat",null,null,null,null,null,{"$f":"INDEX(TT[[#This Row],[Language 1]:[Language 10]],1,LanguageSelect)","v":"Playing tag"}]
[null,{"$f":"ROW()","v":56},"1.Concussion data by sport",{"$f":"TT[[#This Row],[Tab]]&TT[[#This Row],[Row]]","v":"1.Concussion data by sport56"},"Swimming","Natação","Natación","Schwimmen","Natation",null,null,null,null,null,{"$f":"INDEX(TT[[#This Row],[Language 1]:[Language 10]],1,LanguageSelect)","v":"Swimming"}]
[null,{"$f":"ROW()","v":57},"1.Concussion data by sport",{"$f":"TT[[#This Row],[Tab]]&TT[[#This Row],[Row]]","v":"1.Concussion data by sport57"},"Dancing","Dança","Bailar","Tanzen","Danse",null,null,null,null,null,{"$f":"INDEX(TT[[#This Row],[Language 1]:[Language 10]],1,LanguageSelect)","v":"Dancing"}]
[null,{"$f":"ROW()","v":58},"1.Concussion data by sport",{"$f":"TT[[#This Row],[Tab]]&TT[[#This Row],[Row]]","v":"1.Concussion data by sport58"},"Swinging","Swing","Columpios","Schaukeln","Balançoire",null,null,null,null,null,{"$f":"INDEX(TT[[#This Row],[Language 1]:[Language 10]],1,LanguageSelect)","v":"Swinging"}]
[null,{"$f":"ROW()","v":59},"1.Concussion data by sport",{"$f":"TT[[#This Row],[Tab]]&TT[[#This Row],[Row]]","v":"1.Concussion data by sport59"},"Monkey bars","Barras","Barras de mono","Barren","Barres fixes",null,null,null,null,null,{"$f":"INDEX(TT[[#This Row],[Language 1]:[Language 10]],1,LanguageSelect)","v":"Monkey bars"}]
[null,{"$f":"ROW()","v":60},"1.Concussion data by sport",{"$f":"TT[[#This Row],[Tab]]&TT[[#This Row],[Row]]","v":"1.Concussion data by sport60"},"Track","Tracking","Carreras de pista","Track","Circuit",null,null,null,null,null,{"$f":"INDEX(TT[[#This Row],[Language 1]:[Language 10]],1,LanguageSelect)","v":"Track"}]
[null,{"$f":"ROW()","v":61},"1.Concussion data by sport",{"$f":"TT[[#This Row],[Tab]]&TT[[#This Row],[Row]]","v":"1.Concussion data by sport61"},"Tennis","Tênis","Tenis","Tennis","Tennis",null,null,null,null,null,{"$f":"INDEX(TT[[#This Row],[Language 1]:[Language 10]],1,LanguageSelect)","v":"Tennis"}]
[null,{"$f":"ROW()","v":62},"1.Concussion data by sport",{"$f":"TT[[#This Row],[Tab]]&TT[[#This Row],[Row]]","v":"1.Concussion data by sport62"},"Running","Corrida","Correr","Laufen","Course",null,null,null,null,null,{"$f":"INDEX(TT[[#This Row],[Language 1]:[Language 10]],1,LanguageSelect)","v":"Running"}]
[null,{"$f":"ROW()","v":63},"1.Concussion data by sport",{"$f":"TT[[#This Row],[Tab]]&TT[[#This Row],[Row]]","v":"1.Concussion data by sport63"},"Hunting","Caça","Cazar","Jagen","Chasse",null,null,null,null,null,{"$f":"INDEX(TT[[#This Row],[Language 1]:[Language 10]],1,LanguageSelect)","v":"Hunting"}]
[null,{"$f":"ROW()","v":64},"1.Concussion data by sport",{"$f":"TT[[#This Row],[Tab]]&TT[[#This Row],[Row]]","v":"1.Concussion data by sport64"},"Roller coaster","Montanha russa","Montaña rusa","Achterbahnfahren","Montagnes russes",null,null,null,null,null,{"$f":"INDEX(TT[[#This Row],[Language 1]:[Language 10]],1,LanguageSelect)","v":"Roller coaster"}]
[null,{"$f":"ROW()","v":65},"1.Concussion data by sport",{"$f":"TT[[#This Row],[Tab]]&TT[[#This Row],[Row]]","v":"1.Concussion data by sport65"},"Zipline","Tirolesa","Tirolesa","Zipline","Tyrolienne",null,null,null,null,null,{"$f":"INDEX(TT[[#This Row],[Language 1]:[Language 10]],1,LanguageSelect)","v":"Zipline"}]
[null,{"$f":"ROW()","v":66},"1.Concussion data by sport",{"$f":"TT[[#This Row],[Tab]]&TT[[#This Row],[Row]]","v":"1.Concussion data by sport66"},"Playing","Brincadeira","Jugar","Spielen","Jeu",null,null,null,null,null,{"$f":"INDEX(TT[[#This Row],[Language 1]:[Language 10]],1,LanguageSelect)","v":"Playing"}]
[null,{"$f":"ROW()","v":67},"1.Concussion data by sport",{"$f":"TT[[#This Row],[Tab]]&TT[[#This Row],[Row]]","v":"1.Concussion data by sport67"},"Gym class","Treino em academia","Clase de gimnasia","Sportunterricht","Classe d’éducation physique",null,null,null,null,null,{"$f":"INDEX(TT[[#This Row],[Language 1]:[Language 10]],1,LanguageSelect)","v":"Gym class"}]
[null,{"$f":"ROW()","v":68},"1.Concussion data by sport",{"$f":"TT[[#This Row],[Tab]]&TT[[#This Row],[Row]]","v":"1.Concussion data by sport68"},"Playground","Playground","Área de juegos","Spielplatz","Terrain de jeux",null,null,null,null,null,{"$f":"INDEX(TT[[#This Row],[Language 1]:[Language 10]],1,LanguageSelect)","v":"Playground"}]
[null,{"$f":"ROW()","v":69},"1.Concussion data by sport",{"$f":"TT[[#This Row],[Tab]]&TT[[#This Row],[Row]]","v":"1.Concussion data by sport69"},"Recess","Recuo","Recreo","Pausenspiele","Cours de récréation",null,null,null,null,null,{"$f":"INDEX(TT[[#This Row],[Language 1]:[Language 10]],1,LanguageSelect)","v":"Recess"}]
[null,{"$f":"ROW()","v":70},"1.Concussion data by sport",{"$f":"TT[[#This Row],[Tab]]&TT[[#This Row],[Row]]","v":"1.Concussion data by sport70"},"Nonspecified","Não especificado","No especificado","Nicht spezifiziert","Non spécifié",null,null,null,null,null,{"$f":"INDEX(TT[[#This Row],[Language 1]:[Language 10]],1,LanguageSelect)","v":"Nonspecified"}]
[null,{"$f":"ROW()","v":71},"1.Concussion data by sport",{"$f":"TT[[#This Row],[Tab]]&TT[[#This Row],[Row]]","v":"1.Concussion data by sport71"},"Playing outside","Brincar ao ar livre","Jugar al aire libre","Draußen spielen","Jeu à l’extérieur",null,null,null,null,null,{"$f":"INDEX(TT[[#This Row],[Language 1]:[Language 10]],1,LanguageSelect)","v":"Playing outside"}]
[null,{"$f":"ROW()","v":72},"1.Concussion data by sport",{"$f":"TT[[#This Row],[Tab]]&TT[[#This Row],[Row]]","v":"1.Concussion data by sport72"},"Rip stick","Ripstik","Patinetas eléctricas","Rip stick","Planche pivotante",null,null,null,null,null,{"$f":"INDEX(TT[[#This Row],[Language 1]:[Language 10]],1,LanguageSelect)","v":"Rip stick"}]
[null,{"$f":"ROW()","v":73},"1.Concussion data by sport",{"$f":"TT[[#This Row],[Tab]]&TT[[#This Row],[Row]]","v":"1.Concussion data by sport73"},"Other","Outro","Otros","Andere","Autre",null,null,null,null,null,{"$f":"INDEX(TT[[#This Row],[Language 1]:[Language 10]],1,LanguageSelect)","v":"Other"}]
[null,{"$f":"ROW()","v":74},"1.Concussion data by sport",{"$f":"TT[[#This Row],[Tab]]&TT[[#This Row],[Row]]","v":"1.Concussion data by sport74"},"of all concussions occurred in contact sports","de todas as concussões ocorridas em esportes de contato","de todas las conmociones cerebrales ocurridas en deportes de contacto","aller Gehirnerschütterungen, die bei Kontaktsportarten aufgetreten sind.","de l’ensemble des commotions cérébrales survenues dans les sports de contact",null,null,null,null,null,{"$f":"INDEX(TT[[#This Row],[Language 1]:[Language 10]],1,LanguageSelect)","v":"of all concussions occurred in contact sports"}]
[null,{"$f":"ROW()","v":75},"1.Concussion data by sport",{"$f":"TT[[#This Row],[Tab]]&TT[[#This Row],[Row]]","v":"1.Concussion data by sport75"},"of all concussions occurred in limited contact sports","de todas as concussões ocorridas em esportes de contato limitado","de todas las conmociones cerebrales ocurridas en deportes de contacto limitado","aller Gehirnerschütterungen, die bei begrenzten Kontaktsportarten aufgetreten sind.","de l’ensemble des commotions cérébrales survenues dans les sports de contact limité",null,null,null,null,null,{"$f":"INDEX(TT[[#This Row],[Language 1]:[Language 10]],1,LanguageSelect)","v":"of all concussions occurred in limited contact sports"}]
[null,{"$f":"ROW()","v":76},"1.Concussion data by sport",{"$f":"TT[[#This Row],[Tab]]&TT[[#This Row],[Row]]","v":"1.Concussion data by sport76"},"of all concussions occurred in non-contact sports","de todas as concussões ocorridas em esportes sem contato","de todas las conmociones cerebrales ocurridas en deportes sin contacto","aller Gehirnerschütterungen, die bei berührungslosen Sportarten aufgetreten sind.","de l’ensemble des commotions cérébrales survenues dans les sports sans contact",null,null,null,null,null,{"$f":"INDEX(TT[[#This Row],[Language 1]:[Language 10]],1,LanguageSelect)","v":"of all concussions occurred in non-contact sports"}]
[null,{"$f":"ROW()","v":77},"1.Concussion data by sport",{"$f":"TT[[#This Row],[Tab]]&TT[[#This Row],[Row]]","v":"1.Concussion data by sport77"},"Top 5 contact sports that cause concussion","Os Maiores 5 esportes de contato que causam concussão","Los 5 deportes de contacto que más causaron conmoción cerebral","Top 5 Kontaktsportarten, die Gehirnerschütterungen verursachen","Top 5 des sports de contact causant une commotion cérébrale",null,null,null,null,null,{"$f":"INDEX(TT[[#This Row],[Language 1]:[Language 10]],1,LanguageSelect)","v":"Top 5 contact sports that cause concussion"}]
[null,{"$f":"ROW()","v":78},"1.Concussion data by sport",{"$f":"TT[[#This Row],[Tab]]&TT[[#This Row],[Row]]","v":"1.Concussion data by sport78"},"Top 5 limited contact sports that caused concussion","Os maiores 5 esportes de contato limitados que causaram concussão","Los 5 deportes de contacto limitado que más causaron conmoción cerebral","Top 5 der limitierten Kontaktsportarten, die Gehirnerschütterungen verursachten","Top 5 des sports de contact limité causant une commotion cérébrale",null,null,null,null,null,{"$f":"INDEX(TT[[#This Row],[Language 1]:[Language 10]],1,LanguageSelect)","v":"Top 5 limited contact sports that caused concussion"}]
[null,{"$f":"ROW()","v":79},"1.Concussion data by sport",{"$f":"TT[[#This Row],[Tab]]&TT[[#This Row],[Row]]","v":"1.Concussion data by sport79"},"Top 5 non-contact sports that caused concussion","Os maiores 5 esportes sem contato que causaram concussão","Los 5 deportes sin contacto que más causaron conmoción cerebral","Top 5 der berührungslosen Sportarten, die Gehirnerschütterungen verursachten","Top 5 des sports sans contact causant une commotion cérébrale",null,null,null,null,null,{"$f":"INDEX(TT[[#This Row],[Language 1]:[Language 10]],1,LanguageSelect)","v":"Top 5 non-contact sports that caused concussion"}]
[null,{"$f":"ROW()","v":80},"1.Concussion data by sport",{"$f":"TT[[#This Row],[Tab]]&TT[[#This Row],[Row]]","v":"1.Concussion data by sport80"},"(percentage based on sample size of 605 adolescents)","(porcentagem baseada no tamanho da amostra de 605 adolescentes)","(porcentaje basado en el tamaño de la muestra de 605 adolescentes)","(Prozentsatz basierend auf dem Stichprobenumfang von 605 Jugendlichen)","(pourcentage basé sur la taille d’un échantillon de 605 adolescents)",null,null,null,null,null,{"$f":"INDEX(TT[[#This Row],[Language 1]:[Language 10]],1,LanguageSelect)","v":"(percentage based on sample size of 605 adolescents)"}]
[null,{"$f":"ROW()","v":81},"1.Concussion data by sport",{"$f":"TT[[#This Row],[Tab]]&TT[[#This Row],[Row]]","v":"1.Concussion data by sport81"},"(percentage based on sample size of 266 adolescents)","(porcentagem baseada no tamanho da amostra de 266 adolescentes)","(porcentaje basado en el tamaño de la muestra de 266 adolescentes)","(Prozentsatz basierend auf dem Stichprobenumfang von 266 Jugendlichen)","(pourcentage basé sur la taille d’un échantillon de 266 adolescents)",null,null,null,null,null,{"$f":"INDEX(TT[[#This Row],[Language 1]:[Language 10]],1,LanguageSelect)","v":"(percentage based on sample size of 266 adolescents)"}]
[null,{"$f":"ROW()","v":82},"1.Concussion data by sport",{"$f":"TT[[#This Row],[Tab]]&TT[[#This Row],[Row]]","v":"1.Concussion data by sport82"},"(percentage based on sample size of 53 adolescents)","(porcentagem baseada no tamanho da amostra de 53 adolescentes)","(porcentaje basado en el tamaño de la muestra de 53 adolescentes)","(Prozentsatz basierend auf dem Stichprobenumfang von 53 Jugendlichen)","(pourcentage basé sur la taille d’un échantillon de 53 adolescents)",null,null,null,null,null,{"$f":"INDEX(TT[[#This Row],[Language 1]:[Language 10]],1,LanguageSelect)","v":"(percentage based on sample size of 53 adolescents)"}]
[null,{"$f":"ROW()","v":83},"1.Concussion data by sport",{"$f":"TT[[#This Row],[Tab]]&TT[[#This Row],[Row]]","v":"1.Concussion data by sport83"},"For additional details, refer to the Variations in Mechanisms of Injury for Children with Concussion report","Para detalhes adicionais, consulte o relatório Variações nos Mecanismos de Lesão para Crianças com Concussão","Para obtener más detalles, consulta el informe Variaciones en los mecanismos de lesión para niños con conmoción cerebral","Weitere Einzelheiten findest im Bericht Variationen der Verletzungsmechanismen bei Kindern mit Gehirnerschütterung","Pour plus de détails, consultez le rapport sur les variations des mécanismes de blessure chez les enfants ayant subis une commotion cérébrale.",null,null,null,null,null,{"$f":"INDEX(TT[[#This Row],[Language 1]:[Language 10]],1,LanguageSelect)","v":"For additional details, refer to the Variations in Mechanisms of Injury for Children with Concussion report"}]
[null,{"$f":"ROW()","v":84},"1.Concussion data by sport",{"$f":"TT[[#This Row],[Tab]]&TT[[#This Row],[Row]]","v":"1.Concussion data by sport84"},"View Data ","Visualizar Dados ","Ver datos ","Daten anzeigen ","Voir les Données ",null,null,null,null,null,{"$f":"INDEX(TT[[#This Row],[Language 1]:[Language 10]],1,LanguageSelect)","v":"View Data "}]
[null,{"$f":"ROW()","v":85},"2.Parts of the Brain",{"$f":"TT[[#This Row],[Tab]]&TT[[#This Row],[Row]]","v":"2.Parts of the Brain85"},"Explore 3D Brain Model","Explore o Modelo do Cérebro 3D","Explorar el modelo cerebral en 3D","3D-Gehirn-Modell ansehen","Explorer le modèle 3D de cerveau ",null,null,null,null,null,{"$f":"INDEX(TT[[#This Row],[Language 1]:[Language 10]],1,LanguageSelect)","v":"Explore 3D Brain Model"}]
[null,{"$f":"ROW()","v":86},"2.Parts of the Brain",{"$f":"TT[[#This Row],[Tab]]&TT[[#This Row],[Row]]","v":"2.Parts of the Brain86"},"Brain Lobes and Functions","Lobos Cerebrais e Funções","Lóbulos cerebrales y funciones","Hirnlappen und Funktionen","Lobes du cerveau et fonctions",null,null,null,null,null,{"$f":"INDEX(TT[[#This Row],[Language 1]:[Language 10]],1,LanguageSelect)","v":"Brain Lobes and Functions"}]
[null,{"$f":"ROW()","v":87},"2.Parts of the Brain",{"$f":"TT[[#This Row],[Tab]]&TT[[#This Row],[Row]]","v":"2.Parts of the Brain87"},"Frontal","Frontal","Frontal","Frontal","Frontal",null,null,null,null,null,{"$f":"INDEX(TT[[#This Row],[Language 1]:[Language 10]],1,LanguageSelect)","v":"Frontal"}]
[null,{"$f":"ROW()","v":88},"2.Parts of the Brain",{"$f":"TT[[#This Row],[Tab]]&TT[[#This Row],[Row]]","v":"2.Parts of the Brain88"},"Parietal","Parietal","Parietal","Scheitel","Pariétal",null,null,null,null,null,{"$f":"INDEX(TT[[#This Row],[Language 1]:[Language 10]],1,LanguageSelect)","v":"Parietal"}]
[null,{"$f":"ROW()","v":89},"2.Parts of the Brain",{"$f":"TT[[#This Row],[Tab]]&TT[[#This Row],[Row]]","v":"2.Parts of the Brain89"},"Temporal (L)","Temporal (E)","Temporal (I)","Temporallappen (L)","Temporel (G)",null,null,null,null,null,{"$f":"INDEX(TT[[#This Row],[Language 1]:[Language 10]],1,LanguageSelect)","v":"Temporal (L)"}]
[null,{"$f":"ROW()","v":90},"2.Parts of the Brain",{"$f":"TT[[#This Row],[Tab]]&TT[[#This Row],[Row]]","v":"2.Parts of the Brain90"},"Temporal (R)","Temporal (D)","Temporal (D)","Temporallappen (R)","Temporel (D)",null,null,null,null,null,{"$f":"INDEX(TT[[#This Row],[Language 1]:[Language 10]],1,LanguageSelect)","v":"Temporal (R)"}]
[null,{"$f":"ROW()","v":91},"2.Parts of the Brain",{"$f":"TT[[#This Row],[Tab]]&TT[[#This Row],[Row]]","v":"2.Parts of the Brain91"},"Occipital","Occipital","Occipital","Hinterhaupt","Occipital",null,null,null,null,null,{"$f":"INDEX(TT[[#This Row],[Language 1]:[Language 10]],1,LanguageSelect)","v":"Occipital"}]
[null,{"$f":"ROW()","v":92},"2.Parts of the Brain",{"$f":"TT[[#This Row],[Tab]]&TT[[#This Row],[Row]]","v":"2.Parts of the Brain92"},"Temporal","Temporal","Temporal","Schläfen","Temporal",null,null,null,null,null,{"$f":"INDEX(TT[[#This Row],[Language 1]:[Language 10]],1,LanguageSelect)","v":"Temporal"}]
[null,{"$f":"ROW()","v":93},"2.Parts of the Brain",{"$f":"TT[[#This Row],[Tab]]&TT[[#This Row],[Row]]","v":"2.Parts of the Brain93"},"Emotions and Behaviors","Emoções e Comportamentos","Emociones y Comportamientos","Emotionen und Verhaltensweisen","Émotions et comportements",null,null,null,null,null,{"$f":"INDEX(TT[[#This Row],[Language 1]:[Language 10]],1,LanguageSelect)","v":"Emotions and Behaviors"}]
[null,{"$f":"ROW()","v":94},"2.Parts of the Brain",{"$f":"TT[[#This Row],[Tab]]&TT[[#This Row],[Row]]","v":"2.Parts of the Brain94"},"Expressive language, motor skills, emotions, judgment, reasoning, and problem solving","Linguagem expressiva, habilidades motoras, emoções, julgamento, raciocínio e resolução de problemas","Lenguaje expresivo, habilidades motoras, emociones, juicio, razonamiento y resolución de problemas","Ausdrucksstarke Sprache, motorische Fähigkeiten, Emotionen, Urteilsvermögen, Argumentation und Problemlösung","Langage expressif, habiletés motrices, émotions, jugement, raisonnement et résolution de problèmes",null,null,null,null,null,{"$f":"INDEX(TT[[#This Row],[Language 1]:[Language 10]],1,LanguageSelect)","v":"Expressive language, motor skills, emotions, judgment, reasoning, and problem solving"}]
[null,{"$f":"ROW()","v":95},"2.Parts of the Brain",{"$f":"TT[[#This Row],[Tab]]&TT[[#This Row],[Row]]","v":"2.Parts of the Brain95"},"Sensory processing related to body orientation, pain, taste, pressure, touch and temperature","Processamento sensorial relacionado à orientação corporal, dor, paladar, pressão, toque e temperatura","Procesamiento sensorial relacionado con la orientación corporal, dolor, gusto, presión, tacto y temperatura","Sensorische Verarbeitung in Bezug auf Körperorientierung, Schmerzen, Geschmack, Druck, Berührung und Temperatur","Traitement sensoriel lié à l'orientation du corps, à la douleur, au goût, à la pression, au toucher et à la température",null,null,null,null,null,{"$f":"INDEX(TT[[#This Row],[Language 1]:[Language 10]],1,LanguageSelect)","v":"Sensory processing related to body orientation, pain, taste, pressure, touch and temperature"}]
[null,{"$f":"ROW()","v":96},"2.Parts of the Brain",{"$f":"TT[[#This Row],[Tab]]&TT[[#This Row],[Row]]","v":"2.Parts of the Brain96"},"Memory, interpreting language, behavior, and interpreting and processing sounds","Memória, interpretação de linguagem, comportamento e interpretação e processamento de sons","Memoria, interpretación del lenguaje, comportamiento e interpretación y procesamiento de sonidos","Gedächtnis, Interpretieren von Sprache, Verhalten und Interpretieren und Verarbeiten von Klängen.","Mémoire, interprétation du langage, comportement, interprétation et traitement des sons",null,null,null,null,null,{"$f":"INDEX(TT[[#This Row],[Language 1]:[Language 10]],1,LanguageSelect)","v":"Memory, interpreting language, behavior, and interpreting and processing sounds"}]
[null,{"$f":"ROW()","v":97},"2.Parts of the Brain",{"$f":"TT[[#This Row],[Tab]]&TT[[#This Row],[Row]]","v":"2.Parts of the Brain97"},"Vision, object recognition, distance and perception of color","Visão, reconhecimento de objetos, distância e percepção de cor","Visión, reconocimiento de objetos, distancia y percepción del color","Vision, Objekterkennung, Entfernung und Farbwahrnehmung","Vision, reconnaissance d’objet, distance et perception de la couleur",null,null,null,null,null,{"$f":"INDEX(TT[[#This Row],[Language 1]:[Language 10]],1,LanguageSelect)","v":"Vision, object recognition, distance and perception of color"}]
[null,{"$f":"ROW()","v":98},"2.Parts of the Brain",{"$f":"TT[[#This Row],[Tab]]&TT[[#This Row],[Row]]","v":"2.Parts of the Brain98"},"VIEW ","VISUALIZAR ","VER ","ANSICHT ","VOIR ",null,null,null,null,null,{"$f":"INDEX(TT[[#This Row],[Language 1]:[Language 10]],1,LanguageSelect)","v":"VIEW "}]
[null,{"$f":"ROW()","v":99},"2.Parts of the Brain",{"$f":"TT[[#This Row],[Tab]]&TT[[#This Row],[Row]]","v":"2.Parts of the Brain99"},"VIEW LEFT ","VISUALIZAR ESQUERDA ","VER IZQUIERDO ","ANSICHT LINKS ","VOIR À GAUCHE ",null,null,null,null,null,{"$f":"INDEX(TT[[#This Row],[Language 1]:[Language 10]],1,LanguageSelect)","v":"VIEW LEFT "}]
[null,{"$f":"ROW()","v":100},"2.Parts of the Brain",{"$f":"TT[[#This Row],[Tab]]&TT[[#This Row],[Row]]","v":"2.Parts of the Brain100"},"VIEW RIGHT ","VISUALIZAR DIREITA ","VER DERECHO ","ANSICHT RECHTS ","VOIR À DROITE ",null,null,null,null,null,{"$f":"INDEX(TT[[#This Row],[Language 1]:[Language 10]],1,LanguageSelect)","v":"VIEW RIGHT "}]
[null,{"$f":"ROW()","v":101},"3.Impact Simulator Data",{"$f":"TT[[#This Row],[Tab]]&TT[[#This Row],[Row]]","v":"3.Impact Simulator Data101"},"Live Data","Dados ao vivo","Datos en tiempo real","Live-Daten","Données en temps réel",null,null,null,null,null,{"$f":"INDEX(TT[[#This Row],[Language 1]:[Language 10]],1,LanguageSelect)","v":"Live Data"}]
[null,{"$f":"ROW()","v":102},"3.Impact Simulator Data",{"$f":"TT[[#This Row],[Tab]]&TT[[#This Row],[Row]]","v":"3.Impact Simulator Data102"},"Capture Data","Capturar Dados","Capturar Datos","Daten erfassen","Recueillir des données",null,null,null,null,null,{"$f":"INDEX(TT[[#This Row],[Language 1]:[Language 10]],1,LanguageSelect)","v":"Capture Data"}]
[null,{"$f":"ROW()","v":103},"3.Impact Simulator Data",{"$f":"TT[[#This Row],[Tab]]&TT[[#This Row],[Row]]","v":"3.Impact Simulator Data103"},"Review Data","Revisar Dados","Revisar Datos","Daten überprüfen","Revoir les Données",null,null,null,null,null,{"$f":"INDEX(TT[[#This Row],[Language 1]:[Language 10]],1,LanguageSelect)","v":"Review Data"}]
[null,{"$f":"ROW()","v":104},"3.Impact Simulator Data",{"$f":"TT[[#This Row],[Tab]]&TT[[#This Row],[Row]]","v":"3.Impact Simulator Data104"},"Trial Sensors","Sensores de Teste","Sensores de prueba","Versuchssensoren","Capteurs d’essai",null,null,null,null,null,{"$f":"INDEX(TT[[#This Row],[Language 1]:[Language 10]],1,LanguageSelect)","v":"Trial Sensors"}]
[null,{"$f":"ROW()","v":105},"3.Impact Simulator Data",{"$f":"TT[[#This Row],[Tab]]&TT[[#This Row],[Row]]","v":"3.Impact Simulator Data105"},"Click Calibrate Sensors before each trial and Save Trial to capture the data.","Clique em Calibrar Sensores antes de cada teste e Salvar Teste para capturar os dados.","Haz clic en Calibrar Sensores antes de cada prueba y en Guardar Prueba para capturar los datos.","Klicke vor jeder Messung auf Sensoren kalibrieren und speichere die Messung, um die Daten zu erfassen","Cliquez sur Calibrer les capteurs avant chaque essai et sur Enregistrer l’essai pour recueillir les données.",null,null,null,null,null,{"$f":"INDEX(TT[[#This Row],[Language 1]:[Language 10]],1,LanguageSelect)","v":"Click Calibrate Sensors before each trial and Save Trial to capture the data."}]
[null,{"$f":"ROW()","v":106},"3.Impact Simulator Data",{"$f":"TT[[#This Row],[Tab]]&TT[[#This Row],[Row]]","v":"3.Impact Simulator Data106"},"Use the Review Data tab to analyze trial data.","Use a guia Revisar Dados para analisar dados de teste.","Utiliza la pestaña Revisar Datos para analizar los datos del ensayo.","Verwende den Tab Überprüfungsdaten, um die Versuchsdaten zu analysieren","Utilisez l’onglet Revoir les Données pour analyser les données des essais.",null,null,null,null,null,{"$f":"INDEX(TT[[#This Row],[Language 1]:[Language 10]],1,LanguageSelect)","v":"Use the Review Data tab to analyze trial data."}]
[null,{"$f":"ROW()","v":107},"3.Impact Simulator Data",{"$f":"TT[[#This Row],[Tab]]&TT[[#This Row],[Row]]","v":"3.Impact Simulator Data107"},"Click Save Session to save data from all three trials.","Clique em Salvar sessão para salvar dados de todos os três testes.","Haz clic en Guardar Sesión para guardar los datos de las tres pruebas.","Klicke auf Sitzung speichern, um Daten aus allen drei Versuchen zu speichern","Cliquez sur Enregistrer la session pour enregistrer les données des trois essais.",null,null,null,null,null,{"$f":"INDEX(TT[[#This Row],[Language 1]:[Language 10]],1,LanguageSelect)","v":"Click Save Session to save data from all three trials."}]
[null,{"$f":"ROW()","v":108},"3.Impact Simulator Data",{"$f":"TT[[#This Row],[Tab]]&TT[[#This Row],[Row]]","v":"3.Impact Simulator Data108"},"Calibrate Sensors ","Calibrar sensores ","Calibrar sensores ","Sensoren kalibrieren ","Calibrer les capteurs ",null,null,null,null,null,{"$f":"INDEX(TT[[#This Row],[Language 1]:[Language 10]],1,LanguageSelect)","v":"Calibrate Sensors "}]
[null,{"$f":"ROW()","v":109},"3.Impact Simulator Data",{"$f":"TT[[#This Row],[Tab]]&TT[[#This Row],[Row]]","v":"3.Impact Simulator Data109"},"Clear All Trials ","Limpar todos os testes ","Borrar todas las pruebas ","Alle Versuche löschen ","Effacer tous les essais ",null,null,null,null,null,{"$f":"INDEX(TT[[#This Row],[Language 1]:[Language 10]],1,LanguageSelect)","v":"Clear All Trials "}]
[null,{"$f":"ROW()","v":110},"3.Impact Simulator Data",{"$f":"TT[[#This Row],[Tab]]&TT[[#This Row],[Row]]","v":"3.Impact Simulator Data110"},"Save Session ","Salvar Sessão ","Guardar sesión ","Sitzung speichern","Sauvegarder la session",null,null,null,null,null,{"$f":"INDEX(TT[[#This Row],[Language 1]:[Language 10]],1,LanguageSelect)","v":"Save Session "}]
[null,{"$f":"ROW()","v":111},"3.Impact Simulator Data",{"$f":"TT[[#This Row],[Tab]]&TT[[#This Row],[Row]]","v":"3.Impact Simulator Data111"},"Save Trial 1 ","Salvar teste 1 ","Guardar prueba 1 ","Versuch 1 speichern ","Enregistrer l’essai 1 ",null,null,null,null,null,{"$f":"INDEX(TT[[#This Row],[Language 1]:[Language 10]],1,LanguageSelect)","v":"Save Trial 1 "}]
[null,{"$f":"ROW()","v":112},"3.Impact Simulator Data",{"$f":"TT[[#This Row],[Tab]]&TT[[#This Row],[Row]]","v":"3.Impact Simulator Data112"},"Save Trial 2 ","Salvar teste 2 ","Guardar prueba 2 ","Versuch 2 speichern ","Enregistrer l’essai 2 ",null,null,null,null,null,{"$f":"INDEX(TT[[#This Row],[Language 1]:[Language 10]],1,LanguageSelect)","v":"Save Trial 2 "}]
[null,{"$f":"ROW()","v":113},"3.Impact Simulator Data",{"$f":"TT[[#This Row],[Tab]]&TT[[#This Row],[Row]]","v":"3.Impact Simulator Data113"},"Save Trial 3 ","Salvar teste 3 ","Guardar prueba 3 ","Versuch 3 speichern ","Enregistrer l’essai 3 ",null,null,null,null,null,{"$f":"INDEX(TT[[#This Row],[Language 1]:[Language 10]],1,LanguageSelect)","v":"Save Trial 3 "}]
[null,{"$f":"ROW()","v":114},"3.Impact Simulator Data",{"$f":"TT[[#This Row],[Tab]]&TT[[#This Row],[Row]]","v":"3.Impact Simulator Data114"},"Degree of impact","Grau de impacto","Grado de impacto","Grad der Auswirkungen","Degré d’impact",null,null,null,null,null,{"$f":"INDEX(TT[[#This Row],[Language 1]:[Language 10]],1,LanguageSelect)","v":"Degree of impact"}]
[null,{"$f":"ROW()","v":115},"3.Impact Simulator Data",{"$f":"TT[[#This Row],[Tab]]&TT[[#This Row],[Row]]","v":"3.Impact Simulator Data115"},"High","Alto","Alto","Hoch","Élevé",null,null,null,null,null,{"$f":"INDEX(TT[[#This Row],[Language 1]:[Language 10]],1,LanguageSelect)","v":"High"}]
[null,{"$f":"ROW()","v":116},"3.Impact Simulator Data",{"$f":"TT[[#This Row],[Tab]]&TT[[#This Row],[Row]]","v":"3.Impact Simulator Data116"},"Medium","Média","Medio","Mittel","Moyen",null,null,null,null,null,{"$f":"INDEX(TT[[#This Row],[Language 1]:[Language 10]],1,LanguageSelect)","v":"Medium"}]
[null,{"$f":"ROW()","v":117},"3.Impact Simulator Data",{"$f":"TT[[#This Row],[Tab]]&TT[[#This Row],[Row]]","v":"3.Impact Simulator Data117"},"Low","Baixa","Bajo","Niedrig","Faible",null,null,null,null,null,{"$f":"INDEX(TT[[#This Row],[Language 1]:[Language 10]],1,LanguageSelect)","v":"Low"}]
[null,{"$f":"ROW()","v":118},"3.Impact Simulator Data",{"$f":"TT[[#This Row],[Tab]]&TT[[#This Row],[Row]]","v":"3.Impact Simulator Data118"},"Highest Impact:","Maior Impacto:","Mayor impacto:","Höchste Aufprallwirkung:","Impact le plus élevé:",null,null,null,null,null,{"$f":"INDEX(TT[[#This Row],[Language 1]:[Language 10]],1,LanguageSelect)","v":"Highest Impact:"}]
[null,{"$f":"ROW()","v":119},"3.Impact Simulator Data",{"$f":"TT[[#This Row],[Tab]]&TT[[#This Row],[Row]]","v":"3.Impact Simulator Data119"},"Impact effects: \nthese functions may be affected","Efeitos do impacto: \nessas funções podem ser afetadas","Efectos de impacto: \nestas funciones pueden verse afectadas","Auswirkungen: \ndiese Funktionen können beeinträchtigt werden","Effets d’impact:\nces fonctions peuvent être affectées",null,null,null,null,null,{"$f":"INDEX(TT[[#This Row],[Language 1]:[Language 10]],1,LanguageSelect)","v":"Impact effects: \nthese functions may be affected"}]
[null,{"$f":"ROW()","v":120},"3.Impact Simulator Data",{"$f":"TT[[#This Row],[Tab]]&TT[[#This Row],[Row]]","v":"3.Impact Simulator Data120"},"Maximums","Máximos","Máximos","Maximalwerte","Maximums",null,null,null,null,null,{"$f":"INDEX(TT[[#This Row],[Language 1]:[Language 10]],1,LanguageSelect)","v":"Maximums"}]
[null,{"$f":"ROW()","v":121},"3.Impact Simulator Data",{"$f":"TT[[#This Row],[Tab]]&TT[[#This Row],[Row]]","v":"3.Impact Simulator Data121"},"Trials: Session ","Testes: Sessão ","Pruebas: Sesión ","Versuche: Sitzung","Essais : session",null,null,null,null,null,{"$f":"INDEX(TT[[#This Row],[Language 1]:[Language 10]],1,LanguageSelect)","v":"Trials: Session "}]
[null,{"$f":"ROW()","v":122},"3.Impact Simulator Data",{"$f":"TT[[#This Row],[Tab]]&TT[[#This Row],[Row]]","v":"3.Impact Simulator Data122"},"Session","Sessão","Sesión","Sitzung","Session",null,null,null,null,null,{"$f":"INDEX(TT[[#This Row],[Language 1]:[Language 10]],1,LanguageSelect)","v":"Session"}]
[null,{"$f":"ROW()","v":123},"3.Impact Simulator Data",{"$f":"TT[[#This Row],[Tab]]&TT[[#This Row],[Row]]","v":"3.Impact Simulator Data123"}," Go back to trials"," Voltar para os testes"," Volver a las pruebas","Zurück zu den Versuchen"," Retour aux essais",null,null,null,null,null,{"$f":"INDEX(TT[[#This Row],[Language 1]:[Language 10]],1,LanguageSelect)","v":" Go back to trials"}]
[null,{"$f":"ROW()","v":124},"3.Impact Simulator Data",{"$f":"TT[[#This Row],[Tab]]&TT[[#This Row],[Row]]","v":"3.Impact Simulator Data124"},"Clear table ","Limpar mesa ","Borrar tabla ","Tabelle löschen ","Effacer le tableau ",null,null,null,null,null,{"$f":"INDEX(TT[[#This Row],[Language 1]:[Language 10]],1,LanguageSelect)","v":"Clear table "}]
[null,{"$f":"ROW()","v":125},null,{"$f":"TT[[#This Row],[Tab]]&TT[[#This Row],[Row]]","v":"125"},"Session Summary","Resumo da Sessão","Resumen de la sesión","Zusammenfassung der Sitzungen","Résumé de session",null,null,null,null,null,{"$f":"INDEX(TT[[#This Row],[Language 1]:[Language 10]],1,LanguageSelect)","v":"Session Summary"}]
[null,{"$f":"ROW()","v":126},null,{"$f":"TT[[#This Row],[Tab]]&TT[[#This Row],[Row]]","v":"126"},"Time (seconds)","Tempo (segundos)","Tiempo (segundos)","Zeit (Sekunden)","Temps (secondes)",null,null,null,null,null,{"$f":"INDEX(TT[[#This Row],[Language 1]:[Language 10]],1,LanguageSelect)","v":"Time (seconds)"}]
[null,{"$f":"ROW()","v":127},null,{"$f":"TT[[#This Row],[Tab]]&TT[[#This Row],[Row]]","v":"127"},"Trial Averages","Médias do Teste","Promedios de prueba","Versuchsdurchschnitte","Moyennes des essais",null,null,null,null,null,{"$f":"INDEX(TT[[#This Row],[Language 1]:[Language 10]],1,LanguageSelect)","v":"Trial Averages"}]
[null,{"$f":"ROW()","v":128},null,{"$f":"TT[[#This Row],[Tab]]&TT[[#This Row],[Row]]","v":"128"},"Frontal Lobe","Lobo Frontal","Lóbulo frontal","Frontallappen","Lobe frontal",null,null,null,null,null,{"$f":"INDEX(TT[[#This Row],[Language 1]:[Language 10]],1,LanguageSelect)","v":"Frontal Lobe"}]
[null,{"$f":"ROW()","v":129},null,{"$f":"TT[[#This Row],[Tab]]&TT[[#This Row],[Row]]","v":"129"},"Parietal Lobe","Lobo Parietal","Lóbulo parietal","Scheitellappen","Lobe pariétal",null,null,null,null,null,{"$f":"INDEX(TT[[#This Row],[Language 1]:[Language 10]],1,LanguageSelect)","v":"Parietal Lobe"}]
[null,{"$f":"ROW()","v":130},null,{"$f":"TT[[#This Row],[Tab]]&TT[[#This Row],[Row]]","v":"130"},"Right Temporal","Temporal Direito","Temporal Derecho","Rechte Schläfe","Temporel droit",null,null,null,null,null,{"$f":"INDEX(TT[[#This Row],[Language 1]:[Language 10]],1,LanguageSelect)","v":"Right Temporal"}]
[null,{"$f":"ROW()","v":131},null,{"$f":"TT[[#This Row],[Tab]]&TT[[#This Row],[Row]]","v":"131"},"Left Temporal","Temporal Esquerdo","Temporal Izquierdo","Linke Schläfe","Temporel gauche",null,null,null,null,null,{"$f":"INDEX(TT[[#This Row],[Language 1]:[Language 10]],1,LanguageSelect)","v":"Left Temporal"}]
[null,{"$f":"ROW()","v":132},null,{"$f":"TT[[#This Row],[Tab]]&TT[[#This Row],[Row]]","v":"132"},"Occipital Lobe","Lobo Occipital","Lóbulo Occipital","Hinterhauptlappen","Lobe occipital",null,null,null,null,null,{"$f":"INDEX(TT[[#This Row],[Language 1]:[Language 10]],1,LanguageSelect)","v":"Occipital Lobe"}]
[null,{"$f":"ROW()","v":133},null,{"$f":"TT[[#This Row],[Tab]]&TT[[#This Row],[Row]]","v":"133"},"Trial 1","Teste 1","Prueba 1","Versuch 1","Essai 1",null,null,null,null,null,{"$f":"INDEX(TT[[#This Row],[Language 1]:[Language 10]],1,LanguageSelect)","v":"Trial 1"}]
[null,{"$f":"ROW()","v":134},null,{"$f":"TT[[#This Row],[Tab]]&TT[[#This Row],[Row]]","v":"134"},"Trial 2","Teste 2","Prueba 2","Versuch 2","Essai 2",null,null,null,null,null,{"$f":"INDEX(TT[[#This Row],[Language 1]:[Language 10]],1,LanguageSelect)","v":"Trial 2"}]
[null,{"$f":"ROW()","v":135},null,{"$f":"TT[[#This Row],[Tab]]&TT[[#This Row],[Row]]","v":"135"},"Trial 3","Teste 3","Prueba 3","Versuch 3","Essai 3",null,null,null,null,null,{"$f":"INDEX(TT[[#This Row],[Language 1]:[Language 10]],1,LanguageSelect)","v":"Trial 3"}]
[null,{"$f":"ROW()","v":136},null,{"$f":"TT[[#This Row],[Tab]]&TT[[#This Row],[Row]]","v":"136"},"Session Name","Nome da Sessão","Nombre de la sesión","Name der Sitzung","Intitulé de la session",null,null,null,null,null,{"$f":"INDEX(TT[[#This Row],[Language 1]:[Language 10]],1,LanguageSelect)","v":"Session Name"}]
[null,{"$f":"ROW()","v":137},null,{"$f":"TT[[#This Row],[Tab]]&TT[[#This Row],[Row]]","v":"137"},"Save Baseline ","Salvar Linha Base ","Grabar ase ","Basislinie speichern ","Enregistrer le point de référence ",null,null,null,null,null,{"$f":"INDEX(TT[[#This Row],[Language 1]:[Language 10]],1,LanguageSelect)","v":"Save Baseline "}]
[null,{"$f":"ROW()","v":138},null,{"$f":"TT[[#This Row],[Tab]]&TT[[#This Row],[Row]]","v":"138"},"Trials: Baseline Session","Testes: Sessão de Linha Base","Pruebas: Sesión base","Versuche: Basislinien-Sitzung","Essaie : Session de référence ",null,null,null,null,null,{"$f":"INDEX(TT[[#This Row],[Language 1]:[Language 10]],1,LanguageSelect)","v":"Trials: Baseline Session"}]
[null,{"$f":"ROW()","v":139},null,{"$f":"TT[[#This Row],[Tab]]&TT[[#This Row],[Row]]","v":"139"},"Baseline","Linha de base","Base","Basislinie","Point de référence",null,null,null,null,null,{"$f":"INDEX(TT[[#This Row],[Language 1]:[Language 10]],1,LanguageSelect)","v":"Baseline"}]
[null,{"$f":"ROW()","v":140},null,{"$f":"TT[[#This Row],[Tab]]&TT[[#This Row],[Row]]","v":"140"},"Sessions Full","Sessões Cheias","Sesiones Completas","Sitzungen voll","Sessions complètes",null,null,null,null,null,{"$f":"INDEX(TT[[#This Row],[Language 1]:[Language 10]],1,LanguageSelect)","v":"Sessions Full"}]
[null,{"$f":"ROW()","v":141},null,{"$f":"TT[[#This Row],[Tab]]&TT[[#This Row],[Row]]","v":"141"},"Session Date","Data da Sessão","Fecha de la sesión","Datum der Sitzung","Date de session",null,null,null,null,null,{"$f":"INDEX(TT[[#This Row],[Language 1]:[Language 10]],1,LanguageSelect)","v":"Session Date"}]
[null,{"$f":"ROW()","v":142},null,{"$f":"TT[[#This Row],[Tab]]&TT[[#This Row],[Row]]","v":"142"},"Session Time","Tempo da Sessão","Hora de la sesión","Sitzungszeit","Temps de session",null,null,null,null,null,{"$f":"INDEX(TT[[#This Row],[Language 1]:[Language 10]],1,LanguageSelect)","v":"Session Time"}]
[null,{"$f":"ROW()","v":143},null,{"$f":"TT[[#This Row],[Tab]]&TT[[#This Row],[Row]]","v":"143"},"References","Referências","Referencias","Referenzen","Références",null,null,null,null,null,{"$f":"INDEX(TT[[#This Row],[Language 1]:[Language 10]],1,LanguageSelect)","v":"References"}]
[null,{"$f":"ROW()","v":144},null,{"$f":"TT[[#This Row],[Tab]]&TT[[#This Row],[Row]]","v":"144"},"Brain research is an evolving scientific field. Scientists are making new discoveries every day about how the brain works. Information about the functioning of the brain and the effect of impact on brain functions as stated in this lesson and workbook are based on information gathered from the referenced sources. It is possible that this information will change in time.","A pesquisa do cérebro é um campo científico em evolução. Os cientistas estão fazendo novas descobertas todos os dias sobre como o cérebro funciona. As informações sobre o funcionamento do cérebro e o efeito das lesões nas funções cerebrais, conforme mostrados nesta lição e no livro de exercícios, baseiam-se nas fontes referenciadas. É possível que essa informação mudará com o tempo.","La investigación cerebral es un campo científico en evolución. Los científicos están haciendo nuevos descubrimientos cada día sobre cómo funciona el cerebro. La información sobre el funcionamiento del cerebro y el efecto del impacto en las funciones cerebrales, tal como se indica en esta lección y en el libro de trabajo, se basa en información recopilada de las fuentes de referencia. Es posible que esta información cambie con el tiempo.","Die Gehirnforschung ist ein sich entwickelndes Wissenschaftsgebiet. Wissenschaftler machen jeden Tag neue Entdeckungen darüber, wie das Gehirn funktioniert. Informationen über die Funktionsweise des Gehirns und die Auswirkungen auf die Gehirnfunktionen, wie in dieser Lektion und in der Arbeitsmappe beschrieben, basieren auf Informationen, die aus den genannten Quellen stammen. Es ist möglich, dass sich diese Informationen mit der Zeit ändern.","La recherche concernant le cerveau est un domaine scientifique en évolution. Les scientifiques font chaque jour de nouvelles découvertes sur le fonctionnement du cerveau. Les informations relatives au fonctionnement du cerveau et à l’effet qu’un impact pourrait avoir sur les fonctions du cerveau, tel qu’il est indiqué dans cette leçon et dans le classeur, sont basées sur des informations recueillies à partir des sources référencées. Il est possible que cette information change avec le temps.",null,null,null,null,null,{"$f":"INDEX(TT[[#This Row],[Language 1]:[Language 10]],1,LanguageSelect)","v":"Brain research is an evolving scientific field. Scientists are making new discoveries every day about how the brain works. Information about the functioning of the brain and the effect of impact on brain functions as stated in this lesson and workbook are based on information gathered from the referenced sources. It is possible that this information will change in time."}]
[null,{"$f":"ROW()","v":145},null,{"$f":"TT[[#This Row],[Tab]]&TT[[#This Row],[Row]]","v":"145"},"Source","Fonte","Fuente","Quelle","Source",null,null,null,null,null,{"$f":"INDEX(TT[[#This Row],[Language 1]:[Language 10]],1,LanguageSelect)","v":"Source"}]
[null,{"$f":"ROW()","v":146},null,{"$f":"TT[[#This Row],[Tab]]&TT[[#This Row],[Row]]","v":"146"},"Clear ","Limpar ","Borrar ","Löschen ","Effacer ",null,null,null,null,null,{"$f":"INDEX(TT[[#This Row],[Language 1]:[Language 10]],1,LanguageSelect)","v":"Clear "}]
[null,{"$f":"ROW()","v":147},null,{"$f":"TT[[#This Row],[Tab]]&TT[[#This Row],[Row]]","v":"147"},"Variations in Mechanisms for Children with Concussion","Variações nos Mecanismos para Crianças com Concussão","Variaciones en los Mecanismos para Niños con Conmoción Cerebral","Variationen in den Mechanismen für Kinder mit Gehirnerschütterung","Variations des mécanismes de blessure chez les enfants ayant subis une commotion cérébrale ",null,null,null,null,null,{"$f":"INDEX(TT[[#This Row],[Language 1]:[Language 10]],1,LanguageSelect)","v":"Variations in Mechanisms for Children with Concussion"}]
[null,{"$f":"ROW()","v":148},null,{"$f":"TT[[#This Row],[Tab]]&TT[[#This Row],[Row]]","v":"148"},"Anatomy of the Brain, Mayfield Brain and Spine","Anatomia do Cérebro, Mayfield Cérebro e Coluna","Anatomía del cerebro, cerebro de Mayfield y columna vertebral","Anatomie des Gehirns, Mayfield Gehirn und Wirbelsäule","Anatomie du cerveau, Mayfield pour le cerveau et la colonne vertébrale ",null,null,null,null,null,{"$f":"INDEX(TT[[#This Row],[Language 1]:[Language 10]],1,LanguageSelect)","v":"Anatomy of the Brain, Mayfield Brain and Spine"}]
[null,{"$f":"ROW()","v":149},null,{"$f":"TT[[#This Row],[Tab]]&TT[[#This Row],[Row]]","v":"149"},"Cognitive Skills of the Brain, Brain Injury Alliance of Utah","Habilidades Cognitivas do Cérebro, Aliança de Lesão Cerebral de Utah","Habilidades Cognitivas del Cerebro, Alianza de Lesiones Cerebrales de Utah","Kognitive Fähigkeiten des Gehirns, Brain Injury Alliance of Utah","Compétences cognitives du cerveau, Alliance des lésions cérébrales de l’Utah",null,null,null,null,null,{"$f":"INDEX(TT[[#This Row],[Language 1]:[Language 10]],1,LanguageSelect)","v":"Cognitive Skills of the Brain, Brain Injury Alliance of Utah"}]
[null,{"$f":"ROW()","v":150},null,{"$f":"TT[[#This Row],[Tab]]&TT[[#This Row],[Row]]","v":"150"},"Overview of Cerebral Function, Merck Manuals","Visão Geral da Função Cerebral, Manuais da Merck","Descripción general de la función cerebral, manuales de Merck","Overview of Cerebral Function, Merck Manuals","Présentation de la fonction cérébrale, Manuels Merck",null,null,null,null,null,{"$f":"INDEX(TT[[#This Row],[Language 1]:[Language 10]],1,LanguageSelect)","v":"Overview of Cerebral Function, Merck Manuals"}]
[null,{"$f":"ROW()","v":151},null,{"$f":"TT[[#This Row],[Tab]]&TT[[#This Row],[Row]]","v":"151"},"Link to data","Link para os dados","Enlace a los datos","Verknüpfung mit Daten","Lien vers les données",null,null,null,null,null,{"$f":"INDEX(TT[[#This Row],[Language 1]:[Language 10]],1,LanguageSelect)","v":"Link to data"}]
[null,{"$f":"ROW()","v":152},null,{"$f":"TT[[#This Row],[Tab]]&TT[[#This Row],[Row]]","v":"152"},"BIU (Brain Impact Units)","BIU (Unidades de Impacto Cerebral)","BIU (Unidades de Impacto Cerebral)","BIU (Hirnschadenseinheit)","BIU (Unités d'impact cérébral)",null,null,null,null,null,{"$f":"INDEX(TT[[#This Row],[Language 1]:[Language 10]],1,LanguageSelect)","v":"BIU (Brain Impact Units)"}]
[null,{"$f":"ROW()","v":153},null,{"$f":"TT[[#This Row],[Tab]]&TT[[#This Row],[Row]]","v":"153"},"Run and save trials, making sure to calibrate sensors before each impact. ","Executar e salvar testes, certificando-se de calibrar sensores antes de cada impacto.","Ejecute y guarde las pruebas, asegurándose de calibrar los sensores antes de cada impacto.","Führen Sie Testversionen aus und speichern. Stellen sie sicher, dass Sie Die Sensoren vor jedem Aufprall kalibrieren.","Exécutez et enregistrez les essais, en veillant à calibrer les capteurs avant chaque impact.",null,null,null,null,null,{"$f":"INDEX(TT[[#This Row],[Language 1]:[Language 10]],1,LanguageSelect)","v":"Run and save trials, making sure to calibrate sensors before each impact. "}]
[null,{"$f":"ROW()","v":154},null,{"$f":"TT[[#This Row],[Tab]]&TT[[#This Row],[Row]]","v":"154"},"Use the ‘Review data’ tab to analyze current saved trials moment by moment. ","Use a aba Revisar Dados para analisar os testes salvos atuais momento a momento.","Utilice la pestaña Revisar Datos para analizar las pruebas guardadas actuales momento a momento.","Verwenden Sie die Registerkarte Daten überprüfen, um die aktuell gespeicherten Testversionen von Moment zu Moment zu analysieren.","Utilisez l'onglet Vérifier les données pour analyser les versions d'essai actuellement enregistrées d'un moment à l'autre.",null,null,null,null,null,{"$f":"INDEX(TT[[#This Row],[Language 1]:[Language 10]],1,LanguageSelect)","v":"Use the ‘Review data’ tab to analyze current saved trials moment by moment. "}]
[null,{"$f":"ROW()","v":155},null,{"$f":"TT[[#This Row],[Tab]]&TT[[#This Row],[Row]]","v":"155"},"Trials","Testes","Pruebas","Versuche","Essais",null,null,null,null,null,{"$f":"INDEX(TT[[#This Row],[Language 1]:[Language 10]],1,LanguageSelect)","v":"Trials"}]
[null,{"$f":"ROW()","v":156},null,{"$f":"TT[[#This Row],[Tab]]&TT[[#This Row],[Row]]","v":"156"},"Workbook Setup","Carteira da Pasta de Trabalho","Inicio del libro de trabajo","Arbeitsmappe starten","Début de de Classeur",null,null,null,null,null,{"$f":"INDEX(TT[[#This Row],[Language 1]:[Language 10]],1,LanguageSelect)","v":"Workbook Setup"}]

{"sheet":"Infograph backend","index":10,"n_rows":55,"n_cols":34,"rows_kept":55,"cut":false,"hidden":true,"merged":[]}
[null,null,{"$f":"SUM(C2,G2,K2,O2)","v":1060},null,{"$f":"C2/$C$1","v":0.57075471698113212},null,null,null,{"$f":"G2/$C$1","v":0.25094339622641509},null,null,null,{"$f":"K2/$C$1","v":0.05},null,null,null,{"$f":"O2/$C$1","v":0.12830188679245283},null,null,"Row","Category","Sport","Quantity","Unique Quant","CatRank","% of category"]
[null,"Contacts or collisions*",605,100,57.1,"Limited contact",266,100,25.1,"NonContact",53,100,5,"Undetermined",136,100,12.8,null,null,{"$f":"ROW()","v":2},"Contact","Football",169,{"$f":"SUMPRODUCT((Table9[Category]=Table9[[#This Row],[Category]])*(Table9[Quantity]=Table9[[#This Row],[Quantity]])*(Table9[Row]>Table9[[#This Row],[Row]]))/100+Table9[[#This Row],[Quantity]]","v":169},{"$f":"SUMPRODUCT((Table9[Category]=Table9[[#This Row],[Category]])*(Table9[Unique Quant]>Table9[[#This Row],[Unique Quant]]))+1","v":1},{"$f":"Table9[[#This Row],[Quantity]]/SUMIFS(Table9[Quantity],Table9[Category],Table9[[#This Row],[Category]])","v":0.27933884297520661},null,null,"Active ","Category","Value","Radial Text","Chart Text","Chart Text 2"]
[null,{"$f":"TT!$O22","v":"Football"},169,27.9,15.9,{"$f":"TT!$O35","v":"Cheerleading"},47,17.7,4.4000000000000004,{"$f":"TT!$O56","v":"Swimming"},10,18.899999999999999,0.9,{"$f":"TT!$O66","v":"Playing"},41,30.1,3.9,null,null,{"$f":"ROW()","v":3},"Contact","Soccer",156,{"$f":"SUMPRODUCT((Table9[Category]=Table9[[#This Row],[Category]])*(Table9[Quantity]=Table9[[#This Row],[Quantity]])*(Table9[Row]>Table9[[#This Row],[Row]]))/100+Table9[[#This Row],[Quantity]]","v":156},{"$f":"SUMPRODUCT((Table9[Category]=Table9[[#This Row],[Category]])*(Table9[Unique Quant]>Table9[[#This Row],[Unique Quant]]))+1","v":2},{"$f":"Table9[[#This Row],[Quantity]]/SUMIFS(Table9[Quantity],Table9[Category],Table9[[#This Row],[Category]])","v":0.25785123966942147},null,null,1,{"$f":"TT!$O14","v":"Contact"},{"$f":"O18","v":0.58117195004803079},{"$f":"TT!$O74","v":"of all concussions occurred in contact sports"},{"$f":"TT!$O77","v":"Top 5 contact sports that cause concussion"},{"$f":"TT!$O80","v":"(percentage based on sample size of 605 adolescents)"}]
[null,{"$f":"TT!$O23","v":"Soccer"},156,25.8,14.7,{"$f":"TT!$O36","v":"Baseball"},30,11.3,2.8,{"$f":"TT!$O57","v":"Dancing"},8,15.1,0.8,{"$f":"TT!$O67","v":"Gym class"},38,27.9,3.6,null,null,{"$f":"ROW()","v":4},"Contact","Basketball",103,{"$f":"SUMPRODUCT((Table9[Category]=Table9[[#This Row],[Category]])*(Table9[Quantity]=Table9[[#This Row],[Quantity]])*(Table9[Row]>Table9[[#This Row],[Row]]))/100+Table9[[#This Row],[Quantity]]","v":103},{"$f":"SUMPRODUCT((Table9[Category]=Table9[[#This Row],[Category]])*(Table9[Unique Quant]>Table9[[#This Row],[Unique Quant]]))+1","v":3},{"$f":"Table9[[#This Row],[Quantity]]/SUMIFS(Table9[Quantity],Table9[Category],Table9[[#This Row],[Category]])","v":0.17024793388429751},null,null,2,{"$f":"TT!$O15","v":"Limited Contact"},{"$f":"O19","v":0.23823246878001922},{"$f":"TT!$O75","v":"of all concussions occurred in limited contact sports"},{"$f":"TT!$O78","v":"Top 5 limited contact sports that caused concussion"},{"$f":"TT!$O81","v":"(percentage based on sample size of 266 adolescents)"}]
[null,{"$f":"TT!$O24","v":"Basketball"},103,17,9.6999999999999993,{"$f":"TT!$O37","v":"Volleyball"},23,8.6,2.2000000000000002,{"$f":"TT!$O58","v":"Swinging"},7,13.2,0.7,{"$f":"TT!$O68","v":"Playground"},22,16.2,2.1,null,null,{"$f":"ROW()","v":5},"Contact","Ice hockey/hockey",57,{"$f":"SUMPRODUCT((Table9[Category]=Table9[[#This Row],[Category]])*(Table9[Quantity]=Table9[[#This Row],[Quantity]])*(Table9[Row]>Table9[[#This Row],[Row]]))/100+Table9[[#This Row],[Quantity]]","v":57},{"$f":"SUMPRODUCT((Table9[Category]=Table9[[#This Row],[Category]])*(Table9[Unique Quant]>Table9[[#This Row],[Unique Quant]]))+1","v":4},{"$f":"Table9[[#This Row],[Quantity]]/SUMIFS(Table9[Quantity],Table9[Category],Table9[[#This Row],[Category]])","v":9.4214876033057851E-2},null,null,3,{"$f":"TT!$O16","v":"Non-Contact"},{"$f":"O20","v":5.0912584053794431E-2},{"$f":"TT!$O76","v":"of all concussions occurred in non-contact sports"},{"$f":"TT!$O79","v":"Top 5 non-contact sports that caused concussion"},{"$f":"TT!$O82","v":"(percentage based on sample size of 53 adolescents)"}]
[null,{"$f":"TT!$O25","v":"Ice hockey"},57,9.4,5.4,{"$f":"TT!$O38","v":"Bike riding"},23,8.6,2.2000000000000002,{"$f":"TT!$O59","v":"Monkey bars"},5,9.4,0.5,{"$f":"TT!$O69","v":"Recess"},19,14,1.8,null,null,{"$f":"ROW()","v":6},"Contact","Lacrosse",45,{"$f":"SUMPRODUCT((Table9[Category]=Table9[[#This Row],[Category]])*(Table9[Quantity]=Table9[[#This Row],[Quantity]])*(Table9[Row]>Table9[[#This Row],[Row]]))/100+Table9[[#This Row],[Quantity]]","v":45},{"$f":"SUMPRODUCT((Table9[Category]=Table9[[#This Row],[Category]])*(Table9[Unique Quant]>Table9[[#This Row],[Unique Quant]]))+1","v":5},{"$f":"Table9[[#This Row],[Quantity]]/SUMIFS(Table9[Quantity],Table9[Category],Table9[[#This Row],[Category]])","v":7.43801652892562E-2}]
[null,{"$f":"TT!$O26","v":"Lacrosse"},45,7.4,4.2,{"$f":"TT!$O39","v":"Softball"},21,7.9,2,{"$f":"TT!$O60","v":"Track"},4,7.5,0.4,{"$f":"TT!$O70","v":"Nonspecified"},6,4.4000000000000004,0.6,null,null,{"$f":"ROW()","v":7},"Contact","Wrestling",26,{"$f":"SUMPRODUCT((Table9[Category]=Table9[[#This Row],[Category]])*(Table9[Quantity]=Table9[[#This Row],[Quantity]])*(Table9[Row]>Table9[[#This Row],[Row]]))/100+Table9[[#This Row],[Quantity]]","v":26},{"$f":"SUMPRODUCT((Table9[Category]=Table9[[#This Row],[Category]])*(Table9[Unique Quant]>Table9[[#This Row],[Unique Quant]]))+1","v":6},{"$f":"Table9[[#This Row],[Quantity]]/SUMIFS(Table9[Quantity],Table9[Category],Table9[[#This Row],[Category]])","v":4.2975206611570248E-2}]
[null,{"$f":"TT!$O27","v":"Wrestling"},26,4.3,2.5,{"$f":"TT!$O40","v":"Gymnastics"},14,5.3,1.3,{"$f":"TT!$O61","v":"Tennis"},3,5.7,0.3,{"$f":"TT!$O71","v":"Playing outside"},4,2.9,0.4,null,null,{"$f":"ROW()","v":8},"Contact","Field hockey",22,{"$f":"SUMPRODUCT((Table9[Category]=Table9[[#This Row],[Category]])*(Table9[Quantity]=Table9[[#This Row],[Quantity]])*(Table9[Row]>Table9[[#This Row],[Row]]))/100+Table9[[#This Row],[Quantity]]","v":22},{"$f":"SUMPRODUCT((Table9[Category]=Table9[[#This Row],[Category]])*(Table9[Unique Quant]>Table9[[#This Row],[Unique Quant]]))+1","v":7},{"$f":"Table9[[#This Row],[Quantity]]/SUMIFS(Table9[Quantity],Table9[Category],Table9[[#This Row],[Category]])","v":3.6363636363636362E-2}]
[null,{"$f":"TT!$O28","v":"Field hockey"},22,3.6,2.1,{"$f":"TT!$O41","v":"Snowboarding"},14,5.3,1.3,{"$f":"TT!$O62","v":"Running"},3,5.7,0.3,{"$f":"TT!$O72","v":"Rip stick"},2,1.5,0.3,null,null,{"$f":"ROW()","v":9},"Contact","Rugby",11,{"$f":"SUMPRODUCT((Table9[Category]=Table9[[#This Row],[Category]])*(Table9[Quantity]=Table9[[#This Row],[Quantity]])*(Table9[Row]>Table9[[#This Row],[Row]]))/100+Table9[[#This Row],[Quantity]]","v":11},{"$f":"SUMPRODUCT((Table9[Category]=Table9[[#This Row],[Category]])*(Table9[Unique Quant]>Table9[[#This Row],[Unique Quant]]))+1","v":8},{"$f":"Table9[[#This Row],[Quantity]]/SUMIFS(Table9[Quantity],Table9[Category],Table9[[#This Row],[Category]])","v":1.8181818181818181E-2}]
[null,{"$f":"TT!$O29","v":"Rugby"},11,1.8,1,{"$f":"TT!$O42","v":"Ice skating"},10,3.8,0.9,{"$f":"TT!$O63","v":"Hunting"},2,3.8,0.2,"Other¶",3,2.2000000000000002,0.3,null,null,{"$f":"ROW()","v":10},"Contact","Water polo",3,{"$f":"SUMPRODUCT((Table9[Category]=Table9[[#This Row],[Category]])*(Table9[Quantity]=Table9[[#This Row],[Quantity]])*(Table9[Row]>Table9[[#This Row],[Row]]))/100+Table9[[#This Row],[Quantity]]","v":3.01},{"$f":"SUMPRODUCT((Table9[Category]=Table9[[#This Row],[Category]])*(Table9[Unique Quant]>Table9[[#This Row],[Unique Quant]]))+1","v":10},{"$f":"Table9[[#This Row],[Quantity]]/SUMIFS(Table9[Quantity],Table9[Category],Table9[[#This Row],[Category]])","v":4.9586776859504135E-3},null,null,"Active State","Category","Value","Radial Text","Chart Text","Chart Text2"]
[null,{"$f":"TT!$O30","v":"Water polo"},3,0.5,0.3,{"$f":"TT!$O43","v":"Sledding"},10,3.8,0.9,{"$f":"TT!$O64","v":"Roller coaster"},2,3.8,0.2,null,null,null,null,null,null,{"$f":"ROW()","v":11},"Contact","Martial arts",3,{"$f":"SUMPRODUCT((Table9[Category]=Table9[[#This Row],[Category]])*(Table9[Quantity]=Table9[[#This Row],[Quantity]])*(Table9[Row]>Table9[[#This Row],[Row]]))/100+Table9[[#This Row],[Quantity]]","v":3},{"$f":"SUMPRODUCT((Table9[Category]=Table9[[#This Row],[Category]])*(Table9[Unique Quant]>Table9[[#This Row],[Unique Quant]]))+1","v":11},{"$f":"Table9[[#This Row],[Quantity]]/SUMIFS(Table9[Quantity],Table9[Category],Table9[[#This Row],[Category]])","v":4.9586776859504135E-3},null,null,1,{"$f":"INDEX(Table11[],InfographicState,2)","v":"Contact"},{"$f":"INDEX(Table11[],InfographicState,3)","v":0.58117195004803079},{"$f":"INDEX(Table11[],InfographicState,4)","v":"of all concussions occurred in contact sports"},{"$f":"INDEX(Table11[],InfographicState,5)","v":"Top 5 contact sports that cause concussion"},{"$f":"INDEX(Table11[],InfographicState,6)","v":"(percentage based on sample size of 605 adolescents)"}]
[null,{"$f":"TT!$O31","v":"Martial arts"},3,0.5,0.3,{"$f":"TT!$O44","v":"Skiing"},9,3.4,0.8,{"$f":"TT!$O65","v":"Zipline"},2,3.8,0.2,null,null,null,null,null,null,{"$f":"ROW()","v":12},"Contact","Diving",2,{"$f":"SUMPRODUCT((Table9[Category]=Table9[[#This Row],[Category]])*(Table9[Quantity]=Table9[[#This Row],[Quantity]])*(Table9[Row]>Table9[[#This Row],[Row]]))/100+Table9[[#This Row],[Quantity]]","v":2.02},{"$f":"SUMPRODUCT((Table9[Category]=Table9[[#This Row],[Category]])*(Table9[Unique Quant]>Table9[[#This Row],[Unique Quant]]))+1","v":12},{"$f":"Table9[[#This Row],[Quantity]]/SUMIFS(Table9[Quantity],Table9[Category],Table9[[#This Row],[Category]])","v":3.3057851239669421E-3}]
[null,{"$f":"TT!$O32","v":"Diving"},2,0.3,0.2,{"$f":"TT!$O45","v":"Equestrian"},7,2.6,0.7,{"$f":"TT!$O$73","v":"Other"},7,13.2,0.7,null,null,null,null,null,null,{"$f":"ROW()","v":13},"Contact","Floor hockey",2,{"$f":"SUMPRODUCT((Table9[Category]=Table9[[#This Row],[Category]])*(Table9[Quantity]=Table9[[#This Row],[Quantity]])*(Table9[Row]>Table9[[#This Row],[Row]]))/100+Table9[[#This Row],[Quantity]]","v":2.0099999999999998},{"$f":"SUMPRODUCT((Table9[Category]=Table9[[#This Row],[Category]])*(Table9[Unique Quant]>Table9[[#This Row],[Unique Quant]]))+1","v":13},{"$f":"Table9[[#This Row],[Quantity]]/SUMIFS(Table9[Quantity],Table9[Category],Table9[[#This Row],[Category]])","v":3.3057851239669421E-3}]
[null,{"$f":"TT!$O33","v":"Floor hockey"},2,0.3,0.2,{"$f":"TT!$O46","v":"Skateboarding"},6,2.2999999999999998,0.6,null,null,null,null,null,null,null,null,null,null,{"$f":"ROW()","v":14},"Contact","Street hockey",2,{"$f":"SUMPRODUCT((Table9[Category]=Table9[[#This Row],[Category]])*(Table9[Quantity]=Table9[[#This Row],[Quantity]])*(Table9[Row]>Table9[[#This Row],[Row]]))/100+Table9[[#This Row],[Quantity]]","v":2},{"$f":"SUMPRODUCT((Table9[Category]=Table9[[#This Row],[Category]])*(Table9[Unique Quant]>Table9[[#This Row],[Unique Quant]]))+1","v":14},{"$f":"Table9[[#This Row],[Quantity]]/SUMIFS(Table9[Quantity],Table9[Category],Table9[[#This Row],[Category]])","v":3.3057851239669421E-3},null,null,null,{"$f":"AD3","v":"Contact"},{"$f":"IF(AD14=ActiveCategoryName,ActiveCategoryValue,0)","v":0.58117195004803079}]
[null,{"$f":"TT!$O34","v":"Street hockey"},2,0.3,0.2,{"$f":"TT!$O47","v":"Dodgeball"},5,1.9,0.5,null,null,null,null,null,null,null,null,null,null,{"$f":"ROW()","v":15},"Contact","Other†",4,{"$f":"SUMPRODUCT((Table9[Category]=Table9[[#This Row],[Category]])*(Table9[Quantity]=Table9[[#This Row],[Quantity]])*(Table9[Row]>Table9[[#This Row],[Row]]))/100+Table9[[#This Row],[Quantity]]","v":4},{"$f":"SUMPRODUCT((Table9[Category]=Table9[[#This Row],[Category]])*(Table9[Unique Quant]>Table9[[#This Row],[Unique Quant]]))+1","v":9},{"$f":"Table9[[#This Row],[Quantity]]/SUMIFS(Table9[Quantity],Table9[Category],Table9[[#This Row],[Category]])","v":6.6115702479338841E-3},null,null,null,{"$f":"AD4","v":"Limited Contact"},{"$f":"IF(AD15=ActiveCategoryName,ActiveCategoryValue,0)","v":0}]
[null,{"$f":"TT!$O$73","v":"Other"},4,0.1,0.4,{"$f":"TT!$O48","v":"Kickball"},5,1.9,0.5,null,null,null,null,null,null,null,null,null,null,{"$f":"ROW()","v":16},"Limited Contact","Cheerleading",47,{"$f":"SUMPRODUCT((Table9[Category]=Table9[[#This Row],[Category]])*(Table9[Quantity]=Table9[[#This Row],[Quantity]])*(Table9[Row]>Table9[[#This Row],[Row]]))/100+Table9[[#This Row],[Quantity]]","v":47},{"$f":"SUMPRODUCT((Table9[Category]=Table9[[#This Row],[Category]])*(Table9[Unique Quant]>Table9[[#This Row],[Unique Quant]]))+1","v":1},{"$f":"Table9[[#This Row],[Quantity]]/SUMIFS(Table9[Quantity],Table9[Category],Table9[[#This Row],[Category]])","v":0.18951612903225806},null,null,null,{"$f":"AD5","v":"Non-Contact"},{"$f":"IF(AD16=ActiveCategoryName,ActiveCategoryValue,0)","v":0}]
[null,null,null,null,null,{"$f":"TT!$O49","v":"Trampoline"},5,1.9,0.5,null,null,null,null,null,null,null,null,null,null,{"$f":"ROW()","v":17},"Limited Contact","Baseball",30,{"$f":"SUMPRODUCT((Table9[Category]=Table9[[#This Row],[Category]])*(Table9[Quantity]=Table9[[#This Row],[Quantity]])*(Table9[Row]>Table9[[#This Row],[Row]]))/100+Table9[[#This Row],[Quantity]]","v":30},{"$f":"SUMPRODUCT((Table9[Category]=Table9[[#This Row],[Category]])*(Table9[Unique Quant]>Table9[[#This Row],[Unique Quant]]))+1","v":2},{"$f":"Table9[[#This Row],[Quantity]]/SUMIFS(Table9[Quantity],Table9[Category],Table9[[#This Row],[Category]])","v":0.12096774193548387},null,null,null,"blank",{"$f":"1-SUM(AE14:AE16)","v":0.41882804995196921}]
[null,null,null,null,null,{"$f":"TT!$O50","v":"Squash"},4,1.5,0.4,null,null,null,null,"Contact",{"$f":"SUMIFS('Infograph backend'!$W$2:$W$55,'Infograph backend'!$U$2:$U$55,$N18)/SUM('Infograph backend'!$W$2:$W$55)","v":0.58117195004803079},{"$f":"1-O18","v":0.41882804995196921},null,null,null,{"$f":"ROW()","v":18},"Limited Contact","Volleyball",23,{"$f":"SUMPRODUCT((Table9[Category]=Table9[[#This Row],[Category]])*(Table9[Quantity]=Table9[[#This Row],[Quantity]])*(Table9[Row]>Table9[[#This Row],[Row]]))/100+Table9[[#This Row],[Quantity]]","v":23.01},{"$f":"SUMPRODUCT((Table9[Category]=Table9[[#This Row],[Category]])*(Table9[Unique Quant]>Table9[[#This Row],[Unique Quant]]))+1","v":3},{"$f":"Table9[[#This Row],[Quantity]]/SUMIFS(Table9[Quantity],Table9[Category],Table9[[#This Row],[Category]])","v":9.2741935483870969E-2}]
[null,null,null,null,null,{"$f":"TT!$O51","v":"Go carts"},4,1.5,0.4,null,null,null,null,"Limited Contact",{"$f":"SUMIFS('Infograph backend'!$W$2:$W$55,'Infograph backend'!$U$2:$U$55,$N19)/SUM('Infograph backend'!$W$2:$W$55)","v":0.23823246878001922},{"$f":"1-O19","v":0.76176753121998075},null,null,null,{"$f":"ROW()","v":19},"Limited Contact","Bike riding",23,{"$f":"SUMPRODUCT((Table9[Category]=Table9[[#This Row],[Category]])*(Table9[Quantity]=Table9[[#This Row],[Quantity]])*(Table9[Row]>Table9[[#This Row],[Row]]))/100+Table9[[#This Row],[Quantity]]","v":23},{"$f":"SUMPRODUCT((Table9[Category]=Table9[[#This Row],[Category]])*(Table9[Unique Quant]>Table9[[#This Row],[Unique Quant]]))+1","v":4},{"$f":"Table9[[#This Row],[Quantity]]/SUMIFS(Table9[Quantity],Table9[Category],Table9[[#This Row],[Category]])","v":9.2741935483870969E-2}]
[null,null,null,null,null,{"$f":"TT!$O52","v":"Flag football"},3,1.1000000000000001,0.3,null,null,null,null,"Non Contact",{"$f":"SUMIFS('Infograph backend'!$W$2:$W$55,'Infograph backend'!$U$2:$U$55,$N20)/SUM('Infograph backend'!$W$2:$W$55)","v":5.0912584053794431E-2},{"$f":"1-O20","v":0.9490874159462056},null,null,null,{"$f":"ROW()","v":20},"Limited Contact","Softball",21,{"$f":"SUMPRODUCT((Table9[Category]=Table9[[#This Row],[Category]])*(Table9[Quantity]=Table9[[#This Row],[Quantity]])*(Table9[Row]>Table9[[#This Row],[Row]]))/100+Table9[[#This Row],[Quantity]]","v":21},{"$f":"SUMPRODUCT((Table9[Category]=Table9[[#This Row],[Category]])*(Table9[Unique Quant]>Table9[[#This Row],[Unique Quant]]))+1","v":5},{"$f":"Table9[[#This Row],[Quantity]]/SUMIFS(Table9[Quantity],Table9[Category],Table9[[#This Row],[Category]])","v":8.4677419354838704E-2}]
[null,null,null,null,null,{"$f":"TT!$O53","v":"Bouncy house"},3,1.1000000000000001,0.3,null,null,null,null,"Undetermined",{"$f":"SUMIFS('Infograph backend'!$W$2:$W$55,'Infograph backend'!$U$2:$U$55,$N21)/SUM('Infograph backend'!$W$2:$W$55)","v":0.12968299711815562},{"$f":"1-O21","v":0.87031700288184433},null,null,null,{"$f":"ROW()","v":21},"Limited Contact","Gymnastics",14,{"$f":"SUMPRODUCT((Table9[Category]=Table9[[#This Row],[Category]])*(Table9[Quantity]=Table9[[#This Row],[Quantity]])*(Table9[Row]>Table9[[#This Row],[Row]]))/100+Table9[[#This Row],[Quantity]]","v":14.01},{"$f":"SUMPRODUCT((Table9[Category]=Table9[[#This Row],[Category]])*(Table9[Unique Quant]>Table9[[#This Row],[Unique Quant]]))+1","v":6},{"$f":"Table9[[#This Row],[Quantity]]/SUMIFS(Table9[Quantity],Table9[Category],Table9[[#This Row],[Category]])","v":5.6451612903225805E-2}]
[null,null,null,null,null,{"$f":"TT!$O54","v":"Rollerskating"},3,1.1000000000000001,0.3,null,null,null,null,null,null,null,null,null,null,{"$f":"ROW()","v":22},"Limited Contact","Snowboarding",14,{"$f":"SUMPRODUCT((Table9[Category]=Table9[[#This Row],[Category]])*(Table9[Quantity]=Table9[[#This Row],[Quantity]])*(Table9[Row]>Table9[[#This Row],[Row]]))/100+Table9[[#This Row],[Quantity]]","v":14},{"$f":"SUMPRODUCT((Table9[Category]=Table9[[#This Row],[Category]])*(Table9[Unique Quant]>Table9[[#This Row],[Unique Quant]]))+1","v":7},{"$f":"Table9[[#This Row],[Quantity]]/SUMIFS(Table9[Quantity],Table9[Category],Table9[[#This Row],[Category]])","v":5.6451612903225805E-2}]
[null,null,null,null,null,{"$f":"TT!$O55","v":"Playing tag"},2,0.1,0.2,null,null,null,null,null,null,null,null,null,null,{"$f":"ROW()","v":23},"Limited Contact","Ice skating",10,{"$f":"SUMPRODUCT((Table9[Category]=Table9[[#This Row],[Category]])*(Table9[Quantity]=Table9[[#This Row],[Quantity]])*(Table9[Row]>Table9[[#This Row],[Row]]))/100+Table9[[#This Row],[Quantity]]","v":10.01},{"$f":"SUMPRODUCT((Table9[Category]=Table9[[#This Row],[Category]])*(Table9[Unique Quant]>Table9[[#This Row],[Unique Quant]]))+1","v":8},{"$f":"Table9[[#This Row],[Quantity]]/SUMIFS(Table9[Quantity],Table9[Category],Table9[[#This Row],[Category]])","v":4.0322580645161289E-2}]
[null,null,null,null,null,null,null,null,null,null,null,null,null,null,null,null,null,null,null,{"$f":"ROW()","v":24},"Limited Contact","Sledding",10,{"$f":"SUMPRODUCT((Table9[Category]=Table9[[#This Row],[Category]])*(Table9[Quantity]=Table9[[#This Row],[Quantity]])*(Table9[Row]>Table9[[#This Row],[Row]]))/100+Table9[[#This Row],[Quantity]]","v":10},{"$f":"SUMPRODUCT((Table9[Category]=Table9[[#This Row],[Category]])*(Table9[Unique Quant]>Table9[[#This Row],[Unique Quant]]))+1","v":9},{"$f":"Table9[[#This Row],[Quantity]]/SUMIFS(Table9[Quantity],Table9[Category],Table9[[#This Row],[Category]])","v":4.0322580645161289E-2}]
[null,null,null,null,null,null,null,null,null,null,null,null,null,"Contact",null,null,null,null,null,{"$f":"ROW()","v":25},"Limited Contact","Skiing",9,{"$f":"SUMPRODUCT((Table9[Category]=Table9[[#This Row],[Category]])*(Table9[Quantity]=Table9[[#This Row],[Quantity]])*(Table9[Row]>Table9[[#This Row],[Row]]))/100+Table9[[#This Row],[Quantity]]","v":9},{"$f":"SUMPRODUCT((Table9[Category]=Table9[[#This Row],[Category]])*(Table9[Unique Quant]>Table9[[#This Row],[Unique Quant]]))+1","v":10},{"$f":"Table9[[#This Row],[Quantity]]/SUMIFS(Table9[Quantity],Table9[Category],Table9[[#This Row],[Category]])","v":3.6290322580645164E-2}]
[null,null,null,null,null,null,null,null,null,null,null,null,1,{"$f":"INDEX('Infograph backend'!$T$2:$Z$55,MATCH(1,('Infograph backend'!$U$2:$U$55=$N$25)*('Infograph backend'!$Y$2:$Y$55=$M26),0),MATCH(V$1,'Infograph backend'!$T$1:$Z$1,0))","v":"Football"},{"$f":"INDEX('Infograph backend'!$T$2:$Z$55,MATCH(1,('Infograph backend'!$U$2:$U$55=$N$25)*('Infograph backend'!$Y$2:$Y$55=$M26),0),MATCH(Z$1,'Infograph backend'!$T$1:$Z$1,0))","v":0.27933884297520661},null,null,null,null,{"$f":"ROW()","v":26},"Limited Contact","Equestrian",7,{"$f":"SUMPRODUCT((Table9[Category]=Table9[[#This Row],[Category]])*(Table9[Quantity]=Table9[[#This Row],[Quantity]])*(Table9[Row]>Table9[[#This Row],[Row]]))/100+Table9[[#This Row],[Quantity]]","v":7},{"$f":"SUMPRODUCT((Table9[Category]=Table9[[#This Row],[Category]])*(Table9[Unique Quant]>Table9[[#This Row],[Unique Quant]]))+1","v":11},{"$f":"Table9[[#This Row],[Quantity]]/SUMIFS(Table9[Quantity],Table9[Category],Table9[[#This Row],[Category]])","v":2.8225806451612902E-2}]
[null,null,null,null,null,null,null,null,null,null,null,null,2,{"$f":"INDEX('Infograph backend'!$T$2:$Z$55,MATCH(1,('Infograph backend'!$U$2:$U$55=$N$25)*('Infograph backend'!$Y$2:$Y$55=$M27),0),MATCH(V$1,'Infograph backend'!$T$1:$Z$1,0))","v":"Soccer"},{"$f":"INDEX('Infograph backend'!$T$2:$Z$55,MATCH(1,('Infograph backend'!$U$2:$U$55=$N$25)*('Infograph backend'!$Y$2:$Y$55=$M27),0),MATCH(Z$1,'Infograph backend'!$T$1:$Z$1,0))","v":0.25785123966942147},null,null,null,null,{"$f":"ROW()","v":27},"Limited Contact","Skateboarding",6,{"$f":"SUMPRODUCT((Table9[Category]=Table9[[#This Row],[Category]])*(Table9[Quantity]=Table9[[#This Row],[Quantity]])*(Table9[Row]>Table9[[#This Row],[Row]]))/100+Table9[[#This Row],[Quantity]]","v":6},{"$f":"SUMPRODUCT((Table9[Category]=Table9[[#This Row],[Category]])*(Table9[Unique Quant]>Table9[[#This Row],[Unique Quant]]))+1","v":12},{"$f":"Table9[[#This Row],[Quantity]]/SUMIFS(Table9[Quantity],Table9[Category],Table9[[#This Row],[Category]])","v":2.4193548387096774E-2}]
[null,null,null,null,null,null,null,null,null,null,null,null,3,{"$f":"INDEX('Infograph backend'!$T$2:$Z$55,MATCH(1,('Infograph backend'!$U$2:$U$55=$N$25)*('Infograph backend'!$Y$2:$Y$55=$M28),0),MATCH(V$1,'Infograph backend'!$T$1:$Z$1,0))","v":"Basketball"},{"$f":"INDEX('Infograph backend'!$T$2:$Z$55,MATCH(1,('Infograph backend'!$U$2:$U$55=$N$25)*('Infograph backend'!$Y$2:$Y$55=$M28),0),MATCH(Z$1,'Infograph backend'!$T$1:$Z$1,0))","v":0.17024793388429751},null,null,null,null,{"$f":"ROW()","v":28},"Limited Contact","Dodgeball",5,{"$f":"SUMPRODUCT((Table9[Category]=Table9[[#This Row],[Category]])*(Table9[Quantity]=Table9[[#This Row],[Quantity]])*(Table9[Row]>Table9[[#This Row],[Row]]))/100+Table9[[#This Row],[Quantity]]","v":5.0199999999999996},{"$f":"SUMPRODUCT((Table9[Category]=Table9[[#This Row],[Category]])*(Table9[Unique Quant]>Table9[[#This Row],[Unique Quant]]))+1","v":13},{"$f":"Table9[[#This Row],[Quantity]]/SUMIFS(Table9[Quantity],Table9[Category],Table9[[#This Row],[Category]])","v":2.0161290322580645E-2}]
[null,null,null,null,null,null,null,null,null,null,null,null,4,{"$f":"INDEX('Infograph backend'!$T$2:$Z$55,MATCH(1,('Infograph backend'!$U$2:$U$55=$N$25)*('Infograph backend'!$Y$2:$Y$55=$M29),0),MATCH(V$1,'Infograph backend'!$T$1:$Z$1,0))","v":"Ice hockey/hockey"},{"$f":"INDEX('Infograph backend'!$T$2:$Z$55,MATCH(1,('Infograph backend'!$U$2:$U$55=$N$25)*('Infograph backend'!$Y$2:$Y$55=$M29),0),MATCH(Z$1,'Infograph backend'!$T$1:$Z$1,0))","v":9.4214876033057851E-2},null,null,null,null,{"$f":"ROW()","v":29},"Limited Contact","Kickball",5,{"$f":"SUMPRODUCT((Table9[Category]=Table9[[#This Row],[Category]])*(Table9[Quantity]=Table9[[#This Row],[Quantity]])*(Table9[Row]>Table9[[#This Row],[Row]]))/100+Table9[[#This Row],[Quantity]]","v":5.01},{"$f":"SUMPRODUCT((Table9[Category]=Table9[[#This Row],[Category]])*(Table9[Unique Quant]>Table9[[#This Row],[Unique Quant]]))+1","v":14},{"$f":"Table9[[#This Row],[Quantity]]/SUMIFS(Table9[Quantity],Table9[Category],Table9[[#This Row],[Category]])","v":2.0161290322580645E-2}]
[null,null,null,null,null,null,null,null,null,null,null,null,5,{"$f":"INDEX('Infograph backend'!$T$2:$Z$55,MATCH(1,('Infograph backend'!$U$2:$U$55=$N$25)*('Infograph backend'!$Y$2:$Y$55=$M30),0),MATCH(V$1,'Infograph backend'!$T$1:$Z$1,0))","v":"Lacrosse"},{"$f":"INDEX('Infograph backend'!$T$2:$Z$55,MATCH(1,('Infograph backend'!$U$2:$U$55=$N$25)*('Infograph backend'!$Y$2:$Y$55=$M30),0),MATCH(Z$1,'Infograph backend'!$T$1:$Z$1,0))","v":7.43801652892562E-2},null,null,null,null,{"$f":"ROW()","v":30},"Limited Contact","Trampoline",5,{"$f":"SUMPRODUCT((Table9[Category]=Table9[[#This Row],[Category]])*(Table9[Quantity]=Table9[[#This Row],[Quantity]])*(Table9[Row]>Table9[[#This Row],[Row]]))/100+Table9[[#This Row],[Quantity]]","v":5},{"$f":"SUMPRODUCT((Table9[Category]=Table9[[#This Row],[Category]])*(Table9[Unique Quant]>Table9[[#This Row],[Unique Quant]]))+1","v":15},{"$f":"Table9[[#This Row],[Quantity]]/SUMIFS(Table9[Quantity],Table9[Category],Table9[[#This Row],[Category]])","v":2.0161290322580645E-2}]
[null,null,null,null,null,null,null,null,null,null,null,null,6,{"$f":"INDEX('Infograph backend'!$T$2:$Z$55,MATCH(1,('Infograph backend'!$U$2:$U$55=$N$25)*('Infograph backend'!$Y$2:$Y$55=$M31),0),MATCH(V$1,'Infograph backend'!$T$1:$Z$1,0))","v":"Wrestling"},{"$f":"INDEX('Infograph backend'!$T$2:$Z$55,MATCH(1,('Infograph backend'!$U$2:$U$55=$N$25)*('Infograph backend'!$Y$2:$Y$55=$M31),0),MATCH(Z$1,'Infograph backend'!$T$1:$Z$1,0))","v":4.2975206611570248E-2},null,null,null,null,{"$f":"ROW()","v":31},"Limited Contact","Squash",4,{"$f":"SUMPRODUCT((Table9[Category]=Table9[[#This Row],[Category]])*(Table9[Quantity]=Table9[[#This Row],[Quantity]])*(Table9[Row]>Table9[[#This Row],[Row]]))/100+Table9[[#This Row],[Quantity]]","v":4.01},{"$f":"SUMPRODUCT((Table9[Category]=Table9[[#This Row],[Category]])*(Table9[Unique Quant]>Table9[[#This Row],[Unique Quant]]))+1","v":16},{"$f":"Table9[[#This Row],[Quantity]]/SUMIFS(Table9[Quantity],Table9[Category],Table9[[#This Row],[Category]])","v":1.6129032258064516E-2}]
[null,null,null,null,null,null,null,null,null,null,null,null,null,null,null,null,null,null,null,{"$f":"ROW()","v":32},"Limited Contact","Go carts",4,{"$f":"SUMPRODUCT((Table9[Category]=Table9[[#This Row],[Category]])*(Table9[Quantity]=Table9[[#This Row],[Quantity]])*(Table9[Row]>Table9[[#This Row],[Row]]))/100+Table9[[#This Row],[Quantity]]","v":4},{"$f":"SUMPRODUCT((Table9[Category]=Table9[[#This Row],[Category]])*(Table9[Unique Quant]>Table9[[#This Row],[Unique Quant]]))+1","v":17},{"$f":"Table9[[#This Row],[Quantity]]/SUMIFS(Table9[Quantity],Table9[Category],Table9[[#This Row],[Category]])","v":1.6129032258064516E-2}]
[null,null,null,null,null,null,null,null,null,null,null,null,null,null,null,null,null,null,null,{"$f":"ROW()","v":33},"Limited Contact","Flag football",3,{"$f":"SUMPRODUCT((Table9[Category]=Table9[[#This Row],[Category]])*(Table9[Quantity]=Table9[[#This Row],[Quantity]])*(Table9[Row]>Table9[[#This Row],[Row]]))/100+Table9[[#This Row],[Quantity]]","v":3.02},{"$f":"SUMPRODUCT((Table9[Category]=Table9[[#This Row],[Category]])*(Table9[Unique Quant]>Table9[[#This Row],[Unique Quant]]))+1","v":18},{"$f":"Table9[[#This Row],[Quantity]]/SUMIFS(Table9[Quantity],Table9[Category],Table9[[#This Row],[Category]])","v":1.2096774193548387E-2}]
[null,null,null,null,null,null,null,null,null,null,null,null,null,null,null,null,null,null,null,{"$f":"ROW()","v":34},"Limited Contact","Bouncy house",3,{"$f":"SUMPRODUCT((Table9[Category]=Table9[[#This Row],[Category]])*(Table9[Quantity]=Table9[[#This Row],[Quantity]])*(Table9[Row]>Table9[[#This Row],[Row]]))/100+Table9[[#This Row],[Quantity]]","v":3.01},{"$f":"SUMPRODUCT((Table9[Category]=Table9[[#This Row],[Category]])*(Table9[Unique Quant]>Table9[[#This Row],[Unique Quant]]))+1","v":19},{"$f":"Table9[[#This Row],[Quantity]]/SUMIFS(Table9[Quantity],Table9[Category],Table9[[#This Row],[Category]])","v":1.2096774193548387E-2}]
[null,null,null,null,null,null,null,null,null,null,null,null,null,null,null,null,null,null,null,{"$f":"ROW()","v":35},"Limited Contact","Rollerskating",3,{"$f":"SUMPRODUCT((Table9[Category]=Table9[[#This Row],[Category]])*(Table9[Quantity]=Table9[[#This Row],[Quantity]])*(Table9[Row]>Table9[[#This Row],[Row]]))/100+Table9[[#This Row],[Quantity]]","v":3},{"$f":"SUMPRODUCT((Table9[Category]=Table9[[#This Row],[Category]])*(Table9[Unique Quant]>Table9[[#This Row],[Unique Quant]]))+1","v":20},{"$f":"Table9[[#This Row],[Quantity]]/SUMIFS(Table9[Quantity],Table9[Category],Table9[[#This Row],[Category]])","v":1.2096774193548387E-2}]
[null,null,null,null,null,null,null,null,null,null,null,null,null,null,null,null,null,null,null,{"$f":"ROW()","v":36},"Limited Contact","Playing tag",2,{"$f":"SUMPRODUCT((Table9[Category]=Table9[[#This Row],[Category]])*(Table9[Quantity]=Table9[[#This Row],[Quantity]])*(Table9[Row]>Table9[[#This Row],[Row]]))/100+Table9[[#This Row],[Quantity]]","v":2},{"$f":"SUMPRODUCT((Table9[Category]=Table9[[#This Row],[Category]])*(Table9[Unique Quant]>Table9[[#This Row],[Unique Quant]]))+1","v":21},{"$f":"Table9[[#This Row],[Quantity]]/SUMIFS(Table9[Quantity],Table9[Category],Table9[[#This Row],[Category]])","v":8.0645161290322578E-3}]
[null,null,null,null,null,null,null,null,null,null,null,null,null,null,null,null,null,null,null,{"$f":"ROW()","v":37},"Non Contact","Swimming",10,{"$f":"SUMPRODUCT((Table9[Category]=Table9[[#This Row],[Category]])*(Table9[Quantity]=Table9[[#This Row],[Quantity]])*(Table9[Row]>Table9[[#This Row],[Row]]))/100+Table9[[#This Row],[Quantity]]","v":10},{"$f":"SUMPRODUCT((Table9[Category]=Table9[[#This Row],[Category]])*(Table9[Unique Quant]>Table9[[#This Row],[Unique Quant]]))+1","v":1},{"$f":"Table9[[#This Row],[Quantity]]/SUMIFS(Table9[Quantity],Table9[Category],Table9[[#This Row],[Category]])","v":0.18867924528301888}]
[null,null,null,null,null,null,null,null,null,null,null,null,null,null,null,null,null,null,null,{"$f":"ROW()","v":38},"Non Contact","Dancing",8,{"$f":"SUMPRODUCT((Table9[Category]=Table9[[#This Row],[Category]])*(Table9[Quantity]=Table9[[#This Row],[Quantity]])*(Table9[Row]>Table9[[#This Row],[Row]]))/100+Table9[[#This Row],[Quantity]]","v":8},{"$f":"SUMPRODUCT((Table9[Category]=Table9[[#This Row],[Category]])*(Table9[Unique Quant]>Table9[[#This Row],[Unique Quant]]))+1","v":2},{"$f":"Table9[[#This Row],[Quantity]]/SUMIFS(Table9[Quantity],Table9[Category],Table9[[#This Row],[Category]])","v":0.15094339622641509}]
[null,null,null,null,null,null,null,null,null,null,null,null,null,null,null,null,null,null,null,{"$f":"ROW()","v":39},"Non Contact","Swinging",7,{"$f":"SUMPRODUCT((Table9[Category]=Table9[[#This Row],[Category]])*(Table9[Quantity]=Table9[[#This Row],[Quantity]])*(Table9[Row]>Table9[[#This Row],[Row]]))/100+Table9[[#This Row],[Quantity]]","v":7.01},{"$f":"SUMPRODUCT((Table9[Category]=Table9[[#This Row],[Category]])*(Table9[Unique Quant]>Table9[[#This Row],[Unique Quant]]))+1","v":3},{"$f":"Table9[[#This Row],[Quantity]]/SUMIFS(Table9[Quantity],Table9[Category],Table9[[#This Row],[Category]])","v":0.13207547169811321}]
[null,null,null,null,null,null,null,null,null,null,null,null,null,null,null,null,null,null,null,{"$f":"ROW()","v":40},"Non Contact","Monkey bars",5,{"$f":"SUMPRODUCT((Table9[Category]=Table9[[#This Row],[Category]])*(Table9[Quantity]=Table9[[#This Row],[Quantity]])*(Table9[Row]>Table9[[#This Row],[Row]]))/100+Table9[[#This Row],[Quantity]]","v":5},{"$f":"SUMPRODUCT((Table9[Category]=Table9[[#This Row],[Category]])*(Table9[Unique Quant]>Table9[[#This Row],[Unique Quant]]))+1","v":5},{"$f":"Table9[[#This Row],[Quantity]]/SUMIFS(Table9[Quantity],Table9[Category],Table9[[#This Row],[Category]])","v":9.4339622641509441E-2}]
[null,null,null,null,null,null,null,null,null,null,null,null,null,null,null,null,null,null,null,{"$f":"ROW()","v":41},"Non Contact","Track",4,{"$f":"SUMPRODUCT((Table9[Category]=Table9[[#This Row],[Category]])*(Table9[Quantity]=Table9[[#This Row],[Quantity]])*(Table9[Row]>Table9[[#This Row],[Row]]))/100+Table9[[#This Row],[Quantity]]","v":4},{"$f":"SUMPRODUCT((Table9[Category]=Table9[[#This Row],[Category]])*(Table9[Unique Quant]>Table9[[#This Row],[Unique Quant]]))+1","v":6},{"$f":"Table9[[#This Row],[Quantity]]/SUMIFS(Table9[Quantity],Table9[Category],Table9[[#This Row],[Category]])","v":7.5471698113207544E-2}]
[null,null,null,null,null,null,null,null,null,null,null,null,null,null,null,null,null,null,null,{"$f":"ROW()","v":42},"Non Contact","Tennis",3,{"$f":"SUMPRODUCT((Table9[Category]=Table9[[#This Row],[Category]])*(Table9[Quantity]=Table9[[#This Row],[Quantity]])*(Table9[Row]>Table9[[#This Row],[Row]]))/100+Table9[[#This Row],[Quantity]]","v":3.01},{"$f":"SUMPRODUCT((Table9[Category]=Table9[[#This Row],[Category]])*(Table9[Unique Quant]>Table9[[#This Row],[Unique Quant]]))+1","v":7},{"$f":"Table9[[#This Row],[Quantity]]/SUMIFS(Table9[Quantity],Table9[Category],Table9[[#This Row],[Category]])","v":5.6603773584905662E-2}]
[null,null,null,null,null,null,null,null,null,null,null,null,null,null,null,null,null,null,null,{"$f":"ROW()","v":43},"Non Contact","Running",3,{"$f":"SUMPRODUCT((Table9[Category]=Table9[[#This Row],[Category]])*(Table9[Quantity]=Table9[[#This Row],[Quantity]])*(Table9[Row]>Table9[[#This Row],[Row]]))/100+Table9[[#This Row],[Quantity]]","v":3},{"$f":"SUMPRODUCT((Table9[Category]=Table9[[#This Row],[Category]])*(Table9[Unique Quant]>Table9[[#This Row],[Unique Quant]]))+1","v":8},{"$f":"Table9[[#This Row],[Quantity]]/SUMIFS(Table9[Quantity],Table9[Category],Table9[[#This Row],[Category]])","v":5.6603773584905662E-2}]
[null,null,null,null,null,null,null,null,null,null,null,null,null,null,null,null,null,null,null,{"$f":"ROW()","v":44},"Non Contact","Hunting",2,{"$f":"SUMPRODUCT((Table9[Category]=Table9[[#This Row],[Category]])*(Table9[Quantity]=Table9[[#This Row],[Quantity]])*(Table9[Row]>Table9[[#This Row],[Row]]))/100+Table9[[#This Row],[Quantity]]","v":2.02},{"$f":"SUMPRODUCT((Table9[Category]=Table9[[#This Row],[Category]])*(Table9[Unique Quant]>Table9[[#This Row],[Unique Quant]]))+1","v":9},{"$f":"Table9[[#This Row],[Quantity]]/SUMIFS(Table9[Quantity],Table9[Category],Table9[[#This Row],[Category]])","v":3.7735849056603772E-2}]
[null,null,null,null,null,null,null,null,null,null,null,null,null,null,null,null,null,null,null,{"$f":"ROW()","v":45},"Non Contact","Roller coaster",2,{"$f":"SUMPRODUCT((Table9[Category]=Table9[[#This Row],[Category]])*(Table9[Quantity]=Table9[[#This Row],[Quantity]])*(Table9[Row]>Table9[[#This Row],[Row]]))/100+Table9[[#This Row],[Quantity]]","v":2.0099999999999998},{"$f":"SUMPRODUCT((Table9[Category]=Table9[[#This Row],[Category]])*(Table9[Unique Quant]>Table9[[#This Row],[Unique Quant]]))+1","v":10},{"$f":"Table9[[#This Row],[Quantity]]/SUMIFS(Table9[Quantity],Table9[Category],Table9[[#This Row],[Category]])","v":3.7735849056603772E-2}]
[null,null,null,null,null,null,null,null,null,null,null,null,null,null,null,null,null,null,null,{"$f":"ROW()","v":46},"Non Contact","Zipline",2,{"$f":"SUMPRODUCT((Table9[Category]=Table9[[#This Row],[Category]])*(Table9[Quantity]=Table9[[#This Row],[Quantity]])*(Table9[Row]>Table9[[#This Row],[Row]]))/100+Table9[[#This Row],[Quantity]]","v":2},{"$f":"SUMPRODUCT((Table9[Category]=Table9[[#This Row],[Category]])*(Table9[Unique Quant]>Table9[[#This Row],[Unique Quant]]))+1","v":11},{"$f":"Table9[[#This Row],[Quantity]]/SUMIFS(Table9[Quantity],Table9[Category],Table9[[#This Row],[Category]])","v":3.7735849056603772E-2}]
[null,null,null,null,null,null,null,null,null,null,null,null,null,null,null,null,null,null,null,{"$f":"ROW()","v":47},"Non Contact","Other§",7,{"$f":"SUMPRODUCT((Table9[Category]=Table9[[#This Row],[Category]])*(Table9[Quantity]=Table9[[#This Row],[Quantity]])*(Table9[Row]>Table9[[#This Row],[Row]]))/100+Table9[[#This Row],[Quantity]]","v":7},{"$f":"SUMPRODUCT((Table9[Category]=Table9[[#This Row],[Category]])*(Table9[Unique Quant]>Table9[[#This Row],[Unique Quant]]))+1","v":4},{"$f":"Table9[[#This Row],[Quantity]]/SUMIFS(Table9[Quantity],Table9[Category],Table9[[#This Row],[Category]])","v":0.13207547169811321}]
[null,null,null,null,null,null,null,null,null,null,null,null,null,null,null,null,null,null,null,{"$f":"ROW()","v":48},"Undetermined","Playing",41,{"$f":"SUMPRODUCT((Table9[Category]=Table9[[#This Row],[Category]])*(Table9[Quantity]=Table9[[#This Row],[Quantity]])*(Table9[Row]>Table9[[#This Row],[Row]]))/100+Table9[[#This Row],[Quantity]]","v":41},{"$f":"SUMPRODUCT((Table9[Category]=Table9[[#This Row],[Category]])*(Table9[Unique Quant]>Table9[[#This Row],[Unique Quant]]))+1","v":1},{"$f":"Table9[[#This Row],[Quantity]]/SUMIFS(Table9[Quantity],Table9[Category],Table9[[#This Row],[Category]])","v":0.3037037037037037}]
[null,null,null,null,null,null,null,null,null,null,null,null,null,null,null,null,null,null,null,{"$f":"ROW()","v":49},"Undetermined","Gym class",38,{"$f":"SUMPRODUCT((Table9[Category]=Table9[[#This Row],[Category]])*(Table9[Quantity]=Table9[[#This Row],[Quantity]])*(Table9[Row]>Table9[[#This Row],[Row]]))/100+Table9[[#This Row],[Quantity]]","v":38},{"$f":"SUMPRODUCT((Table9[Category]=Table9[[#This Row],[Category]])*(Table9[Unique Quant]>Table9[[#This Row],[Unique Quant]]))+1","v":2},{"$f":"Table9[[#This Row],[Quantity]]/SUMIFS(Table9[Quantity],Table9[Category],Table9[[#This Row],[Category]])","v":0.2814814814814815}]
[null,null,null,null,null,null,null,null,null,null,null,null,null,null,null,null,null,null,null,{"$f":"ROW()","v":50},"Undetermined","Playground",22,{"$f":"SUMPRODUCT((Table9[Category]=Table9[[#This Row],[Category]])*(Table9[Quantity]=Table9[[#This Row],[Quantity]])*(Table9[Row]>Table9[[#This Row],[Row]]))/100+Table9[[#This Row],[Quantity]]","v":22},{"$f":"SUMPRODUCT((Table9[Category]=Table9[[#This Row],[Category]])*(Table9[Unique Quant]>Table9[[#This Row],[Unique Quant]]))+1","v":3},{"$f":"Table9[[#This Row],[Quantity]]/SUMIFS(Table9[Quantity],Table9[Category],Table9[[#This Row],[Category]])","v":0.16296296296296298}]
[null,null,null,null,null,null,null,null,null,null,null,null,null,null,null,null,null,null,null,{"$f":"ROW()","v":51},"Undetermined","Recess",19,{"$f":"SUMPRODUCT((Table9[Category]=Table9[[#This Row],[Category]])*(Table9[Quantity]=Table9[[#This Row],[Quantity]])*(Table9[Row]>Table9[[#This Row],[Row]]))/100+Table9[[#This Row],[Quantity]]","v":19},{"$f":"SUMPRODUCT((Table9[Category]=Table9[[#This Row],[Category]])*(Table9[Unique Quant]>Table9[[#This Row],[Unique Quant]]))+1","v":4},{"$f":"Table9[[#This Row],[Quantity]]/SUMIFS(Table9[Quantity],Table9[Category],Table9[[#This Row],[Category]])","v":0.14074074074074075}]
[null,null,null,null,null,null,null,null,null,null,null,null,null,null,null,null,null,null,null,{"$f":"ROW()","v":52},"Undetermined","Nonspecified",6,{"$f":"SUMPRODUCT((Table9[Category]=Table9[[#This Row],[Category]])*(Table9[Quantity]=Table9[[#This Row],[Quantity]])*(Table9[Row]>Table9[[#This Row],[Row]]))/100+Table9[[#This Row],[Quantity]]","v":6},{"$f":"SUMPRODUCT((Table9[Category]=Table9[[#This Row],[Category]])*(Table9[Unique Quant]>Table9[[#This Row],[Unique Quant]]))+1","v":5},{"$f":"Table9[[#This Row],[Quantity]]/SUMIFS(Table9[Quantity],Table9[Category],Table9[[#This Row],[Category]])","v":4.4444444444444446E-2}]
[null,null,null,null,null,null,null,null,null,null,null,null,null,null,null,null,null,null,null,{"$f":"ROW()","v":53},"Undetermined","Playing outside",4,{"$f":"SUMPRODUCT((Table9[Category]=Table9[[#This Row],[Category]])*(Table9[Quantity]=Table9[[#This Row],[Quantity]])*(Table9[Row]>Table9[[#This Row],[Row]]))/100+Table9[[#This Row],[Quantity]]","v":4},{"$f":"SUMPRODUCT((Table9[Category]=Table9[[#This Row],[Category]])*(Table9[Unique Quant]>Table9[[#This Row],[Unique Quant]]))+1","v":6},{"$f":"Table9[[#This Row],[Quantity]]/SUMIFS(Table9[Quantity],Table9[Category],Table9[[#This Row],[Category]])","v":2.9629629629629631E-2}]
[null,null,null,null,null,null,null,null,null,null,null,null,null,null,null,null,null,null,null,{"$f":"ROW()","v":54},"Undetermined","Rip stick",2,{"$f":"SUMPRODUCT((Table9[Category]=Table9[[#This Row],[Category]])*(Table9[Quantity]=Table9[[#This Row],[Quantity]])*(Table9[Row]>Table9[[#This Row],[Row]]))/100+Table9[[#This Row],[Quantity]]","v":2},{"$f":"SUMPRODUCT((Table9[Category]=Table9[[#This Row],[Category]])*(Table9[Unique Quant]>Table9[[#This Row],[Unique Quant]]))+1","v":8},{"$f":"Table9[[#This Row],[Quantity]]/SUMIFS(Table9[Quantity],Table9[Category],Table9[[#This Row],[Category]])","v":1.4814814814814815E-2}]
[null,null,null,null,null,null,null,null,null,null,null,null,null,null,null,null,null,null,null,{"$f":"ROW()","v":55},"Undetermined","Other¶",3,{"$f":"SUMPRODUCT((Table9[Category]=Table9[[#This Row],[Category]])*(Table9[Quantity]=Table9[[#This Row],[Quantity]])*(Table9[Row]>Table9[[#This Row],[Row]]))/100+Table9[[#This Row],[Quantity]]","v":3},{"$f":"SUMPRODUCT((Table9[Category]=Table9[[#This Row],[Category]])*(Table9[Unique Quant]>Table9[[#This Row],[Unique Quant]]))+1","v":7},{"$f":"Table9[[#This Row],[Quantity]]/SUMIFS(Table9[Quantity],Table9[Category],Table9[[#This Row],[Category]])","v":2.2222222222222223E-2}]

{"sheet":"Reference Cells","index":11,"n_rows":36,"n_cols":10,"rows_kept":36,"cut":false,"hidden":true,"merged":[[2,9,3,10],[1,9,1,10]]}
[null,"TimeEntry",0]
[null,{"$f":"BackendTable[[#Headers],[Time]]","v":"Time"},{"$f":"MID(_xlfn.FORMULATEXT(B2),2,FIND(\"[\",_xlfn.FORMULATEXT(B2))-2)","v":"BackendTable"},null,0,{"$f":"\"NameSession\"&E2","v":"NameSession0"},{"$f":"INDIRECT(TEXT(F2,0),0)","v":0},null,null,"Pressure threshold:"]
[null,"Min Time",{"$f":"_xlfn.MINIFS(BackendTable[Time],BackendTable[Time],\">\"&0)","v":0},null,1,{"$f":"\"NameSession\"&E3","v":"NameSession1"},{"$f":"INDIRECT(TEXT(F3,0),0)","v":0},null,null,30]
[null,"Max Time",{"$f":"_xlfn.MAXIFS(BackendTable[Time],BackendTable[Time],\">\"&0)","v":0},null,2,"NameSession2",0]
[null,"Diff",{"$f":"(C4-C3)*86400","v":0},null,3,"NameSession3",0]
[null,"Min Event Time",{"$f":"C7-2/86400","v":-2.3148148148148147E-5},null,4,"NameSession4",0,null,null,{"$f":"_xlfn.MINIFS(BackendTable[Time],BackendTable[Max],\">\"&$J$3)","v":0}]
[null,"End Time",{"$f":"MIN(_xlfn.MINIFS(BackendTable[Time],BackendTable[Max],$J$8)+1.5/86400,MAX(BackendTable[Time]))","v":0},null,5,"NameSession5",0]
[null,"NetTimeMin",{"$f":"MIN(BackendTable[Net Time])","v":0},null,6,"NameSession6",0,null,null,{"$f":"MAX(BackendTable[Max])","v":0}]
[null,"NetTimeMax",{"$f":"MAX(BackendTable[Net Time])","v":0},null,7,"NameSession7",0]
[null,"NetTimeRange",{"$f":"MAX(BackendTable[Net Time])-MIN(BackendTable[Net Time])","v":0}]
[null,"RangeAdj",{"$f":"2/NetTimeRange","v":{"$error":"#DIV/0!"}}]
[null,"T1Row",{"$f":"IFERROR(INDEX(BackendTable[],MATCH(TimeEntry,INDIRECT(\"BackendTable[\"&LEFT($B12,2)&\"Time]\",0),1),MATCH($B12,BackendTable[#Headers],0)),1)","v":1}]
[null,"T2Row",{"$f":"IFERROR(INDEX(BackendTable[],MATCH(TimeEntry,INDIRECT(\"BackendTable[\"&LEFT($B13,2)&\"Time]\",0),1),MATCH($B13,BackendTable[#Headers],0)),1)","v":1}]
[null,"T3Row",{"$f":"IFERROR(INDEX(BackendTable[],MATCH(TimeEntry,INDIRECT(\"BackendTable[\"&LEFT($B14,2)&\"Time]\",0),1),MATCH($B14,BackendTable[#Headers],0)),1)","v":1}]
[null,"SelectedVisual",1]
[null,"VisualType",{"$f":"IF(SelectedVisual,TT!$O$102,TT!$O$103)","v":"Capture Data"}]
[null,"Pause command","#pause"]
[null,"YaxisMax",{"$f":"ROUNDUP(MAX($C$22:$C$24,200)/50,0)*50","v":200}]
[null,"LimitLow",{"$f":"C18*0.1","v":20}]
[null,"LimitMed",{"$f":"C18*0.4","v":80}]
[null,"LimitHigh",{"$f":"C18*0.7","v":140}]
[null,"MaxT1",{"$f":"_xlfn.MAXIFS(BackendTable[T1Max],BackendTable[T1Row],\">\"&0)","v":0}]
[null,"MaxT2",{"$f":"_xlfn.MAXIFS(BackendTable[T2Max],BackendTable[T2Row],\">\"&0)","v":0}]
[null,"MaxT3",{"$f":"_xlfn.MAXIFS(BackendTable[T3Max],BackendTable[T3Row],\">\"&0)","v":0}]
[null,"MaxSensorT1",{"$f":"IFERROR(INDEX(SensorTable[Brain],INDEX(BackendTable[],MATCH($C22,INDIRECT(\"BackendTable[\"&RIGHT($B25,2)&\"Max]\",0),0),MATCH($B25,BackendTable[#Headers],0))),\"\")","v":""}]
[null,"MaxSensorT2",{"$f":"IFERROR(INDEX(SensorTable[Brain],INDEX(BackendTable[],MATCH($C23,INDIRECT(\"BackendTable[\"&RIGHT($B26,2)&\"Max]\",0),0),MATCH($B26,BackendTable[#Headers],0))),\"\")","v":""}]
[null,"MaxSensorT3",{"$f":"IFERROR(INDEX(SensorTable[Brain],INDEX(BackendTable[],MATCH($C24,INDIRECT(\"BackendTable[\"&RIGHT($B27,2)&\"Max]\",0),0),MATCH($B27,BackendTable[#Headers],0))),\"\")","v":""}]
[null,"MaxTextT1",{"$f":"IFERROR(INDEX(SensorTable[Brain Text],MATCH($C25,SensorTable[Brain],0)),\"\")","v":""}]
[null,"MaxTextT2",{"$f":"IFERROR(INDEX(SensorTable[Brain Text],MATCH($C26,SensorTable[Brain],0)),\"\")","v":""}]
[null,"MaxTextT3",{"$f":"IFERROR(INDEX(SensorTable[Brain Text],MATCH($C27,SensorTable[Brain],0)),\"\")","v":""}]
[null,"TrialsSaved",{"$f":"IF(C22=0,0,1)+IF(C23=0,0,1)+IF(C24=0,0,1)","v":0}]
[null,"ScrubVal",{"$f":"IF(TimeEntry<0,NA(),TimeEntry)","v":0}]
[null,"SaveButton",{"$f":"_xlfn.SWITCH(SessionNumber,0,TT!$O$137,-1,TT!$O$140,TT!$O$110&(SessionNumber)&\" \")","v":"Save Baseline "}]
[null,"NextSessionName",{"$f":"IF(SessionNumber=0,TT!$O$139,TT!$O$122&(SessionNumber))","v":"Baseline"}]
[null,"Trials Header",{"$f":"_xlfn.SWITCH(SessionNumber,0,TT!$O$138,-1,TT!$O$140,TT!$O$121&SessionNumber)","v":"Trials: Baseline Session"}]
[null,"SessionCount",{"$f":"IFERROR(MATCH(0,$G$2:$G$9,0)-1,-1)","v":0}]

{"sheet":"BrainSensorVals","index":12,"n_rows":52,"n_cols":18,"rows_kept":52,"cut":false,"hidden":true,"merged":[]}
[{"$f":"RIGHT(CELL(\"filename\",A1),LEN(CELL(\"filename\",A1))-FIND(\"]\",CELL(\"filename\",A1)))","v":"BrainSensorVals"}]
[null,"Trial","S1","S2","S3","S4","S5","Row","Max"]
[null,0,{"$f":"\"BackendTable[T\"&$B3&C$2&\"]\"","v":"BackendTable[T0S1]"},"BackendTable[T0S2]","BackendTable[T0S3]","BackendTable[T0S4]","BackendTable[T0S5]",{"$f":"IFERROR(INDIRECT(\"T\"&Table1[[#This Row],[Trial]]&\"Row\",0),NA())","v":{"$error":"#N/A"}}]
[null,1,"BackendTable[T1S1]","BackendTable[T1S2]","BackendTable[T1S3]","BackendTable[T1S4]","BackendTable[T1S5]",{"$f":"IFERROR(INDIRECT(\"T\"&Table1[[#This Row],[Trial]]&\"Row\",0),NA())","v":1}]
[null,2,"BackendTable[T2S1]","BackendTable[T2S2]","BackendTable[T2S3]","BackendTable[T2S4]","BackendTable[T2S5]",{"$f":"IFERROR(INDIRECT(\"T\"&Table1[[#This Row],[Trial]]&\"Row\",0),NA())","v":1}]
[null,3,"BackendTable[T3S1]","BackendTable[T3S2]","BackendTable[T3S3]","BackendTable[T3S4]","BackendTable[T3S5]",{"$f":"IFERROR(INDIRECT(\"T\"&Table1[[#This Row],[Trial]]&\"Row\",0),NA())","v":1}]
[]
[]
[]
[null,"Trial","Sensor","ColName","Indirect Time","Indirect Row","Indirect Sensor","Row","Value","Max","DashViewVal","State","State0","State1","State2","State3","Round","OldState"]
[null,0,1,{"$f":"IF(BrainStateTable[[#This Row],[Trial]]=0,\"\",\"T\"&BrainStateTable[[#This Row],[Trial]])&\"S\"&BrainStateTable[[#This Row],[Sensor]]","v":"S1"},{"$f":"\"BackendTable[T\"&BrainStateTable[[#This Row],[Trial]]&\"Time]\"","v":"BackendTable[T0Time]"},{"$f":"\"BackendTable[T\"&BrainStateTable[[#This Row],[Trial]]&\"Row]\"","v":"BackendTable[T0Row]"},{"$f":"\"BackendTable[\"&BrainStateTable[[#This Row],[ColName]]&\"]\"","v":"BackendTable[S1]"},{"$f":"_xlfn.SWITCH(BrainStateTable[[#This Row],[Trial]],0,\"Live\",1,T1Row,2,T2Row,3,T3Row)","v":"Live"},{"$f":"IFERROR(IFERROR(INDEX(BackendTable[],MATCH(BrainStateTable[[#This Row],[Row]],INDIRECT(BrainStateTable[[#This Row],[Indirect Row]],0),0),MATCH(BrainStateTable[[#This Row],[ColName]],BackendTable[#Headers],0)),_xlfn.MAXIFS(INDIRECT(BrainStateTable[[#This Row],[Indirect Sensor]],0),BackendTable[Row'#],\">\"&495)),\"\")","v":0},{"$f":"MAX(INDIRECT(BrainStateTable[[#This Row],[Indirect Sensor]],0))","v":0},{"$f":"_xlfn.SWITCH(TRUE(),AND(SelectedVisual=1,BrainStateTable[[#This Row],[Trial]]=0),BrainStateTable[[#This Row],[Value]],AND(SelectedVisual=1,BrainStateTable[[#This Row],[Trial]]>0),BrainStateTable[[#This Row],[Max]],AND(SelectedVisual=0,BrainStateTable[[#This Row],[Trial]]=0),\"\",AND(SelectedVisual=0,BrainStateTable[[#This Row],[Trial]]>0,TimeEntry=-0.001),BrainStateTable[[#This Row],[Max]],AND(SelectedVisual=0,BrainStateTable[[#This Row],[Trial]]>0,TimeEntry>-0.001),BrainStateTable[[#This Row],[Value]])","v":0},{"$f":"_xlfn.SWITCH(TRUE(),OR(BrainStateTable[[#This Row],[DashViewVal]]<BrainLow,BrainStateTable[[#This Row],[DashViewVal]]=\"\"),0,AND(BrainStateTable[[#This Row],[DashViewVal]]>=BrainLow,BrainStateTable[[#This Row],[DashViewVal]]<BrainMed),1,AND(BrainStateTable[[#This Row],[DashViewVal]]>=BrainMed,BrainStateTable[[#This Row],[DashViewVal]]<BrainHigh),2,BrainStateTable[[#This Row],[DashViewVal]]>=BrainHigh,3)","v":0},{"$f":"IF(BrainStateTable[[#This Row],[State]]=VALUE(RIGHT(M$10,1)),1,NA())","v":1},{"$f":"IF(BrainStateTable[[#This Row],[State]]=VALUE(RIGHT(N$10,1)),1,NA())","v":{"$error":"#N/A"}},{"$f":"IF(BrainStateTable[[#This Row],[State]]=VALUE(RIGHT(O$10,1)),1,NA())","v":{"$error":"#N/A"}},{"$f":"IF(BrainStateTable[[#This Row],[State]]=VALUE(RIGHT(P$10,1)),1,NA())","v":{"$error":"#N/A"}},{"$f":"ROUNDUP(BrainStateTable[[#This Row],[Value]]/15,0)","v":0},{"$f":"_xlfn.SWITCH(TRUE,BrainStateTable[[#This Row],[Round]]<1,1,BrainStateTable[[#This Row],[Round]]>4,4,BrainStateTable[[#This Row],[Round]])-1","v":0}]
[null,0,2,{"$f":"IF(BrainStateTable[[#This Row],[Trial]]=0,\"\",\"T\"&BrainStateTable[[#This Row],[Trial]])&\"S\"&BrainStateTable[[#This Row],[Sensor]]","v":"S2"},{"$f":"\"BackendTable[T\"&BrainStateTable[[#This Row],[Trial]]&\"Time]\"","v":"BackendTable[T0Time]"},{"$f":"\"BackendTable[T\"&BrainStateTable[[#This Row],[Trial]]&\"Row]\"","v":"BackendTable[T0Row]"},{"$f":"\"BackendTable[\"&BrainStateTable[[#This Row],[ColName]]&\"]\"","v":"BackendTable[S2]"},{"$f":"_xlfn.SWITCH(BrainStateTable[[#This Row],[Trial]],0,\"Live\",1,T1Row,2,T2Row,3,T3Row)","v":"Live"},{"$f":"IFERROR(IFERROR(INDEX(BackendTable[],MATCH(BrainStateTable[[#This Row],[Row]],INDIRECT(BrainStateTable[[#This Row],[Indirect Row]],0),0),MATCH(BrainStateTable[[#This Row],[ColName]],BackendTable[#Headers],0)),_xlfn.MAXIFS(INDIRECT(BrainStateTable[[#This Row],[Indirect Sensor]],0),BackendTable[Row'#],\">\"&495)),\"\")","v":0},{"$f":"MAX(INDIRECT(BrainStateTable[[#This Row],[Indirect Sensor]],0))","v":0},{"$f":"_xlfn.SWITCH(TRUE(),AND(SelectedVisual=1,BrainStateTable[[#This Row],[Trial]]=0),BrainStateTable[[#This Row],[Value]],AND(SelectedVisual=1,BrainStateTable[[#This Row],[Trial]]>0),BrainStateTable[[#This Row],[Max]],AND(SelectedVisual=0,BrainStateTable[[#This Row],[Trial]]=0),\"\",AND(SelectedVisual=0,BrainStateTable[[#This Row],[Trial]]>0,TimeEntry=-0.001),BrainStateTable[[#This Row],[Max]],AND(SelectedVisual=0,BrainStateTable[[#This Row],[Trial]]>0,TimeEntry>-0.001),BrainStateTable[[#This Row],[Value]])","v":0},{"$f":"_xlfn.SWITCH(TRUE(),OR(BrainStateTable[[#This Row],[DashViewVal]]<BrainLow,BrainStateTable[[#This Row],[DashViewVal]]=\"\"),0,AND(BrainStateTable[[#This Row],[DashViewVal]]>=BrainLow,BrainStateTable[[#This Row],[DashViewVal]]<BrainMed),1,AND(BrainStateTable[[#This Row],[DashViewVal]]>=BrainMed,BrainStateTable[[#This Row],[DashViewVal]]<BrainHigh),2,BrainStateTable[[#This Row],[DashViewVal]]>=BrainHigh,3)","v":0},{"$f":"IF(BrainStateTable[[#This Row],[State]]=VALUE(RIGHT(M$10,1)),1,NA())","v":1},{"$f":"IF(BrainStateTable[[#This Row],[State]]=VALUE(RIGHT(N$10,1)),1,NA())","v":{"$error":"#N/A"}},{"$f":"IF(BrainStateTable[[#This Row],[State]]=VALUE(RIGHT(O$10,1)),1,NA())","v":{"$error":"#N/A"}},{"$f":"IF(BrainStateTable[[#This Row],[State]]=VALUE(RIGHT(P$10,1)),1,NA())","v":{"$error":"#N/A"}},{"$f":"ROUNDUP(BrainStateTable[[#This Row],[Value]]/15,0)","v":0},{"$f":"_xlfn.SWITCH(TRUE,BrainStateTable[[#This Row],[Round]]<1,1,BrainStateTable[[#This Row],[Round]]>4,4,BrainStateTable[[#This Row],[Round]])-1","v":0}]
[null,0,3,{"$f":"IF(BrainStateTable[[#This Row],[Trial]]=0,\"\",\"T\"&BrainStateTable[[#This Row],[Trial]])&\"S\"&BrainStateTable[[#This Row],[Sensor]]","v":"S3"},{"$f":"\"BackendTable[T\"&BrainStateTable[[#This Row],[Trial]]&\"Time]\"","v":"BackendTable[T0Time]"},{"$f":"\"BackendTable[T\"&BrainStateTable[[#This Row],[Trial]]&\"Row]\"","v":"BackendTable[T0Row]"},{"$f":"\"BackendTable[\"&BrainStateTable[[#This Row],[ColName]]&\"]\"","v":"BackendTable[S3]"},{"$f":"_xlfn.SWITCH(BrainStateTable[[#This Row],[Trial]],0,\"Live\",1,T1Row,2,T2Row,3,T3Row)","v":"Live"},{"$f":"IFERROR(IFERROR(INDEX(BackendTable[],MATCH(BrainStateTable[[#This Row],[Row]],INDIRECT(BrainStateTable[[#This Row],[Indirect Row]],0),0),MATCH(BrainStateTable[[#This Row],[ColName]],BackendTable[#Headers],0)),_xlfn.MAXIFS(INDIRECT(BrainStateTable[[#This Row],[Indirect Sensor]],0),BackendTable[Row'#],\">\"&495)),\"\")","v":0},{"$f":"MAX(INDIRECT(BrainStateTable[[#This Row],[Indirect Sensor]],0))","v":0},{"$f":"_xlfn.SWITCH(TRUE(),AND(SelectedVisual=1,BrainStateTable[[#This Row],[Trial]]=0),BrainStateTable[[#This Row],[Value]],AND(SelectedVisual=1,BrainStateTable[[#This Row],[Trial]]>0),BrainStateTable[[#This Row],[Max]],AND(SelectedVisual=0,BrainStateTable[[#This Row],[Trial]]=0),\"\",AND(SelectedVisual=0,BrainStateTable[[#This Row],[Trial]]>0,TimeEntry=-0.001),BrainStateTable[[#This Row],[Max]],AND(SelectedVisual=0,BrainStateTable[[#This Row],[Trial]]>0,TimeEntry>-0.001),BrainStateTable[[#This Row],[Value]])","v":0},{"$f":"_xlfn.SWITCH(TRUE(),OR(BrainStateTable[[#This Row],[DashViewVal]]<BrainLow,BrainStateTable[[#This Row],[DashViewVal]]=\"\"),0,AND(BrainStateTable[[#This Row],[DashViewVal]]>=BrainLow,BrainStateTable[[#This Row],[DashViewVal]]<BrainMed),1,AND(BrainStateTable[[#This Row],[DashViewVal]]>=BrainMed,BrainStateTable[[#This Row],[DashViewVal]]<BrainHigh),2,BrainStateTable[[#This Row],[DashViewVal]]>=BrainHigh,3)","v":0},{"$f":"IF(BrainStateTable[[#This Row],[State]]=VALUE(RIGHT(M$10,1)),1,NA())","v":1},{"$f":"IF(BrainStateTable[[#This Row],[State]]=VALUE(RIGHT(N$10,1)),1,NA())","v":{"$error":"#N/A"}},{"$f":"IF(BrainStateTable[[#This Row],[State]]=VALUE(RIGHT(O$10,1)),1,NA())","v":{"$error":"#N/A"}},{"$f":"IF(BrainStateTable[[#This Row],[State]]=VALUE(RIGHT(P$10,1)),1,NA())","v":{"$error":"#N/A"}},{"$f":"ROUNDUP(BrainStateTable[[#This Row],[Value]]/15,0)","v":0},{"$f":"_xlfn.SWITCH(TRUE,BrainStateTable[[#This Row],[Round]]<1,1,BrainStateTable[[#This Row],[Round]]>4,4,BrainStateTable[[#This Row],[Round]])-1","v":0}]
[null,0,4,{"$f":"IF(BrainStateTable[[#This Row],[Trial]]=0,\"\",\"T\"&BrainStateTable[[#This Row],[Trial]])&\"S\"&BrainStateTable[[#This Row],[Sensor]]","v":"S4"},{"$f":"\"BackendTable[T\"&BrainStateTable[[#This Row],[Trial]]&\"Time]\"","v":"BackendTable[T0Time]"},{"$f":"\"BackendTable[T\"&BrainStateTable[[#This Row],[Trial]]&\"Row]\"","v":"BackendTable[T0Row]"},{"$f":"\"BackendTable[\"&BrainStateTable[[#This Row],[ColName]]&\"]\"","v":"BackendTable[S4]"},{"$f":"_xlfn.SWITCH(BrainStateTable[[#This Row],[Trial]],0,\"Live\",1,T1Row,2,T2Row,3,T3Row)","v":"Live"},{"$f":"IFERROR(IFERROR(INDEX(BackendTable[],MATCH(BrainStateTable[[#This Row],[Row]],INDIRECT(BrainStateTable[[#This Row],[Indirect Row]],0),0),MATCH(BrainStateTable[[#This Row],[ColName]],BackendTable[#Headers],0)),_xlfn.MAXIFS(INDIRECT(BrainStateTable[[#This Row],[Indirect Sensor]],0),BackendTable[Row'#],\">\"&495)),\"\")","v":0},{"$f":"MAX(INDIRECT(BrainStateTable[[#This Row],[Indirect Sensor]],0))","v":0},{"$f":"_xlfn.SWITCH(TRUE(),AND(SelectedVisual=1,BrainStateTable[[#This Row],[Trial]]=0),BrainStateTable[[#This Row],[Value]],AND(SelectedVisual=1,BrainStateTable[[#This Row],[Trial]]>0),BrainStateTable[[#This Row],[Max]],AND(SelectedVisual=0,BrainStateTable[[#This Row],[Trial]]=0),\"\",AND(SelectedVisual=0,BrainStateTable[[#This Row],[Trial]]>0,TimeEntry=-0.001),BrainStateTable[[#This Row],[Max]],AND(SelectedVisual=0,BrainStateTable[[#This Row],[Trial]]>0,TimeEntry>-0.001),BrainStateTable[[#This Row],[Value]])","v":0},{"$f":"_xlfn.SWITCH(TRUE(),OR(BrainStateTable[[#This Row],[DashViewVal]]<BrainLow,BrainStateTable[[#This Row],[DashViewVal]]=\"\"),0,AND(BrainStateTable[[#This Row],[DashViewVal]]>=BrainLow,BrainStateTable[[#This Row],[DashViewVal]]<BrainMed),1,AND(BrainStateTable[[#This Row],[DashViewVal]]>=BrainMed,BrainStateTable[[#This Row],[DashViewVal]]<BrainHigh),2,BrainStateTable[[#This Row],[DashViewVal]]>=BrainHigh,3)","v":0},{"$f":"IF(BrainStateTable[[#This Row],[State]]=VALUE(RIGHT(M$10,1)),1,NA())","v":1},{"$f":"IF(BrainStateTable[[#This Row],[State]]=VALUE(RIGHT(N$10,1)),1,NA())","v":{"$error":"#N/A"}},{"$f":"IF(BrainStateTable[[#This Row],[State]]=VALUE(RIGHT(O$10,1)),1,NA())","v":{"$error":"#N/A"}},{"$f":"IF(BrainStateTable[[#This Row],[State]]=VALUE(RIGHT(P$10,1)),1,NA())","v":{"$error":"#N/A"}},{"$f":"ROUNDUP(BrainStateTable[[#This Row],[Value]]/15,0)","v":0},{"$f":"_xlfn.SWITCH(TRUE,BrainStateTable[[#This Row],[Round]]<1,1,BrainStateTable[[#This Row],[Round]]>4,4,BrainStateTable[[#This Row],[Round]])-1","v":0}]
[null,0,5,{"$f":"IF(BrainStateTable[[#This Row],[Trial]]=0,\"\",\"T\"&BrainStateTable[[#This Row],[Trial]])&\"S\"&BrainStateTable[[#This Row],[Sensor]]","v":"S5"},{"$f":"\"BackendTable[T\"&BrainStateTable[[#This Row],[Trial]]&\"Time]\"","v":"BackendTable[T0Time]"},{"$f":"\"BackendTable[T\"&BrainStateTable[[#This Row],[Trial]]&\"Row]\"","v":"BackendTable[T0Row]"},{"$f":"\"BackendTable[\"&BrainStateTable[[#This Row],[ColName]]&\"]\"","v":"BackendTable[S5]"},{"$f":"_xlfn.SWITCH(BrainStateTable[[#This Row],[Trial]],0,\"Live\",1,T1Row,2,T2Row,3,T3Row)","v":"Live"},{"$f":"IFERROR(IFERROR(INDEX(BackendTable[],MATCH(BrainStateTable[[#This Row],[Row]],INDIRECT(BrainStateTable[[#This Row],[Indirect Row]],0),0),MATCH(BrainStateTable[[#This Row],[ColName]],BackendTable[#Headers],0)),_xlfn.MAXIFS(INDIRECT(BrainStateTable[[#This Row],[Indirect Sensor]],0),BackendTable[Row'#],\">\"&495)),\"\")","v":0},{"$f":"MAX(INDIRECT(BrainStateTable[[#This Row],[Indirect Sensor]],0))","v":0},{"$f":"_xlfn.SWITCH(TRUE(),AND(SelectedVisual=1,BrainStateTable[[#This Row],[Trial]]=0),BrainStateTable[[#This Row],[Value]],AND(SelectedVisual=1,BrainStateTable[[#This Row],[Trial]]>0),BrainStateTable[[#This Row],[Max]],AND(SelectedVisual=0,BrainStateTable[[#This Row],[Trial]]=0),\"\",AND(SelectedVisual=0,BrainStateTable[[#This Row],[Trial]]>0,TimeEntry=-0.001),BrainStateTable[[#This Row],[Max]],AND(SelectedVisual=0,BrainStateTable[[#This Row],[Trial]]>0,TimeEntry>-0.001),BrainStateTable[[#This Row],[Value]])","v":0},{"$f":"_xlfn.SWITCH(TRUE(),OR(BrainStateTable[[#This Row],[DashViewVal]]<BrainLow,BrainStateTable[[#This Row],[DashViewVal]]=\"\"),0,AND(BrainStateTable[[#This Row],[DashViewVal]]>=BrainLow,BrainStateTable[[#This Row],[DashViewVal]]<BrainMed),1,AND(BrainStateTable[[#This Row],[DashViewVal]]>=BrainMed,BrainStateTable[[#This Row],[DashViewVal]]<BrainHigh),2,BrainStateTable[[#This Row],[DashViewVal]]>=BrainHigh,3)","v":0},{"$f":"IF(BrainStateTable[[#This Row],[State]]=VALUE(RIGHT(M$10,1)),1,NA())","v":1},{"$f":"IF(BrainStateTable[[#This Row],[State]]=VALUE(RIGHT(N$10,1)),1,NA())","v":{"$error":"#N/A"}},{"$f":"IF(BrainStateTable[[#This Row],[State]]=VALUE(RIGHT(O$10,1)),1,NA())","v":{"$error":"#N/A"}},{"$f":"IF(BrainStateTable[[#This Row],[State]]=VALUE(RIGHT(P$10,1)),1,NA())","v":{"$error":"#N/A"}},{"$f":"ROUNDUP(BrainStateTable[[#This Row],[Value]]/15,0)","v":0},{"$f":"_xlfn.SWITCH(TRUE,BrainStateTable[[#This Row],[Round]]<1,1,BrainStateTable[[#This Row],[Round]]>4,4,BrainStateTable[[#This Row],[Round]])-1","v":0}]
[null,1,1,{"$f":"IF(BrainStateTable[[#This Row],[Trial]]=0,\"\",\"T\"&BrainStateTable[[#This Row],[Trial]])&\"S\"&BrainStateTable[[#This Row],[Sensor]]","v":"T1S1"},{"$f":"\"BackendTable[T\"&BrainStateTable[[#This Row],[Trial]]&\"Time]\"","v":"BackendTable[T1Time]"},{"$f":"\"BackendTable[T\"&BrainStateTable[[#This Row],[Trial]]&\"Row]\"","v":"BackendTable[T1Row]"},{"$f":"\"BackendTable[\"&BrainStateTable[[#This Row],[ColName]]&\"]\"","v":"BackendTable[T1S1]"},{"$f":"_xlfn.SWITCH(BrainStateTable[[#This Row],[Trial]],0,\"Live\",1,T1Row,2,T2Row,3,T3Row)","v":1},{"$f":"IFERROR(IFERROR(INDEX(BackendTable[],MATCH(BrainStateTable[[#This Row],[Row]],INDIRECT(BrainStateTable[[#This Row],[Indirect Row]],0),0),MATCH(BrainStateTable[[#This Row],[ColName]],BackendTable[#Headers],0)),_xlfn.MAXIFS(INDIRECT(BrainStateTable[[#This Row],[Indirect Sensor]],0),BackendTable[Row'#],\">\"&495)),\"\")","v":0},{"$f":"MAX(INDIRECT(BrainStateTable[[#This Row],[Indirect Sensor]],0))","v":0},{"$f":"_xlfn.SWITCH(TRUE(),AND(SelectedVisual=1,BrainStateTable[[#This Row],[Trial]]=0),BrainStateTable[[#This Row],[Value]],AND(SelectedVisual=1,BrainStateTable[[#This Row],[Trial]]>0),BrainStateTable[[#This Row],[Max]],AND(SelectedVisual=0,BrainStateTable[[#This Row],[Trial]]=0),\"\",AND(SelectedVisual=0,BrainStateTable[[#This Row],[Trial]]>0,TimeEntry=-0.001),BrainStateTable[[#This Row],[Max]],AND(SelectedVisual=0,BrainStateTable[[#This Row],[Trial]]>0,TimeEntry>-0.001),BrainStateTable[[#This Row],[Value]])","v":0},{"$f":"_xlfn.SWITCH(TRUE(),OR(BrainStateTable[[#This Row],[DashViewVal]]<BrainLow,BrainStateTable[[#This Row],[DashViewVal]]=\"\"),0,AND(BrainStateTable[[#This Row],[DashViewVal]]>=BrainLow,BrainStateTable[[#This Row],[DashViewVal]]<BrainMed),1,AND(BrainStateTable[[#This Row],[DashViewVal]]>=BrainMed,BrainStateTable[[#This Row],[DashViewVal]]<BrainHigh),2,BrainStateTable[[#This Row],[DashViewVal]]>=BrainHigh,3)","v":0},{"$f":"IF(BrainStateTable[[#This Row],[State]]=VALUE(RIGHT(M$10,1)),1,NA())","v":1},{"$f":"IF(BrainStateTable[[#This Row],[State]]=VALUE(RIGHT(N$10,1)),1,NA())","v":{"$error":"#N/A"}},{"$f":"IF(BrainStateTable[[#This Row],[State]]=VALUE(RIGHT(O$10,1)),1,NA())","v":{"$error":"#N/A"}},{"$f":"IF(BrainStateTable[[#This Row],[State]]=VALUE(RIGHT(P$10,1)),1,NA())","v":{"$error":"#N/A"}},{"$f":"ROUNDUP(BrainStateTable[[#This Row],[Value]]/15,0)","v":0},{"$f":"_xlfn.SWITCH(TRUE,BrainStateTable[[#This Row],[Round]]<1,1,BrainStateTable[[#This Row],[Round]]>4,4,BrainStateTable[[#This Row],[Round]])-1","v":0}]
[null,1,2,{"$f":"IF(BrainStateTable[[#This Row],[Trial]]=0,\"\",\"T\"&BrainStateTable[[#This Row],[Trial]])&\"S\"&BrainStateTable[[#This Row],[Sensor]]","v":"T1S2"},{"$f":"\"BackendTable[T\"&BrainStateTable[[#This Row],[Trial]]&\"Time]\"","v":"BackendTable[T1Time]"},{"$f":"\"BackendTable[T\"&BrainStateTable[[#This Row],[Trial]]&\"Row]\"","v":"BackendTable[T1Row]"},{"$f":"\"BackendTable[\"&BrainStateTable[[#This Row],[ColName]]&\"]\"","v":"BackendTable[T1S2]"},{"$f":"_xlfn.SWITCH(BrainStateTable[[#This Row],[Trial]],0,\"Live\",1,T1Row,2,T2Row,3,T3Row)","v":1},{"$f":"IFERROR(IFERROR(INDEX(BackendTable[],MATCH(BrainStateTable[[#This Row],[Row]],INDIRECT(BrainStateTable[[#This Row],[Indirect Row]],0),0),MATCH(BrainStateTable[[#This Row],[ColName]],BackendTable[#Headers],0)),_xlfn.MAXIFS(INDIRECT(BrainStateTable[[#This Row],[Indirect Sensor]],0),BackendTable[Row'#],\">\"&495)),\"\")","v":0},{"$f":"MAX(INDIRECT(BrainStateTable[[#This Row],[Indirect Sensor]],0))","v":0},{"$f":"_xlfn.SWITCH(TRUE(),AND(SelectedVisual=1,BrainStateTable[[#This Row],[Trial]]=0),BrainStateTable[[#This Row],[Value]],AND(SelectedVisual=1,BrainStateTable[[#This Row],[Trial]]>0),BrainStateTable[[#This Row],[Max]],AND(SelectedVisual=0,BrainStateTable[[#This Row],[Trial]]=0),\"\",AND(SelectedVisual=0,BrainStateTable[[#This Row],[Trial]]>0,TimeEntry=-0.001),BrainStateTable[[#This Row],[Max]],AND(SelectedVisual=0,BrainStateTable[[#This Row],[Trial]]>0,TimeEntry>-0.001),BrainStateTable[[#This Row],[Value]])","v":0},{"$f":"_xlfn.SWITCH(TRUE(),OR(BrainStateTable[[#This Row],[DashViewVal]]<BrainLow,BrainStateTable[[#This Row],[DashViewVal]]=\"\"),0,AND(BrainStateTable[[#This Row],[DashViewVal]]>=BrainLow,BrainStateTable[[#This Row],[DashViewVal]]<BrainMed),1,AND(BrainStateTable[[#This Row],[DashViewVal]]>=BrainMed,BrainStateTable[[#This Row],[DashViewVal]]<BrainHigh),2,BrainStateTable[[#This Row],[DashViewVal]]>=BrainHigh,3)","v":0},{"$f":"IF(BrainStateTable[[#This Row],[State]]=VALUE(RIGHT(M$10,1)),1,NA())","v":1},{"$f":"IF(BrainStateTable[[#This Row],[State]]=VALUE(RIGHT(N$10,1)),1,NA())","v":{"$error":"#N/A"}},{"$f":"IF(BrainStateTable[[#This Row],[State]]=VALUE(RIGHT(O$10,1)),1,NA())","v":{"$error":"#N/A"}},{"$f":"IF(BrainStateTable[[#This Row],[State]]=VALUE(RIGHT(P$10,1)),1,NA())","v":{"$error":"#N/A"}},{"$f":"ROUNDUP(BrainStateTable[[#This Row],[Value]]/15,0)","v":0},{"$f":"_xlfn.SWITCH(TRUE,BrainStateTable[[#This Row],[Round]]<1,1,BrainStateTable[[#This Row],[Round]]>4,4,BrainStateTable[[#This Row],[Round]])-1","v":0}]
[null,1,3,{"$f":"IF(BrainStateTable[[#This Row],[Trial]]=0,\"\",\"T\"&BrainStateTable[[#This Row],[Trial]])&\"S\"&BrainStateTable[[#This Row],[Sensor]]","v":"T1S3"},{"$f":"\"BackendTable[T\"&BrainStateTable[[#This Row],[Trial]]&\"Time]\"","v":"BackendTable[T1Time]"},{"$f":"\"BackendTable[T\"&BrainStateTable[[#This Row],[Trial]]&\"Row]\"","v":"BackendTable[T1Row]"},{"$f":"\"BackendTable[\"&BrainStateTable[[#This Row],[ColName]]&\"]\"","v":"BackendTable[T1S3]"},{"$f":"_xlfn.SWITCH(BrainStateTable[[#This Row],[Trial]],0,\"Live\",1,T1Row,2,T2Row,3,T3Row)","v":1},{"$f":"IFERROR(IFERROR(INDEX(BackendTable[],MATCH(BrainStateTable[[#This Row],[Row]],INDIRECT(BrainStateTable[[#This Row],[Indirect Row]],0),0),MATCH(BrainStateTable[[#This Row],[ColName]],BackendTable[#Headers],0)),_xlfn.MAXIFS(INDIRECT(BrainStateTable[[#This Row],[Indirect Sensor]],0),BackendTable[Row'#],\">\"&495)),\"\")","v":0},{"$f":"MAX(INDIRECT(BrainStateTable[[#This Row],[Indirect Sensor]],0))","v":0},{"$f":"_xlfn.SWITCH(TRUE(),AND(SelectedVisual=1,BrainStateTable[[#This Row],[Trial]]=0),BrainStateTable[[#This Row],[Value]],AND(SelectedVisual=1,BrainStateTable[[#This Row],[Trial]]>0),BrainStateTable[[#This Row],[Max]],AND(SelectedVisual=0,BrainStateTable[[#This Row],[Trial]]=0),\"\",AND(SelectedVisual=0,BrainStateTable[[#This Row],[Trial]]>0,TimeEntry=-0.001),BrainStateTable[[#This Row],[Max]],AND(SelectedVisual=0,BrainStateTable[[#This Row],[Trial]]>0,TimeEntry>-0.001),BrainStateTable[[#This Row],[Value]])","v":0},{"$f":"_xlfn.SWITCH(TRUE(),OR(BrainStateTable[[#This Row],[DashViewVal]]<BrainLow,BrainStateTable[[#This Row],[DashViewVal]]=\"\"),0,AND(BrainStateTable[[#This Row],[DashViewVal]]>=BrainLow,BrainStateTable[[#This Row],[DashViewVal]]<BrainMed),1,AND(BrainStateTable[[#This Row],[DashViewVal]]>=BrainMed,BrainStateTable[[#This Row],[DashViewVal]]<BrainHigh),2,BrainStateTable[[#This Row],[DashViewVal]]>=BrainHigh,3)","v":0},{"$f":"IF(BrainStateTable[[#This Row],[State]]=VALUE(RIGHT(M$10,1)),1,NA())","v":1},{"$f":"IF(BrainStateTable[[#This Row],[State]]=VALUE(RIGHT(N$10,1)),1,NA())","v":{"$error":"#N/A"}},{"$f":"IF(BrainStateTable[[#This Row],[State]]=VALUE(RIGHT(O$10,1)),1,NA())","v":{"$error":"#N/A"}},{"$f":"IF(BrainStateTable[[#This Row],[State]]=VALUE(RIGHT(P$10,1)),1,NA())","v":{"$error":"#N/A"}},{"$f":"ROUNDUP(BrainStateTable[[#This Row],[Value]]/15,0)","v":0},{"$f":"_xlfn.SWITCH(TRUE,BrainStateTable[[#This Row],[Round]]<1,1,BrainStateTable[[#This Row],[Round]]>4,4,BrainStateTable[[#This Row],[Round]])-1","v":0}]
[null,1,4,{"$f":"IF(BrainStateTable[[#This Row],[Trial]]=0,\"\",\"T\"&BrainStateTable[[#This Row],[Trial]])&\"S\"&BrainStateTable[[#This Row],[Sensor]]","v":"T1S4"},{"$f":"\"BackendTable[T\"&BrainStateTable[[#This Row],[Trial]]&\"Time]\"","v":"BackendTable[T1Time]"},{"$f":"\"BackendTable[T\"&BrainStateTable[[#This Row],[Trial]]&\"Row]\"","v":"BackendTable[T1Row]"},{"$f":"\"BackendTable[\"&BrainStateTable[[#This Row],[ColName]]&\"]\"","v":"BackendTable[T1S4]"},{"$f":"_xlfn.SWITCH(BrainStateTable[[#This Row],[Trial]],0,\"Live\",1,T1Row,2,T2Row,3,T3Row)","v":1},{"$f":"IFERROR(IFERROR(INDEX(BackendTable[],MATCH(BrainStateTable[[#This Row],[Row]],INDIRECT(BrainStateTable[[#This Row],[Indirect Row]],0),0),MATCH(BrainStateTable[[#This Row],[ColName]],BackendTable[#Headers],0)),_xlfn.MAXIFS(INDIRECT(BrainStateTable[[#This Row],[Indirect Sensor]],0),BackendTable[Row'#],\">\"&495)),\"\")","v":0},{"$f":"MAX(INDIRECT(BrainStateTable[[#This Row],[Indirect Sensor]],0))","v":0},{"$f":"_xlfn.SWITCH(TRUE(),AND(SelectedVisual=1,BrainStateTable[[#This Row],[Trial]]=0),BrainStateTable[[#This Row],[Value]],AND(SelectedVisual=1,BrainStateTable[[#This Row],[Trial]]>0),BrainStateTable[[#This Row],[Max]],AND(SelectedVisual=0,BrainStateTable[[#This Row],[Trial]]=0),\"\",AND(SelectedVisual=0,BrainStateTable[[#This Row],[Trial]]>0,TimeEntry=-0.001),BrainStateTable[[#This Row],[Max]],AND(SelectedVisual=0,BrainStateTable[[#This Row],[Trial]]>0,TimeEntry>-0.001),BrainStateTable[[#This Row],[Value]])","v":0},{"$f":"_xlfn.SWITCH(TRUE(),OR(BrainStateTable[[#This Row],[DashViewVal]]<BrainLow,BrainStateTable[[#This Row],[DashViewVal]]=\"\"),0,AND(BrainStateTable[[#This Row],[DashViewVal]]>=BrainLow,BrainStateTable[[#This Row],[DashViewVal]]<BrainMed),1,AND(BrainStateTable[[#This Row],[DashViewVal]]>=BrainMed,BrainStateTable[[#This Row],[DashViewVal]]<BrainHigh),2,BrainStateTable[[#This Row],[DashViewVal]]>=BrainHigh,3)","v":0},{"$f":"IF(BrainStateTable[[#This Row],[State]]=VALUE(RIGHT(M$10,1)),1,NA())","v":1},{"$f":"IF(BrainStateTable[[#This Row],[State]]=VALUE(RIGHT(N$10,1)),1,NA())","v":{"$error":"#N/A"}},{"$f":"IF(BrainStateTable[[#This Row],[State]]=VALUE(RIGHT(O$10,1)),1,NA())","v":{"$error":"#N/A"}},{"$f":"IF(BrainStateTable[[#This Row],[State]]=VALUE(RIGHT(P$10,1)),1,NA())","v":{"$error":"#N/A"}},{"$f":"ROUNDUP(BrainStateTable[[#This Row],[Value]]/15,0)","v":0},{"$f":"_xlfn.SWITCH(TRUE,BrainStateTable[[#This Row],[Round]]<1,1,BrainStateTable[[#This Row],[Round]]>4,4,BrainStateTable[[#This Row],[Round]])-1","v":0}]
[null,1,5,{"$f":"IF(BrainStateTable[[#This Row],[Trial]]=0,\"\",\"T\"&BrainStateTable[[#This Row],[Trial]])&\"S\"&BrainStateTable[[#This Row],[Sensor]]","v":"T1S5"},{"$f":"\"BackendTable[T\"&BrainStateTable[[#This Row],[Trial]]&\"Time]\"","v":"BackendTable[T1Time]"},{"$f":"\"BackendTable[T\"&BrainStateTable[[#This Row],[Trial]]&\"Row]\"","v":"BackendTable[T1Row]"},{"$f":"\"BackendTable[\"&BrainStateTable[[#This Row],[ColName]]&\"]\"","v":"BackendTable[T1S5]"},{"$f":"_xlfn.SWITCH(BrainStateTable[[#This Row],[Trial]],0,\"Live\",1,T1Row,2,T2Row,3,T3Row)","v":1},{"$f":"IFERROR(IFERROR(INDEX(BackendTable[],MATCH(BrainStateTable[[#This Row],[Row]],INDIRECT(BrainStateTable[[#This Row],[Indirect Row]],0),0),MATCH(BrainStateTable[[#This Row],[ColName]],BackendTable[#Headers],0)),_xlfn.MAXIFS(INDIRECT(BrainStateTable[[#This Row],[Indirect Sensor]],0),BackendTable[Row'#],\">\"&495)),\"\")","v":0},{"$f":"MAX(INDIRECT(BrainStateTable[[#This Row],[Indirect Sensor]],0))","v":0},{"$f":"_xlfn.SWITCH(TRUE(),AND(SelectedVisual=1,BrainStateTable[[#This Row],[Trial]]=0),BrainStateTable[[#This Row],[Value]],AND(SelectedVisual=1,BrainStateTable[[#This Row],[Trial]]>0),BrainStateTable[[#This Row],[Max]],AND(SelectedVisual=0,BrainStateTable[[#This Row],[Trial]]=0),\"\",AND(SelectedVisual=0,BrainStateTable[[#This Row],[Trial]]>0,TimeEntry=-0.001),BrainStateTable[[#This Row],[Max]],AND(SelectedVisual=0,BrainStateTable[[#This Row],[Trial]]>0,TimeEntry>-0.001),BrainStateTable[[#This Row],[Value]])","v":0},{"$f":"_xlfn.SWITCH(TRUE(),OR(BrainStateTable[[#This Row],[DashViewVal]]<BrainLow,BrainStateTable[[#This Row],[DashViewVal]]=\"\"),0,AND(BrainStateTable[[#This Row],[DashViewVal]]>=BrainLow,BrainStateTable[[#This Row],[DashViewVal]]<BrainMed),1,AND(BrainStateTable[[#This Row],[DashViewVal]]>=BrainMed,BrainStateTable[[#This Row],[DashViewVal]]<BrainHigh),2,BrainStateTable[[#This Row],[DashViewVal]]>=BrainHigh,3)","v":0},{"$f":"IF(BrainStateTable[[#This Row],[State]]=VALUE(RIGHT(M$10,1)),1,NA())","v":1},{"$f":"IF(BrainStateTable[[#This Row],[State]]=VALUE(RIGHT(N$10,1)),1,NA())","v":{"$error":"#N/A"}},{"$f":"IF(BrainStateTable[[#This Row],[State]]=VALUE(RIGHT(O$10,1)),1,NA())","v":{"$error":"#N/A"}},{"$f":"IF(BrainStateTable[[#This Row],[State]]=VALUE(RIGHT(P$10,1)),1,NA())","v":{"$error":"#N/A"}},{"$f":"ROUNDUP(BrainStateTable[[#This Row],[Value]]/15,0)","v":0},{"$f":"_xlfn.SWITCH(TRUE,BrainStateTable[[#This Row],[Round]]<1,1,BrainStateTable[[#This Row],[Round]]>4,4,BrainStateTable[[#This Row],[Round]])-1","v":0}]
[null,2,1,{"$f":"IF(BrainStateTable[[#This Row],[Trial]]=0,\"\",\"T\"&BrainStateTable[[#This Row],[Trial]])&\"S\"&BrainStateTable[[#This Row],[Sensor]]","v":"T2S1"},{"$f":"\"BackendTable[T\"&BrainStateTable[[#This Row],[Trial]]&\"Time]\"","v":"BackendTable[T2Time]"},{"$f":"\"BackendTable[T\"&BrainStateTable[[#This Row],[Trial]]&\"Row]\"","v":"BackendTable[T2Row]"},{"$f":"\"BackendTable[\"&BrainStateTable[[#This Row],[ColName]]&\"]\"","v":"BackendTable[T2S1]"},{"$f":"_xlfn.SWITCH(BrainStateTable[[#This Row],[Trial]],0,\"Live\",1,T1Row,2,T2Row,3,T3Row)","v":1},{"$f":"IFERROR(IFERROR(INDEX(BackendTable[],MATCH(BrainStateTable[[#This Row],[Row]],INDIRECT(BrainStateTable[[#This Row],[Indirect Row]],0),0),MATCH(BrainStateTable[[#This Row],[ColName]],BackendTable[#Headers],0)),_xlfn.MAXIFS(INDIRECT(BrainStateTable[[#This Row],[Indirect Sensor]],0),BackendTable[Row'#],\">\"&495)),\"\")","v":0},{"$f":"MAX(INDIRECT(BrainStateTable[[#This Row],[Indirect Sensor]],0))","v":0},{"$f":"_xlfn.SWITCH(TRUE(),AND(SelectedVisual=1,BrainStateTable[[#This Row],[Trial]]=0),BrainStateTable[[#This Row],[Value]],AND(SelectedVisual=1,BrainStateTable[[#This Row],[Trial]]>0),BrainStateTable[[#This Row],[Max]],AND(SelectedVisual=0,BrainStateTable[[#This Row],[Trial]]=0),\"\",AND(SelectedVisual=0,BrainStateTable[[#This Row],[Trial]]>0,TimeEntry=-0.001),BrainStateTable[[#This Row],[Max]],AND(SelectedVisual=0,BrainStateTable[[#This Row],[Trial]]>0,TimeEntry>-0.001),BrainStateTable[[#This Row],[Value]])","v":0},{"$f":"_xlfn.SWITCH(TRUE(),OR(BrainStateTable[[#This Row],[DashViewVal]]<BrainLow,BrainStateTable[[#This Row],[DashViewVal]]=\"\"),0,AND(BrainStateTable[[#This Row],[DashViewVal]]>=BrainLow,BrainStateTable[[#This Row],[DashViewVal]]<BrainMed),1,AND(BrainStateTable[[#This Row],[DashViewVal]]>=BrainMed,BrainStateTable[[#This Row],[DashViewVal]]<BrainHigh),2,BrainStateTable[[#This Row],[DashViewVal]]>=BrainHigh,3)","v":0},{"$f":"IF(BrainStateTable[[#This Row],[State]]=VALUE(RIGHT(M$10,1)),1,NA())","v":1},{"$f":"IF(BrainStateTable[[#This Row],[State]]=VALUE(RIGHT(N$10,1)),1,NA())","v":{"$error":"#N/A"}},{"$f":"IF(BrainStateTable[[#This Row],[State]]=VALUE(RIGHT(O$10,1)),1,NA())","v":{"$error":"#N/A"}},{"$f":"IF(BrainStateTable[[#This Row],[State]]=VALUE(RIGHT(P$10,1)),1,NA())","v":{"$error":"#N/A"}},{"$f":"ROUNDUP(BrainStateTable[[#This Row],[Value]]/15,0)","v":0},{"$f":"_xlfn.SWITCH(TRUE,BrainStateTable[[#This Row],[Round]]<1,1,BrainStateTable[[#This Row],[Round]]>4,4,BrainStateTable[[#This Row],[Round]])-1","v":0}]
[null,2,2,{"$f":"IF(BrainStateTable[[#This Row],[Trial]]=0,\"\",\"T\"&BrainStateTable[[#This Row],[Trial]])&\"S\"&BrainStateTable[[#This Row],[Sensor]]","v":"T2S2"},{"$f":"\"BackendTable[T\"&BrainStateTable[[#This Row],[Trial]]&\"Time]\"","v":"BackendTable[T2Time]"},{"$f":"\"BackendTable[T\"&BrainStateTable[[#This Row],[Trial]]&\"Row]\"","v":"BackendTable[T2Row]"},{"$f":"\"BackendTable[\"&BrainStateTable[[#This Row],[ColName]]&\"]\"","v":"BackendTable[T2S2]"},{"$f":"_xlfn.SWITCH(BrainStateTable[[#This Row],[Trial]],0,\"Live\",1,T1Row,2,T2Row,3,T3Row)","v":1},{"$f":"IFERROR(IFERROR(INDEX(BackendTable[],MATCH(BrainStateTable[[#This Row],[Row]],INDIRECT(BrainStateTable[[#This Row],[Indirect Row]],0),0),MATCH(BrainStateTable[[#This Row],[ColName]],BackendTable[#Headers],0)),_xlfn.MAXIFS(INDIRECT(BrainStateTable[[#This Row],[Indirect Sensor]],0),BackendTable[Row'#],\">\"&495)),\"\")","v":0},{"$f":"MAX(INDIRECT(BrainStateTable[[#This Row],[Indirect Sensor]],0))","v":0},{"$f":"_xlfn.SWITCH(TRUE(),AND(SelectedVisual=1,BrainStateTable[[#This Row],[Trial]]=0),BrainStateTable[[#This Row],[Value]],AND(SelectedVisual=1,BrainStateTable[[#This Row],[Trial]]>0),BrainStateTable[[#This Row],[Max]],AND(SelectedVisual=0,BrainStateTable[[#This Row],[Trial]]=0),\"\",AND(SelectedVisual=0,BrainStateTable[[#This Row],[Trial]]>0,TimeEntry=-0.001),BrainStateTable[[#This Row],[Max]],AND(SelectedVisual=0,BrainStateTable[[#This Row],[Trial]]>0,TimeEntry>-0.001),BrainStateTable[[#This Row],[Value]])","v":0},{"$f":"_xlfn.SWITCH(TRUE(),OR(BrainStateTable[[#This Row],[DashViewVal]]<BrainLow,BrainStateTable[[#This Row],[DashViewVal]]=\"\"),0,AND(BrainStateTable[[#This Row],[DashViewVal]]>=BrainLow,BrainStateTable[[#This Row],[DashViewVal]]<BrainMed),1,AND(BrainStateTable[[#This Row],[DashViewVal]]>=BrainMed,BrainStateTable[[#This Row],[DashViewVal]]<BrainHigh),2,BrainStateTable[[#This Row],[DashViewVal]]>=BrainHigh,3)","v":0},{"$f":"IF(BrainStateTable[[#This Row],[State]]=VALUE(RIGHT(M$10,1)),1,NA())","v":1},{"$f":"IF(BrainStateTable[[#This Row],[State]]=VALUE(RIGHT(N$10,1)),1,NA())","v":{"$error":"#N/A"}},{"$f":"IF(BrainStateTable[[#This Row],[State]]=VALUE(RIGHT(O$10,1)),1,NA())","v":{"$error":"#N/A"}},{"$f":"IF(BrainStateTable[[#This Row],[State]]=VALUE(RIGHT(P$10,1)),1,NA())","v":{"$error":"#N/A"}},{"$f":"ROUNDUP(BrainStateTable[[#This Row],[Value]]/15,0)","v":0},{"$f":"_xlfn.SWITCH(TRUE,BrainStateTable[[#This Row],[Round]]<1,1,BrainStateTable[[#This Row],[Round]]>4,4,BrainStateTable[[#This Row],[Round]])-1","v":0}]
[null,2,3,{"$f":"IF(BrainStateTable[[#This Row],[Trial]]=0,\"\",\"T\"&BrainStateTable[[#This Row],[Trial]])&\"S\"&BrainStateTable[[#This Row],[Sensor]]","v":"T2S3"},{"$f":"\"BackendTable[T\"&BrainStateTable[[#This Row],[Trial]]&\"Time]\"","v":"BackendTable[T2Time]"},{"$f":"\"BackendTable[T\"&BrainStateTable[[#This Row],[Trial]]&\"Row]\"","v":"BackendTable[T2Row]"},{"$f":"\"BackendTable[\"&BrainStateTable[[#This Row],[ColName]]&\"]\"","v":"BackendTable[T2S3]"},{"$f":"_xlfn.SWITCH(BrainStateTable[[#This Row],[Trial]],0,\"Live\",1,T1Row,2,T2Row,3,T3Row)","v":1},{"$f":"IFERROR(IFERROR(INDEX(BackendTable[],MATCH(BrainStateTable[[#This Row],[Row]],INDIRECT(BrainStateTable[[#This Row],[Indirect Row]],0),0),MATCH(BrainStateTable[[#This Row],[ColName]],BackendTable[#Headers],0)),_xlfn.MAXIFS(INDIRECT(BrainStateTable[[#This Row],[Indirect Sensor]],0),BackendTable[Row'#],\">\"&495)),\"\")","v":0},{"$f":"MAX(INDIRECT(BrainStateTable[[#This Row],[Indirect Sensor]],0))","v":0},{"$f":"_xlfn.SWITCH(TRUE(),AND(SelectedVisual=1,BrainStateTable[[#This Row],[Trial]]=0),BrainStateTable[[#This Row],[Value]],AND(SelectedVisual=1,BrainStateTable[[#This Row],[Trial]]>0),BrainStateTable[[#This Row],[Max]],AND(SelectedVisual=0,BrainStateTable[[#This Row],[Trial]]=0),\"\",AND(SelectedVisual=0,BrainStateTable[[#This Row],[Trial]]>0,TimeEntry=-0.001),BrainStateTable[[#This Row],[Max]],AND(SelectedVisual=0,BrainStateTable[[#This Row],[Trial]]>0,TimeEntry>-0.001),BrainStateTable[[#This Row],[Value]])","v":0},{"$f":"_xlfn.SWITCH(TRUE(),OR(BrainStateTable[[#This Row],[DashViewVal]]<BrainLow,BrainStateTable[[#This Row],[DashViewVal]]=\"\"),0,AND(BrainStateTable[[#This Row],[DashViewVal]]>=BrainLow,BrainStateTable[[#This Row],[DashViewVal]]<BrainMed),1,AND(BrainStateTable[[#This Row],[DashViewVal]]>=BrainMed,BrainStateTable[[#This Row],[DashViewVal]]<BrainHigh),2,BrainStateTable[[#This Row],[DashViewVal]]>=BrainHigh,3)","v":0},{"$f":"IF(BrainStateTable[[#This Row],[State]]=VALUE(RIGHT(M$10,1)),1,NA())","v":1},{"$f":"IF(BrainStateTable[[#This Row],[State]]=VALUE(RIGHT(N$10,1)),1,NA())","v":{"$error":"#N/A"}},{"$f":"IF(BrainStateTable[[#This Row],[State]]=VALUE(RIGHT(O$10,1)),1,NA())","v":{"$error":"#N/A"}},{"$f":"IF(BrainStateTable[[#This Row],[State]]=VALUE(RIGHT(P$10,1)),1,NA())","v":{"$error":"#N/A"}},{"$f":"ROUNDUP(BrainStateTable[[#This Row],[Value]]/15,0)","v":0},{"$f":"_xlfn.SWITCH(TRUE,BrainStateTable[[#This Row],[Round]]<1,1,BrainStateTable[[#This Row],[Round]]>4,4,BrainStateTable[[#This Row],[Round]])-1","v":0}]
[null,2,4,{"$f":"IF(BrainStateTable[[#This Row],[Trial]]=0,\"\",\"T\"&BrainStateTable[[#This Row],[Trial]])&\"S\"&BrainStateTable[[#This Row],[Sensor]]","v":"T2S4"},{"$f":"\"BackendTable[T\"&BrainStateTable[[#This Row],[Trial]]&\"Time]\"","v":"BackendTable[T2Time]"},{"$f":"\"BackendTable[T\"&BrainStateTable[[#This Row],[Trial]]&\"Row]\"","v":"BackendTable[T2Row]"},{"$f":"\"BackendTable[\"&BrainStateTable[[#This Row],[ColName]]&\"]\"","v":"BackendTable[T2S4]"},{"$f":"_xlfn.SWITCH(BrainStateTable[[#This Row],[Trial]],0,\"Live\",1,T1Row,2,T2Row,3,T3Row)","v":1},{"$f":"IFERROR(IFERROR(INDEX(BackendTable[],MATCH(BrainStateTable[[#This Row],[Row]],INDIRECT(BrainStateTable[[#This Row],[Indirect Row]],0),0),MATCH(BrainStateTable[[#This Row],[ColName]],BackendTable[#Headers],0)),_xlfn.MAXIFS(INDIRECT(BrainStateTable[[#This Row],[Indirect Sensor]],0),BackendTable[Row'#],\">\"&495)),\"\")","v":0},{"$f":"MAX(INDIRECT(BrainStateTable[[#This Row],[Indirect Sensor]],0))","v":0},{"$f":"_xlfn.SWITCH(TRUE(),AND(SelectedVisual=1,BrainStateTable[[#This Row],[Trial]]=0),BrainStateTable[[#This Row],[Value]],AND(SelectedVisual=1,BrainStateTable[[#This Row],[Trial]]>0),BrainStateTable[[#This Row],[Max]],AND(SelectedVisual=0,BrainStateTable[[#This Row],[Trial]]=0),\"\",AND(SelectedVisual=0,BrainStateTable[[#This Row],[Trial]]>0,TimeEntry=-0.001),BrainStateTable[[#This Row],[Max]],AND(SelectedVisual=0,BrainStateTable[[#This Row],[Trial]]>0,TimeEntry>-0.001),BrainStateTable[[#This Row],[Value]])","v":0},{"$f":"_xlfn.SWITCH(TRUE(),OR(BrainStateTable[[#This Row],[DashViewVal]]<BrainLow,BrainStateTable[[#This Row],[DashViewVal]]=\"\"),0,AND(BrainStateTable[[#This Row],[DashViewVal]]>=BrainLow,BrainStateTable[[#This Row],[DashViewVal]]<BrainMed),1,AND(BrainStateTable[[#This Row],[DashViewVal]]>=BrainMed,BrainStateTable[[#This Row],[DashViewVal]]<BrainHigh),2,BrainStateTable[[#This Row],[DashViewVal]]>=BrainHigh,3)","v":0},{"$f":"IF(BrainStateTable[[#This Row],[State]]=VALUE(RIGHT(M$10,1)),1,NA())","v":1},{"$f":"IF(BrainStateTable[[#This Row],[State]]=VALUE(RIGHT(N$10,1)),1,NA())","v":{"$error":"#N/A"}},{"$f":"IF(BrainStateTable[[#This Row],[State]]=VALUE(RIGHT(O$10,1)),1,NA())","v":{"$error":"#N/A"}},{"$f":"IF(BrainStateTable[[#This Row],[State]]=VALUE(RIGHT(P$10,1)),1,NA())","v":{"$error":"#N/A"}},{"$f":"ROUNDUP(BrainStateTable[[#This Row],[Value]]/15,0)","v":0},{"$f":"_xlfn.SWITCH(TRUE,BrainStateTable[[#This Row],[Round]]<1,1,BrainStateTable[[#This Row],[Round]]>4,4,BrainStateTable[[#This Row],[Round]])-1","v":0}]
[null,2,5,{"$f":"IF(BrainStateTable[[#This Row],[Trial]]=0,\"\",\"T\"&BrainStateTable[[#This Row],[Trial]])&\"S\"&BrainStateTable[[#This Row],[Sensor]]","v":"T2S5"},{"$f":"\"BackendTable[T\"&BrainStateTable[[#This Row],[Trial]]&\"Time]\"","v":"BackendTable[T2Time]"},{"$f":"\"BackendTable[T\"&BrainStateTable[[#This Row],[Trial]]&\"Row]\"","v":"BackendTable[T2Row]"},{"$f":"\"BackendTable[\"&BrainStateTable[[#This Row],[ColName]]&\"]\"","v":"BackendTable[T2S5]"},{"$f":"_xlfn.SWITCH(BrainStateTable[[#This Row],[Trial]],0,\"Live\",1,T1Row,2,T2Row,3,T3Row)","v":1},{"$f":"IFERROR(IFERROR(INDEX(BackendTable[],MATCH(BrainStateTable[[#This Row],[Row]],INDIRECT(BrainStateTable[[#This Row],[Indirect Row]],0),0),MATCH(BrainStateTable[[#This Row],[ColName]],BackendTable[#Headers],0)),_xlfn.MAXIFS(INDIRECT(BrainStateTable[[#This Row],[Indirect Sensor]],0),BackendTable[Row'#],\">\"&495)),\"\")","v":0},{"$f":"MAX(INDIRECT(BrainStateTable[[#This Row],[Indirect Sensor]],0))","v":0},{"$f":"_xlfn.SWITCH(TRUE(),AND(SelectedVisual=1,BrainStateTable[[#This Row],[Trial]]=0),BrainStateTable[[#This Row],[Value]],AND(SelectedVisual=1,BrainStateTable[[#This Row],[Trial]]>0),BrainStateTable[[#This Row],[Max]],AND(SelectedVisual=0,BrainStateTable[[#This Row],[Trial]]=0),\"\",AND(SelectedVisual=0,BrainStateTable[[#This Row],[Trial]]>0,TimeEntry=-0.001),BrainStateTable[[#This Row],[Max]],AND(SelectedVisual=0,BrainStateTable[[#This Row],[Trial]]>0,TimeEntry>-0.001),BrainStateTable[[#This Row],[Value]])","v":0},{"$f":"_xlfn.SWITCH(TRUE(),OR(BrainStateTable[[#This Row],[DashViewVal]]<BrainLow,BrainStateTable[[#This Row],[DashViewVal]]=\"\"),0,AND(BrainStateTable[[#This Row],[DashViewVal]]>=BrainLow,BrainStateTable[[#This Row],[DashViewVal]]<BrainMed),1,AND(BrainStateTable[[#This Row],[DashViewVal]]>=BrainMed,BrainStateTable[[#This Row],[DashViewVal]]<BrainHigh),2,BrainStateTable[[#This Row],[DashViewVal]]>=BrainHigh,3)","v":0},{"$f":"IF(BrainStateTable[[#This Row],[State]]=VALUE(RIGHT(M$10,1)),1,NA())","v":1},{"$f":"IF(BrainStateTable[[#This Row],[State]]=VALUE(RIGHT(N$10,1)),1,NA())","v":{"$error":"#N/A"}},{"$f":"IF(BrainStateTable[[#This Row],[State]]=VALUE(RIGHT(O$10,1)),1,NA())","v":{"$error":"#N/A"}},{"$f":"IF(BrainStateTable[[#This Row],[State]]=VALUE(RIGHT(P$10,1)),1,NA())","v":{"$error":"#N/A"}},{"$f":"ROUNDUP(BrainStateTable[[#This Row],[Value]]/15,0)","v":0},{"$f":"_xlfn.SWITCH(TRUE,BrainStateTable[[#This Row],[Round]]<1,1,BrainStateTable[[#This Row],[Round]]>4,4,BrainStateTable[[#This Row],[Round]])-1","v":0}]
[null,3,1,{"$f":"IF(BrainStateTable[[#This Row],[Trial]]=0,\"\",\"T\"&BrainStateTable[[#This Row],[Trial]])&\"S\"&BrainStateTable[[#This Row],[Sensor]]","v":"T3S1"},{"$f":"\"BackendTable[T\"&BrainStateTable[[#This Row],[Trial]]&\"Time]\"","v":"BackendTable[T3Time]"},{"$f":"\"BackendTable[T\"&BrainStateTable[[#This Row],[Trial]]&\"Row]\"","v":"BackendTable[T3Row]"},{"$f":"\"BackendTable[\"&BrainStateTable[[#This Row],[ColName]]&\"]\"","v":"BackendTable[T3S1]"},{"$f":"_xlfn.SWITCH(BrainStateTable[[#This Row],[Trial]],0,\"Live\",1,T1Row,2,T2Row,3,T3Row)","v":1},{"$f":"IFERROR(IFERROR(INDEX(BackendTable[],MATCH(BrainStateTable[[#This Row],[Row]],INDIRECT(BrainStateTable[[#This Row],[Indirect Row]],0),0),MATCH(BrainStateTable[[#This Row],[ColName]],BackendTable[#Headers],0)),_xlfn.MAXIFS(INDIRECT(BrainStateTable[[#This Row],[Indirect Sensor]],0),BackendTable[Row'#],\">\"&495)),\"\")","v":0},{"$f":"MAX(INDIRECT(BrainStateTable[[#This Row],[Indirect Sensor]],0))","v":0},{"$f":"_xlfn.SWITCH(TRUE(),AND(SelectedVisual=1,BrainStateTable[[#This Row],[Trial]]=0),BrainStateTable[[#This Row],[Value]],AND(SelectedVisual=1,BrainStateTable[[#This Row],[Trial]]>0),BrainStateTable[[#This Row],[Max]],AND(SelectedVisual=0,BrainStateTable[[#This Row],[Trial]]=0),\"\",AND(SelectedVisual=0,BrainStateTable[[#This Row],[Trial]]>0,TimeEntry=-0.001),BrainStateTable[[#This Row],[Max]],AND(SelectedVisual=0,BrainStateTable[[#This Row],[Trial]]>0,TimeEntry>-0.001),BrainStateTable[[#This Row],[Value]])","v":0},{"$f":"_xlfn.SWITCH(TRUE(),OR(BrainStateTable[[#This Row],[DashViewVal]]<BrainLow,BrainStateTable[[#This Row],[DashViewVal]]=\"\"),0,AND(BrainStateTable[[#This Row],[DashViewVal]]>=BrainLow,BrainStateTable[[#This Row],[DashViewVal]]<BrainMed),1,AND(BrainStateTable[[#This Row],[DashViewVal]]>=BrainMed,BrainStateTable[[#This Row],[DashViewVal]]<BrainHigh),2,BrainStateTable[[#This Row],[DashViewVal]]>=BrainHigh,3)","v":0},{"$f":"IF(BrainStateTable[[#This Row],[State]]=VALUE(RIGHT(M$10,1)),1,NA())","v":1},{"$f":"IF(BrainStateTable[[#This Row],[State]]=VALUE(RIGHT(N$10,1)),1,NA())","v":{"$error":"#N/A"}},{"$f":"IF(BrainStateTable[[#This Row],[State]]=VALUE(RIGHT(O$10,1)),1,NA())","v":{"$error":"#N/A"}},{"$f":"IF(BrainStateTable[[#This Row],[State]]=VALUE(RIGHT(P$10,1)),1,NA())","v":{"$error":"#N/A"}},{"$f":"ROUNDUP(BrainStateTable[[#This Row],[Value]]/15,0)","v":0},{"$f":"_xlfn.SWITCH(TRUE,BrainStateTable[[#This Row],[Round]]<1,1,BrainStateTable[[#This Row],[Round]]>4,4,BrainStateTable[[#This Row],[Round]])-1","v":0}]
[null,3,2,{"$f":"IF(BrainStateTable[[#This Row],[Trial]]=0,\"\",\"T\"&BrainStateTable[[#This Row],[Trial]])&\"S\"&BrainStateTable[[#This Row],[Sensor]]","v":"T3S2"},{"$f":"\"BackendTable[T\"&BrainStateTable[[#This Row],[Trial]]&\"Time]\"","v":"BackendTable[T3Time]"},{"$f":"\"BackendTable[T\"&BrainStateTable[[#This Row],[Trial]]&\"Row]\"","v":"BackendTable[T3Row]"},{"$f":"\"BackendTable[\"&BrainStateTable[[#This Row],[ColName]]&\"]\"","v":"BackendTable[T3S2]"},{"$f":"_xlfn.SWITCH(BrainStateTable[[#This Row],[Trial]],0,\"Live\",1,T1Row,2,T2Row,3,T3Row)","v":1},{"$f":"IFERROR(IFERROR(INDEX(BackendTable[],MATCH(BrainStateTable[[#This Row],[Row]],INDIRECT(BrainStateTable[[#This Row],[Indirect Row]],0),0),MATCH(BrainStateTable[[#This Row],[ColName]],BackendTable[#Headers],0)),_xlfn.MAXIFS(INDIRECT(BrainStateTable[[#This Row],[Indirect Sensor]],0),BackendTable[Row'#],\">\"&495)),\"\")","v":0},{"$f":"MAX(INDIRECT(BrainStateTable[[#This Row],[Indirect Sensor]],0))","v":0},{"$f":"_xlfn.SWITCH(TRUE(),AND(SelectedVisual=1,BrainStateTable[[#This Row],[Trial]]=0),BrainStateTable[[#This Row],[Value]],AND(SelectedVisual=1,BrainStateTable[[#This Row],[Trial]]>0),BrainStateTable[[#This Row],[Max]],AND(SelectedVisual=0,BrainStateTable[[#This Row],[Trial]]=0),\"\",AND(SelectedVisual=0,BrainStateTable[[#This Row],[Trial]]>0,TimeEntry=-0.001),BrainStateTable[[#This Row],[Max]],AND(SelectedVisual=0,BrainStateTable[[#This Row],[Trial]]>0,TimeEntry>-0.001),BrainStateTable[[#This Row],[Value]])","v":0},{"$f":"_xlfn.SWITCH(TRUE(),OR(BrainStateTable[[#This Row],[DashViewVal]]<BrainLow,BrainStateTable[[#This Row],[DashViewVal]]=\"\"),0,AND(BrainStateTable[[#This Row],[DashViewVal]]>=BrainLow,BrainStateTable[[#This Row],[DashViewVal]]<BrainMed),1,AND(BrainStateTable[[#This Row],[DashViewVal]]>=BrainMed,BrainStateTable[[#This Row],[DashViewVal]]<BrainHigh),2,BrainStateTable[[#This Row],[DashViewVal]]>=BrainHigh,3)","v":0},{"$f":"IF(BrainStateTable[[#This Row],[State]]=VALUE(RIGHT(M$10,1)),1,NA())","v":1},{"$f":"IF(BrainStateTable[[#This Row],[State]]=VALUE(RIGHT(N$10,1)),1,NA())","v":{"$error":"#N/A"}},{"$f":"IF(BrainStateTable[[#This Row],[State]]=VALUE(RIGHT(O$10,1)),1,NA())","v":{"$error":"#N/A"}},{"$f":"IF(BrainStateTable[[#This Row],[State]]=VALUE(RIGHT(P$10,1)),1,NA())","v":{"$error":"#N/A"}},{"$f":"ROUNDUP(BrainStateTable[[#This Row],[Value]]/15,0)","v":0},{"$f":"_xlfn.SWITCH(TRUE,BrainStateTable[[#This Row],[Round]]<1,1,BrainStateTable[[#This Row],[Round]]>4,4,BrainStateTable[[#This Row],[Round]])-1","v":0}]
[null,3,3,{"$f":"IF(BrainStateTable[[#This Row],[Trial]]=0,\"\",\"T\"&BrainStateTable[[#This Row],[Trial]])&\"S\"&BrainStateTable[[#This Row],[Sensor]]","v":"T3S3"},{"$f":"\"BackendTable[T\"&BrainStateTable[[#This Row],[Trial]]&\"Time]\"","v":"BackendTable[T3Time]"},{"$f":"\"BackendTable[T\"&BrainStateTable[[#This Row],[Trial]]&\"Row]\"","v":"BackendTable[T3Row]"},{"$f":"\"BackendTable[\"&BrainStateTable[[#This Row],[ColName]]&\"]\"","v":"BackendTable[T3S3]"},{"$f":"_xlfn.SWITCH(BrainStateTable[[#This Row],[Trial]],0,\"Live\",1,T1Row,2,T2Row,3,T3Row)","v":1},{"$f":"IFERROR(IFERROR(INDEX(BackendTable[],MATCH(BrainStateTable[[#This Row],[Row]],INDIRECT(BrainStateTable[[#This Row],[Indirect Row]],0),0),MATCH(BrainStateTable[[#This Row],[ColName]],BackendTable[#Headers],0)),_xlfn.MAXIFS(INDIRECT(BrainStateTable[[#This Row],[Indirect Sensor]],0),BackendTable[Row'#],\">\"&495)),\"\")","v":0},{"$f":"MAX(INDIRECT(BrainStateTable[[#This Row],[Indirect Sensor]],0))","v":0},{"$f":"_xlfn.SWITCH(TRUE(),AND(SelectedVisual=1,BrainStateTable[[#This Row],[Trial]]=0),BrainStateTable[[#This Row],[Value]],AND(SelectedVisual=1,BrainStateTable[[#This Row],[Trial]]>0),BrainStateTable[[#This Row],[Max]],AND(SelectedVisual=0,BrainStateTable[[#This Row],[Trial]]=0),\"\",AND(SelectedVisual=0,BrainStateTable[[#This Row],[Trial]]>0,TimeEntry=-0.001),BrainStateTable[[#This Row],[Max]],AND(SelectedVisual=0,BrainStateTable[[#This Row],[Trial]]>0,TimeEntry>-0.001),BrainStateTable[[#This Row],[Value]])","v":0},{"$f":"_xlfn.SWITCH(TRUE(),OR(BrainStateTable[[#This Row],[DashViewVal]]<BrainLow,BrainStateTable[[#This Row],[DashViewVal]]=\"\"),0,AND(BrainStateTable[[#This Row],[DashViewVal]]>=BrainLow,BrainStateTable[[#This Row],[DashViewVal]]<BrainMed),1,AND(BrainStateTable[[#This Row],[DashViewVal]]>=BrainMed,BrainStateTable[[#This Row],[DashViewVal]]<BrainHigh),2,BrainStateTable[[#This Row],[DashViewVal]]>=BrainHigh,3)","v":0},{"$f":"IF(BrainStateTable[[#This Row],[State]]=VALUE(RIGHT(M$10,1)),1,NA())","v":1},{"$f":"IF(BrainStateTable[[#This Row],[State]]=VALUE(RIGHT(N$10,1)),1,NA())","v":{"$error":"#N/A"}},{"$f":"IF(BrainStateTable[[#This Row],[State]]=VALUE(RIGHT(O$10,1)),1,NA())","v":{"$error":"#N/A"}},{"$f":"IF(BrainStateTable[[#This Row],[State]]=VALUE(RIGHT(P$10,1)),1,NA())","v":{"$error":"#N/A"}},{"$f":"ROUNDUP(BrainStateTable[[#This Row],[Value]]/15,0)","v":0},{"$f":"_xlfn.SWITCH(TRUE,BrainStateTable[[#This Row],[Round]]<1,1,BrainStateTable[[#This Row],[Round]]>4,4,BrainStateTable[[#This Row],[Round]])-1","v":0}]
[null,3,4,{"$f":"IF(BrainStateTable[[#This Row],[Trial]]=0,\"\",\"T\"&BrainStateTable[[#This Row],[Trial]])&\"S\"&BrainStateTable[[#This Row],[Sensor]]","v":"T3S4"},{"$f":"\"BackendTable[T\"&BrainStateTable[[#This Row],[Trial]]&\"Time]\"","v":"BackendTable[T3Time]"},{"$f":"\"BackendTable[T\"&BrainStateTable[[#This Row],[Trial]]&\"Row]\"","v":"BackendTable[T3Row]"},{"$f":"\"BackendTable[\"&BrainStateTable[[#This Row],[ColName]]&\"]\"","v":"BackendTable[T3S4]"},{"$f":"_xlfn.SWITCH(BrainStateTable[[#This Row],[Trial]],0,\"Live\",1,T1Row,2,T2Row,3,T3Row)","v":1},{"$f":"IFERROR(IFERROR(INDEX(BackendTable[],MATCH(BrainStateTable[[#This Row],[Row]],INDIRECT(BrainStateTable[[#This Row],[Indirect Row]],0),0),MATCH(BrainStateTable[[#This Row],[ColName]],BackendTable[#Headers],0)),_xlfn.MAXIFS(INDIRECT(BrainStateTable[[#This Row],[Indirect Sensor]],0),BackendTable[Row'#],\">\"&495)),\"\")","v":0},{"$f":"MAX(INDIRECT(BrainStateTable[[#This Row],[Indirect Sensor]],0))","v":0},{"$f":"_xlfn.SWITCH(TRUE(),AND(SelectedVisual=1,BrainStateTable[[#This Row],[Trial]]=0),BrainStateTable[[#This Row],[Value]],AND(SelectedVisual=1,BrainStateTable[[#This Row],[Trial]]>0),BrainStateTable[[#This Row],[Max]],AND(SelectedVisual=0,BrainStateTable[[#This Row],[Trial]]=0),\"\",AND(SelectedVisual=0,BrainStateTable[[#This Row],[Trial]]>0,TimeEntry=-0.001),BrainStateTable[[#This Row],[Max]],AND(SelectedVisual=0,BrainStateTable[[#This Row],[Trial]]>0,TimeEntry>-0.001),BrainStateTable[[#This Row],[Value]])","v":0},{"$f":"_xlfn.SWITCH(TRUE(),OR(BrainStateTable[[#This Row],[DashViewVal]]<BrainLow,BrainStateTable[[#This Row],[DashViewVal]]=\"\"),0,AND(BrainStateTable[[#This Row],[DashViewVal]]>=BrainLow,BrainStateTable[[#This Row],[DashViewVal]]<BrainMed),1,AND(BrainStateTable[[#This Row],[DashViewVal]]>=BrainMed,BrainStateTable[[#This Row],[DashViewVal]]<BrainHigh),2,BrainStateTable[[#This Row],[DashViewVal]]>=BrainHigh,3)","v":0},{"$f":"IF(BrainStateTable[[#This Row],[State]]=VALUE(RIGHT(M$10,1)),1,NA())","v":1},{"$f":"IF(BrainStateTable[[#This Row],[State]]=VALUE(RIGHT(N$10,1)),1,NA())","v":{"$error":"#N/A"}},{"$f":"IF(BrainStateTable[[#This Row],[State]]=VALUE(RIGHT(O$10,1)),1,NA())","v":{"$error":"#N/A"}},{"$f":"IF(BrainStateTable[[#This Row],[State]]=VALUE(RIGHT(P$10,1)),1,NA())","v":{"$error":"#N/A"}},{"$f":"ROUNDUP(BrainStateTable[[#This Row],[Value]]/15,0)","v":0},{"$f":"_xlfn.SWITCH(TRUE,BrainStateTable[[#This Row],[Round]]<1,1,BrainStateTable[[#This Row],[Round]]>4,4,BrainStateTable[[#This Row],[Round]])-1","v":0}]
[null,3,5,{"$f":"IF(BrainStateTable[[#This Row],[Trial]]=0,\"\",\"T\"&BrainStateTable[[#This Row],[Trial]])&\"S\"&BrainStateTable[[#This Row],[Sensor]]","v":"T3S5"},{"$f":"\"BackendTable[T\"&BrainStateTable[[#This Row],[Trial]]&\"Time]\"","v":"BackendTable[T3Time]"},{"$f":"\"BackendTable[T\"&BrainStateTable[[#This Row],[Trial]]&\"Row]\"","v":"BackendTable[T3Row]"},{"$f":"\"BackendTable[\"&BrainStateTable[[#This Row],[ColName]]&\"]\"","v":"BackendTable[T3S5]"},{"$f":"_xlfn.SWITCH(BrainStateTable[[#This Row],[Trial]],0,\"Live\",1,T1Row,2,T2Row,3,T3Row)","v":1},{"$f":"IFERROR(IFERROR(INDEX(BackendTable[],MATCH(BrainStateTable[[#This Row],[Row]],INDIRECT(BrainStateTable[[#This Row],[Indirect Row]],0),0),MATCH(BrainStateTable[[#This Row],[ColName]],BackendTable[#Headers],0)),_xlfn.MAXIFS(INDIRECT(BrainStateTable[[#This Row],[Indirect Sensor]],0),BackendTable[Row'#],\">\"&495)),\"\")","v":0},{"$f":"MAX(INDIRECT(BrainStateTable[[#This Row],[Indirect Sensor]],0))","v":0},{"$f":"_xlfn.SWITCH(TRUE(),AND(SelectedVisual=1,BrainStateTable[[#This Row],[Trial]]=0),BrainStateTable[[#This Row],[Value]],AND(SelectedVisual=1,BrainStateTable[[#This Row],[Trial]]>0),BrainStateTable[[#This Row],[Max]],AND(SelectedVisual=0,BrainStateTable[[#This Row],[Trial]]=0),\"\",AND(SelectedVisual=0,BrainStateTable[[#This Row],[Trial]]>0,TimeEntry=-0.001),BrainStateTable[[#This Row],[Max]],AND(SelectedVisual=0,BrainStateTable[[#This Row],[Trial]]>0,TimeEntry>-0.001),BrainStateTable[[#This Row],[Value]])","v":0},{"$f":"_xlfn.SWITCH(TRUE(),OR(BrainStateTable[[#This Row],[DashViewVal]]<BrainLow,BrainStateTable[[#This Row],[DashViewVal]]=\"\"),0,AND(BrainStateTable[[#This Row],[DashViewVal]]>=BrainLow,BrainStateTable[[#This Row],[DashViewVal]]<BrainMed),1,AND(BrainStateTable[[#This Row],[DashViewVal]]>=BrainMed,BrainStateTable[[#This Row],[DashViewVal]]<BrainHigh),2,BrainStateTable[[#This Row],[DashViewVal]]>=BrainHigh,3)","v":0},{"$f":"IF(BrainStateTable[[#This Row],[State]]=VALUE(RIGHT(M$10,1)),1,NA())","v":1},{"$f":"IF(BrainStateTable[[#This Row],[State]]=VALUE(RIGHT(N$10,1)),1,NA())","v":{"$error":"#N/A"}},{"$f":"IF(BrainStateTable[[#This Row],[State]]=VALUE(RIGHT(O$10,1)),1,NA())","v":{"$error":"#N/A"}},{"$f":"IF(BrainStateTable[[#This Row],[State]]=VALUE(RIGHT(P$10,1)),1,NA())","v":{"$error":"#N/A"}},{"$f":"ROUNDUP(BrainStateTable[[#This Row],[Value]]/15,0)","v":0},{"$f":"_xlfn.SWITCH(TRUE,BrainStateTable[[#This Row],[Round]]<1,1,BrainStateTable[[#This Row],[Round]]>4,4,BrainStateTable[[#This Row],[Round]])-1","v":0}]
[]
[null,"Trial","Sensor","Reading"]
[null,"Avg",1,{"$f":"_xlfn.SWITCH(TRUE(),Table4[[#This Row],[Trial]]=\"Avg\",AVERAGEIFS(BrainStateTable[Max],BrainStateTable[Sensor],Table4[[#This Row],[Sensor]],BrainStateTable[Trial],\">\"&0),INDEX(BrainStateTable[Max],MATCH(\"T\"&Table4[[#This Row],[Trial]]&\"S\"&Table4[[#This Row],[Sensor]],BrainStateTable[ColName],0),1))","v":0}]
[null,"Avg",2,{"$f":"_xlfn.SWITCH(TRUE(),Table4[[#This Row],[Trial]]=\"Avg\",AVERAGEIFS(BrainStateTable[Max],BrainStateTable[Sensor],Table4[[#This Row],[Sensor]],BrainStateTable[Trial],\">\"&0),INDEX(BrainStateTable[Max],MATCH(\"T\"&Table4[[#This Row],[Trial]]&\"S\"&Table4[[#This Row],[Sensor]],BrainStateTable[ColName],0),1))","v":0}]
[null,"Avg",3,{"$f":"_xlfn.SWITCH(TRUE(),Table4[[#This Row],[Trial]]=\"Avg\",AVERAGEIFS(BrainStateTable[Max],BrainStateTable[Sensor],Table4[[#This Row],[Sensor]],BrainStateTable[Trial],\">\"&0),INDEX(BrainStateTable[Max],MATCH(\"T\"&Table4[[#This Row],[Trial]]&\"S\"&Table4[[#This Row],[Sensor]],BrainStateTable[ColName],0),1))","v":0}]
[null,"Avg",4,{"$f":"_xlfn.SWITCH(TRUE(),Table4[[#This Row],[Trial]]=\"Avg\",AVERAGEIFS(BrainStateTable[Max],BrainStateTable[Sensor],Table4[[#This Row],[Sensor]],BrainStateTable[Trial],\">\"&0),INDEX(BrainStateTable[Max],MATCH(\"T\"&Table4[[#This Row],[Trial]]&\"S\"&Table4[[#This Row],[Sensor]],BrainStateTable[ColName],0),1))","v":0}]
[null,"Avg",5,{"$f":"_xlfn.SWITCH(TRUE(),Table4[[#This Row],[Trial]]=\"Avg\",AVERAGEIFS(BrainStateTable[Max],BrainStateTable[Sensor],Table4[[#This Row],[Sensor]],BrainStateTable[Trial],\">\"&0),INDEX(BrainStateTable[Max],MATCH(\"T\"&Table4[[#This Row],[Trial]]&\"S\"&Table4[[#This Row],[Sensor]],BrainStateTable[ColName],0),1))","v":0}]
[null,1,1,{"$f":"_xlfn.SWITCH(TRUE(),Table4[[#This Row],[Trial]]=\"Avg\",AVERAGEIFS(BrainStateTable[Max],BrainStateTable[Sensor],Table4[[#This Row],[Sensor]],BrainStateTable[Trial],\">\"&0),INDEX(BrainStateTable[Max],MATCH(\"T\"&Table4[[#This Row],[Trial]]&\"S\"&Table4[[#This Row],[Sensor]],BrainStateTable[ColName],0),1))","v":0}]
[null,2,1,{"$f":"_xlfn.SWITCH(TRUE(),Table4[[#This Row],[Trial]]=\"Avg\",AVERAGEIFS(BrainStateTable[Max],BrainStateTable[Sensor],Table4[[#This Row],[Sensor]],BrainStateTable[Trial],\">\"&0),INDEX(BrainStateTable[Max],MATCH(\"T\"&Table4[[#This Row],[Trial]]&\"S\"&Table4[[#This Row],[Sensor]],BrainStateTable[ColName],0),1))","v":0}]
[null,3,1,{"$f":"_xlfn.SWITCH(TRUE(),Table4[[#This Row],[Trial]]=\"Avg\",AVERAGEIFS(BrainStateTable[Max],BrainStateTable[Sensor],Table4[[#This Row],[Sensor]],BrainStateTable[Trial],\">\"&0),INDEX(BrainStateTable[Max],MATCH(\"T\"&Table4[[#This Row],[Trial]]&\"S\"&Table4[[#This Row],[Sensor]],BrainStateTable[ColName],0),1))","v":0}]
[null,1,2,{"$f":"_xlfn.SWITCH(TRUE(),Table4[[#This Row],[Trial]]=\"Avg\",AVERAGEIFS(BrainStateTable[Max],BrainStateTable[Sensor],Table4[[#This Row],[Sensor]],BrainStateTable[Trial],\">\"&0),INDEX(BrainStateTable[Max],MATCH(\"T\"&Table4[[#This Row],[Trial]]&\"S\"&Table4[[#This Row],[Sensor]],BrainStateTable[ColName],0),1))","v":0}]
[null,2,2,{"$f":"_xlfn.SWITCH(TRUE(),Table4[[#This Row],[Trial]]=\"Avg\",AVERAGEIFS(BrainStateTable[Max],BrainStateTable[Sensor],Table4[[#This Row],[Sensor]],BrainStateTable[Trial],\">\"&0),INDEX(BrainStateTable[Max],MATCH(\"T\"&Table4[[#This Row],[Trial]]&\"S\"&Table4[[#This Row],[Sensor]],BrainStateTable[ColName],0),1))","v":0}]
[null,3,2,{"$f":"_xlfn.SWITCH(TRUE(),Table4[[#This Row],[Trial]]=\"Avg\",AVERAGEIFS(BrainStateTable[Max],BrainStateTable[Sensor],Table4[[#This Row],[Sensor]],BrainStateTable[Trial],\">\"&0),INDEX(BrainStateTable[Max],MATCH(\"T\"&Table4[[#This Row],[Trial]]&\"S\"&Table4[[#This Row],[Sensor]],BrainStateTable[ColName],0),1))","v":0}]
[null,1,3,{"$f":"_xlfn.SWITCH(TRUE(),Table4[[#This Row],[Trial]]=\"Avg\",AVERAGEIFS(BrainStateTable[Max],BrainStateTable[Sensor],Table4[[#This Row],[Sensor]],BrainStateTable[Trial],\">\"&0),INDEX(BrainStateTable[Max],MATCH(\"T\"&Table4[[#This Row],[Trial]]&\"S\"&Table4[[#This Row],[Sensor]],BrainStateTable[ColName],0),1))","v":0}]
[null,2,3,{"$f":"_xlfn.SWITCH(TRUE(),Table4[[#This Row],[Trial]]=\"Avg\",AVERAGEIFS(BrainStateTable[Max],BrainStateTable[Sensor],Table4[[#This Row],[Sensor]],BrainStateTable[Trial],\">\"&0),INDEX(BrainStateTable[Max],MATCH(\"T\"&Table4[[#This Row],[Trial]]&\"S\"&Table4[[#This Row],[Sensor]],BrainStateTable[ColName],0),1))","v":0}]
[null,3,3,{"$f":"_xlfn.SWITCH(TRUE(),Table4[[#This Row],[Trial]]=\"Avg\",AVERAGEIFS(BrainStateTable[Max],BrainStateTable[Sensor],Table4[[#This Row],[Sensor]],BrainStateTable[Trial],\">\"&0),INDEX(BrainStateTable[Max],MATCH(\"T\"&Table4[[#This Row],[Trial]]&\"S\"&Table4[[#This Row],[Sensor]],BrainStateTable[ColName],0),1))","v":0}]
[null,1,4,{"$f":"_xlfn.SWITCH(TRUE(),Table4[[#This Row],[Trial]]=\"Avg\",AVERAGEIFS(BrainStateTable[Max],BrainStateTable[Sensor],Table4[[#This Row],[Sensor]],BrainStateTable[Trial],\">\"&0),INDEX(BrainStateTable[Max],MATCH(\"T\"&Table4[[#This Row],[Trial]]&\"S\"&Table4[[#This Row],[Sensor]],BrainStateTable[ColName],0),1))","v":0}]
[null,2,4,{"$f":"_xlfn.SWITCH(TRUE(),Table4[[#This Row],[Trial]]=\"Avg\",AVERAGEIFS(BrainStateTable[Max],BrainStateTable[Sensor],Table4[[#This Row],[Sensor]],BrainStateTable[Trial],\">\"&0),INDEX(BrainStateTable[Max],MATCH(\"T\"&Table4[[#This Row],[Trial]]&\"S\"&Table4[[#This Row],[Sensor]],BrainStateTable[ColName],0),1))","v":0}]
[null,3,4,{"$f":"_xlfn.SWITCH(TRUE(),Table4[[#This Row],[Trial]]=\"Avg\",AVERAGEIFS(BrainStateTable[Max],BrainStateTable[Sensor],Table4[[#This Row],[Sensor]],BrainStateTable[Trial],\">\"&0),INDEX(BrainStateTable[Max],MATCH(\"T\"&Table4[[#This Row],[Trial]]&\"S\"&Table4[[#This Row],[Sensor]],BrainStateTable[ColName],0),1))","v":0}]
[null,1,5,{"$f":"_xlfn.SWITCH(TRUE(),Table4[[#This Row],[Trial]]=\"Avg\",AVERAGEIFS(BrainStateTable[Max],BrainStateTable[Sensor],Table4[[#This Row],[Sensor]],BrainStateTable[Trial],\">\"&0),INDEX(BrainStateTable[Max],MATCH(\"T\"&Table4[[#This Row],[Trial]]&\"S\"&Table4[[#This Row],[Sensor]],BrainStateTable[ColName],0),1))","v":0}]
[null,2,5,{"$f":"_xlfn.SWITCH(TRUE(),Table4[[#This Row],[Trial]]=\"Avg\",AVERAGEIFS(BrainStateTable[Max],BrainStateTable[Sensor],Table4[[#This Row],[Sensor]],BrainStateTable[Trial],\">\"&0),INDEX(BrainStateTable[Max],MATCH(\"T\"&Table4[[#This Row],[Trial]]&\"S\"&Table4[[#This Row],[Sensor]],BrainStateTable[ColName],0),1))","v":0}]
[null,3,5,{"$f":"_xlfn.SWITCH(TRUE(),Table4[[#This Row],[Trial]]=\"Avg\",AVERAGEIFS(BrainStateTable[Max],BrainStateTable[Sensor],Table4[[#This Row],[Sensor]],BrainStateTable[Trial],\">\"&0),INDEX(BrainStateTable[Max],MATCH(\"T\"&Table4[[#This Row],[Trial]]&\"S\"&Table4[[#This Row],[Sensor]],BrainStateTable[ColName],0),1))","v":0}]

{"sheet":"Backend","index":13,"n_rows":502,"n_cols":49,"rows_kept":502,"cut":false,"hidden":true,"merged":[]}
[]
[{"$f":"RIGHT(CELL(\"filename\",A2),LEN(CELL(\"filename\",A2))-FIND(\"]\",CELL(\"filename\",A2)))","v":"Backend"},"Row#","Time","Column1","Net Time","LiveChartTime","T0Time","S1","S2","S3","S4","S5","Max","Row","T1Time","T1S1","T1S2","T1S3","T1S4","T1S5","T1Max","T1Row","T2Time","T2S1","T2S2","T2S3","T2S4","T2S5","T2Max","T2Row","T3Time","T3S1","T3S2","T3S3","T3S4","T3S5","T3Max","T3Row","MaxSensorT1","MaxSensorT2","MaxSensorT3",null,null,null,null,"Category","Brain","0 Val","Brain Text"]
[null,{"$f":"ROW()-ROW(BackendTable[[#Headers],[Row'#]])","v":1},{"$f":"'Data In'!A8","v":0},{"$f":"IF(BackendTable[[#This Row],[Time]]-'Reference Cells'!$C$3<=0,NA(),'Reference Cells'!$C$4-BackendTable[[#This Row],[Time]])*86400","v":{"$error":"#N/A"}},{"$f":"IFERROR(8-BackendTable[[#This Row],[Column1]],\"\")","v":""},{"$f":"IF(ISERROR(BackendTable[[#This Row],[Column1]]),-9,(BackendTable[[#This Row],[Net Time]]-NetTimeMin)*RangeAdj)","v":-9},{"$f":"IF(AND(BackendTable[[#This Row],[Time]]>='Reference Cells'!$C$6,BackendTable[[#This Row],[Time]]<='Reference Cells'!$C$7),(BackendTable[[#This Row],[Time]]-'Reference Cells'!$C$6)*86400,NA())","v":2},{"$f":"IF(CommandCell='Reference Cells'!$C$17,NA(),ABS('Data In'!B8-INDIRECT(\"ZeroVal_\"&H$2,0)))","v":0},{"$f":"IF(CommandCell='Reference Cells'!$C$17,NA(),ABS('Data In'!C8-INDIRECT(\"ZeroVal_\"&I$2,0)))","v":0},{"$f":"IF(CommandCell='Reference Cells'!$C$17,NA(),ABS('Data In'!D8-INDIRECT(\"ZeroVal_\"&J$2,0)))","v":0},{"$f":"IF(CommandCell='Reference Cells'!$C$17,NA(),ABS('Data In'!E8-INDIRECT(\"ZeroVal_\"&K$2,0)))","v":0},{"$f":"IF(CommandCell='Reference Cells'!$C$17,NA(),ABS('Data In'!F8-INDIRECT(\"ZeroVal_\"&L$2,0)))","v":0},{"$f":"MAX(BackendTable[[#This Row],[S1]:[S5]])","v":0},{"$f":"IF(ISERROR(BackendTable[[#This Row],[T0Time]]),0,COUNTIFS(BackendTable[T0Time],\"<=\"&3,BackendTable[T0Time],\">=\"&0)-COUNTIFS(BackendTable[T0Time],\">\"&BackendTable[[#This Row],[T0Time]]))","v":500},null,null,null,null,null,null,null,null,null,null,null,null,null,null,null,null,null,null,null,null,null,null,null,null,{"$f":"MATCH(MAX(BackendTable[[#This Row],[T1S1]:[T1S5]]),BackendTable[[#This Row],[T1S1]:[T1S5]],0)","v":{"$error":"#N/A"}},{"$f":"MATCH(MAX(BackendTable[[#This Row],[T2S1]:[T2S5]]),BackendTable[[#This Row],[T2S1]:[T2S5]],0)","v":{"$error":"#N/A"}},{"$f":"MATCH(MAX(BackendTable[[#This Row],[T3S1]:[T3S5]]),BackendTable[[#This Row],[T3S1]:[T3S5]],0)","v":{"$error":"#N/A"}},null,null,null,null,"S1",{"$f":"TT!$O87","v":"Frontal"},null,{"$f":"TT!$O94","v":"Expressive language, motor skills, emotions, judgment, reasoning, and problem solving"}]
[null,{"$f":"ROW()-ROW(BackendTable[[#Headers],[Row'#]])","v":2},{"$f":"'Data In'!A9","v":0},{"$f":"IF(BackendTable[[#This Row],[Time]]-'Reference Cells'!$C$3<=0,NA(),'Reference Cells'!$C$4-BackendTable[[#This Row],[Time]])*86400","v":{"$error":"#N/A"}},{"$f":"IFERROR(8-BackendTable[[#This Row],[Column1]],\"\")","v":""},{"$f":"IF(ISERROR(BackendTable[[#This Row],[Column1]]),-9,(BackendTable[[#This Row],[Net Time]]-NetTimeMin)*RangeAdj)","v":-9},{"$f":"IF(AND(BackendTable[[#This Row],[Time]]>='Reference Cells'!$C$6,BackendTable[[#This Row],[Time]]<='Reference Cells'!$C$7),(BackendTable[[#This Row],[Time]]-'Reference Cells'!$C$6)*86400,NA())","v":2},{"$f":"IF(CommandCell='Reference Cells'!$C$17,NA(),ABS('Data In'!B9-INDIRECT(\"ZeroVal_\"&H$2,0)))","v":0},{"$f":"IF(CommandCell='Reference Cells'!$C$17,NA(),ABS('Data In'!C9-INDIRECT(\"ZeroVal_\"&I$2,0)))","v":0},{"$f":"IF(CommandCell='Reference Cells'!$C$17,NA(),ABS('Data In'!D9-INDIRECT(\"ZeroVal_\"&J$2,0)))","v":0},{"$f":"IF(CommandCell='Reference Cells'!$C$17,NA(),ABS('Data In'!E9-INDIRECT(\"ZeroVal_\"&K$2,0)))","v":0},{"$f":"IF(CommandCell='Reference Cells'!$C$17,NA(),ABS('Data In'!F9-INDIRECT(\"ZeroVal_\"&L$2,0)))","v":0},{"$f":"MAX(BackendTable[[#This Row],[S1]:[S5]])","v":0},{"$f":"IF(ISERROR(BackendTable[[#This Row],[T0Time]]),0,COUNTIFS(BackendTable[T0Time],\"<=\"&3,BackendTable[T0Time],\">=\"&0)-COUNTIFS(BackendTable[T0Time],\">\"&BackendTable[[#This Row],[T0Time]]))","v":500},null,null,null,null,null,null,null,null,null,null,null,null,null,null,null,null,null,null,null,null,null,null,null,null,{"$f":"MATCH(MAX(BackendTable[[#This Row],[T1S1]:[T1S5]]),BackendTable[[#This Row],[T1S1]:[T1S5]],0)","v":{"$error":"#N/A"}},{"$f":"MATCH(MAX(BackendTable[[#This Row],[T2S1]:[T2S5]]),BackendTable[[#This Row],[T2S1]:[T2S5]],0)","v":{"$error":"#N/A"}},{"$f":"MATCH(MAX(BackendTable[[#This Row],[T3S1]:[T3S5]]),BackendTable[[#This Row],[T3S1]:[T3S5]],0)","v":{"$error":"#N/A"}},null,null,null,null,"S2",{"$f":"TT!$O88","v":"Parietal"},null,{"$f":"TT!$O95","v":"Sensory processing related to body orientation, pain, taste, pressure, touch and temperature"}]
[null,{"$f":"ROW()-ROW(BackendTable[[#Headers],[Row'#]])","v":3},{"$f":"'Data In'!A10","v":0},{"$f":"IF(BackendTable[[#This Row],[Time]]-'Reference Cells'!$C$3<=0,NA(),'Reference Cells'!$C$4-BackendTable[[#This Row],[Time]])*86400","v":{"$error":"#N/A"}},{"$f":"IFERROR(8-BackendTable[[#This Row],[Column1]],\"\")","v":""},{"$f":"IF(ISERROR(BackendTable[[#This Row],[Column1]]),-9,(BackendTable[[#This Row],[Net Time]]-NetTimeMin)*RangeAdj)","v":-9},{"$f":"IF(AND(BackendTable[[#This Row],[Time]]>='Reference Cells'!$C$6,BackendTable[[#This Row],[Time]]<='Reference Cells'!$C$7),(BackendTable[[#This Row],[Time]]-'Reference Cells'!$C$6)*86400,NA())","v":2},{"$f":"IF(CommandCell='Reference Cells'!$C$17,NA(),ABS('Data In'!B10-INDIRECT(\"ZeroVal_\"&H$2,0)))","v":0},{"$f":"IF(CommandCell='Reference Cells'!$C$17,NA(),ABS('Data In'!C10-INDIRECT(\"ZeroVal_\"&I$2,0)))","v":0},{"$f":"IF(CommandCell='Reference Cells'!$C$17,NA(),ABS('Data In'!D10-INDIRECT(\"ZeroVal_\"&J$2,0)))","v":0},{"$f":"IF(CommandCell='Reference Cells'!$C$17,NA(),ABS('Data In'!E10-INDIRECT(\"ZeroVal_\"&K$2,0)))","v":0},{"$f":"IF(CommandCell='Reference Cells'!$C$17,NA(),ABS('Data In'!F10-INDIRECT(\"ZeroVal_\"&L$2,0)))","v":0},{"$f":"MAX(BackendTable[[#This Row],[S1]:[S5]])","v":0},{"$f":"IF(ISERROR(BackendTable[[#This Row],[T0Time]]),0,COUNTIFS(BackendTable[T0Time],\"<=\"&3,BackendTable[T0Time],\">=\"&0)-COUNTIFS(BackendTable[T0Time],\">\"&BackendTable[[#This Row],[T0Time]]))","v":500},null,null,null,null,null,null,null,null,null,null,null,null,null,null,null,null,null,null,null,null,null,null,null,null,{"$f":"MATCH(MAX(BackendTable[[#This Row],[T1S1]:[T1S5]]),BackendTable[[#This Row],[T1S1]:[T1S5]],0)","v":{"$error":"#N/A"}},{"$f":"MATCH(MAX(BackendTable[[#This Row],[T2S1]:[T2S5]]),BackendTable[[#This Row],[T2S1]:[T2S5]],0)","v":{"$error":"#N/A"}},{"$f":"MATCH(MAX(BackendTable[[#This Row],[T3S1]:[T3S5]]),BackendTable[[#This Row],[T3S1]:[T3S5]],0)","v":{"$error":"#N/A"}},null,null,null,null,"S3",{"$f":"TT!$O89","v":"Temporal (L)"},null,{"$f":"TT!$O96","v":"Memory, interpreting language, behavior, and interpreting and processing sounds"}]
[null,{"$f":"ROW()-ROW(BackendTable[[#Headers],[Row'#]])","v":4},{"$f":"'Data In'!A11","v":0},{"$f":"IF(BackendTable[[#This Row],[Time]]-'Reference Cells'!$C$3<=0,NA(),'Reference Cells'!$C$4-BackendTable[[#This Row],[Time]])*86400","v":{"$error":"#N/A"}},{"$f":"IFERROR(8-BackendTable[[#This Row],[Column1]],\"\")","v":""},{"$f":"IF(ISERROR(BackendTable[[#This Row],[Column1]]),-9,(BackendTable[[#This Row],[Net Time]]-NetTimeMin)*RangeAdj)","v":-9},{"$f":"IF(AND(BackendTable[[#This Row],[Time]]>='Reference Cells'!$C$6,BackendTable[[#This Row],[Time]]<='Reference Cells'!$C$7),(BackendTable[[#This Row],[Time]]-'Reference Cells'!$C$6)*86400,NA())","v":2},{"$f":"IF(CommandCell='Reference Cells'!$C$17,NA(),ABS('Data In'!B11-INDIRECT(\"ZeroVal_\"&H$2,0)))","v":0},{"$f":"IF(CommandCell='Reference Cells'!$C$17,NA(),ABS('Data In'!C11-INDIRECT(\"ZeroVal_\"&I$2,0)))","v":0},{"$f":"IF(CommandCell='Reference Cells'!$C$17,NA(),ABS('Data In'!D11-INDIRECT(\"ZeroVal_\"&J$2,0)))","v":0},{"$f":"IF(CommandCell='Reference Cells'!$C$17,NA(),ABS('Data In'!E11-INDIRECT(\"ZeroVal_\"&K$2,0)))","v":0},{"$f":"IF(CommandCell='Reference Cells'!$C$17,NA(),ABS('Data In'!F11-INDIRECT(\"ZeroVal_\"&L$2,0)))","v":0},{"$f":"MAX(BackendTable[[#This Row],[S1]:[S5]])","v":0},{"$f":"IF(ISERROR(BackendTable[[#This Row],[T0Time]]),0,COUNTIFS(BackendTable[T0Time],\"<=\"&3,BackendTable[T0Time],\">=\"&0)-COUNTIFS(BackendTable[T0Time],\">\"&BackendTable[[#This Row],[T0Time]]))","v":500},null,null,null,null,null,null,null,null,null,null,null,null,null,null,null,null,null,null,null,null,null,null,null,null,{"$f":"MATCH(MAX(BackendTable[[#This Row],[T1S1]:[T1S5]]),BackendTable[[#This Row],[T1S1]:[T1S5]],0)","v":{"$error":"#N/A"}},{"$f":"MATCH(MAX(BackendTable[[#This Row],[T2S1]:[T2S5]]),BackendTable[[#This Row],[T2S1]:[T2S5]],0)","v":{"$error":"#N/A"}},{"$f":"MATCH(MAX(BackendTable[[#This Row],[T3S1]:[T3S5]]),BackendTable[[#This Row],[T3S1]:[T3S5]],0)","v":{"$error":"#N/A"}},null,null,null,null,"S4",{"$f":"TT!$O90","v":"Temporal (R)"},null,{"$f":"TT!$O96","v":"Memory, interpreting language, behavior, and interpreting and processing sounds"}]
[null,{"$f":"ROW()-ROW(BackendTable[[#Headers],[Row'#]])","v":5},{"$f":"'Data In'!A12","v":0},{"$f":"IF(BackendTable[[#This Row],[Time]]-'Reference Cells'!$C$3<=0,NA(),'Reference Cells'!$C$4-BackendTable[[#This Row],[Time]])*86400","v":{"$error":"#N/A"}},{"$f":"IFERROR(8-BackendTable[[#This Row],[Column1]],\"\")","v":""},{"$f":"IF(ISERROR(BackendTable[[#This Row],[Column1]]),-9,(BackendTable[[#This Row],[Net Time]]-NetTimeMin)*RangeAdj)","v":-9},{"$f":"IF(AND(BackendTable[[#This Row],[Time]]>='Reference Cells'!$C$6,BackendTable[[#This Row],[Time]]<='Reference Cells'!$C$7),(BackendTable[[#This Row],[Time]]-'Reference Cells'!$C$6)*86400,NA())","v":2},{"$f":"IF(CommandCell='Reference Cells'!$C$17,NA(),ABS('Data In'!B12-INDIRECT(\"ZeroVal_\"&H$2,0)))","v":0},{"$f":"IF(CommandCell='Reference Cells'!$C$17,NA(),ABS('Data In'!C12-INDIRECT(\"ZeroVal_\"&I$2,0)))","v":0},{"$f":"IF(CommandCell='Reference Cells'!$C$17,NA(),ABS('Data In'!D12-INDIRECT(\"ZeroVal_\"&J$2,0)))","v":0},{"$f":"IF(CommandCell='Reference Cells'!$C$17,NA(),ABS('Data In'!E12-INDIRECT(\"ZeroVal_\"&K$2,0)))","v":0},{"$f":"IF(CommandCell='Reference Cells'!$C$17,NA(),ABS('Data In'!F12-INDIRECT(\"ZeroVal_\"&L$2,0)))","v":0},{"$f":"MAX(BackendTable[[#This Row],[S1]:[S5]])","v":0},{"$f":"IF(ISERROR(BackendTable[[#This Row],[T0Time]]),0,COUNTIFS(BackendTable[T0Time],\"<=\"&3,BackendTable[T0Time],\">=\"&0)-COUNTIFS(BackendTable[T0Time],\">\"&BackendTable[[#This Row],[T0Time]]))","v":500},null,null,null,null,null,null,null,null,null,null,null,null,null,null,null,null,null,null,null,null,null,null,null,null,{"$f":"MATCH(MAX(BackendTable[[#This Row],[T1S1]:[T1S5]]),BackendTable[[#This Row],[T1S1]:[T1S5]],0)","v":{"$error":"#N/A"}},{"$f":"MATCH(MAX(BackendTable[[#This Row],[T2S1]:[T2S5]]),BackendTable[[#This Row],[T2S1]:[T2S5]],0)","v":{"$error":"#N/A"}},{"$f":"MATCH(MAX(BackendTable[[#This Row],[T3S1]:[T3S5]]),BackendTable[[#This Row],[T3S1]:[T3S5]],0)","v":{"$error":"#N/A"}},null,null,null,null,"S5",{"$f":"TT!$O91","v":"Occipital"},null,{"$f":"TT!$O97","v":"Vision, object recognition, distance and perception of color"}]
[null,{"$f":"ROW()-ROW(BackendTable[[#Headers],[Row'#]])","v":6},{"$f":"'Data In'!A13","v":0},{"$f":"IF(BackendTable[[#This Row],[Time]]-'Reference Cells'!$C$3<=0,NA(),'Reference Cells'!$C$4-BackendTable[[#This Row],[Time]])*86400","v":{"$error":"#N/A"}},{"$f":"IFERROR(8-BackendTable[[#This Row],[Column1]],\"\")","v":""},{"$f":"IF(ISERROR(BackendTable[[#This Row],[Column1]]),-9,(BackendTable[[#This Row],[Net Time]]-NetTimeMin)*RangeAdj)","v":-9},{"$f":"IF(AND(BackendTable[[#This Row],[Time]]>='Reference Cells'!$C$6,BackendTable[[#This Row],[Time]]<='Reference Cells'!$C$7),(BackendTable[[#This Row],[Time]]-'Reference Cells'!$C$6)*86400,NA())","v":2},{"$f":"IF(CommandCell='Reference Cells'!$C$17,NA(),ABS('Data In'!B13-INDIRECT(\"ZeroVal_\"&H$2,0)))","v":0},{"$f":"IF(CommandCell='Reference Cells'!$C$17,NA(),ABS('Data In'!C13-INDIRECT(\"ZeroVal_\"&I$2,0)))","v":0},{"$f":"IF(CommandCell='Reference Cells'!$C$17,NA(),ABS('Data In'!D13-INDIRECT(\"ZeroVal_\"&J$2,0)))","v":0},{"$f":"IF(CommandCell='Reference Cells'!$C$17,NA(),ABS('Data In'!E13-INDIRECT(\"ZeroVal_\"&K$2,0)))","v":0},{"$f":"IF(CommandCell='Reference Cells'!$C$17,NA(),ABS('Data In'!F13-INDIRECT(\"ZeroVal_\"&L$2,0)))","v":0},{"$f":"MAX(BackendTable[[#This Row],[S1]:[S5]])","v":0},{"$f":"IF(ISERROR(BackendTable[[#This Row],[T0Time]]),0,COUNTIFS(BackendTable[T0Time],\"<=\"&3,BackendTable[T0Time],\">=\"&0)-COUNTIFS(BackendTable[T0Time],\">\"&BackendTable[[#This Row],[T0Time]]))","v":500},null,null,null,null,null,null,null,null,null,null,null,null,null,null,null,null,null,null,null,null,null,null,null,null,{"$f":"MATCH(MAX(BackendTable[[#This Row],[T1S1]:[T1S5]]),BackendTable[[#This Row],[T1S1]:[T1S5]],0)","v":{"$error":"#N/A"}},{"$f":"MATCH(MAX(BackendTable[[#This Row],[T2S1]:[T2S5]]),BackendTable[[#This Row],[T2S1]:[T2S5]],0)","v":{"$error":"#N/A"}},{"$f":"MATCH(MAX(BackendTable[[#This Row],[T3S1]:[T3S5]]),BackendTable[[#This Row],[T3S1]:[T3S5]],0)","v":{"$error":"#N/A"}}]
[null,{"$f":"ROW()-ROW(BackendTable[[#Headers],[Row'#]])","v":7},{"$f":"'Data In'!A14","v":0},{"$f":"IF(BackendTable[[#This Row],[Time]]-'Reference Cells'!$C$3<=0,NA(),'Reference Cells'!$C$4-BackendTable[[#This Row],[Time]])*86400","v":{"$error":"#N/A"}},{"$f":"IFERROR(8-BackendTable[[#This Row],[Column1]],\"\")","v":""},{"$f":"IF(ISERROR(BackendTable[[#This Row],[Column1]]),-9,(BackendTable[[#This Row],[Net Time]]-NetTimeMin)*RangeAdj)","v":-9},{"$f":"IF(AND(BackendTable[[#This Row],[Time]]>='Reference Cells'!$C$6,BackendTable[[#This Row],[Time]]<='Reference Cells'!$C$7),(BackendTable[[#This Row],[Time]]-'Reference Cells'!$C$6)*86400,NA())","v":2},{"$f":"IF(CommandCell='Reference Cells'!$C$17,NA(),ABS('Data In'!B14-INDIRECT(\"ZeroVal_\"&H$2,0)))","v":0},{"$f":"IF(CommandCell='Reference Cells'!$C$17,NA(),ABS('Data In'!C14-INDIRECT(\"ZeroVal_\"&I$2,0)))","v":0},{"$f":"IF(CommandCell='Reference Cells'!$C$17,NA(),ABS('Data In'!D14-INDIRECT(\"ZeroVal_\"&J$2,0)))","v":0},{"$f":"IF(CommandCell='Reference Cells'!$C$17,NA(),ABS('Data In'!E14-INDIRECT(\"ZeroVal_\"&K$2,0)))","v":0},{"$f":"IF(CommandCell='Reference Cells'!$C$17,NA(),ABS('Data In'!F14-INDIRECT(\"ZeroVal_\"&L$2,0)))","v":0},{"$f":"MAX(BackendTable[[#This Row],[S1]:[S5]])","v":0},{"$f":"IF(ISERROR(BackendTable[[#This Row],[T0Time]]),0,COUNTIFS(BackendTable[T0Time],\"<=\"&3,BackendTable[T0Time],\">=\"&0)-COUNTIFS(BackendTable[T0Time],\">\"&BackendTable[[#This Row],[T0Time]]))","v":500},null,null,null,null,null,null,null,null,null,null,null,null,null,null,null,null,null,null,null,null,null,null,null,null,{"$f":"MATCH(MAX(BackendTable[[#This Row],[T1S1]:[T1S5]]),BackendTable[[#This Row],[T1S1]:[T1S5]],0)","v":{"$error":"#N/A"}},{"$f":"MATCH(MAX(BackendTable[[#This Row],[T2S1]:[T2S5]]),BackendTable[[#This Row],[T2S1]:[T2S5]],0)","v":{"$error":"#N/A"}},{"$f":"MATCH(MAX(BackendTable[[#This Row],[T3S1]:[T3S5]]),BackendTable[[#This Row],[T3S1]:[T3S5]],0)","v":{"$error":"#N/A"}}]
[null,{"$f":"ROW()-ROW(BackendTable[[#Headers],[Row'#]])","v":8},{"$f":"'Data In'!A15","v":0},{"$f":"IF(BackendTable[[#This Row],[Time]]-'Reference Cells'!$C$3<=0,NA(),'Reference Cells'!$C$4-BackendTable[[#This Row],[Time]])*86400","v":{"$error":"#N/A"}},{"$f":"IFERROR(8-BackendTable[[#This Row],[Column1]],\"\")","v":""},{"$f":"IF(ISERROR(BackendTable[[#This Row],[Column1]]),-9,(BackendTable[[#This Row],[Net Time]]-NetTimeMin)*RangeAdj)","v":-9},{"$f":"IF(AND(BackendTable[[#This Row],[Time]]>='Reference Cells'!$C$6,BackendTable[[#This Row],[Time]]<='Reference Cells'!$C$7),(BackendTable[[#This Row],[Time]]-'Reference Cells'!$C$6)*86400,NA())","v":2},{"$f":"IF(CommandCell='Reference Cells'!$C$17,NA(),ABS('Data In'!B15-INDIRECT(\"ZeroVal_\"&H$2,0)))","v":0},{"$f":"IF(CommandCell='Reference Cells'!$C$17,NA(),ABS('Data In'!C15-INDIRECT(\"ZeroVal_\"&I$2,0)))","v":0},{"$f":"IF(CommandCell='Reference Cells'!$C$17,NA(),ABS('Data In'!D15-INDIRECT(\"ZeroVal_\"&J$2,0)))","v":0},{"$f":"IF(CommandCell='Reference Cells'!$C$17,NA(),ABS('Data In'!E15-INDIRECT(\"ZeroVal_\"&K$2,0)))","v":0},{"$f":"IF(CommandCell='Reference Cells'!$C$17,NA(),ABS('Data In'!F15-INDIRECT(\"ZeroVal_\"&L$2,0)))","v":0},{"$f":"MAX(BackendTable[[#This Row],[S1]:[S5]])","v":0},{"$f":"IF(ISERROR(BackendTable[[#This Row],[T0Time]]),0,COUNTIFS(BackendTable[T0Time],\"<=\"&3,BackendTable[T0Time],\">=\"&0)-COUNTIFS(BackendTable[T0Time],\">\"&BackendTable[[#This Row],[T0Time]]))","v":500},null,null,null,null,null,null,null,null,null,null,null,null,null,null,null,null,null,null,null,null,null,null,null,null,{"$f":"MATCH(MAX(BackendTable[[#This Row],[T1S1]:[T1S5]]),BackendTable[[#This Row],[T1S1]:[T1S5]],0)","v":{"$error":"#N/A"}},{"$f":"MATCH(MAX(BackendTable[[#This Row],[T2S1]:[T2S5]]),BackendTable[[#This Row],[T2S1]:[T2S5]],0)","v":{"$error":"#N/A"}},{"$f":"MATCH(MAX(BackendTable[[#This Row],[T3S1]:[T3S5]]),BackendTable[[#This Row],[T3S1]:[T3S5]],0)","v":{"$error":"#N/A"}}]
[null,{"$f":"ROW()-ROW(BackendTable[[#Headers],[Row'#]])","v":9},{"$f":"'Data In'!A16","v":0},{"$f":"IF(BackendTable[[#This Row],[Time]]-'Reference Cells'!$C$3<=0,NA(),'Reference Cells'!$C$4-BackendTable[[#This Row],[Time]])*86400","v":{"$error":"#N/A"}},{"$f":"IFERROR(8-BackendTable[[#This Row],[Column1]],\"\")","v":""},{"$f":"IF(ISERROR(BackendTable[[#This Row],[Column1]]),-9,(BackendTable[[#This Row],[Net Time]]-NetTimeMin)*RangeAdj)","v":-9},{"$f":"IF(AND(BackendTable[[#This Row],[Time]]>='Reference Cells'!$C$6,BackendTable[[#This Row],[Time]]<='Reference Cells'!$C$7),(BackendTable[[#This Row],[Time]]-'Reference Cells'!$C$6)*86400,NA())","v":2},{"$f":"IF(CommandCell='Reference Cells'!$C$17,NA(),ABS('Data In'!B16-INDIRECT(\"ZeroVal_\"&H$2,0)))","v":0},{"$f":"IF(CommandCell='Reference Cells'!$C$17,NA(),ABS('Data In'!C16-INDIRECT(\"ZeroVal_\"&I$2,0)))","v":0},{"$f":"IF(CommandCell='Reference Cells'!$C$17,NA(),ABS('Data In'!D16-INDIRECT(\"ZeroVal_\"&J$2,0)))","v":0},{"$f":"IF(CommandCell='Reference Cells'!$C$17,NA(),ABS('Data In'!E16-INDIRECT(\"ZeroVal_\"&K$2,0)))","v":0},{"$f":"IF(CommandCell='Reference Cells'!$C$17,NA(),ABS('Data In'!F16-INDIRECT(\"ZeroVal_\"&L$2,0)))","v":0},{"$f":"MAX(BackendTable[[#This Row],[S1]:[S5]])","v":0},{"$f":"IF(ISERROR(BackendTable[[#This Row],[T0Time]]),0,COUNTIFS(BackendTable[T0Time],\"<=\"&3,BackendTable[T0Time],\">=\"&0)-COUNTIFS(BackendTable[T0Time],\">\"&BackendTable[[#This Row],[T0Time]]))","v":500},null,null,null,null,null,null,null,null,null,null,null,null,null,null,null,null,null,null,null,null,null,null,null,null,{"$f":"MATCH(MAX(BackendTable[[#This Row],[T1S1]:[T1S5]]),BackendTable[[#This Row],[T1S1]:[T1S5]],0)","v":{"$error":"#N/A"}},{"$f":"MATCH(MAX(BackendTable[[#This Row],[T2S1]:[T2S5]]),BackendTable[[#This Row],[T2S1]:[T2S5]],0)","v":{"$error":"#N/A"}},{"$f":"MATCH(MAX(BackendTable[[#This Row],[T3S1]:[T3S5]]),BackendTable[[#This Row],[T3S1]:[T3S5]],0)","v":{"$error":"#N/A"}}]
[null,{"$f":"ROW()-ROW(BackendTable[[#Headers],[Row'#]])","v":10},{"$f":"'Data In'!A17","v":0},{"$f":"IF(BackendTable[[#This Row],[Time]]-'Reference Cells'!$C$3<=0,NA(),'Reference Cells'!$C$4-BackendTable[[#This Row],[Time]])*86400","v":{"$error":"#N/A"}},{"$f":"IFERROR(8-BackendTable[[#This Row],[Column1]],\"\")","v":""},{"$f":"IF(ISERROR(BackendTable[[#This Row],[Column1]]),-9,(BackendTable[[#This Row],[Net Time]]-NetTimeMin)*RangeAdj)","v":-9},{"$f":"IF(AND(BackendTable[[#This Row],[Time]]>='Reference Cells'!$C$6,BackendTable[[#This Row],[Time]]<='Reference Cells'!$C$7),(BackendTable[[#This Row],[Time]]-'Reference Cells'!$C$6)*86400,NA())","v":2},{"$f":"IF(CommandCell='Reference Cells'!$C$17,NA(),ABS('Data In'!B17-INDIRECT(\"ZeroVal_\"&H$2,0)))","v":0},{"$f":"IF(CommandCell='Reference Cells'!$C$17,NA(),ABS('Data In'!C17-INDIRECT(\"ZeroVal_\"&I$2,0)))","v":0},{"$f":"IF(CommandCell='Reference Cells'!$C$17,NA(),ABS('Data In'!D17-INDIRECT(\"ZeroVal_\"&J$2,0)))","v":0},{"$f":"IF(CommandCell='Reference Cells'!$C$17,NA(),ABS('Data In'!E17-INDIRECT(\"ZeroVal_\"&K$2,0)))","v":0},{"$f":"IF(CommandCell='Reference Cells'!$C$17,NA(),ABS('Data In'!F17-INDIRECT(\"ZeroVal_\"&L$2,0)))","v":0},{"$f":"MAX(BackendTable[[#This Row],[S1]:[S5]])","v":0},{"$f":"IF(ISERROR(BackendTable[[#This Row],[T0Time]]),0,COUNTIFS(BackendTable[T0Time],\"<=\"&3,BackendTable[T0Time],\">=\"&0)-COUNTIFS(BackendTable[T0Time],\">\"&BackendTable[[#This Row],[T0Time]]))","v":500},null,null,null,null,null,null,null,null,null,null,null,null,null,null,null,null,null,null,null,null,null,null,null,null,{"$f":"MATCH(MAX(BackendTable[[#This Row],[T1S1]:[T1S5]]),BackendTable[[#This Row],[T1S1]:[T1S5]],0)","v":{"$error":"#N/A"}},{"$f":"MATCH(MAX(BackendTable[[#This Row],[T2S1]:[T2S5]]),BackendTable[[#This Row],[T2S1]:[T2S5]],0)","v":{"$error":"#N/A"}},{"$f":"MATCH(MAX(BackendTable[[#This Row],[T3S1]:[T3S5]]),BackendTable[[#This Row],[T3S1]:[T3S5]],0)","v":{"$error":"#N/A"}}]
[null,{"$f":"ROW()-ROW(BackendTable[[#Headers],[Row'#]])","v":11},{"$f":"'Data In'!A18","v":0},{"$f":"IF(BackendTable[[#This Row],[Time]]-'Reference Cells'!$C$3<=0,NA(),'Reference Cells'!$C$4-BackendTable[[#This Row],[Time]])*86400","v":{"$error":"#N/A"}},{"$f":"IFERROR(8-BackendTable[[#This Row],[Column1]],\"\")","v":""},{"$f":"IF(ISERROR(BackendTable[[#This Row],[Column1]]),-9,(BackendTable[[#This Row],[Net Time]]-NetTimeMin)*RangeAdj)","v":-9},{"$f":"IF(AND(BackendTable[[#This Row],[Time]]>='Reference Cells'!$C$6,BackendTable[[#This Row],[Time]]<='Reference Cells'!$C$7),(BackendTable[[#This Row],[Time]]-'Reference Cells'!$C$6)*86400,NA())","v":2},{"$f":"IF(CommandCell='Reference Cells'!$C$17,NA(),ABS('Data In'!B18-INDIRECT(\"ZeroVal_\"&H$2,0)))","v":0},{"$f":"IF(CommandCell='Reference Cells'!$C$17,NA(),ABS('Data In'!C18-INDIRECT(\"ZeroVal_\"&I$2,0)))","v":0},{"$f":"IF(CommandCell='Reference Cells'!$C$17,NA(),ABS('Data In'!D18-INDIRECT(\"ZeroVal_\"&J$2,0)))","v":0},{"$f":"IF(CommandCell='Reference Cells'!$C$17,NA(),ABS('Data In'!E18-INDIRECT(\"ZeroVal_\"&K$2,0)))","v":0},{"$f":"IF(CommandCell='Reference Cells'!$C$17,NA(),ABS('Data In'!F18-INDIRECT(\"ZeroVal_\"&L$2,0)))","v":0},{"$f":"MAX(BackendTable[[#This Row],[S1]:[S5]])","v":0},{"$f":"IF(ISERROR(BackendTable[[#This Row],[T0Time]]),0,COUNTIFS(BackendTable[T0Time],\"<=\"&3,BackendTable[T0Time],\">=\"&0)-COUNTIFS(BackendTable[T0Time],\">\"&BackendTable[[#This Row],[T0Time]]))","v":500},null,null,null,null,null,null,null,null,null,null,null,null,null,null,null,null,null,null,null,null,null,null,null,null,{"$f":"MATCH(MAX(BackendTable[[#This Row],[T1S1]:[T1S5]]),BackendTable[[#This Row],[T1S1]:[T1S5]],0)","v":{"$error":"#N/A"}},{"$f":"MATCH(MAX(BackendTable[[#This Row],[T2S1]:[T2S5]]),BackendTable[[#This Row],[T2S1]:[T2S5]],0)","v":{"$error":"#N/A"}},{"$f":"MATCH(MAX(BackendTable[[#This Row],[T3S1]:[T3S5]]),BackendTable[[#This Row],[T3S1]:[T3S5]],0)","v":{"$error":"#N/A"}}]
[null,{"$f":"ROW()-ROW(BackendTable[[#Headers],[Row'#]])","v":12},{"$f":"'Data In'!A19","v":0},{"$f":"IF(BackendTable[[#This Row],[Time]]-'Reference Cells'!$C$3<=0,NA(),'Reference Cells'!$C$4-BackendTable[[#This Row],[Time]])*86400","v":{"$error":"#N/A"}},{"$f":"IFERROR(8-BackendTable[[#This Row],[Column1]],\"\")","v":""},{"$f":"IF(ISERROR(BackendTable[[#This Row],[Column1]]),-9,(BackendTable[[#This Row],[Net Time]]-NetTimeMin)*RangeAdj)","v":-9},{"$f":"IF(AND(BackendTable[[#This Row],[Time]]>='Reference Cells'!$C$6,BackendTable[[#This Row],[Time]]<='Reference Cells'!$C$7),(BackendTable[[#This Row],[Time]]-'Reference Cells'!$C$6)*86400,NA())","v":2},{"$f":"IF(CommandCell='Reference Cells'!$C$17,NA(),ABS('Data In'!B19-INDIRECT(\"ZeroVal_\"&H$2,0)))","v":0},{"$f":"IF(CommandCell='Reference Cells'!$C$17,NA(),ABS('Data In'!C19-INDIRECT(\"ZeroVal_\"&I$2,0)))","v":0},{"$f":"IF(CommandCell='Reference Cells'!$C$17,NA(),ABS('Data In'!D19-INDIRECT(\"ZeroVal_\"&J$2,0)))","v":0},{"$f":"IF(CommandCell='Reference Cells'!$C$17,NA(),ABS('Data In'!E19-INDIRECT(\"ZeroVal_\"&K$2,0)))","v":0},{"$f":"IF(CommandCell='Reference Cells'!$C$17,NA(),ABS('Data In'!F19-INDIRECT(\"ZeroVal_\"&L$2,0)))","v":0},{"$f":"MAX(BackendTable[[#This Row],[S1]:[S5]])","v":0},{"$f":"IF(ISERROR(BackendTable[[#This Row],[T0Time]]),0,COUNTIFS(BackendTable[T0Time],\"<=\"&3,BackendTable[T0Time],\">=\"&0)-COUNTIFS(BackendTable[T0Time],\">\"&BackendTable[[#This Row],[T0Time]]))","v":500},null,null,null,null,null,null,null,null,null,null,null,null,null,null,null,null,null,null,null,null,null,null,null,null,{"$f":"MATCH(MAX(BackendTable[[#This Row],[T1S1]:[T1S5]]),BackendTable[[#This Row],[T1S1]:[T1S5]],0)","v":{"$error":"#N/A"}},{"$f":"MATCH(MAX(BackendTable[[#This Row],[T2S1]:[T2S5]]),BackendTable[[#This Row],[T2S1]:[T2S5]],0)","v":{"$error":"#N/A"}},{"$f":"MATCH(MAX(BackendTable[[#This Row],[T3S1]:[T3S5]]),BackendTable[[#This Row],[T3S1]:[T3S5]],0)","v":{"$error":"#N/A"}}]
[null,{"$f":"ROW()-ROW(BackendTable[[#Headers],[Row'#]])","v":13},{"$f":"'Data In'!A20","v":0},{"$f":"IF(BackendTable[[#This Row],[Time]]-'Reference Cells'!$C$3<=0,NA(),'Reference Cells'!$C$4-BackendTable[[#This Row],[Time]])*86400","v":{"$error":"#N/A"}},{"$f":"IFERROR(8-BackendTable[[#This Row],[Column1]],\"\")","v":""},{"$f":"IF(ISERROR(BackendTable[[#This Row],[Column1]]),-9,(BackendTable[[#This Row],[Net Time]]-NetTimeMin)*RangeAdj)","v":-9},{"$f":"IF(AND(BackendTable[[#This Row],[Time]]>='Reference Cells'!$C$6,BackendTable[[#This Row],[Time]]<='Reference Cells'!$C$7),(BackendTable[[#This Row],[Time]]-'Reference Cells'!$C$6)*86400,NA())","v":2},{"$f":"IF(CommandCell='Reference Cells'!$C$17,NA(),ABS('Data In'!B20-INDIRECT(\"ZeroVal_\"&H$2,0)))","v":0},{"$f":"IF(CommandCell='Reference Cells'!$C$17,NA(),ABS('Data In'!C20-INDIRECT(\"ZeroVal_\"&I$2,0)))","v":0},{"$f":"IF(CommandCell='Reference Cells'!$C$17,NA(),ABS('Data In'!D20-INDIRECT(\"ZeroVal_\"&J$2,0)))","v":0},{"$f":"IF(CommandCell='Reference Cells'!$C$17,NA(),ABS('Data In'!E20-INDIRECT(\"ZeroVal_\"&K$2,0)))","v":0},{"$f":"IF(CommandCell='Reference Cells'!$C$17,NA(),ABS('Data In'!F20-INDIRECT(\"ZeroVal_\"&L$2,0)))","v":0},{"$f":"MAX(BackendTable[[#This Row],[S1]:[S5]])","v":0},{"$f":"IF(ISERROR(BackendTable[[#This Row],[T0Time]]),0,COUNTIFS(BackendTable[T0Time],\"<=\"&3,BackendTable[T0Time],\">=\"&0)-COUNTIFS(BackendTable[T0Time],\">\"&BackendTable[[#This Row],[T0Time]]))","v":500},null,null,null,null,null,null,null,null,null,null,null,null,null,null,null,null,null,null,null,null,null,null,null,null,{"$f":"MATCH(MAX(BackendTable[[#This Row],[T1S1]:[T1S5]]),BackendTable[[#This Row],[T1S1]:[T1S5]],0)","v":{"$error":"#N/A"}},{"$f":"MATCH(MAX(BackendTable[[#This Row],[T2S1]:[T2S5]]),BackendTable[[#This Row],[T2S1]:[T2S5]],0)","v":{"$error":"#N/A"}},{"$f":"MATCH(MAX(BackendTable[[#This Row],[T3S1]:[T3S5]]),BackendTable[[#This Row],[T3S1]:[T3S5]],0)","v":{"$error":"#N/A"}}]
[null,{"$f":"ROW()-ROW(BackendTable[[#Headers],[Row'#]])","v":14},{"$f":"'Data In'!A21","v":0},{"$f":"IF(BackendTable[[#This Row],[Time]]-'Reference Cells'!$C$3<=0,NA(),'Reference Cells'!$C$4-BackendTable[[#This Row],[Time]])*86400","v":{"$error":"#N/A"}},{"$f":"IFERROR(8-BackendTable[[#This Row],[Column1]],\"\")","v":""},{"$f":"IF(ISERROR(BackendTable[[#This Row],[Column1]]),-9,(BackendTable[[#This Row],[Net Time]]-NetTimeMin)*RangeAdj)","v":-9},{"$f":"IF(AND(BackendTable[[#This Row],[Time]]>='Reference Cells'!$C$6,BackendTable[[#This Row],[Time]]<='Reference Cells'!$C$7),(BackendTable[[#This Row],[Time]]-'Reference Cells'!$C$6)*86400,NA())","v":2},{"$f":"IF(CommandCell='Reference Cells'!$C$17,NA(),ABS('Data In'!B21-INDIRECT(\"ZeroVal_\"&H$2,0)))","v":0},{"$f":"IF(CommandCell='Reference Cells'!$C$17,NA(),ABS('Data In'!C21-INDIRECT(\"ZeroVal_\"&I$2,0)))","v":0},{"$f":"IF(CommandCell='Reference Cells'!$C$17,NA(),ABS('Data In'!D21-INDIRECT(\"ZeroVal_\"&J$2,0)))","v":0},{"$f":"IF(CommandCell='Reference Cells'!$C$17,NA(),ABS('Data In'!E21-INDIRECT(\"ZeroVal_\"&K$2,0)))","v":0},{"$f":"IF(CommandCell='Reference Cells'!$C$17,NA(),ABS('Data In'!F21-INDIRECT(\"ZeroVal_\"&L$2,0)))","v":0},{"$f":"MAX(BackendTable[[#This Row],[S1]:[S5]])","v":0},{"$f":"IF(ISERROR(BackendTable[[#This Row],[T0Time]]),0,COUNTIFS(BackendTable[T0Time],\"<=\"&3,BackendTable[T0Time],\">=\"&0)-COUNTIFS(BackendTable[T0Time],\">\"&BackendTable[[#This Row],[T0Time]]))","v":500},null,null,null,null,null,null,null,null,null,null,null,null,null,null,null,null,null,null,null,null,null,null,null,null,{"$f":"MATCH(MAX(BackendTable[[#This Row],[T1S1]:[T1S5]]),BackendTable[[#This Row],[T1S1]:[T1S5]],0)","v":{"$error":"#N/A"}},{"$f":"MATCH(MAX(BackendTable[[#This Row],[T2S1]:[T2S5]]),BackendTable[[#This Row],[T2S1]:[T2S5]],0)","v":{"$error":"#N/A"}},{"$f":"MATCH(MAX(BackendTable[[#This Row],[T3S1]:[T3S5]]),BackendTable[[#This Row],[T3S1]:[T3S5]],0)","v":{"$error":"#N/A"}}]
[null,{"$f":"ROW()-ROW(BackendTable[[#Headers],[Row'#]])","v":15},{"$f":"'Data In'!A22","v":0},{"$f":"IF(BackendTable[[#This Row],[Time]]-'Reference Cells'!$C$3<=0,NA(),'Reference Cells'!$C$4-BackendTable[[#This Row],[Time]])*86400","v":{"$error":"#N/A"}},{"$f":"IFERROR(8-BackendTable[[#This Row],[Column1]],\"\")","v":""},{"$f":"IF(ISERROR(BackendTable[[#This Row],[Column1]]),-9,(BackendTable[[#This Row],[Net Time]]-NetTimeMin)*RangeAdj)","v":-9},{"$f":"IF(AND(BackendTable[[#This Row],[Time]]>='Reference Cells'!$C$6,BackendTable[[#This Row],[Time]]<='Reference Cells'!$C$7),(BackendTable[[#This Row],[Time]]-'Reference Cells'!$C$6)*86400,NA())","v":2},{"$f":"IF(CommandCell='Reference Cells'!$C$17,NA(),ABS('Data In'!B22-INDIRECT(\"ZeroVal_\"&H$2,0)))","v":0},{"$f":"IF(CommandCell='Reference Cells'!$C$17,NA(),ABS('Data In'!C22-INDIRECT(\"ZeroVal_\"&I$2,0)))","v":0},{"$f":"IF(CommandCell='Reference Cells'!$C$17,NA(),ABS('Data In'!D22-INDIRECT(\"ZeroVal_\"&J$2,0)))","v":0},{"$f":"IF(CommandCell='Reference Cells'!$C$17,NA(),ABS('Data In'!E22-INDIRECT(\"ZeroVal_\"&K$2,0)))","v":0},{"$f":"IF(CommandCell='Reference Cells'!$C$17,NA(),ABS('Data In'!F22-INDIRECT(\"ZeroVal_\"&L$2,0)))","v":0},{"$f":"MAX(BackendTable[[#This Row],[S1]:[S5]])","v":0},{"$f":"IF(ISERROR(BackendTable[[#This Row],[T0Time]]),0,COUNTIFS(BackendTable[T0Time],\"<=\"&3,BackendTable[T0Time],\">=\"&0)-COUNTIFS(BackendTable[T0Time],\">\"&BackendTable[[#This Row],[T0Time]]))","v":500},null,null,null,null,null,null,null,null,null,null,null,null,null,null,null,null,null,null,null,null,null,null,null,null,{"$f":"MATCH(MAX(BackendTable[[#This Row],[T1S1]:[T1S5]]),BackendTable[[#This Row],[T1S1]:[T1S5]],0)","v":{"$error":"#N/A"}},{"$f":"MATCH(MAX(BackendTable[[#This Row],[T2S1]:[T2S5]]),BackendTable[[#This Row],[T2S1]:[T2S5]],0)","v":{"$error":"#N/A"}},{"$f":"MATCH(MAX(BackendTable[[#This Row],[T3S1]:[T3S5]]),BackendTable[[#This Row],[T3S1]:[T3S5]],0)","v":{"$error":"#N/A"}}]
[null,{"$f":"ROW()-ROW(BackendTable[[#Headers],[Row'#]])","v":16},{"$f":"'Data In'!A23","v":0},{"$f":"IF(BackendTable[[#This Row],[Time]]-'Reference Cells'!$C$3<=0,NA(),'Reference Cells'!$C$4-BackendTable[[#This Row],[Time]])*86400","v":{"$error":"#N/A"}},{"$f":"IFERROR(8-BackendTable[[#This Row],[Column1]],\"\")","v":""},{"$f":"IF(ISERROR(BackendTable[[#This Row],[Column1]]),-9,(BackendTable[[#This Row],[Net Time]]-NetTimeMin)*RangeAdj)","v":-9},{"$f":"IF(AND(BackendTable[[#This Row],[Time]]>='Reference Cells'!$C$6,BackendTable[[#This Row],[Time]]<='Reference Cells'!$C$7),(BackendTable[[#This Row],[Time]]-'Reference Cells'!$C$6)*86400,NA())","v":2},{"$f":"IF(CommandCell='Reference Cells'!$C$17,NA(),ABS('Data In'!B23-INDIRECT(\"ZeroVal_\"&H$2,0)))","v":0},{"$f":"IF(CommandCell='Reference Cells'!$C$17,NA(),ABS('Data In'!C23-INDIRECT(\"ZeroVal_\"&I$2,0)))","v":0},{"$f":"IF(CommandCell='Reference Cells'!$C$17,NA(),ABS('Data In'!D23-INDIRECT(\"ZeroVal_\"&J$2,0)))","v":0},{"$f":"IF(CommandCell='Reference Cells'!$C$17,NA(),ABS('Data In'!E23-INDIRECT(\"ZeroVal_\"&K$2,0)))","v":0},{"$f":"IF(CommandCell='Reference Cells'!$C$17,NA(),ABS('Data In'!F23-INDIRECT(\"ZeroVal_\"&L$2,0)))","v":0},{"$f":"MAX(BackendTable[[#This Row],[S1]:[S5]])","v":0},{"$f":"IF(ISERROR(BackendTable[[#This Row],[T0Time]]),0,COUNTIFS(BackendTable[T0Time],\"<=\"&3,BackendTable[T0Time],\">=\"&0)-COUNTIFS(BackendTable[T0Time],\">\"&BackendTable[[#This Row],[T0Time]]))","v":500},null,null,null,null,null,null,null,null,null,null,null,null,null,null,null,null,null,null,null,null,null,null,null,null,{"$f":"MATCH(MAX(BackendTable[[#This Row],[T1S1]:[T1S5]]),BackendTable[[#This Row],[T1S1]:[T1S5]],0)","v":{"$error":"#N/A"}},{"$f":"MATCH(MAX(BackendTable[[#This Row],[T2S1]:[T2S5]]),BackendTable[[#This Row],[T2S1]:[T2S5]],0)","v":{"$error":"#N/A"}},{"$f":"MATCH(MAX(BackendTable[[#This Row],[T3S1]:[T3S5]]),BackendTable[[#This Row],[T3S1]:[T3S5]],0)","v":{"$error":"#N/A"}}]
[null,{"$f":"ROW()-ROW(BackendTable[[#Headers],[Row'#]])","v":17},{"$f":"'Data In'!A24","v":0},{"$f":"IF(BackendTable[[#This Row],[Time]]-'Reference Cells'!$C$3<=0,NA(),'Reference Cells'!$C$4-BackendTable[[#This Row],[Time]])*86400","v":{"$error":"#N/A"}},{"$f":"IFERROR(8-BackendTable[[#This Row],[Column1]],\"\")","v":""},{"$f":"IF(ISERROR(BackendTable[[#This Row],[Column1]]),-9,(BackendTable[[#This Row],[Net Time]]-NetTimeMin)*RangeAdj)","v":-9},{"$f":"IF(AND(BackendTable[[#This Row],[Time]]>='Reference Cells'!$C$6,BackendTable[[#This Row],[Time]]<='Reference Cells'!$C$7),(BackendTable[[#This Row],[Time]]-'Reference Cells'!$C$6)*86400,NA())","v":2},{"$f":"IF(CommandCell='Reference Cells'!$C$17,NA(),ABS('Data In'!B24-INDIRECT(\"ZeroVal_\"&H$2,0)))","v":0},{"$f":"IF(CommandCell='Reference Cells'!$C$17,NA(),ABS('Data In'!C24-INDIRECT(\"ZeroVal_\"&I$2,0)))","v":0},{"$f":"IF(CommandCell='Reference Cells'!$C$17,NA(),ABS('Data In'!D24-INDIRECT(\"ZeroVal_\"&J$2,0)))","v":0},{"$f":"IF(CommandCell='Reference Cells'!$C$17,NA(),ABS('Data In'!E24-INDIRECT(\"ZeroVal_\"&K$2,0)))","v":0},{"$f":"IF(CommandCell='Reference Cells'!$C$17,NA(),ABS('Data In'!F24-INDIRECT(\"ZeroVal_\"&L$2,0)))","v":0},{"$f":"MAX(BackendTable[[#This Row],[S1]:[S5]])","v":0},{"$f":"IF(ISERROR(BackendTable[[#This Row],[T0Time]]),0,COUNTIFS(BackendTable[T0Time],\"<=\"&3,BackendTable[T0Time],\">=\"&0)-COUNTIFS(BackendTable[T0Time],\">\"&BackendTable[[#This Row],[T0Time]]))","v":500},null,null,null,null,null,null,null,null,null,null,null,null,null,null,null,null,null,null,null,null,null,null,null,null,{"$f":"MATCH(MAX(BackendTable[[#This Row],[T1S1]:[T1S5]]),BackendTable[[#This Row],[T1S1]:[T1S5]],0)","v":{"$error":"#N/A"}},{"$f":"MATCH(MAX(BackendTable[[#This Row],[T2S1]:[T2S5]]),BackendTable[[#This Row],[T2S1]:[T2S5]],0)","v":{"$error":"#N/A"}},{"$f":"MATCH(MAX(BackendTable[[#This Row],[T3S1]:[T3S5]]),BackendTable[[#This Row],[T3S1]:[T3S5]],0)","v":{"$error":"#N/A"}}]
[null,{"$f":"ROW()-ROW(BackendTable[[#Headers],[Row'#]])","v":18},{"$f":"'Data In'!A25","v":0},{"$f":"IF(BackendTable[[#This Row],[Time]]-'Reference Cells'!$C$3<=0,NA(),'Reference Cells'!$C$4-BackendTable[[#This Row],[Time]])*86400","v":{"$error":"#N/A"}},{"$f":"IFERROR(8-BackendTable[[#This Row],[Column1]],\"\")","v":""},{"$f":"IF(ISERROR(BackendTable[[#This Row],[Column1]]),-9,(BackendTable[[#This Row],[Net Time]]-NetTimeMin)*RangeAdj)","v":-9},{"$f":"IF(AND(BackendTable[[#This Row],[Time]]>='Reference Cells'!$C$6,BackendTable[[#This Row],[Time]]<='Reference Cells'!$C$7),(BackendTable[[#This Row],[Time]]-'Reference Cells'!$C$6)*86400,NA())","v":2},{"$f":"IF(CommandCell='Reference Cells'!$C$17,NA(),ABS('Data In'!B25-INDIRECT(\"ZeroVal_\"&H$2,0)))","v":0},{"$f":"IF(CommandCell='Reference Cells'!$C$17,NA(),ABS('Data In'!C25-INDIRECT(\"ZeroVal_\"&I$2,0)))","v":0},{"$f":"IF(CommandCell='Reference Cells'!$C$17,NA(),ABS('Data In'!D25-INDIRECT(\"ZeroVal_\"&J$2,0)))","v":0},{"$f":"IF(CommandCell='Reference Cells'!$C$17,NA(),ABS('Data In'!E25-INDIRECT(\"ZeroVal_\"&K$2,0)))","v":0},{"$f":"IF(CommandCell='Reference Cells'!$C$17,NA(),ABS('Data In'!F25-INDIRECT(\"ZeroVal_\"&L$2,0)))","v":0},{"$f":"MAX(BackendTable[[#This Row],[S1]:[S5]])","v":0},{"$f":"IF(ISERROR(BackendTable[[#This Row],[T0Time]]),0,COUNTIFS(BackendTable[T0Time],\"<=\"&3,BackendTable[T0Time],\">=\"&0)-COUNTIFS(BackendTable[T0Time],\">\"&BackendTable[[#This Row],[T0Time]]))","v":500},null,null,null,null,null,null,null,null,null,null,null,null,null,null,null,null,null,null,null,null,null,null,null,null,{"$f":"MATCH(MAX(BackendTable[[#This Row],[T1S1]:[T1S5]]),BackendTable[[#This Row],[T1S1]:[T1S5]],0)","v":{"$error":"#N/A"}},{"$f":"MATCH(MAX(BackendTable[[#This Row],[T2S1]:[T2S5]]),BackendTable[[#This Row],[T2S1]:[T2S5]],0)","v":{"$error":"#N/A"}},{"$f":"MATCH(MAX(BackendTable[[#This Row],[T3S1]:[T3S5]]),BackendTable[[#This Row],[T3S1]:[T3S5]],0)","v":{"$error":"#N/A"}}]
[null,{"$f":"ROW()-ROW(BackendTable[[#Headers],[Row'#]])","v":19},{"$f":"'Data In'!A26","v":0},{"$f":"IF(BackendTable[[#This Row],[Time]]-'Reference Cells'!$C$3<=0,NA(),'Reference Cells'!$C$4-BackendTable[[#This Row],[Time]])*86400","v":{"$error":"#N/A"}},{"$f":"IFERROR(8-BackendTable[[#This Row],[Column1]],\"\")","v":""},{"$f":"IF(ISERROR(BackendTable[[#This Row],[Column1]]),-9,(BackendTable[[#This Row],[Net Time]]-NetTimeMin)*RangeAdj)","v":-9},{"$f":"IF(AND(BackendTable[[#This Row],[Time]]>='Reference Cells'!$C$6,BackendTable[[#This Row],[Time]]<='Reference Cells'!$C$7),(BackendTable[[#This Row],[Time]]-'Reference Cells'!$C$6)*86400,NA())","v":2},{"$f":"IF(CommandCell='Reference Cells'!$C$17,NA(),ABS('Data In'!B26-INDIRECT(\"ZeroVal_\"&H$2,0)))","v":0},{"$f":"IF(CommandCell='Reference Cells'!$C$17,NA(),ABS('Data In'!C26-INDIRECT(\"ZeroVal_\"&I$2,0)))","v":0},{"$f":"IF(CommandCell='Reference Cells'!$C$17,NA(),ABS('Data In'!D26-INDIRECT(\"ZeroVal_\"&J$2,0)))","v":0},{"$f":"IF(CommandCell='Reference Cells'!$C$17,NA(),ABS('Data In'!E26-INDIRECT(\"ZeroVal_\"&K$2,0)))","v":0},{"$f":"IF(CommandCell='Reference Cells'!$C$17,NA(),ABS('Data In'!F26-INDIRECT(\"ZeroVal_\"&L$2,0)))","v":0},{"$f":"MAX(BackendTable[[#This Row],[S1]:[S5]])","v":0},{"$f":"IF(ISERROR(BackendTable[[#This Row],[T0Time]]),0,COUNTIFS(BackendTable[T0Time],\"<=\"&3,BackendTable[T0Time],\">=\"&0)-COUNTIFS(BackendTable[T0Time],\">\"&BackendTable[[#This Row],[T0Time]]))","v":500},null,null,null,null,null,null,null,null,null,null,null,null,null,null,null,null,null,null,null,null,null,null,null,null,{"$f":"MATCH(MAX(BackendTable[[#This Row],[T1S1]:[T1S5]]),BackendTable[[#This Row],[T1S1]:[T1S5]],0)","v":{"$error":"#N/A"}},{"$f":"MATCH(MAX(BackendTable[[#This Row],[T2S1]:[T2S5]]),BackendTable[[#This Row],[T2S1]:[T2S5]],0)","v":{"$error":"#N/A"}},{"$f":"MATCH(MAX(BackendTable[[#This Row],[T3S1]:[T3S5]]),BackendTable[[#This Row],[T3S1]:[T3S5]],0)","v":{"$error":"#N/A"}}]
[null,{"$f":"ROW()-ROW(BackendTable[[#Headers],[Row'#]])","v":20},{"$f":"'Data In'!A27","v":0},{"$f":"IF(BackendTable[[#This Row],[Time]]-'Reference Cells'!$C$3<=0,NA(),'Reference Cells'!$C$4-BackendTable[[#This Row],[Time]])*86400","v":{"$error":"#N/A"}},{"$f":"IFERROR(8-BackendTable[[#This Row],[Column1]],\"\")","v":""},{"$f":"IF(ISERROR(BackendTable[[#This Row],[Column1]]),-9,(BackendTable[[#This Row],[Net Time]]-NetTimeMin)*RangeAdj)","v":-9},{"$f":"IF(AND(BackendTable[[#This Row],[Time]]>='Reference Cells'!$C$6,BackendTable[[#This Row],[Time]]<='Reference Cells'!$C$7),(BackendTable[[#This Row],[Time]]-'Reference Cells'!$C$6)*86400,NA())","v":2},{"$f":"IF(CommandCell='Reference Cells'!$C$17,NA(),ABS('Data In'!B27-INDIRECT(\"ZeroVal_\"&H$2,0)))","v":0},{"$f":"IF(CommandCell='Reference Cells'!$C$17,NA(),ABS('Data In'!C27-INDIRECT(\"ZeroVal_\"&I$2,0)))","v":0},{"$f":"IF(CommandCell='Reference Cells'!$C$17,NA(),ABS('Data In'!D27-INDIRECT(\"ZeroVal_\"&J$2,0)))","v":0},{"$f":"IF(CommandCell='Reference Cells'!$C$17,NA(),ABS('Data In'!E27-INDIRECT(\"ZeroVal_\"&K$2,0)))","v":0},{"$f":"IF(CommandCell='Reference Cells'!$C$17,NA(),ABS('Data In'!F27-INDIRECT(\"ZeroVal_\"&L$2,0)))","v":0},{"$f":"MAX(BackendTable[[#This Row],[S1]:[S5]])","v":0},{"$f":"IF(ISERROR(BackendTable[[#This Row],[T0Time]]),0,COUNTIFS(BackendTable[T0Time],\"<=\"&3,BackendTable[T0Time],\">=\"&0)-COUNTIFS(BackendTable[T0Time],\">\"&BackendTable[[#This Row],[T0Time]]))","v":500},null,null,null,null,null,null,null,null,null,null,null,null,null,null,null,null,null,null,null,null,null,null,null,null,{"$f":"MATCH(MAX(BackendTable[[#This Row],[T1S1]:[T1S5]]),BackendTable[[#This Row],[T1S1]:[T1S5]],0)","v":{"$error":"#N/A"}},{"$f":"MATCH(MAX(BackendTable[[#This Row],[T2S1]:[T2S5]]),BackendTable[[#This Row],[T2S1]:[T2S5]],0)","v":{"$error":"#N/A"}},{"$f":"MATCH(MAX(BackendTable[[#This Row],[T3S1]:[T3S5]]),BackendTable[[#This Row],[T3S1]:[T3S5]],0)","v":{"$error":"#N/A"}}]
[null,{"$f":"ROW()-ROW(BackendTable[[#Headers],[Row'#]])","v":21},{"$f":"'Data In'!A28","v":0},{"$f":"IF(BackendTable[[#This Row],[Time]]-'Reference Cells'!$C$3<=0,NA(),'Reference Cells'!$C$4-BackendTable[[#This Row],[Time]])*86400","v":{"$error":"#N/A"}},{"$f":"IFERROR(8-BackendTable[[#This Row],[Column1]],\"\")","v":""},{"$f":"IF(ISERROR(BackendTable[[#This Row],[Column1]]),-9,(BackendTable[[#This Row],[Net Time]]-NetTimeMin)*RangeAdj)","v":-9},{"$f":"IF(AND(BackendTable[[#This Row],[Time]]>='Reference Cells'!$C$6,BackendTable[[#This Row],[Time]]<='Reference Cells'!$C$7),(BackendTable[[#This Row],[Time]]-'Reference Cells'!$C$6)*86400,NA())","v":2},{"$f":"IF(CommandCell='Reference Cells'!$C$17,NA(),ABS('Data In'!B28-INDIRECT(\"ZeroVal_\"&H$2,0)))","v":0},{"$f":"IF(CommandCell='Reference Cells'!$C$17,NA(),ABS('Data In'!C28-INDIRECT(\"ZeroVal_\"&I$2,0)))","v":0},{"$f":"IF(CommandCell='Reference Cells'!$C$17,NA(),ABS('Data In'!D28-INDIRECT(\"ZeroVal_\"&J$2,0)))","v":0},{"$f":"IF(CommandCell='Reference Cells'!$C$17,NA(),ABS('Data In'!E28-INDIRECT(\"ZeroVal_\"&K$2,0)))","v":0},{"$f":"IF(CommandCell='Reference Cells'!$C$17,NA(),ABS('Data In'!F28-INDIRECT(\"ZeroVal_\"&L$2,0)))","v":0},{"$f":"MAX(BackendTable[[#This Row],[S1]:[S5]])","v":0},{"$f":"IF(ISERROR(BackendTable[[#This Row],[T0Time]]),0,COUNTIFS(BackendTable[T0Time],\"<=\"&3,BackendTable[T0Time],\">=\"&0)-COUNTIFS(BackendTable[T0Time],\">\"&BackendTable[[#This Row],[T0Time]]))","v":500},null,null,null,null,null,null,null,null,null,null,null,null,null,null,null,null,null,null,null,null,null,null,null,null,{"$f":"MATCH(MAX(BackendTable[[#This Row],[T1S1]:[T1S5]]),BackendTable[[#This Row],[T1S1]:[T1S5]],0)","v":{"$error":"#N/A"}},{"$f":"MATCH(MAX(BackendTable[[#This Row],[T2S1]:[T2S5]]),BackendTable[[#This Row],[T2S1]:[T2S5]],0)","v":{"$error":"#N/A"}},{"$f":"MATCH(MAX(BackendTable[[#This Row],[T3S1]:[T3S5]]),BackendTable[[#This Row],[T3S1]:[T3S5]],0)","v":{"$error":"#N/A"}}]
[null,{"$f":"ROW()-ROW(BackendTable[[#Headers],[Row'#]])","v":22},{"$f":"'Data In'!A29","v":0},{"$f":"IF(BackendTable[[#This Row],[Time]]-'Reference Cells'!$C$3<=0,NA(),'Reference Cells'!$C$4-BackendTable[[#This Row],[Time]])*86400","v":{"$error":"#N/A"}},{"$f":"IFERROR(8-BackendTable[[#This Row],[Column1]],\"\")","v":""},{"$f":"IF(ISERROR(BackendTable[[#This Row],[Column1]]),-9,(BackendTable[[#This Row],[Net Time]]-NetTimeMin)*RangeAdj)","v":-9},{"$f":"IF(AND(BackendTable[[#This Row],[Time]]>='Reference Cells'!$C$6,BackendTable[[#This Row],[Time]]<='Reference Cells'!$C$7),(BackendTable[[#This Row],[Time]]-'Reference Cells'!$C$6)*86400,NA())","v":2},{"$f":"IF(CommandCell='Reference Cells'!$C$17,NA(),ABS('Data In'!B29-INDIRECT(\"ZeroVal_\"&H$2,0)))","v":0},{"$f":"IF(CommandCell='Reference Cells'!$C$17,NA(),ABS('Data In'!C29-INDIRECT(\"ZeroVal_\"&I$2,0)))","v":0},{"$f":"IF(CommandCell='Reference Cells'!$C$17,NA(),ABS('Data In'!D29-INDIRECT(\"ZeroVal_\"&J$2,0)))","v":0},{"$f":"IF(CommandCell='Reference Cells'!$C$17,NA(),ABS('Data In'!E29-INDIRECT(\"ZeroVal_\"&K$2,0)))","v":0},{"$f":"IF(CommandCell='Reference Cells'!$C$17,NA(),ABS('Data In'!F29-INDIRECT(\"ZeroVal_\"&L$2,0)))","v":0},{"$f":"MAX(BackendTable[[#This Row],[S1]:[S5]])","v":0},{"$f":"IF(ISERROR(BackendTable[[#This Row],[T0Time]]),0,COUNTIFS(BackendTable[T0Time],\"<=\"&3,BackendTable[T0Time],\">=\"&0)-COUNTIFS(BackendTable[T0Time],\">\"&BackendTable[[#This Row],[T0Time]]))","v":500},null,null,null,null,null,null,null,null,null,null,null,null,null,null,null,null,null,null,null,null,null,null,null,null,{"$f":"MATCH(MAX(BackendTable[[#This Row],[T1S1]:[T1S5]]),BackendTable[[#This Row],[T1S1]:[T1S5]],0)","v":{"$error":"#N/A"}},{"$f":"MATCH(MAX(BackendTable[[#This Row],[T2S1]:[T2S5]]),BackendTable[[#This Row],[T2S1]:[T2S5]],0)","v":{"$error":"#N/A"}},{"$f":"MATCH(MAX(BackendTable[[#This Row],[T3S1]:[T3S5]]),BackendTable[[#This Row],[T3S1]:[T3S5]],0)","v":{"$error":"#N/A"}}]
[null,{"$f":"ROW()-ROW(BackendTable[[#Headers],[Row'#]])","v":23},{"$f":"'Data In'!A30","v":0},{"$f":"IF(BackendTable[[#This Row],[Time]]-'Reference Cells'!$C$3<=0,NA(),'Reference Cells'!$C$4-BackendTable[[#This Row],[Time]])*86400","v":{"$error":"#N/A"}},{"$f":"IFERROR(8-BackendTable[[#This Row],[Column1]],\"\")","v":""},{"$f":"IF(ISERROR(BackendTable[[#This Row],[Column1]]),-9,(BackendTable[[#This Row],[Net Time]]-NetTimeMin)*RangeAdj)","v":-9},{"$f":"IF(AND(BackendTable[[#This Row],[Time]]>='Reference Cells'!$C$6,BackendTable[[#This Row],[Time]]<='Reference Cells'!$C$7),(BackendTable[[#This Row],[Time]]-'Reference Cells'!$C$6)*86400,NA())","v":2},{"$f":"IF(CommandCell='Reference Cells'!$C$17,NA(),ABS('Data In'!B30-INDIRECT(\"ZeroVal_\"&H$2,0)))","v":0},{"$f":"IF(CommandCell='Reference Cells'!$C$17,NA(),ABS('Data In'!C30-INDIRECT(\"ZeroVal_\"&I$2,0)))","v":0},{"$f":"IF(CommandCell='Reference Cells'!$C$17,NA(),ABS('Data In'!D30-INDIRECT(\"ZeroVal_\"&J$2,0)))","v":0},{"$f":"IF(CommandCell='Reference Cells'!$C$17,NA(),ABS('Data In'!E30-INDIRECT(\"ZeroVal_\"&K$2,0)))","v":0},{"$f":"IF(CommandCell='Reference Cells'!$C$17,NA(),ABS('Data In'!F30-INDIRECT(\"ZeroVal_\"&L$2,0)))","v":0},{"$f":"MAX(BackendTable[[#This Row],[S1]:[S5]])","v":0},{"$f":"IF(ISERROR(BackendTable[[#This Row],[T0Time]]),0,COUNTIFS(BackendTable[T0Time],\"<=\"&3,BackendTable[T0Time],\">=\"&0)-COUNTIFS(BackendTable[T0Time],\">\"&BackendTable[[#This Row],[T0Time]]))","v":500},null,null,null,null,null,null,null,null,null,null,null,null,null,null,null,null,null,null,null,null,null,null,null,null,{"$f":"MATCH(MAX(BackendTable[[#This Row],[T1S1]:[T1S5]]),BackendTable[[#This Row],[T1S1]:[T1S5]],0)","v":{"$error":"#N/A"}},{"$f":"MATCH(MAX(BackendTable[[#This Row],[T2S1]:[T2S5]]),BackendTable[[#This Row],[T2S1]:[T2S5]],0)","v":{"$error":"#N/A"}},{"$f":"MATCH(MAX(BackendTable[[#This Row],[T3S1]:[T3S5]]),BackendTable[[#This Row],[T3S1]:[T3S5]],0)","v":{"$error":"#N/A"}}]
[null,{"$f":"ROW()-ROW(BackendTable[[#Headers],[Row'#]])","v":24},{"$f":"'Data In'!A31","v":0},{"$f":"IF(BackendTable[[#This Row],[Time]]-'Reference Cells'!$C$3<=0,NA(),'Reference Cells'!$C$4-BackendTable[[#This Row],[Time]])*86400","v":{"$error":"#N/A"}},{"$f":"IFERROR(8-BackendTable[[#This Row],[Column1]],\"\")","v":""},{"$f":"IF(ISERROR(BackendTable[[#This Row],[Column1]]),-9,(BackendTable[[#This Row],[Net Time]]-NetTimeMin)*RangeAdj)","v":-9},{"$f":"IF(AND(BackendTable[[#This Row],[Time]]>='Reference Cells'!$C$6,BackendTable[[#This Row],[Time]]<='Reference Cells'!$C$7),(BackendTable[[#This Row],[Time]]-'Reference Cells'!$C$6)*86400,NA())","v":2},{"$f":"IF(CommandCell='Reference Cells'!$C$17,NA(),ABS('Data In'!B31-INDIRECT(\"ZeroVal_\"&H$2,0)))","v":0},{"$f":"IF(CommandCell='Reference Cells'!$C$17,NA(),ABS('Data In'!C31-INDIRECT(\"ZeroVal_\"&I$2,0)))","v":0},{"$f":"IF(CommandCell='Reference Cells'!$C$17,NA(),ABS('Data In'!D31-INDIRECT(\"ZeroVal_\"&J$2,0)))","v":0},{"$f":"IF(CommandCell='Reference Cells'!$C$17,NA(),ABS('Data In'!E31-INDIRECT(\"ZeroVal_\"&K$2,0)))","v":0},{"$f":"IF(CommandCell='Reference Cells'!$C$17,NA(),ABS('Data In'!F31-INDIRECT(\"ZeroVal_\"&L$2,0)))","v":0},{"$f":"MAX(BackendTable[[#This Row],[S1]:[S5]])","v":0},{"$f":"IF(ISERROR(BackendTable[[#This Row],[T0Time]]),0,COUNTIFS(BackendTable[T0Time],\"<=\"&3,BackendTable[T0Time],\">=\"&0)-COUNTIFS(BackendTable[T0Time],\">\"&BackendTable[[#This Row],[T0Time]]))","v":500},null,null,null,null,null,null,null,null,null,null,null,null,null,null,null,null,null,null,null,null,null,null,null,null,{"$f":"MATCH(MAX(BackendTable[[#This Row],[T1S1]:[T1S5]]),BackendTable[[#This Row],[T1S1]:[T1S5]],0)","v":{"$error":"#N/A"}},{"$f":"MATCH(MAX(BackendTable[[#This Row],[T2S1]:[T2S5]]),BackendTable[[#This Row],[T2S1]:[T2S5]],0)","v":{"$error":"#N/A"}},{"$f":"MATCH(MAX(BackendTable[[#This Row],[T3S1]:[T3S5]]),BackendTable[[#This Row],[T3S1]:[T3S5]],0)","v":{"$error":"#N/A"}}]
[null,{"$f":"ROW()-ROW(BackendTable[[#Headers],[Row'#]])","v":25},{"$f":"'Data In'!A32","v":0},{"$f":"IF(BackendTable[[#This Row],[Time]]-'Reference Cells'!$C$3<=0,NA(),'Reference Cells'!$C$4-BackendTable[[#This Row],[Time]])*86400","v":{"$error":"#N/A"}},{"$f":"IFERROR(8-BackendTable[[#This Row],[Column1]],\"\")","v":""},{"$f":"IF(ISERROR(BackendTable[[#This Row],[Column1]]),-9,(BackendTable[[#This Row],[Net Time]]-NetTimeMin)*RangeAdj)","v":-9},{"$f":"IF(AND(BackendTable[[#This Row],[Time]]>='Reference Cells'!$C$6,BackendTable[[#This Row],[Time]]<='Reference Cells'!$C$7),(BackendTable[[#This Row],[Time]]-'Reference Cells'!$C$6)*86400,NA())","v":2},{"$f":"IF(CommandCell='Reference Cells'!$C$17,NA(),ABS('Data In'!B32-INDIRECT(\"ZeroVal_\"&H$2,0)))","v":0},{"$f":"IF(CommandCell='Reference Cells'!$C$17,NA(),ABS('Data In'!C32-INDIRECT(\"ZeroVal_\"&I$2,0)))","v":0},{"$f":"IF(CommandCell='Reference Cells'!$C$17,NA(),ABS('Data In'!D32-INDIRECT(\"ZeroVal_\"&J$2,0)))","v":0},{"$f":"IF(CommandCell='Reference Cells'!$C$17,NA(),ABS('Data In'!E32-INDIRECT(\"ZeroVal_\"&K$2,0)))","v":0},{"$f":"IF(CommandCell='Reference Cells'!$C$17,NA(),ABS('Data In'!F32-INDIRECT(\"ZeroVal_\"&L$2,0)))","v":0},{"$f":"MAX(BackendTable[[#This Row],[S1]:[S5]])","v":0},{"$f":"IF(ISERROR(BackendTable[[#This Row],[T0Time]]),0,COUNTIFS(BackendTable[T0Time],\"<=\"&3,BackendTable[T0Time],\">=\"&0)-COUNTIFS(BackendTable[T0Time],\">\"&BackendTable[[#This Row],[T0Time]]))","v":500},null,null,null,null,null,null,null,null,null,null,null,null,null,null,null,null,null,null,null,null,null,null,null,null,{"$f":"MATCH(MAX(BackendTable[[#This Row],[T1S1]:[T1S5]]),BackendTable[[#This Row],[T1S1]:[T1S5]],0)","v":{"$error":"#N/A"}},{"$f":"MATCH(MAX(BackendTable[[#This Row],[T2S1]:[T2S5]]),BackendTable[[#This Row],[T2S1]:[T2S5]],0)","v":{"$error":"#N/A"}},{"$f":"MATCH(MAX(BackendTable[[#This Row],[T3S1]:[T3S5]]),BackendTable[[#This Row],[T3S1]:[T3S5]],0)","v":{"$error":"#N/A"}}]
[null,{"$f":"ROW()-ROW(BackendTable[[#Headers],[Row'#]])","v":26},{"$f":"'Data In'!A33","v":0},{"$f":"IF(BackendTable[[#This Row],[Time]]-'Reference Cells'!$C$3<=0,NA(),'Reference Cells'!$C$4-BackendTable[[#This Row],[Time]])*86400","v":{"$error":"#N/A"}},{"$f":"IFERROR(8-BackendTable[[#This Row],[Column1]],\"\")","v":""},{"$f":"IF(ISERROR(BackendTable[[#This Row],[Column1]]),-9,(BackendTable[[#This Row],[Net Time]]-NetTimeMin)*RangeAdj)","v":-9},{"$f":"IF(AND(BackendTable[[#This Row],[Time]]>='Reference Cells'!$C$6,BackendTable[[#This Row],[Time]]<='Reference Cells'!$C$7),(BackendTable[[#This Row],[Time]]-'Reference Cells'!$C$6)*86400,NA())","v":2},{"$f":"IF(CommandCell='Reference Cells'!$C$17,NA(),ABS('Data In'!B33-INDIRECT(\"ZeroVal_\"&H$2,0)))","v":0},{"$f":"IF(CommandCell='Reference Cells'!$C$17,NA(),ABS('Data In'!C33-INDIRECT(\"ZeroVal_\"&I$2,0)))","v":0},{"$f":"IF(CommandCell='Reference Cells'!$C$17,NA(),ABS('Data In'!D33-INDIRECT(\"ZeroVal_\"&J$2,0)))","v":0},{"$f":"IF(CommandCell='Reference Cells'!$C$17,NA(),ABS('Data In'!E33-INDIRECT(\"ZeroVal_\"&K$2,0)))","v":0},{"$f":"IF(CommandCell='Reference Cells'!$C$17,NA(),ABS('Data In'!F33-INDIRECT(\"ZeroVal_\"&L$2,0)))","v":0},{"$f":"MAX(BackendTable[[#This Row],[S1]:[S5]])","v":0},{"$f":"IF(ISERROR(BackendTable[[#This Row],[T0Time]]),0,COUNTIFS(BackendTable[T0Time],\"<=\"&3,BackendTable[T0Time],\">=\"&0)-COUNTIFS(BackendTable[T0Time],\">\"&BackendTable[[#This Row],[T0Time]]))","v":500},null,null,null,null,null,null,null,null,null,null,null,null,null,null,null,null,null,null,null,null,null,null,null,null,{"$f":"MATCH(MAX(BackendTable[[#This Row],[T1S1]:[T1S5]]),BackendTable[[#This Row],[T1S1]:[T1S5]],0)","v":{"$error":"#N/A"}},{"$f":"MATCH(MAX(BackendTable[[#This Row],[T2S1]:[T2S5]]),BackendTable[[#This Row],[T2S1]:[T2S5]],0)","v":{"$error":"#N/A"}},{"$f":"MATCH(MAX(BackendTable[[#This Row],[T3S1]:[T3S5]]),BackendTable[[#This Row],[T3S1]:[T3S5]],0)","v":{"$error":"#N/A"}}]
[null,{"$f":"ROW()-ROW(BackendTable[[#Headers],[Row'#]])","v":27},{"$f":"'Data In'!A34","v":0},{"$f":"IF(BackendTable[[#This Row],[Time]]-'Reference Cells'!$C$3<=0,NA(),'Reference Cells'!$C$4-BackendTable[[#This Row],[Time]])*86400","v":{"$error":"#N/A"}},{"$f":"IFERROR(8-BackendTable[[#This Row],[Column1]],\"\")","v":""},{"$f":"IF(ISERROR(BackendTable[[#This Row],[Column1]]),-9,(BackendTable[[#This Row],[Net Time]]-NetTimeMin)*RangeAdj)","v":-9},{"$f":"IF(AND(BackendTable[[#This Row],[Time]]>='Reference Cells'!$C$6,BackendTable[[#This Row],[Time]]<='Reference Cells'!$C$7),(BackendTable[[#This Row],[Time]]-'Reference Cells'!$C$6)*86400,NA())","v":2},{"$f":"IF(CommandCell='Reference Cells'!$C$17,NA(),ABS('Data In'!B34-INDIRECT(\"ZeroVal_\"&H$2,0)))","v":0},{"$f":"IF(CommandCell='Reference Cells'!$C$17,NA(),ABS('Data In'!C34-INDIRECT(\"ZeroVal_\"&I$2,0)))","v":0},{"$f":"IF(CommandCell='Reference Cells'!$C$17,NA(),ABS('Data In'!D34-INDIRECT(\"ZeroVal_\"&J$2,0)))","v":0},{"$f":"IF(CommandCell='Reference Cells'!$C$17,NA(),ABS('Data In'!E34-INDIRECT(\"ZeroVal_\"&K$2,0)))","v":0},{"$f":"IF(CommandCell='Reference Cells'!$C$17,NA(),ABS('Data In'!F34-INDIRECT(\"ZeroVal_\"&L$2,0)))","v":0},{"$f":"MAX(BackendTable[[#This Row],[S1]:[S5]])","v":0},{"$f":"IF(ISERROR(BackendTable[[#This Row],[T0Time]]),0,COUNTIFS(BackendTable[T0Time],\"<=\"&3,BackendTable[T0Time],\">=\"&0)-COUNTIFS(BackendTable[T0Time],\">\"&BackendTable[[#This Row],[T0Time]]))","v":500},null,null,null,null,null,null,null,null,null,null,null,null,null,null,null,null,null,null,null,null,null,null,null,null,{"$f":"MATCH(MAX(BackendTable[[#This Row],[T1S1]:[T1S5]]),BackendTable[[#This Row],[T1S1]:[T1S5]],0)","v":{"$error":"#N/A"}},{"$f":"MATCH(MAX(BackendTable[[#This Row],[T2S1]:[T2S5]]),BackendTable[[#This Row],[T2S1]:[T2S5]],0)","v":{"$error":"#N/A"}},{"$f":"MATCH(MAX(BackendTable[[#This Row],[T3S1]:[T3S5]]),BackendTable[[#This Row],[T3S1]:[T3S5]],0)","v":{"$error":"#N/A"}}]
[null,{"$f":"ROW()-ROW(BackendTable[[#Headers],[Row'#]])","v":28},{"$f":"'Data In'!A35","v":0},{"$f":"IF(BackendTable[[#This Row],[Time]]-'Reference Cells'!$C$3<=0,NA(),'Reference Cells'!$C$4-BackendTable[[#This Row],[Time]])*86400","v":{"$error":"#N/A"}},{"$f":"IFERROR(8-BackendTable[[#This Row],[Column1]],\"\")","v":""},{"$f":"IF(ISERROR(BackendTable[[#This Row],[Column1]]),-9,(BackendTable[[#This Row],[Net Time]]-NetTimeMin)*RangeAdj)","v":-9},{"$f":"IF(AND(BackendTable[[#This Row],[Time]]>='Reference Cells'!$C$6,BackendTable[[#This Row],[Time]]<='Reference Cells'!$C$7),(BackendTable[[#This Row],[Time]]-'Reference Cells'!$C$6)*86400,NA())","v":2},{"$f":"IF(CommandCell='Reference Cells'!$C$17,NA(),ABS('Data In'!B35-INDIRECT(\"ZeroVal_\"&H$2,0)))","v":0},{"$f":"IF(CommandCell='Reference Cells'!$C$17,NA(),ABS('Data In'!C35-INDIRECT(\"ZeroVal_\"&I$2,0)))","v":0},{"$f":"IF(CommandCell='Reference Cells'!$C$17,NA(),ABS('Data In'!D35-INDIRECT(\"ZeroVal_\"&J$2,0)))","v":0},{"$f":"IF(CommandCell='Reference Cells'!$C$17,NA(),ABS('Data In'!E35-INDIRECT(\"ZeroVal_\"&K$2,0)))","v":0},{"$f":"IF(CommandCell='Reference Cells'!$C$17,NA(),ABS('Data In'!F35-INDIRECT(\"ZeroVal_\"&L$2,0)))","v":0},{"$f":"MAX(BackendTable[[#This Row],[S1]:[S5]])","v":0},{"$f":"IF(ISERROR(BackendTable[[#This Row],[T0Time]]),0,COUNTIFS(BackendTable[T0Time],\"<=\"&3,BackendTable[T0Time],\">=\"&0)-COUNTIFS(BackendTable[T0Time],\">\"&BackendTable[[#This Row],[T0Time]]))","v":500},null,null,null,null,null,null,null,null,null,null,null,null,null,null,null,null,null,null,null,null,null,null,null,null,{"$f":"MATCH(MAX(BackendTable[[#This Row],[T1S1]:[T1S5]]),BackendTable[[#This Row],[T1S1]:[T1S5]],0)","v":{"$error":"#N/A"}},{"$f":"MATCH(MAX(BackendTable[[#This Row],[T2S1]:[T2S5]]),BackendTable[[#This Row],[T2S1]:[T2S5]],0)","v":{"$error":"#N/A"}},{"$f":"MATCH(MAX(BackendTable[[#This Row],[T3S1]:[T3S5]]),BackendTable[[#This Row],[T3S1]:[T3S5]],0)","v":{"$error":"#N/A"}}]
[null,{"$f":"ROW()-ROW(BackendTable[[#Headers],[Row'#]])","v":29},{"$f":"'Data In'!A36","v":0},{"$f":"IF(BackendTable[[#This Row],[Time]]-'Reference Cells'!$C$3<=0,NA(),'Reference Cells'!$C$4-BackendTable[[#This Row],[Time]])*86400","v":{"$error":"#N/A"}},{"$f":"IFERROR(8-BackendTable[[#This Row],[Column1]],\"\")","v":""},{"$f":"IF(ISERROR(BackendTable[[#This Row],[Column1]]),-9,(BackendTable[[#This Row],[Net Time]]-NetTimeMin)*RangeAdj)","v":-9},{"$f":"IF(AND(BackendTable[[#This Row],[Time]]>='Reference Cells'!$C$6,BackendTable[[#This Row],[Time]]<='Reference Cells'!$C$7),(BackendTable[[#This Row],[Time]]-'Reference Cells'!$C$6)*86400,NA())","v":2},{"$f":"IF(CommandCell='Reference Cells'!$C$17,NA(),ABS('Data In'!B36-INDIRECT(\"ZeroVal_\"&H$2,0)))","v":0},{"$f":"IF(CommandCell='Reference Cells'!$C$17,NA(),ABS('Data In'!C36-INDIRECT(\"ZeroVal_\"&I$2,0)))","v":0},{"$f":"IF(CommandCell='Reference Cells'!$C$17,NA(),ABS('Data In'!D36-INDIRECT(\"ZeroVal_\"&J$2,0)))","v":0},{"$f":"IF(CommandCell='Reference Cells'!$C$17,NA(),ABS('Data In'!E36-INDIRECT(\"ZeroVal_\"&K$2,0)))","v":0},{"$f":"IF(CommandCell='Reference Cells'!$C$17,NA(),ABS('Data In'!F36-INDIRECT(\"ZeroVal_\"&L$2,0)))","v":0},{"$f":"MAX(BackendTable[[#This Row],[S1]:[S5]])","v":0},{"$f":"IF(ISERROR(BackendTable[[#This Row],[T0Time]]),0,COUNTIFS(BackendTable[T0Time],\"<=\"&3,BackendTable[T0Time],\">=\"&0)-COUNTIFS(BackendTable[T0Time],\">\"&BackendTable[[#This Row],[T0Time]]))","v":500},null,null,null,null,null,null,null,null,null,null,null,null,null,null,null,null,null,null,null,null,null,null,null,null,{"$f":"MATCH(MAX(BackendTable[[#This Row],[T1S1]:[T1S5]]),BackendTable[[#This Row],[T1S1]:[T1S5]],0)","v":{"$error":"#N/A"}},{"$f":"MATCH(MAX(BackendTable[[#This Row],[T2S1]:[T2S5]]),BackendTable[[#This Row],[T2S1]:[T2S5]],0)","v":{"$error":"#N/A"}},{"$f":"MATCH(MAX(BackendTable[[#This Row],[T3S1]:[T3S5]]),BackendTable[[#This Row],[T3S1]:[T3S5]],0)","v":{"$error":"#N/A"}}]
[null,{"$f":"ROW()-ROW(BackendTable[[#Headers],[Row'#]])","v":30},{"$f":"'Data In'!A37","v":0},{"$f":"IF(BackendTable[[#This Row],[Time]]-'Reference Cells'!$C$3<=0,NA(),'Reference Cells'!$C$4-BackendTable[[#This Row],[Time]])*86400","v":{"$error":"#N/A"}},{"$f":"IFERROR(8-BackendTable[[#This Row],[Column1]],\"\")","v":""},{"$f":"IF(ISERROR(BackendTable[[#This Row],[Column1]]),-9,(BackendTable[[#This Row],[Net Time]]-NetTimeMin)*RangeAdj)","v":-9},{"$f":"IF(AND(BackendTable[[#This Row],[Time]]>='Reference Cells'!$C$6,BackendTable[[#This Row],[Time]]<='Reference Cells'!$C$7),(BackendTable[[#This Row],[Time]]-'Reference Cells'!$C$6)*86400,NA())","v":2},{"$f":"IF(CommandCell='Reference Cells'!$C$17,NA(),ABS('Data In'!B37-INDIRECT(\"ZeroVal_\"&H$2,0)))","v":0},{"$f":"IF(CommandCell='Reference Cells'!$C$17,NA(),ABS('Data In'!C37-INDIRECT(\"ZeroVal_\"&I$2,0)))","v":0},{"$f":"IF(CommandCell='Reference Cells'!$C$17,NA(),ABS('Data In'!D37-INDIRECT(\"ZeroVal_\"&J$2,0)))","v":0},{"$f":"IF(CommandCell='Reference Cells'!$C$17,NA(),ABS('Data In'!E37-INDIRECT(\"ZeroVal_\"&K$2,0)))","v":0},{"$f":"IF(CommandCell='Reference Cells'!$C$17,NA(),ABS('Data In'!F37-INDIRECT(\"ZeroVal_\"&L$2,0)))","v":0},{"$f":"MAX(BackendTable[[#This Row],[S1]:[S5]])","v":0},{"$f":"IF(ISERROR(BackendTable[[#This Row],[T0Time]]),0,COUNTIFS(BackendTable[T0Time],\"<=\"&3,BackendTable[T0Time],\">=\"&0)-COUNTIFS(BackendTable[T0Time],\">\"&BackendTable[[#This Row],[T0Time]]))","v":500},null,null,null,null,null,null,null,null,null,null,null,null,null,null,null,null,null,null,null,null,null,null,null,null,{"$f":"MATCH(MAX(BackendTable[[#This Row],[T1S1]:[T1S5]]),BackendTable[[#This Row],[T1S1]:[T1S5]],0)","v":{"$error":"#N/A"}},{"$f":"MATCH(MAX(BackendTable[[#This Row],[T2S1]:[T2S5]]),BackendTable[[#This Row],[T2S1]:[T2S5]],0)","v":{"$error":"#N/A"}},{"$f":"MATCH(MAX(BackendTable[[#This Row],[T3S1]:[T3S5]]),BackendTable[[#This Row],[T3S1]:[T3S5]],0)","v":{"$error":"#N/A"}}]
[null,{"$f":"ROW()-ROW(BackendTable[[#Headers],[Row'#]])","v":31},{"$f":"'Data In'!A38","v":0},{"$f":"IF(BackendTable[[#This Row],[Time]]-'Reference Cells'!$C$3<=0,NA(),'Reference Cells'!$C$4-BackendTable[[#This Row],[Time]])*86400","v":{"$error":"#N/A"}},{"$f":"IFERROR(8-BackendTable[[#This Row],[Column1]],\"\")","v":""},{"$f":"IF(ISERROR(BackendTable[[#This Row],[Column1]]),-9,(BackendTable[[#This Row],[Net Time]]-NetTimeMin)*RangeAdj)","v":-9},{"$f":"IF(AND(BackendTable[[#This Row],[Time]]>='Reference Cells'!$C$6,BackendTable[[#This Row],[Time]]<='Reference Cells'!$C$7),(BackendTable[[#This Row],[Time]]-'Reference Cells'!$C$6)*86400,NA())","v":2},{"$f":"IF(CommandCell='Reference Cells'!$C$17,NA(),ABS('Data In'!B38-INDIRECT(\"ZeroVal_\"&H$2,0)))","v":0},{"$f":"IF(CommandCell='Reference Cells'!$C$17,NA(),ABS('Data In'!C38-INDIRECT(\"ZeroVal_\"&I$2,0)))","v":0},{"$f":"IF(CommandCell='Reference Cells'!$C$17,NA(),ABS('Data In'!D38-INDIRECT(\"ZeroVal_\"&J$2,0)))","v":0},{"$f":"IF(CommandCell='Reference Cells'!$C$17,NA(),ABS('Data In'!E38-INDIRECT(\"ZeroVal_\"&K$2,0)))","v":0},{"$f":"IF(CommandCell='Reference Cells'!$C$17,NA(),ABS('Data In'!F38-INDIRECT(\"ZeroVal_\"&L$2,0)))","v":0},{"$f":"MAX(BackendTable[[#This Row],[S1]:[S5]])","v":0},{"$f":"IF(ISERROR(BackendTable[[#This Row],[T0Time]]),0,COUNTIFS(BackendTable[T0Time],\"<=\"&3,BackendTable[T0Time],\">=\"&0)-COUNTIFS(BackendTable[T0Time],\">\"&BackendTable[[#This Row],[T0Time]]))","v":500},null,null,null,null,null,null,null,null,null,null,null,null,null,null,null,null,null,null,null,null,null,null,null,null,{"$f":"MATCH(MAX(BackendTable[[#This Row],[T1S1]:[T1S5]]),BackendTable[[#This Row],[T1S1]:[T1S5]],0)","v":{"$error":"#N/A"}},{"$f":"MATCH(MAX(BackendTable[[#This Row],[T2S1]:[T2S5]]),BackendTable[[#This Row],[T2S1]:[T2S5]],0)","v":{"$error":"#N/A"}},{"$f":"MATCH(MAX(BackendTable[[#This Row],[T3S1]:[T3S5]]),BackendTable[[#This Row],[T3S1]:[T3S5]],0)","v":{"$error":"#N/A"}}]
[null,{"$f":"ROW()-ROW(BackendTable[[#Headers],[Row'#]])","v":32},{"$f":"'Data In'!A39","v":0},{"$f":"IF(BackendTable[[#This Row],[Time]]-'Reference Cells'!$C$3<=0,NA(),'Reference Cells'!$C$4-BackendTable[[#This Row],[Time]])*86400","v":{"$error":"#N/A"}},{"$f":"IFERROR(8-BackendTable[[#This Row],[Column1]],\"\")","v":""},{"$f":"IF(ISERROR(BackendTable[[#This Row],[Column1]]),-9,(BackendTable[[#This Row],[Net Time]]-NetTimeMin)*RangeAdj)","v":-9},{"$f":"IF(AND(BackendTable[[#This Row],[Time]]>='Reference Cells'!$C$6,BackendTable[[#This Row],[Time]]<='Reference Cells'!$C$7),(BackendTable[[#This Row],[Time]]-'Reference Cells'!$C$6)*86400,NA())","v":2},{"$f":"IF(CommandCell='Reference Cells'!$C$17,NA(),ABS('Data In'!B39-INDIRECT(\"ZeroVal_\"&H$2,0)))","v":0},{"$f":"IF(CommandCell='Reference Cells'!$C$17,NA(),ABS('Data In'!C39-INDIRECT(\"ZeroVal_\"&I$2,0)))","v":0},{"$f":"IF(CommandCell='Reference Cells'!$C$17,NA(),ABS('Data In'!D39-INDIRECT(\"ZeroVal_\"&J$2,0)))","v":0},{"$f":"IF(CommandCell='Reference Cells'!$C$17,NA(),ABS('Data In'!E39-INDIRECT(\"ZeroVal_\"&K$2,0)))","v":0},{"$f":"IF(CommandCell='Reference Cells'!$C$17,NA(),ABS('Data In'!F39-INDIRECT(\"ZeroVal_\"&L$2,0)))","v":0},{"$f":"MAX(BackendTable[[#This Row],[S1]:[S5]])","v":0},{"$f":"IF(ISERROR(BackendTable[[#This Row],[T0Time]]),0,COUNTIFS(BackendTable[T0Time],\"<=\"&3,BackendTable[T0Time],\">=\"&0)-COUNTIFS(BackendTable[T0Time],\">\"&BackendTable[[#This Row],[T0Time]]))","v":500},null,null,null,null,null,null,null,null,null,null,null,null,null,null,null,null,null,null,null,null,null,null,null,null,{"$f":"MATCH(MAX(BackendTable[[#This Row],[T1S1]:[T1S5]]),BackendTable[[#This Row],[T1S1]:[T1S5]],0)","v":{"$error":"#N/A"}},{"$f":"MATCH(MAX(BackendTable[[#This Row],[T2S1]:[T2S5]]),BackendTable[[#This Row],[T2S1]:[T2S5]],0)","v":{"$error":"#N/A"}},{"$f":"MATCH(MAX(BackendTable[[#This Row],[T3S1]:[T3S5]]),BackendTable[[#This Row],[T3S1]:[T3S5]],0)","v":{"$error":"#N/A"}}]
[null,{"$f":"ROW()-ROW(BackendTable[[#Headers],[Row'#]])","v":33},{"$f":"'Data In'!A40","v":0},{"$f":"IF(BackendTable[[#This Row],[Time]]-'Reference Cells'!$C$3<=0,NA(),'Reference Cells'!$C$4-BackendTable[[#This Row],[Time]])*86400","v":{"$error":"#N/A"}},{"$f":"IFERROR(8-BackendTable[[#This Row],[Column1]],\"\")","v":""},{"$f":"IF(ISERROR(BackendTable[[#This Row],[Column1]]),-9,(BackendTable[[#This Row],[Net Time]]-NetTimeMin)*RangeAdj)","v":-9},{"$f":"IF(AND(BackendTable[[#This Row],[Time]]>='Reference Cells'!$C$6,BackendTable[[#This Row],[Time]]<='Reference Cells'!$C$7),(BackendTable[[#This Row],[Time]]-'Reference Cells'!$C$6)*86400,NA())","v":2},{"$f":"IF(CommandCell='Reference Cells'!$C$17,NA(),ABS('Data In'!B40-INDIRECT(\"ZeroVal_\"&H$2,0)))","v":0},{"$f":"IF(CommandCell='Reference Cells'!$C$17,NA(),ABS('Data In'!C40-INDIRECT(\"ZeroVal_\"&I$2,0)))","v":0},{"$f":"IF(CommandCell='Reference Cells'!$C$17,NA(),ABS('Data In'!D40-INDIRECT(\"ZeroVal_\"&J$2,0)))","v":0},{"$f":"IF(CommandCell='Reference Cells'!$C$17,NA(),ABS('Data In'!E40-INDIRECT(\"ZeroVal_\"&K$2,0)))","v":0},{"$f":"IF(CommandCell='Reference Cells'!$C$17,NA(),ABS('Data In'!F40-INDIRECT(\"ZeroVal_\"&L$2,0)))","v":0},{"$f":"MAX(BackendTable[[#This Row],[S1]:[S5]])","v":0},{"$f":"IF(ISERROR(BackendTable[[#This Row],[T0Time]]),0,COUNTIFS(BackendTable[T0Time],\"<=\"&3,BackendTable[T0Time],\">=\"&0)-COUNTIFS(BackendTable[T0Time],\">\"&BackendTable[[#This Row],[T0Time]]))","v":500},null,null,null,null,null,null,null,null,null,null,null,null,null,null,null,null,null,null,null,null,null,null,null,null,{"$f":"MATCH(MAX(BackendTable[[#This Row],[T1S1]:[T1S5]]),BackendTable[[#This Row],[T1S1]:[T1S5]],0)","v":{"$error":"#N/A"}},{"$f":"MATCH(MAX(BackendTable[[#This Row],[T2S1]:[T2S5]]),BackendTable[[#This Row],[T2S1]:[T2S5]],0)","v":{"$error":"#N/A"}},{"$f":"MATCH(MAX(BackendTable[[#This Row],[T3S1]:[T3S5]]),BackendTable[[#This Row],[T3S1]:[T3S5]],0)","v":{"$error":"#N/A"}}]
[null,{"$f":"ROW()-ROW(BackendTable[[#Headers],[Row'#]])","v":34},{"$f":"'Data In'!A41","v":0},{"$f":"IF(BackendTable[[#This Row],[Time]]-'Reference Cells'!$C$3<=0,NA(),'Reference Cells'!$C$4-BackendTable[[#This Row],[Time]])*86400","v":{"$error":"#N/A"}},{"$f":"IFERROR(8-BackendTable[[#This Row],[Column1]],\"\")","v":""},{"$f":"IF(ISERROR(BackendTable[[#This Row],[Column1]]),-9,(BackendTable[[#This Row],[Net Time]]-NetTimeMin)*RangeAdj)","v":-9},{"$f":"IF(AND(BackendTable[[#This Row],[Time]]>='Reference Cells'!$C$6,BackendTable[[#This Row],[Time]]<='Reference Cells'!$C$7),(BackendTable[[#This Row],[Time]]-'Reference Cells'!$C$6)*86400,NA())","v":2},{"$f":"IF(CommandCell='Reference Cells'!$C$17,NA(),ABS('Data In'!B41-INDIRECT(\"ZeroVal_\"&H$2,0)))","v":0},{"$f":"IF(CommandCell='Reference Cells'!$C$17,NA(),ABS('Data In'!C41-INDIRECT(\"ZeroVal_\"&I$2,0)))","v":0},{"$f":"IF(CommandCell='Reference Cells'!$C$17,NA(),ABS('Data In'!D41-INDIRECT(\"ZeroVal_\"&J$2,0)))","v":0},{"$f":"IF(CommandCell='Reference Cells'!$C$17,NA(),ABS('Data In'!E41-INDIRECT(\"ZeroVal_\"&K$2,0)))","v":0},{"$f":"IF(CommandCell='Reference Cells'!$C$17,NA(),ABS('Data In'!F41-INDIRECT(\"ZeroVal_\"&L$2,0)))","v":0},{"$f":"MAX(BackendTable[[#This Row],[S1]:[S5]])","v":0},{"$f":"IF(ISERROR(BackendTable[[#This Row],[T0Time]]),0,COUNTIFS(BackendTable[T0Time],\"<=\"&3,BackendTable[T0Time],\">=\"&0)-COUNTIFS(BackendTable[T0Time],\">\"&BackendTable[[#This Row],[T0Time]]))","v":500},null,null,null,null,null,null,null,null,null,null,null,null,null,null,null,null,null,null,null,null,null,null,null,null,{"$f":"MATCH(MAX(BackendTable[[#This Row],[T1S1]:[T1S5]]),BackendTable[[#This Row],[T1S1]:[T1S5]],0)","v":{"$error":"#N/A"}},{"$f":"MATCH(MAX(BackendTable[[#This Row],[T2S1]:[T2S5]]),BackendTable[[#This Row],[T2S1]:[T2S5]],0)","v":{"$error":"#N/A"}},{"$f":"MATCH(MAX(BackendTable[[#This Row],[T3S1]:[T3S5]]),BackendTable[[#This Row],[T3S1]:[T3S5]],0)","v":{"$error":"#N/A"}}]
[null,{"$f":"ROW()-ROW(BackendTable[[#Headers],[Row'#]])","v":35},{"$f":"'Data In'!A42","v":0},{"$f":"IF(BackendTable[[#This Row],[Time]]-'Reference Cells'!$C$3<=0,NA(),'Reference Cells'!$C$4-BackendTable[[#This Row],[Time]])*86400","v":{"$error":"#N/A"}},{"$f":"IFERROR(8-BackendTable[[#This Row],[Column1]],\"\")","v":""},{"$f":"IF(ISERROR(BackendTable[[#This Row],[Column1]]),-9,(BackendTable[[#This Row],[Net Time]]-NetTimeMin)*RangeAdj)","v":-9},{"$f":"IF(AND(BackendTable[[#This Row],[Time]]>='Reference Cells'!$C$6,BackendTable[[#This Row],[Time]]<='Reference Cells'!$C$7),(BackendTable[[#This Row],[Time]]-'Reference Cells'!$C$6)*86400,NA())","v":2},{"$f":"IF(CommandCell='Reference Cells'!$C$17,NA(),ABS('Data In'!B42-INDIRECT(\"ZeroVal_\"&H$2,0)))","v":0},{"$f":"IF(CommandCell='Reference Cells'!$C$17,NA(),ABS('Data In'!C42-INDIRECT(\"ZeroVal_\"&I$2,0)))","v":0},{"$f":"IF(CommandCell='Reference Cells'!$C$17,NA(),ABS('Data In'!D42-INDIRECT(\"ZeroVal_\"&J$2,0)))","v":0},{"$f":"IF(CommandCell='Reference Cells'!$C$17,NA(),ABS('Data In'!E42-INDIRECT(\"ZeroVal_\"&K$2,0)))","v":0},{"$f":"IF(CommandCell='Reference Cells'!$C$17,NA(),ABS('Data In'!F42-INDIRECT(\"ZeroVal_\"&L$2,0)))","v":0},{"$f":"MAX(BackendTable[[#This Row],[S1]:[S5]])","v":0},{"$f":"IF(ISERROR(BackendTable[[#This Row],[T0Time]]),0,COUNTIFS(BackendTable[T0Time],\"<=\"&3,BackendTable[T0Time],\">=\"&0)-COUNTIFS(BackendTable[T0Time],\">\"&BackendTable[[#This Row],[T0Time]]))","v":500},null,null,null,null,null,null,null,null,null,null,null,null,null,null,null,null,null,null,null,null,null,null,null,null,{"$f":"MATCH(MAX(BackendTable[[#This Row],[T1S1]:[T1S5]]),BackendTable[[#This Row],[T1S1]:[T1S5]],0)","v":{"$error":"#N/A"}},{"$f":"MATCH(MAX(BackendTable[[#This Row],[T2S1]:[T2S5]]),BackendTable[[#This Row],[T2S1]:[T2S5]],0)","v":{"$error":"#N/A"}},{"$f":"MATCH(MAX(BackendTable[[#This Row],[T3S1]:[T3S5]]),BackendTable[[#This Row],[T3S1]:[T3S5]],0)","v":{"$error":"#N/A"}}]
[null,{"$f":"ROW()-ROW(BackendTable[[#Headers],[Row'#]])","v":36},{"$f":"'Data In'!A43","v":0},{"$f":"IF(BackendTable[[#This Row],[Time]]-'Reference Cells'!$C$3<=0,NA(),'Reference Cells'!$C$4-BackendTable[[#This Row],[Time]])*86400","v":{"$error":"#N/A"}},{"$f":"IFERROR(8-BackendTable[[#This Row],[Column1]],\"\")","v":""},{"$f":"IF(ISERROR(BackendTable[[#This Row],[Column1]]),-9,(BackendTable[[#This Row],[Net Time]]-NetTimeMin)*RangeAdj)","v":-9},{"$f":"IF(AND(BackendTable[[#This Row],[Time]]>='Reference Cells'!$C$6,BackendTable[[#This Row],[Time]]<='Reference Cells'!$C$7),(BackendTable[[#This Row],[Time]]-'Reference Cells'!$C$6)*86400,NA())","v":2},{"$f":"IF(CommandCell='Reference Cells'!$C$17,NA(),ABS('Data In'!B43-INDIRECT(\"ZeroVal_\"&H$2,0)))","v":0},{"$f":"IF(CommandCell='Reference Cells'!$C$17,NA(),ABS('Data In'!C43-INDIRECT(\"ZeroVal_\"&I$2,0)))","v":0},{"$f":"IF(CommandCell='Reference Cells'!$C$17,NA(),ABS('Data In'!D43-INDIRECT(\"ZeroVal_\"&J$2,0)))","v":0},{"$f":"IF(CommandCell='Reference Cells'!$C$17,NA(),ABS('Data In'!E43-INDIRECT(\"ZeroVal_\"&K$2,0)))","v":0},{"$f":"IF(CommandCell='Reference Cells'!$C$17,NA(),ABS('Data In'!F43-INDIRECT(\"ZeroVal_\"&L$2,0)))","v":0},{"$f":"MAX(BackendTable[[#This Row],[S1]:[S5]])","v":0},{"$f":"IF(ISERROR(BackendTable[[#This Row],[T0Time]]),0,COUNTIFS(BackendTable[T0Time],\"<=\"&3,BackendTable[T0Time],\">=\"&0)-COUNTIFS(BackendTable[T0Time],\">\"&BackendTable[[#This Row],[T0Time]]))","v":500},null,null,null,null,null,null,null,null,null,null,null,null,null,null,null,null,null,null,null,null,null,null,null,null,{"$f":"MATCH(MAX(BackendTable[[#This Row],[T1S1]:[T1S5]]),BackendTable[[#This Row],[T1S1]:[T1S5]],0)","v":{"$error":"#N/A"}},{"$f":"MATCH(MAX(BackendTable[[#This Row],[T2S1]:[T2S5]]),BackendTable[[#This Row],[T2S1]:[T2S5]],0)","v":{"$error":"#N/A"}},{"$f":"MATCH(MAX(BackendTable[[#This Row],[T3S1]:[T3S5]]),BackendTable[[#This Row],[T3S1]:[T3S5]],0)","v":{"$error":"#N/A"}}]
[null,{"$f":"ROW()-ROW(BackendTable[[#Headers],[Row'#]])","v":37},{"$f":"'Data In'!A44","v":0},{"$f":"IF(BackendTable[[#This Row],[Time]]-'Reference Cells'!$C$3<=0,NA(),'Reference Cells'!$C$4-BackendTable[[#This Row],[Time]])*86400","v":{"$error":"#N/A"}},{"$f":"IFERROR(8-BackendTable[[#This Row],[Column1]],\"\")","v":""},{"$f":"IF(ISERROR(BackendTable[[#This Row],[Column1]]),-9,(BackendTable[[#This Row],[Net Time]]-NetTimeMin)*RangeAdj)","v":-9},{"$f":"IF(AND(BackendTable[[#This Row],[Time]]>='Reference Cells'!$C$6,BackendTable[[#This Row],[Time]]<='Reference Cells'!$C$7),(BackendTable[[#This Row],[Time]]-'Reference Cells'!$C$6)*86400,NA())","v":2},{"$f":"IF(CommandCell='Reference Cells'!$C$17,NA(),ABS('Data In'!B44-INDIRECT(\"ZeroVal_\"&H$2,0)))","v":0},{"$f":"IF(CommandCell='Reference Cells'!$C$17,NA(),ABS('Data In'!C44-INDIRECT(\"ZeroVal_\"&I$2,0)))","v":0},{"$f":"IF(CommandCell='Reference Cells'!$C$17,NA(),ABS('Data In'!D44-INDIRECT(\"ZeroVal_\"&J$2,0)))","v":0},{"$f":"IF(CommandCell='Reference Cells'!$C$17,NA(),ABS('Data In'!E44-INDIRECT(\"ZeroVal_\"&K$2,0)))","v":0},{"$f":"IF(CommandCell='Reference Cells'!$C$17,NA(),ABS('Data In'!F44-INDIRECT(\"ZeroVal_\"&L$2,0)))","v":0},{"$f":"MAX(BackendTable[[#This Row],[S1]:[S5]])","v":0},{"$f":"IF(ISERROR(BackendTable[[#This Row],[T0Time]]),0,COUNTIFS(BackendTable[T0Time],\"<=\"&3,BackendTable[T0Time],\">=\"&0)-COUNTIFS(BackendTable[T0Time],\">\"&BackendTable[[#This Row],[T0Time]]))","v":500},null,null,null,null,null,null,null,null,null,null,null,null,null,null,null,null,null,null,null,null,null,null,null,null,{"$f":"MATCH(MAX(BackendTable[[#This Row],[T1S1]:[T1S5]]),BackendTable[[#This Row],[T1S1]:[T1S5]],0)","v":{"$error":"#N/A"}},{"$f":"MATCH(MAX(BackendTable[[#This Row],[T2S1]:[T2S5]]),BackendTable[[#This Row],[T2S1]:[T2S5]],0)","v":{"$error":"#N/A"}},{"$f":"MATCH(MAX(BackendTable[[#This Row],[T3S1]:[T3S5]]),BackendTable[[#This Row],[T3S1]:[T3S5]],0)","v":{"$error":"#N/A"}}]
[null,{"$f":"ROW()-ROW(BackendTable[[#Headers],[Row'#]])","v":38},{"$f":"'Data In'!A45","v":0},{"$f":"IF(BackendTable[[#This Row],[Time]]-'Reference Cells'!$C$3<=0,NA(),'Reference Cells'!$C$4-BackendTable[[#This Row],[Time]])*86400","v":{"$error":"#N/A"}},{"$f":"IFERROR(8-BackendTable[[#This Row],[Column1]],\"\")","v":""},{"$f":"IF(ISERROR(BackendTable[[#This Row],[Column1]]),-9,(BackendTable[[#This Row],[Net Time]]-NetTimeMin)*RangeAdj)","v":-9},{"$f":"IF(AND(BackendTable[[#This Row],[Time]]>='Reference Cells'!$C$6,BackendTable[[#This Row],[Time]]<='Reference Cells'!$C$7),(BackendTable[[#This Row],[Time]]-'Reference Cells'!$C$6)*86400,NA())","v":2},{"$f":"IF(CommandCell='Reference Cells'!$C$17,NA(),ABS('Data In'!B45-INDIRECT(\"ZeroVal_\"&H$2,0)))","v":0},{"$f":"IF(CommandCell='Reference Cells'!$C$17,NA(),ABS('Data In'!C45-INDIRECT(\"ZeroVal_\"&I$2,0)))","v":0},{"$f":"IF(CommandCell='Reference Cells'!$C$17,NA(),ABS('Data In'!D45-INDIRECT(\"ZeroVal_\"&J$2,0)))","v":0},{"$f":"IF(CommandCell='Reference Cells'!$C$17,NA(),ABS('Data In'!E45-INDIRECT(\"ZeroVal_\"&K$2,0)))","v":0},{"$f":"IF(CommandCell='Reference Cells'!$C$17,NA(),ABS('Data In'!F45-INDIRECT(\"ZeroVal_\"&L$2,0)))","v":0},{"$f":"MAX(BackendTable[[#This Row],[S1]:[S5]])","v":0},{"$f":"IF(ISERROR(BackendTable[[#This Row],[T0Time]]),0,COUNTIFS(BackendTable[T0Time],\"<=\"&3,BackendTable[T0Time],\">=\"&0)-COUNTIFS(BackendTable[T0Time],\">\"&BackendTable[[#This Row],[T0Time]]))","v":500},null,null,null,null,null,null,null,null,null,null,null,null,null,null,null,null,null,null,null,null,null,null,null,null,{"$f":"MATCH(MAX(BackendTable[[#This Row],[T1S1]:[T1S5]]),BackendTable[[#This Row],[T1S1]:[T1S5]],0)","v":{"$error":"#N/A"}},{"$f":"MATCH(MAX(BackendTable[[#This Row],[T2S1]:[T2S5]]),BackendTable[[#This Row],[T2S1]:[T2S5]],0)","v":{"$error":"#N/A"}},{"$f":"MATCH(MAX(BackendTable[[#This Row],[T3S1]:[T3S5]]),BackendTable[[#This Row],[T3S1]:[T3S5]],0)","v":{"$error":"#N/A"}}]
[null,{"$f":"ROW()-ROW(BackendTable[[#Headers],[Row'#]])","v":39},{"$f":"'Data In'!A46","v":0},{"$f":"IF(BackendTable[[#This Row],[Time]]-'Reference Cells'!$C$3<=0,NA(),'Reference Cells'!$C$4-BackendTable[[#This Row],[Time]])*86400","v":{"$error":"#N/A"}},{"$f":"IFERROR(8-BackendTable[[#This Row],[Column1]],\"\")","v":""},{"$f":"IF(ISERROR(BackendTable[[#This Row],[Column1]]),-9,(BackendTable[[#This Row],[Net Time]]-NetTimeMin)*RangeAdj)","v":-9},{"$f":"IF(AND(BackendTable[[#This Row],[Time]]>='Reference Cells'!$C$6,BackendTable[[#This Row],[Time]]<='Reference Cells'!$C$7),(BackendTable[[#This Row],[Time]]-'Reference Cells'!$C$6)*86400,NA())","v":2},{"$f":"IF(CommandCell='Reference Cells'!$C$17,NA(),ABS('Data In'!B46-INDIRECT(\"ZeroVal_\"&H$2,0)))","v":0},{"$f":"IF(CommandCell='Reference Cells'!$C$17,NA(),ABS('Data In'!C46-INDIRECT(\"ZeroVal_\"&I$2,0)))","v":0},{"$f":"IF(CommandCell='Reference Cells'!$C$17,NA(),ABS('Data In'!D46-INDIRECT(\"ZeroVal_\"&J$2,0)))","v":0},{"$f":"IF(CommandCell='Reference Cells'!$C$17,NA(),ABS('Data In'!E46-INDIRECT(\"ZeroVal_\"&K$2,0)))","v":0},{"$f":"IF(CommandCell='Reference Cells'!$C$17,NA(),ABS('Data In'!F46-INDIRECT(\"ZeroVal_\"&L$2,0)))","v":0},{"$f":"MAX(BackendTable[[#This Row],[S1]:[S5]])","v":0},{"$f":"IF(ISERROR(BackendTable[[#This Row],[T0Time]]),0,COUNTIFS(BackendTable[T0Time],\"<=\"&3,BackendTable[T0Time],\">=\"&0)-COUNTIFS(BackendTable[T0Time],\">\"&BackendTable[[#This Row],[T0Time]]))","v":500},null,null,null,null,null,null,null,null,null,null,null,null,null,null,null,null,null,null,null,null,null,null,null,null,{"$f":"MATCH(MAX(BackendTable[[#This Row],[T1S1]:[T1S5]]),BackendTable[[#This Row],[T1S1]:[T1S5]],0)","v":{"$error":"#N/A"}},{"$f":"MATCH(MAX(BackendTable[[#This Row],[T2S1]:[T2S5]]),BackendTable[[#This Row],[T2S1]:[T2S5]],0)","v":{"$error":"#N/A"}},{"$f":"MATCH(MAX(BackendTable[[#This Row],[T3S1]:[T3S5]]),BackendTable[[#This Row],[T3S1]:[T3S5]],0)","v":{"$error":"#N/A"}}]
[null,{"$f":"ROW()-ROW(BackendTable[[#Headers],[Row'#]])","v":40},{"$f":"'Data In'!A47","v":0},{"$f":"IF(BackendTable[[#This Row],[Time]]-'Reference Cells'!$C$3<=0,NA(),'Reference Cells'!$C$4-BackendTable[[#This Row],[Time]])*86400","v":{"$error":"#N/A"}},{"$f":"IFERROR(8-BackendTable[[#This Row],[Column1]],\"\")","v":""},{"$f":"IF(ISERROR(BackendTable[[#This Row],[Column1]]),-9,(BackendTable[[#This Row],[Net Time]]-NetTimeMin)*RangeAdj)","v":-9},{"$f":"IF(AND(BackendTable[[#This Row],[Time]]>='Reference Cells'!$C$6,BackendTable[[#This Row],[Time]]<='Reference Cells'!$C$7),(BackendTable[[#This Row],[Time]]-'Reference Cells'!$C$6)*86400,NA())","v":2},{"$f":"IF(CommandCell='Reference Cells'!$C$17,NA(),ABS('Data In'!B47-INDIRECT(\"ZeroVal_\"&H$2,0)))","v":0},{"$f":"IF(CommandCell='Reference Cells'!$C$17,NA(),ABS('Data In'!C47-INDIRECT(\"ZeroVal_\"&I$2,0)))","v":0},{"$f":"IF(CommandCell='Reference Cells'!$C$17,NA(),ABS('Data In'!D47-INDIRECT(\"ZeroVal_\"&J$2,0)))","v":0},{"$f":"IF(CommandCell='Reference Cells'!$C$17,NA(),ABS('Data In'!E47-INDIRECT(\"ZeroVal_\"&K$2,0)))","v":0},{"$f":"IF(CommandCell='Reference Cells'!$C$17,NA(),ABS('Data In'!F47-INDIRECT(\"ZeroVal_\"&L$2,0)))","v":0},{"$f":"MAX(BackendTable[[#This Row],[S1]:[S5]])","v":0},{"$f":"IF(ISERROR(BackendTable[[#This Row],[T0Time]]),0,COUNTIFS(BackendTable[T0Time],\"<=\"&3,BackendTable[T0Time],\">=\"&0)-COUNTIFS(BackendTable[T0Time],\">\"&BackendTable[[#This Row],[T0Time]]))","v":500},null,null,null,null,null,null,null,null,null,null,null,null,null,null,null,null,null,null,null,null,null,null,null,null,{"$f":"MATCH(MAX(BackendTable[[#This Row],[T1S1]:[T1S5]]),BackendTable[[#This Row],[T1S1]:[T1S5]],0)","v":{"$error":"#N/A"}},{"$f":"MATCH(MAX(BackendTable[[#This Row],[T2S1]:[T2S5]]),BackendTable[[#This Row],[T2S1]:[T2S5]],0)","v":{"$error":"#N/A"}},{"$f":"MATCH(MAX(BackendTable[[#This Row],[T3S1]:[T3S5]]),BackendTable[[#This Row],[T3S1]:[T3S5]],0)","v":{"$error":"#N/A"}}]
[null,{"$f":"ROW()-ROW(BackendTable[[#Headers],[Row'#]])","v":41},{"$f":"'Data In'!A48","v":0},{"$f":"IF(BackendTable[[#This Row],[Time]]-'Reference Cells'!$C$3<=0,NA(),'Reference Cells'!$C$4-BackendTable[[#This Row],[Time]])*86400","v":{"$error":"#N/A"}},{"$f":"IFERROR(8-BackendTable[[#This Row],[Column1]],\"\")","v":""},{"$f":"IF(ISERROR(BackendTable[[#This Row],[Column1]]),-9,(BackendTable[[#This Row],[Net Time]]-NetTimeMin)*RangeAdj)","v":-9},{"$f":"IF(AND(BackendTable[[#This Row],[Time]]>='Reference Cells'!$C$6,BackendTable[[#This Row],[Time]]<='Reference Cells'!$C$7),(BackendTable[[#This Row],[Time]]-'Reference Cells'!$C$6)*86400,NA())","v":2},{"$f":"IF(CommandCell='Reference Cells'!$C$17,NA(),ABS('Data In'!B48-INDIRECT(\"ZeroVal_\"&H$2,0)))","v":0},{"$f":"IF(CommandCell='Reference Cells'!$C$17,NA(),ABS('Data In'!C48-INDIRECT(\"ZeroVal_\"&I$2,0)))","v":0},{"$f":"IF(CommandCell='Reference Cells'!$C$17,NA(),ABS('Data In'!D48-INDIRECT(\"ZeroVal_\"&J$2,0)))","v":0},{"$f":"IF(CommandCell='Reference Cells'!$C$17,NA(),ABS('Data In'!E48-INDIRECT(\"ZeroVal_\"&K$2,0)))","v":0},{"$f":"IF(CommandCell='Reference Cells'!$C$17,NA(),ABS('Data In'!F48-INDIRECT(\"ZeroVal_\"&L$2,0)))","v":0},{"$f":"MAX(BackendTable[[#This Row],[S1]:[S5]])","v":0},{"$f":"IF(ISERROR(BackendTable[[#This Row],[T0Time]]),0,COUNTIFS(BackendTable[T0Time],\"<=\"&3,BackendTable[T0Time],\">=\"&0)-COUNTIFS(BackendTable[T0Time],\">\"&BackendTable[[#This Row],[T0Time]]))","v":500},null,null,null,null,null,null,null,null,null,null,null,null,null,null,null,null,null,null,null,null,null,null,null,null,{"$f":"MATCH(MAX(BackendTable[[#This Row],[T1S1]:[T1S5]]),BackendTable[[#This Row],[T1S1]:[T1S5]],0)","v":{"$error":"#N/A"}},{"$f":"MATCH(MAX(BackendTable[[#This Row],[T2S1]:[T2S5]]),BackendTable[[#This Row],[T2S1]:[T2S5]],0)","v":{"$error":"#N/A"}},{"$f":"MATCH(MAX(BackendTable[[#This Row],[T3S1]:[T3S5]]),BackendTable[[#This Row],[T3S1]:[T3S5]],0)","v":{"$error":"#N/A"}}]
[null,{"$f":"ROW()-ROW(BackendTable[[#Headers],[Row'#]])","v":42},{"$f":"'Data In'!A49","v":0},{"$f":"IF(BackendTable[[#This Row],[Time]]-'Reference Cells'!$C$3<=0,NA(),'Reference Cells'!$C$4-BackendTable[[#This Row],[Time]])*86400","v":{"$error":"#N/A"}},{"$f":"IFERROR(8-BackendTable[[#This Row],[Column1]],\"\")","v":""},{"$f":"IF(ISERROR(BackendTable[[#This Row],[Column1]]),-9,(BackendTable[[#This Row],[Net Time]]-NetTimeMin)*RangeAdj)","v":-9},{"$f":"IF(AND(BackendTable[[#This Row],[Time]]>='Reference Cells'!$C$6,BackendTable[[#This Row],[Time]]<='Reference Cells'!$C$7),(BackendTable[[#This Row],[Time]]-'Reference Cells'!$C$6)*86400,NA())","v":2},{"$f":"IF(CommandCell='Reference Cells'!$C$17,NA(),ABS('Data In'!B49-INDIRECT(\"ZeroVal_\"&H$2,0)))","v":0},{"$f":"IF(CommandCell='Reference Cells'!$C$17,NA(),ABS('Data In'!C49-INDIRECT(\"ZeroVal_\"&I$2,0)))","v":0},{"$f":"IF(CommandCell='Reference Cells'!$C$17,NA(),ABS('Data In'!D49-INDIRECT(\"ZeroVal_\"&J$2,0)))","v":0},{"$f":"IF(CommandCell='Reference Cells'!$C$17,NA(),ABS('Data In'!E49-INDIRECT(\"ZeroVal_\"&K$2,0)))","v":0},{"$f":"IF(CommandCell='Reference Cells'!$C$17,NA(),ABS('Data In'!F49-INDIRECT(\"ZeroVal_\"&L$2,0)))","v":0},{"$f":"MAX(BackendTable[[#This Row],[S1]:[S5]])","v":0},{"$f":"IF(ISERROR(BackendTable[[#This Row],[T0Time]]),0,COUNTIFS(BackendTable[T0Time],\"<=\"&3,BackendTable[T0Time],\">=\"&0)-COUNTIFS(BackendTable[T0Time],\">\"&BackendTable[[#This Row],[T0Time]]))","v":500},null,null,null,null,null,null,null,null,null,null,null,null,null,null,null,null,null,null,null,null,null,null,null,null,{"$f":"MATCH(MAX(BackendTable[[#This Row],[T1S1]:[T1S5]]),BackendTable[[#This Row],[T1S1]:[T1S5]],0)","v":{"$error":"#N/A"}},{"$f":"MATCH(MAX(BackendTable[[#This Row],[T2S1]:[T2S5]]),BackendTable[[#This Row],[T2S1]:[T2S5]],0)","v":{"$error":"#N/A"}},{"$f":"MATCH(MAX(BackendTable[[#This Row],[T3S1]:[T3S5]]),BackendTable[[#This Row],[T3S1]:[T3S5]],0)","v":{"$error":"#N/A"}}]
[null,{"$f":"ROW()-ROW(BackendTable[[#Headers],[Row'#]])","v":43},{"$f":"'Data In'!A50","v":0},{"$f":"IF(BackendTable[[#This Row],[Time]]-'Reference Cells'!$C$3<=0,NA(),'Reference Cells'!$C$4-BackendTable[[#This Row],[Time]])*86400","v":{"$error":"#N/A"}},{"$f":"IFERROR(8-BackendTable[[#This Row],[Column1]],\"\")","v":""},{"$f":"IF(ISERROR(BackendTable[[#This Row],[Column1]]),-9,(BackendTable[[#This Row],[Net Time]]-NetTimeMin)*RangeAdj)","v":-9},{"$f":"IF(AND(BackendTable[[#This Row],[Time]]>='Reference Cells'!$C$6,BackendTable[[#This Row],[Time]]<='Reference Cells'!$C$7),(BackendTable[[#This Row],[Time]]-'Reference Cells'!$C$6)*86400,NA())","v":2},{"$f":"IF(CommandCell='Reference Cells'!$C$17,NA(),ABS('Data In'!B50-INDIRECT(\"ZeroVal_\"&H$2,0)))","v":0},{"$f":"IF(CommandCell='Reference Cells'!$C$17,NA(),ABS('Data In'!C50-INDIRECT(\"ZeroVal_\"&I$2,0)))","v":0},{"$f":"IF(CommandCell='Reference Cells'!$C$17,NA(),ABS('Data In'!D50-INDIRECT(\"ZeroVal_\"&J$2,0)))","v":0},{"$f":"IF(CommandCell='Reference Cells'!$C$17,NA(),ABS('Data In'!E50-INDIRECT(\"ZeroVal_\"&K$2,0)))","v":0},{"$f":"IF(CommandCell='Reference Cells'!$C$17,NA(),ABS('Data In'!F50-INDIRECT(\"ZeroVal_\"&L$2,0)))","v":0},{"$f":"MAX(BackendTable[[#This Row],[S1]:[S5]])","v":0},{"$f":"IF(ISERROR(BackendTable[[#This Row],[T0Time]]),0,COUNTIFS(BackendTable[T0Time],\"<=\"&3,BackendTable[T0Time],\">=\"&0)-COUNTIFS(BackendTable[T0Time],\">\"&BackendTable[[#This Row],[T0Time]]))","v":500},null,null,null,null,null,null,null,null,null,null,null,null,null,null,null,null,null,null,null,null,null,null,null,null,{"$f":"MATCH(MAX(BackendTable[[#This Row],[T1S1]:[T1S5]]),BackendTable[[#This Row],[T1S1]:[T1S5]],0)","v":{"$error":"#N/A"}},{"$f":"MATCH(MAX(BackendTable[[#This Row],[T2S1]:[T2S5]]),BackendTable[[#This Row],[T2S1]:[T2S5]],0)","v":{"$error":"#N/A"}},{"$f":"MATCH(MAX(BackendTable[[#This Row],[T3S1]:[T3S5]]),BackendTable[[#This Row],[T3S1]:[T3S5]],0)","v":{"$error":"#N/A"}}]
[null,{"$f":"ROW()-ROW(BackendTable[[#Headers],[Row'#]])","v":44},{"$f":"'Data In'!A51","v":0},{"$f":"IF(BackendTable[[#This Row],[Time]]-'Reference Cells'!$C$3<=0,NA(),'Reference Cells'!$C$4-BackendTable[[#This Row],[Time]])*86400","v":{"$error":"#N/A"}},{"$f":"IFERROR(8-BackendTable[[#This Row],[Column1]],\"\")","v":""},{"$f":"IF(ISERROR(BackendTable[[#This Row],[Column1]]),-9,(BackendTable[[#This Row],[Net Time]]-NetTimeMin)*RangeAdj)","v":-9},{"$f":"IF(AND(BackendTable[[#This Row],[Time]]>='Reference Cells'!$C$6,BackendTable[[#This Row],[Time]]<='Reference Cells'!$C$7),(BackendTable[[#This Row],[Time]]-'Reference Cells'!$C$6)*86400,NA())","v":2},{"$f":"IF(CommandCell='Reference Cells'!$C$17,NA(),ABS('Data In'!B51-INDIRECT(\"ZeroVal_\"&H$2,0)))","v":0},{"$f":"IF(CommandCell='Reference Cells'!$C$17,NA(),ABS('Data In'!C51-INDIRECT(\"ZeroVal_\"&I$2,0)))","v":0},{"$f":"IF(CommandCell='Reference Cells'!$C$17,NA(),ABS('Data In'!D51-INDIRECT(\"ZeroVal_\"&J$2,0)))","v":0},{"$f":"IF(CommandCell='Reference Cells'!$C$17,NA(),ABS('Data In'!E51-INDIRECT(\"ZeroVal_\"&K$2,0)))","v":0},{"$f":"IF(CommandCell='Reference Cells'!$C$17,NA(),ABS('Data In'!F51-INDIRECT(\"ZeroVal_\"&L$2,0)))","v":0},{"$f":"MAX(BackendTable[[#This Row],[S1]:[S5]])","v":0},{"$f":"IF(ISERROR(BackendTable[[#This Row],[T0Time]]),0,COUNTIFS(BackendTable[T0Time],\"<=\"&3,BackendTable[T0Time],\">=\"&0)-COUNTIFS(BackendTable[T0Time],\">\"&BackendTable[[#This Row],[T0Time]]))","v":500},null,null,null,null,null,null,null,null,null,null,null,null,null,null,null,null,null,null,null,null,null,null,null,null,{"$f":"MATCH(MAX(BackendTable[[#This Row],[T1S1]:[T1S5]]),BackendTable[[#This Row],[T1S1]:[T1S5]],0)","v":{"$error":"#N/A"}},{"$f":"MATCH(MAX(BackendTable[[#This Row],[T2S1]:[T2S5]]),BackendTable[[#This Row],[T2S1]:[T2S5]],0)","v":{"$error":"#N/A"}},{"$f":"MATCH(MAX(BackendTable[[#This Row],[T3S1]:[T3S5]]),BackendTable[[#This Row],[T3S1]:[T3S5]],0)","v":{"$error":"#N/A"}}]
[null,{"$f":"ROW()-ROW(BackendTable[[#Headers],[Row'#]])","v":45},{"$f":"'Data In'!A52","v":0},{"$f":"IF(BackendTable[[#This Row],[Time]]-'Reference Cells'!$C$3<=0,NA(),'Reference Cells'!$C$4-BackendTable[[#This Row],[Time]])*86400","v":{"$error":"#N/A"}},{"$f":"IFERROR(8-BackendTable[[#This Row],[Column1]],\"\")","v":""},{"$f":"IF(ISERROR(BackendTable[[#This Row],[Column1]]),-9,(BackendTable[[#This Row],[Net Time]]-NetTimeMin)*RangeAdj)","v":-9},{"$f":"IF(AND(BackendTable[[#This Row],[Time]]>='Reference Cells'!$C$6,BackendTable[[#This Row],[Time]]<='Reference Cells'!$C$7),(BackendTable[[#This Row],[Time]]-'Reference Cells'!$C$6)*86400,NA())","v":2},{"$f":"IF(CommandCell='Reference Cells'!$C$17,NA(),ABS('Data In'!B52-INDIRECT(\"ZeroVal_\"&H$2,0)))","v":0},{"$f":"IF(CommandCell='Reference Cells'!$C$17,NA(),ABS('Data In'!C52-INDIRECT(\"ZeroVal_\"&I$2,0)))","v":0},{"$f":"IF(CommandCell='Reference Cells'!$C$17,NA(),ABS('Data In'!D52-INDIRECT(\"ZeroVal_\"&J$2,0)))","v":0},{"$f":"IF(CommandCell='Reference Cells'!$C$17,NA(),ABS('Data In'!E52-INDIRECT(\"ZeroVal_\"&K$2,0)))","v":0},{"$f":"IF(CommandCell='Reference Cells'!$C$17,NA(),ABS('Data In'!F52-INDIRECT(\"ZeroVal_\"&L$2,0)))","v":0},{"$f":"MAX(BackendTable[[#This Row],[S1]:[S5]])","v":0},{"$f":"IF(ISERROR(BackendTable[[#This Row],[T0Time]]),0,COUNTIFS(BackendTable[T0Time],\"<=\"&3,BackendTable[T0Time],\">=\"&0)-COUNTIFS(BackendTable[T0Time],\">\"&BackendTable[[#This Row],[T0Time]]))","v":500},null,null,null,null,null,null,null,null,null,null,null,null,null,null,null,null,null,null,null,null,null,null,null,null,{"$f":"MATCH(MAX(BackendTable[[#This Row],[T1S1]:[T1S5]]),BackendTable[[#This Row],[T1S1]:[T1S5]],0)","v":{"$error":"#N/A"}},{"$f":"MATCH(MAX(BackendTable[[#This Row],[T2S1]:[T2S5]]),BackendTable[[#This Row],[T2S1]:[T2S5]],0)","v":{"$error":"#N/A"}},{"$f":"MATCH(MAX(BackendTable[[#This Row],[T3S1]:[T3S5]]),BackendTable[[#This Row],[T3S1]:[T3S5]],0)","v":{"$error":"#N/A"}}]
[null,{"$f":"ROW()-ROW(BackendTable[[#Headers],[Row'#]])","v":46},{"$f":"'Data In'!A53","v":0},{"$f":"IF(BackendTable[[#This Row],[Time]]-'Reference Cells'!$C$3<=0,NA(),'Reference Cells'!$C$4-BackendTable[[#This Row],[Time]])*86400","v":{"$error":"#N/A"}},{"$f":"IFERROR(8-BackendTable[[#This Row],[Column1]],\"\")","v":""},{"$f":"IF(ISERROR(BackendTable[[#This Row],[Column1]]),-9,(BackendTable[[#This Row],[Net Time]]-NetTimeMin)*RangeAdj)","v":-9},{"$f":"IF(AND(BackendTable[[#This Row],[Time]]>='Reference Cells'!$C$6,BackendTable[[#This Row],[Time]]<='Reference Cells'!$C$7),(BackendTable[[#This Row],[Time]]-'Reference Cells'!$C$6)*86400,NA())","v":2},{"$f":"IF(CommandCell='Reference Cells'!$C$17,NA(),ABS('Data In'!B53-INDIRECT(\"ZeroVal_\"&H$2,0)))","v":0},{"$f":"IF(CommandCell='Reference Cells'!$C$17,NA(),ABS('Data In'!C53-INDIRECT(\"ZeroVal_\"&I$2,0)))","v":0},{"$f":"IF(CommandCell='Reference Cells'!$C$17,NA(),ABS('Data In'!D53-INDIRECT(\"ZeroVal_\"&J$2,0)))","v":0},{"$f":"IF(CommandCell='Reference Cells'!$C$17,NA(),ABS('Data In'!E53-INDIRECT(\"ZeroVal_\"&K$2,0)))","v":0},{"$f":"IF(CommandCell='Reference Cells'!$C$17,NA(),ABS('Data In'!F53-INDIRECT(\"ZeroVal_\"&L$2,0)))","v":0},{"$f":"MAX(BackendTable[[#This Row],[S1]:[S5]])","v":0},{"$f":"IF(ISERROR(BackendTable[[#This Row],[T0Time]]),0,COUNTIFS(BackendTable[T0Time],\"<=\"&3,BackendTable[T0Time],\">=\"&0)-COUNTIFS(BackendTable[T0Time],\">\"&BackendTable[[#This Row],[T0Time]]))","v":500},null,null,null,null,null,null,null,null,null,null,null,null,null,null,null,null,null,null,null,null,null,null,null,null,{"$f":"MATCH(MAX(BackendTable[[#This Row],[T1S1]:[T1S5]]),BackendTable[[#This Row],[T1S1]:[T1S5]],0)","v":{"$error":"#N/A"}},{"$f":"MATCH(MAX(BackendTable[[#This Row],[T2S1]:[T2S5]]),BackendTable[[#This Row],[T2S1]:[T2S5]],0)","v":{"$error":"#N/A"}},{"$f":"MATCH(MAX(BackendTable[[#This Row],[T3S1]:[T3S5]]),BackendTable[[#This Row],[T3S1]:[T3S5]],0)","v":{"$error":"#N/A"}}]
[null,{"$f":"ROW()-ROW(BackendTable[[#Headers],[Row'#]])","v":47},{"$f":"'Data In'!A54","v":0},{"$f":"IF(BackendTable[[#This Row],[Time]]-'Reference Cells'!$C$3<=0,NA(),'Reference Cells'!$C$4-BackendTable[[#This Row],[Time]])*86400","v":{"$error":"#N/A"}},{"$f":"IFERROR(8-BackendTable[[#This Row],[Column1]],\"\")","v":""},{"$f":"IF(ISERROR(BackendTable[[#This Row],[Column1]]),-9,(BackendTable[[#This Row],[Net Time]]-NetTimeMin)*RangeAdj)","v":-9},{"$f":"IF(AND(BackendTable[[#This Row],[Time]]>='Reference Cells'!$C$6,BackendTable[[#This Row],[Time]]<='Reference Cells'!$C$7),(BackendTable[[#This Row],[Time]]-'Reference Cells'!$C$6)*86400,NA())","v":2},{"$f":"IF(CommandCell='Reference Cells'!$C$17,NA(),ABS('Data In'!B54-INDIRECT(\"ZeroVal_\"&H$2,0)))","v":0},{"$f":"IF(CommandCell='Reference Cells'!$C$17,NA(),ABS('Data In'!C54-INDIRECT(\"ZeroVal_\"&I$2,0)))","v":0},{"$f":"IF(CommandCell='Reference Cells'!$C$17,NA(),ABS('Data In'!D54-INDIRECT(\"ZeroVal_\"&J$2,0)))","v":0},{"$f":"IF(CommandCell='Reference Cells'!$C$17,NA(),ABS('Data In'!E54-INDIRECT(\"ZeroVal_\"&K$2,0)))","v":0},{"$f":"IF(CommandCell='Reference Cells'!$C$17,NA(),ABS('Data In'!F54-INDIRECT(\"ZeroVal_\"&L$2,0)))","v":0},{"$f":"MAX(BackendTable[[#This Row],[S1]:[S5]])","v":0},{"$f":"IF(ISERROR(BackendTable[[#This Row],[T0Time]]),0,COUNTIFS(BackendTable[T0Time],\"<=\"&3,BackendTable[T0Time],\">=\"&0)-COUNTIFS(BackendTable[T0Time],\">\"&BackendTable[[#This Row],[T0Time]]))","v":500},null,null,null,null,null,null,null,null,null,null,null,null,null,null,null,null,null,null,null,null,null,null,null,null,{"$f":"MATCH(MAX(BackendTable[[#This Row],[T1S1]:[T1S5]]),BackendTable[[#This Row],[T1S1]:[T1S5]],0)","v":{"$error":"#N/A"}},{"$f":"MATCH(MAX(BackendTable[[#This Row],[T2S1]:[T2S5]]),BackendTable[[#This Row],[T2S1]:[T2S5]],0)","v":{"$error":"#N/A"}},{"$f":"MATCH(MAX(BackendTable[[#This Row],[T3S1]:[T3S5]]),BackendTable[[#This Row],[T3S1]:[T3S5]],0)","v":{"$error":"#N/A"}}]
[null,{"$f":"ROW()-ROW(BackendTable[[#Headers],[Row'#]])","v":48},{"$f":"'Data In'!A55","v":0},{"$f":"IF(BackendTable[[#This Row],[Time]]-'Reference Cells'!$C$3<=0,NA(),'Reference Cells'!$C$4-BackendTable[[#This Row],[Time]])*86400","v":{"$error":"#N/A"}},{"$f":"IFERROR(8-BackendTable[[#This Row],[Column1]],\"\")","v":""},{"$f":"IF(ISERROR(BackendTable[[#This Row],[Column1]]),-9,(BackendTable[[#This Row],[Net Time]]-NetTimeMin)*RangeAdj)","v":-9},{"$f":"IF(AND(BackendTable[[#This Row],[Time]]>='Reference Cells'!$C$6,BackendTable[[#This Row],[Time]]<='Reference Cells'!$C$7),(BackendTable[[#This Row],[Time]]-'Reference Cells'!$C$6)*86400,NA())","v":2},{"$f":"IF(CommandCell='Reference Cells'!$C$17,NA(),ABS('Data In'!B55-INDIRECT(\"ZeroVal_\"&H$2,0)))","v":0},{"$f":"IF(CommandCell='Reference Cells'!$C$17,NA(),ABS('Data In'!C55-INDIRECT(\"ZeroVal_\"&I$2,0)))","v":0},{"$f":"IF(CommandCell='Reference Cells'!$C$17,NA(),ABS('Data In'!D55-INDIRECT(\"ZeroVal_\"&J$2,0)))","v":0},{"$f":"IF(CommandCell='Reference Cells'!$C$17,NA(),ABS('Data In'!E55-INDIRECT(\"ZeroVal_\"&K$2,0)))","v":0},{"$f":"IF(CommandCell='Reference Cells'!$C$17,NA(),ABS('Data In'!F55-INDIRECT(\"ZeroVal_\"&L$2,0)))","v":0},{"$f":"MAX(BackendTable[[#This Row],[S1]:[S5]])","v":0},{"$f":"IF(ISERROR(BackendTable[[#This Row],[T0Time]]),0,COUNTIFS(BackendTable[T0Time],\"<=\"&3,BackendTable[T0Time],\">=\"&0)-COUNTIFS(BackendTable[T0Time],\">\"&BackendTable[[#This Row],[T0Time]]))","v":500},null,null,null,null,null,null,null,null,null,null,null,null,null,null,null,null,null,null,null,null,null,null,null,null,{"$f":"MATCH(MAX(BackendTable[[#This Row],[T1S1]:[T1S5]]),BackendTable[[#This Row],[T1S1]:[T1S5]],0)","v":{"$error":"#N/A"}},{"$f":"MATCH(MAX(BackendTable[[#This Row],[T2S1]:[T2S5]]),BackendTable[[#This Row],[T2S1]:[T2S5]],0)","v":{"$error":"#N/A"}},{"$f":"MATCH(MAX(BackendTable[[#This Row],[T3S1]:[T3S5]]),BackendTable[[#This Row],[T3S1]:[T3S5]],0)","v":{"$error":"#N/A"}}]
[null,{"$f":"ROW()-ROW(BackendTable[[#Headers],[Row'#]])","v":49},{"$f":"'Data In'!A56","v":0},{"$f":"IF(BackendTable[[#This Row],[Time]]-'Reference Cells'!$C$3<=0,NA(),'Reference Cells'!$C$4-BackendTable[[#This Row],[Time]])*86400","v":{"$error":"#N/A"}},{"$f":"IFERROR(8-BackendTable[[#This Row],[Column1]],\"\")","v":""},{"$f":"IF(ISERROR(BackendTable[[#This Row],[Column1]]),-9,(BackendTable[[#This Row],[Net Time]]-NetTimeMin)*RangeAdj)","v":-9},{"$f":"IF(AND(BackendTable[[#This Row],[Time]]>='Reference Cells'!$C$6,BackendTable[[#This Row],[Time]]<='Reference Cells'!$C$7),(BackendTable[[#This Row],[Time]]-'Reference Cells'!$C$6)*86400,NA())","v":2},{"$f":"IF(CommandCell='Reference Cells'!$C$17,NA(),ABS('Data In'!B56-INDIRECT(\"ZeroVal_\"&H$2,0)))","v":0},{"$f":"IF(CommandCell='Reference Cells'!$C$17,NA(),ABS('Data In'!C56-INDIRECT(\"ZeroVal_\"&I$2,0)))","v":0},{"$f":"IF(CommandCell='Reference Cells'!$C$17,NA(),ABS('Data In'!D56-INDIRECT(\"ZeroVal_\"&J$2,0)))","v":0},{"$f":"IF(CommandCell='Reference Cells'!$C$17,NA(),ABS('Data In'!E56-INDIRECT(\"ZeroVal_\"&K$2,0)))","v":0},{"$f":"IF(CommandCell='Reference Cells'!$C$17,NA(),ABS('Data In'!F56-INDIRECT(\"ZeroVal_\"&L$2,0)))","v":0},{"$f":"MAX(BackendTable[[#This Row],[S1]:[S5]])","v":0},{"$f":"IF(ISERROR(BackendTable[[#This Row],[T0Time]]),0,COUNTIFS(BackendTable[T0Time],\"<=\"&3,BackendTable[T0Time],\">=\"&0)-COUNTIFS(BackendTable[T0Time],\">\"&BackendTable[[#This Row],[T0Time]]))","v":500},null,null,null,null,null,null,null,null,null,null,null,null,null,null,null,null,null,null,null,null,null,null,null,null,{"$f":"MATCH(MAX(BackendTable[[#This Row],[T1S1]:[T1S5]]),BackendTable[[#This Row],[T1S1]:[T1S5]],0)","v":{"$error":"#N/A"}},{"$f":"MATCH(MAX(BackendTable[[#This Row],[T2S1]:[T2S5]]),BackendTable[[#This Row],[T2S1]:[T2S5]],0)","v":{"$error":"#N/A"}},{"$f":"MATCH(MAX(BackendTable[[#This Row],[T3S1]:[T3S5]]),BackendTable[[#This Row],[T3S1]:[T3S5]],0)","v":{"$error":"#N/A"}}]
[null,{"$f":"ROW()-ROW(BackendTable[[#Headers],[Row'#]])","v":50},{"$f":"'Data In'!A57","v":0},{"$f":"IF(BackendTable[[#This Row],[Time]]-'Reference Cells'!$C$3<=0,NA(),'Reference Cells'!$C$4-BackendTable[[#This Row],[Time]])*86400","v":{"$error":"#N/A"}},{"$f":"IFERROR(8-BackendTable[[#This Row],[Column1]],\"\")","v":""},{"$f":"IF(ISERROR(BackendTable[[#This Row],[Column1]]),-9,(BackendTable[[#This Row],[Net Time]]-NetTimeMin)*RangeAdj)","v":-9},{"$f":"IF(AND(BackendTable[[#This Row],[Time]]>='Reference Cells'!$C$6,BackendTable[[#This Row],[Time]]<='Reference Cells'!$C$7),(BackendTable[[#This Row],[Time]]-'Reference Cells'!$C$6)*86400,NA())","v":2},{"$f":"IF(CommandCell='Reference Cells'!$C$17,NA(),ABS('Data In'!B57-INDIRECT(\"ZeroVal_\"&H$2,0)))","v":0},{"$f":"IF(CommandCell='Reference Cells'!$C$17,NA(),ABS('Data In'!C57-INDIRECT(\"ZeroVal_\"&I$2,0)))","v":0},{"$f":"IF(CommandCell='Reference Cells'!$C$17,NA(),ABS('Data In'!D57-INDIRECT(\"ZeroVal_\"&J$2,0)))","v":0},{"$f":"IF(CommandCell='Reference Cells'!$C$17,NA(),ABS('Data In'!E57-INDIRECT(\"ZeroVal_\"&K$2,0)))","v":0},{"$f":"IF(CommandCell='Reference Cells'!$C$17,NA(),ABS('Data In'!F57-INDIRECT(\"ZeroVal_\"&L$2,0)))","v":0},{"$f":"MAX(BackendTable[[#This Row],[S1]:[S5]])","v":0},{"$f":"IF(ISERROR(BackendTable[[#This Row],[T0Time]]),0,COUNTIFS(BackendTable[T0Time],\"<=\"&3,BackendTable[T0Time],\">=\"&0)-COUNTIFS(BackendTable[T0Time],\">\"&BackendTable[[#This Row],[T0Time]]))","v":500},null,null,null,null,null,null,null,null,null,null,null,null,null,null,null,null,null,null,null,null,null,null,null,null,{"$f":"MATCH(MAX(BackendTable[[#This Row],[T1S1]:[T1S5]]),BackendTable[[#This Row],[T1S1]:[T1S5]],0)","v":{"$error":"#N/A"}},{"$f":"MATCH(MAX(BackendTable[[#This Row],[T2S1]:[T2S5]]),BackendTable[[#This Row],[T2S1]:[T2S5]],0)","v":{"$error":"#N/A"}},{"$f":"MATCH(MAX(BackendTable[[#This Row],[T3S1]:[T3S5]]),BackendTable[[#This Row],[T3S1]:[T3S5]],0)","v":{"$error":"#N/A"}}]
[null,{"$f":"ROW()-ROW(BackendTable[[#Headers],[Row'#]])","v":51},{"$f":"'Data In'!A58","v":0},{"$f":"IF(BackendTable[[#This Row],[Time]]-'Reference Cells'!$C$3<=0,NA(),'Reference Cells'!$C$4-BackendTable[[#This Row],[Time]])*86400","v":{"$error":"#N/A"}},{"$f":"IFERROR(8-BackendTable[[#This Row],[Column1]],\"\")","v":""},{"$f":"IF(ISERROR(BackendTable[[#This Row],[Column1]]),-9,(BackendTable[[#This Row],[Net Time]]-NetTimeMin)*RangeAdj)","v":-9},{"$f":"IF(AND(BackendTable[[#This Row],[Time]]>='Reference Cells'!$C$6,BackendTable[[#This Row],[Time]]<='Reference Cells'!$C$7),(BackendTable[[#This Row],[Time]]-'Reference Cells'!$C$6)*86400,NA())","v":2},{"$f":"IF(CommandCell='Reference Cells'!$C$17,NA(),ABS('Data In'!B58-INDIRECT(\"ZeroVal_\"&H$2,0)))","v":0},{"$f":"IF(CommandCell='Reference Cells'!$C$17,NA(),ABS('Data In'!C58-INDIRECT(\"ZeroVal_\"&I$2,0)))","v":0},{"$f":"IF(CommandCell='Reference Cells'!$C$17,NA(),ABS('Data In'!D58-INDIRECT(\"ZeroVal_\"&J$2,0)))","v":0},{"$f":"IF(CommandCell='Reference Cells'!$C$17,NA(),ABS('Data In'!E58-INDIRECT(\"ZeroVal_\"&K$2,0)))","v":0},{"$f":"IF(CommandCell='Reference Cells'!$C$17,NA(),ABS('Data In'!F58-INDIRECT(\"ZeroVal_\"&L$2,0)))","v":0},{"$f":"MAX(BackendTable[[#This Row],[S1]:[S5]])","v":0},{"$f":"IF(ISERROR(BackendTable[[#This Row],[T0Time]]),0,COUNTIFS(BackendTable[T0Time],\"<=\"&3,BackendTable[T0Time],\">=\"&0)-COUNTIFS(BackendTable[T0Time],\">\"&BackendTable[[#This Row],[T0Time]]))","v":500},null,null,null,null,null,null,null,null,null,null,null,null,null,null,null,null,null,null,null,null,null,null,null,null,{"$f":"MATCH(MAX(BackendTable[[#This Row],[T1S1]:[T1S5]]),BackendTable[[#This Row],[T1S1]:[T1S5]],0)","v":{"$error":"#N/A"}},{"$f":"MATCH(MAX(BackendTable[[#This Row],[T2S1]:[T2S5]]),BackendTable[[#This Row],[T2S1]:[T2S5]],0)","v":{"$error":"#N/A"}},{"$f":"MATCH(MAX(BackendTable[[#This Row],[T3S1]:[T3S5]]),BackendTable[[#This Row],[T3S1]:[T3S5]],0)","v":{"$error":"#N/A"}}]
[null,{"$f":"ROW()-ROW(BackendTable[[#Headers],[Row'#]])","v":52},{"$f":"'Data In'!A59","v":0},{"$f":"IF(BackendTable[[#This Row],[Time]]-'Reference Cells'!$C$3<=0,NA(),'Reference Cells'!$C$4-BackendTable[[#This Row],[Time]])*86400","v":{"$error":"#N/A"}},{"$f":"IFERROR(8-BackendTable[[#This Row],[Column1]],\"\")","v":""},{"$f":"IF(ISERROR(BackendTable[[#This Row],[Column1]]),-9,(BackendTable[[#This Row],[Net Time]]-NetTimeMin)*RangeAdj)","v":-9},{"$f":"IF(AND(BackendTable[[#This Row],[Time]]>='Reference Cells'!$C$6,BackendTable[[#This Row],[Time]]<='Reference Cells'!$C$7),(BackendTable[[#This Row],[Time]]-'Reference Cells'!$C$6)*86400,NA())","v":2},{"$f":"IF(CommandCell='Reference Cells'!$C$17,NA(),ABS('Data In'!B59-INDIRECT(\"ZeroVal_\"&H$2,0)))","v":0},{"$f":"IF(CommandCell='Reference Cells'!$C$17,NA(),ABS('Data In'!C59-INDIRECT(\"ZeroVal_\"&I$2,0)))","v":0},{"$f":"IF(CommandCell='Reference Cells'!$C$17,NA(),ABS('Data In'!D59-INDIRECT(\"ZeroVal_\"&J$2,0)))","v":0},{"$f":"IF(CommandCell='Reference Cells'!$C$17,NA(),ABS('Data In'!E59-INDIRECT(\"ZeroVal_\"&K$2,0)))","v":0},{"$f":"IF(CommandCell='Reference Cells'!$C$17,NA(),ABS('Data In'!F59-INDIRECT(\"ZeroVal_\"&L$2,0)))","v":0},{"$f":"MAX(BackendTable[[#This Row],[S1]:[S5]])","v":0},{"$f":"IF(ISERROR(BackendTable[[#This Row],[T0Time]]),0,COUNTIFS(BackendTable[T0Time],\"<=\"&3,BackendTable[T0Time],\">=\"&0)-COUNTIFS(BackendTable[T0Time],\">\"&BackendTable[[#This Row],[T0Time]]))","v":500},null,null,null,null,null,null,null,null,null,null,null,null,null,null,null,null,null,null,null,null,null,null,null,null,{"$f":"MATCH(MAX(BackendTable[[#This Row],[T1S1]:[T1S5]]),BackendTable[[#This Row],[T1S1]:[T1S5]],0)","v":{"$error":"#N/A"}},{"$f":"MATCH(MAX(BackendTable[[#This Row],[T2S1]:[T2S5]]),BackendTable[[#This Row],[T2S1]:[T2S5]],0)","v":{"$error":"#N/A"}},{"$f":"MATCH(MAX(BackendTable[[#This Row],[T3S1]:[T3S5]]),BackendTable[[#This Row],[T3S1]:[T3S5]],0)","v":{"$error":"#N/A"}}]
[null,{"$f":"ROW()-ROW(BackendTable[[#Headers],[Row'#]])","v":53},{"$f":"'Data In'!A60","v":0},{"$f":"IF(BackendTable[[#This Row],[Time]]-'Reference Cells'!$C$3<=0,NA(),'Reference Cells'!$C$4-BackendTable[[#This Row],[Time]])*86400","v":{"$error":"#N/A"}},{"$f":"IFERROR(8-BackendTable[[#This Row],[Column1]],\"\")","v":""},{"$f":"IF(ISERROR(BackendTable[[#This Row],[Column1]]),-9,(BackendTable[[#This Row],[Net Time]]-NetTimeMin)*RangeAdj)","v":-9},{"$f":"IF(AND(BackendTable[[#This Row],[Time]]>='Reference Cells'!$C$6,BackendTable[[#This Row],[Time]]<='Reference Cells'!$C$7),(BackendTable[[#This Row],[Time]]-'Reference Cells'!$C$6)*86400,NA())","v":2},{"$f":"IF(CommandCell='Reference Cells'!$C$17,NA(),ABS('Data In'!B60-INDIRECT(\"ZeroVal_\"&H$2,0)))","v":0},{"$f":"IF(CommandCell='Reference Cells'!$C$17,NA(),ABS('Data In'!C60-INDIRECT(\"ZeroVal_\"&I$2,0)))","v":0},{"$f":"IF(CommandCell='Reference Cells'!$C$17,NA(),ABS('Data In'!D60-INDIRECT(\"ZeroVal_\"&J$2,0)))","v":0},{"$f":"IF(CommandCell='Reference Cells'!$C$17,NA(),ABS('Data In'!E60-INDIRECT(\"ZeroVal_\"&K$2,0)))","v":0},{"$f":"IF(CommandCell='Reference Cells'!$C$17,NA(),ABS('Data In'!F60-INDIRECT(\"ZeroVal_\"&L$2,0)))","v":0},{"$f":"MAX(BackendTable[[#This Row],[S1]:[S5]])","v":0},{"$f":"IF(ISERROR(BackendTable[[#This Row],[T0Time]]),0,COUNTIFS(BackendTable[T0Time],\"<=\"&3,BackendTable[T0Time],\">=\"&0)-COUNTIFS(BackendTable[T0Time],\">\"&BackendTable[[#This Row],[T0Time]]))","v":500},null,null,null,null,null,null,null,null,null,null,null,null,null,null,null,null,null,null,null,null,null,null,null,null,{"$f":"MATCH(MAX(BackendTable[[#This Row],[T1S1]:[T1S5]]),BackendTable[[#This Row],[T1S1]:[T1S5]],0)","v":{"$error":"#N/A"}},{"$f":"MATCH(MAX(BackendTable[[#This Row],[T2S1]:[T2S5]]),BackendTable[[#This Row],[T2S1]:[T2S5]],0)","v":{"$error":"#N/A"}},{"$f":"MATCH(MAX(BackendTable[[#This Row],[T3S1]:[T3S5]]),BackendTable[[#This Row],[T3S1]:[T3S5]],0)","v":{"$error":"#N/A"}}]
[null,{"$f":"ROW()-ROW(BackendTable[[#Headers],[Row'#]])","v":54},{"$f":"'Data In'!A61","v":0},{"$f":"IF(BackendTable[[#This Row],[Time]]-'Reference Cells'!$C$3<=0,NA(),'Reference Cells'!$C$4-BackendTable[[#This Row],[Time]])*86400","v":{"$error":"#N/A"}},{"$f":"IFERROR(8-BackendTable[[#This Row],[Column1]],\"\")","v":""},{"$f":"IF(ISERROR(BackendTable[[#This Row],[Column1]]),-9,(BackendTable[[#This Row],[Net Time]]-NetTimeMin)*RangeAdj)","v":-9},{"$f":"IF(AND(BackendTable[[#This Row],[Time]]>='Reference Cells'!$C$6,BackendTable[[#This Row],[Time]]<='Reference Cells'!$C$7),(BackendTable[[#This Row],[Time]]-'Reference Cells'!$C$6)*86400,NA())","v":2},{"$f":"IF(CommandCell='Reference Cells'!$C$17,NA(),ABS('Data In'!B61-INDIRECT(\"ZeroVal_\"&H$2,0)))","v":0},{"$f":"IF(CommandCell='Reference Cells'!$C$17,NA(),ABS('Data In'!C61-INDIRECT(\"ZeroVal_\"&I$2,0)))","v":0},{"$f":"IF(CommandCell='Reference Cells'!$C$17,NA(),ABS('Data In'!D61-INDIRECT(\"ZeroVal_\"&J$2,0)))","v":0},{"$f":"IF(CommandCell='Reference Cells'!$C$17,NA(),ABS('Data In'!E61-INDIRECT(\"ZeroVal_\"&K$2,0)))","v":0},{"$f":"IF(CommandCell='Reference Cells'!$C$17,NA(),ABS('Data In'!F61-INDIRECT(\"ZeroVal_\"&L$2,0)))","v":0},{"$f":"MAX(BackendTable[[#This Row],[S1]:[S5]])","v":0},{"$f":"IF(ISERROR(BackendTable[[#This Row],[T0Time]]),0,COUNTIFS(BackendTable[T0Time],\"<=\"&3,BackendTable[T0Time],\">=\"&0)-COUNTIFS(BackendTable[T0Time],\">\"&BackendTable[[#This Row],[T0Time]]))","v":500},null,null,null,null,null,null,null,null,null,null,null,null,null,null,null,null,null,null,null,null,null,null,null,null,{"$f":"MATCH(MAX(BackendTable[[#This Row],[T1S1]:[T1S5]]),BackendTable[[#This Row],[T1S1]:[T1S5]],0)","v":{"$error":"#N/A"}},{"$f":"MATCH(MAX(BackendTable[[#This Row],[T2S1]:[T2S5]]),BackendTable[[#This Row],[T2S1]:[T2S5]],0)","v":{"$error":"#N/A"}},{"$f":"MATCH(MAX(BackendTable[[#This Row],[T3S1]:[T3S5]]),BackendTable[[#This Row],[T3S1]:[T3S5]],0)","v":{"$error":"#N/A"}}]
[null,{"$f":"ROW()-ROW(BackendTable[[#Headers],[Row'#]])","v":55},{"$f":"'Data In'!A62","v":0},{"$f":"IF(BackendTable[[#This Row],[Time]]-'Reference Cells'!$C$3<=0,NA(),'Reference Cells'!$C$4-BackendTable[[#This Row],[Time]])*86400","v":{"$error":"#N/A"}},{"$f":"IFERROR(8-BackendTable[[#This Row],[Column1]],\"\")","v":""},{"$f":"IF(ISERROR(BackendTable[[#This Row],[Column1]]),-9,(BackendTable[[#This Row],[Net Time]]-NetTimeMin)*RangeAdj)","v":-9},{"$f":"IF(AND(BackendTable[[#This Row],[Time]]>='Reference Cells'!$C$6,BackendTable[[#This Row],[Time]]<='Reference Cells'!$C$7),(BackendTable[[#This Row],[Time]]-'Reference Cells'!$C$6)*86400,NA())","v":2},{"$f":"IF(CommandCell='Reference Cells'!$C$17,NA(),ABS('Data In'!B62-INDIRECT(\"ZeroVal_\"&H$2,0)))","v":0},{"$f":"IF(CommandCell='Reference Cells'!$C$17,NA(),ABS('Data In'!C62-INDIRECT(\"ZeroVal_\"&I$2,0)))","v":0},{"$f":"IF(CommandCell='Reference Cells'!$C$17,NA(),ABS('Data In'!D62-INDIRECT(\"ZeroVal_\"&J$2,0)))","v":0},{"$f":"IF(CommandCell='Reference Cells'!$C$17,NA(),ABS('Data In'!E62-INDIRECT(\"ZeroVal_\"&K$2,0)))","v":0},{"$f":"IF(CommandCell='Reference Cells'!$C$17,NA(),ABS('Data In'!F62-INDIRECT(\"ZeroVal_\"&L$2,0)))","v":0},{"$f":"MAX(BackendTable[[#This Row],[S1]:[S5]])","v":0},{"$f":"IF(ISERROR(BackendTable[[#This Row],[T0Time]]),0,COUNTIFS(BackendTable[T0Time],\"<=\"&3,BackendTable[T0Time],\">=\"&0)-COUNTIFS(BackendTable[T0Time],\">\"&BackendTable[[#This Row],[T0Time]]))","v":500},null,null,null,null,null,null,null,null,null,null,null,null,null,null,null,null,null,null,null,null,null,null,null,null,{"$f":"MATCH(MAX(BackendTable[[#This Row],[T1S1]:[T1S5]]),BackendTable[[#This Row],[T1S1]:[T1S5]],0)","v":{"$error":"#N/A"}},{"$f":"MATCH(MAX(BackendTable[[#This Row],[T2S1]:[T2S5]]),BackendTable[[#This Row],[T2S1]:[T2S5]],0)","v":{"$error":"#N/A"}},{"$f":"MATCH(MAX(BackendTable[[#This Row],[T3S1]:[T3S5]]),BackendTable[[#This Row],[T3S1]:[T3S5]],0)","v":{"$error":"#N/A"}}]
[null,{"$f":"ROW()-ROW(BackendTable[[#Headers],[Row'#]])","v":56},{"$f":"'Data In'!A63","v":0},{"$f":"IF(BackendTable[[#This Row],[Time]]-'Reference Cells'!$C$3<=0,NA(),'Reference Cells'!$C$4-BackendTable[[#This Row],[Time]])*86400","v":{"$error":"#N/A"}},{"$f":"IFERROR(8-BackendTable[[#This Row],[Column1]],\"\")","v":""},{"$f":"IF(ISERROR(BackendTable[[#This Row],[Column1]]),-9,(BackendTable[[#This Row],[Net Time]]-NetTimeMin)*RangeAdj)","v":-9},{"$f":"IF(AND(BackendTable[[#This Row],[Time]]>='Reference Cells'!$C$6,BackendTable[[#This Row],[Time]]<='Reference Cells'!$C$7),(BackendTable[[#This Row],[Time]]-'Reference Cells'!$C$6)*86400,NA())","v":2},{"$f":"IF(CommandCell='Reference Cells'!$C$17,NA(),ABS('Data In'!B63-INDIRECT(\"ZeroVal_\"&H$2,0)))","v":0},{"$f":"IF(CommandCell='Reference Cells'!$C$17,NA(),ABS('Data In'!C63-INDIRECT(\"ZeroVal_\"&I$2,0)))","v":0},{"$f":"IF(CommandCell='Reference Cells'!$C$17,NA(),ABS('Data In'!D63-INDIRECT(\"ZeroVal_\"&J$2,0)))","v":0},{"$f":"IF(CommandCell='Reference Cells'!$C$17,NA(),ABS('Data In'!E63-INDIRECT(\"ZeroVal_\"&K$2,0)))","v":0},{"$f":"IF(CommandCell='Reference Cells'!$C$17,NA(),ABS('Data In'!F63-INDIRECT(\"ZeroVal_\"&L$2,0)))","v":0},{"$f":"MAX(BackendTable[[#This Row],[S1]:[S5]])","v":0},{"$f":"IF(ISERROR(BackendTable[[#This Row],[T0Time]]),0,COUNTIFS(BackendTable[T0Time],\"<=\"&3,BackendTable[T0Time],\">=\"&0)-COUNTIFS(BackendTable[T0Time],\">\"&BackendTable[[#This Row],[T0Time]]))","v":500},null,null,null,null,null,null,null,null,null,null,null,null,null,null,null,null,null,null,null,null,null,null,null,null,{"$f":"MATCH(MAX(BackendTable[[#This Row],[T1S1]:[T1S5]]),BackendTable[[#This Row],[T1S1]:[T1S5]],0)","v":{"$error":"#N/A"}},{"$f":"MATCH(MAX(BackendTable[[#This Row],[T2S1]:[T2S5]]),BackendTable[[#This Row],[T2S1]:[T2S5]],0)","v":{"$error":"#N/A"}},{"$f":"MATCH(MAX(BackendTable[[#This Row],[T3S1]:[T3S5]]),BackendTable[[#This Row],[T3S1]:[T3S5]],0)","v":{"$error":"#N/A"}}]
[null,{"$f":"ROW()-ROW(BackendTable[[#Headers],[Row'#]])","v":57},{"$f":"'Data In'!A64","v":0},{"$f":"IF(BackendTable[[#This Row],[Time]]-'Reference Cells'!$C$3<=0,NA(),'Reference Cells'!$C$4-BackendTable[[#This Row],[Time]])*86400","v":{"$error":"#N/A"}},{"$f":"IFERROR(8-BackendTable[[#This Row],[Column1]],\"\")","v":""},{"$f":"IF(ISERROR(BackendTable[[#This Row],[Column1]]),-9,(BackendTable[[#This Row],[Net Time]]-NetTimeMin)*RangeAdj)","v":-9},{"$f":"IF(AND(BackendTable[[#This Row],[Time]]>='Reference Cells'!$C$6,BackendTable[[#This Row],[Time]]<='Reference Cells'!$C$7),(BackendTable[[#This Row],[Time]]-'Reference Cells'!$C$6)*86400,NA())","v":2},{"$f":"IF(CommandCell='Reference Cells'!$C$17,NA(),ABS('Data In'!B64-INDIRECT(\"ZeroVal_\"&H$2,0)))","v":0},{"$f":"IF(CommandCell='Reference Cells'!$C$17,NA(),ABS('Data In'!C64-INDIRECT(\"ZeroVal_\"&I$2,0)))","v":0},{"$f":"IF(CommandCell='Reference Cells'!$C$17,NA(),ABS('Data In'!D64-INDIRECT(\"ZeroVal_\"&J$2,0)))","v":0},{"$f":"IF(CommandCell='Reference Cells'!$C$17,NA(),ABS('Data In'!E64-INDIRECT(\"ZeroVal_\"&K$2,0)))","v":0},{"$f":"IF(CommandCell='Reference Cells'!$C$17,NA(),ABS('Data In'!F64-INDIRECT(\"ZeroVal_\"&L$2,0)))","v":0},{"$f":"MAX(BackendTable[[#This Row],[S1]:[S5]])","v":0},{"$f":"IF(ISERROR(BackendTable[[#This Row],[T0Time]]),0,COUNTIFS(BackendTable[T0Time],\"<=\"&3,BackendTable[T0Time],\">=\"&0)-COUNTIFS(BackendTable[T0Time],\">\"&BackendTable[[#This Row],[T0Time]]))","v":500},null,null,null,null,null,null,null,null,null,null,null,null,null,null,null,null,null,null,null,null,null,null,null,null,{"$f":"MATCH(MAX(BackendTable[[#This Row],[T1S1]:[T1S5]]),BackendTable[[#This Row],[T1S1]:[T1S5]],0)","v":{"$error":"#N/A"}},{"$f":"MATCH(MAX(BackendTable[[#This Row],[T2S1]:[T2S5]]),BackendTable[[#This Row],[T2S1]:[T2S5]],0)","v":{"$error":"#N/A"}},{"$f":"MATCH(MAX(BackendTable[[#This Row],[T3S1]:[T3S5]]),BackendTable[[#This Row],[T3S1]:[T3S5]],0)","v":{"$error":"#N/A"}}]
[null,{"$f":"ROW()-ROW(BackendTable[[#Headers],[Row'#]])","v":58},{"$f":"'Data In'!A65","v":0},{"$f":"IF(BackendTable[[#This Row],[Time]]-'Reference Cells'!$C$3<=0,NA(),'Reference Cells'!$C$4-BackendTable[[#This Row],[Time]])*86400","v":{"$error":"#N/A"}},{"$f":"IFERROR(8-BackendTable[[#This Row],[Column1]],\"\")","v":""},{"$f":"IF(ISERROR(BackendTable[[#This Row],[Column1]]),-9,(BackendTable[[#This Row],[Net Time]]-NetTimeMin)*RangeAdj)","v":-9},{"$f":"IF(AND(BackendTable[[#This Row],[Time]]>='Reference Cells'!$C$6,BackendTable[[#This Row],[Time]]<='Reference Cells'!$C$7),(BackendTable[[#This Row],[Time]]-'Reference Cells'!$C$6)*86400,NA())","v":2},{"$f":"IF(CommandCell='Reference Cells'!$C$17,NA(),ABS('Data In'!B65-INDIRECT(\"ZeroVal_\"&H$2,0)))","v":0},{"$f":"IF(CommandCell='Reference Cells'!$C$17,NA(),ABS('Data In'!C65-INDIRECT(\"ZeroVal_\"&I$2,0)))","v":0},{"$f":"IF(CommandCell='Reference Cells'!$C$17,NA(),ABS('Data In'!D65-INDIRECT(\"ZeroVal_\"&J$2,0)))","v":0},{"$f":"IF(CommandCell='Reference Cells'!$C$17,NA(),ABS('Data In'!E65-INDIRECT(\"ZeroVal_\"&K$2,0)))","v":0},{"$f":"IF(CommandCell='Reference Cells'!$C$17,NA(),ABS('Data In'!F65-INDIRECT(\"ZeroVal_\"&L$2,0)))","v":0},{"$f":"MAX(BackendTable[[#This Row],[S1]:[S5]])","v":0},{"$f":"IF(ISERROR(BackendTable[[#This Row],[T0Time]]),0,COUNTIFS(BackendTable[T0Time],\"<=\"&3,BackendTable[T0Time],\">=\"&0)-COUNTIFS(BackendTable[T0Time],\">\"&BackendTable[[#This Row],[T0Time]]))","v":500},null,null,null,null,null,null,null,null,null,null,null,null,null,null,null,null,null,null,null,null,null,null,null,null,{"$f":"MATCH(MAX(BackendTable[[#This Row],[T1S1]:[T1S5]]),BackendTable[[#This Row],[T1S1]:[T1S5]],0)","v":{"$error":"#N/A"}},{"$f":"MATCH(MAX(BackendTable[[#This Row],[T2S1]:[T2S5]]),BackendTable[[#This Row],[T2S1]:[T2S5]],0)","v":{"$error":"#N/A"}},{"$f":"MATCH(MAX(BackendTable[[#This Row],[T3S1]:[T3S5]]),BackendTable[[#This Row],[T3S1]:[T3S5]],0)","v":{"$error":"#N/A"}}]
[null,{"$f":"ROW()-ROW(BackendTable[[#Headers],[Row'#]])","v":59},{"$f":"'Data In'!A66","v":0},{"$f":"IF(BackendTable[[#This Row],[Time]]-'Reference Cells'!$C$3<=0,NA(),'Reference Cells'!$C$4-BackendTable[[#This Row],[Time]])*86400","v":{"$error":"#N/A"}},{"$f":"IFERROR(8-BackendTable[[#This Row],[Column1]],\"\")","v":""},{"$f":"IF(ISERROR(BackendTable[[#This Row],[Column1]]),-9,(BackendTable[[#This Row],[Net Time]]-NetTimeMin)*RangeAdj)","v":-9},{"$f":"IF(AND(BackendTable[[#This Row],[Time]]>='Reference Cells'!$C$6,BackendTable[[#This Row],[Time]]<='Reference Cells'!$C$7),(BackendTable[[#This Row],[Time]]-'Reference Cells'!$C$6)*86400,NA())","v":2},{"$f":"IF(CommandCell='Reference Cells'!$C$17,NA(),ABS('Data In'!B66-INDIRECT(\"ZeroVal_\"&H$2,0)))","v":0},{"$f":"IF(CommandCell='Reference Cells'!$C$17,NA(),ABS('Data In'!C66-INDIRECT(\"ZeroVal_\"&I$2,0)))","v":0},{"$f":"IF(CommandCell='Reference Cells'!$C$17,NA(),ABS('Data In'!D66-INDIRECT(\"ZeroVal_\"&J$2,0)))","v":0},{"$f":"IF(CommandCell='Reference Cells'!$C$17,NA(),ABS('Data In'!E66-INDIRECT(\"ZeroVal_\"&K$2,0)))","v":0},{"$f":"IF(CommandCell='Reference Cells'!$C$17,NA(),ABS('Data In'!F66-INDIRECT(\"ZeroVal_\"&L$2,0)))","v":0},{"$f":"MAX(BackendTable[[#This Row],[S1]:[S5]])","v":0},{"$f":"IF(ISERROR(BackendTable[[#This Row],[T0Time]]),0,COUNTIFS(BackendTable[T0Time],\"<=\"&3,BackendTable[T0Time],\">=\"&0)-COUNTIFS(BackendTable[T0Time],\">\"&BackendTable[[#This Row],[T0Time]]))","v":500},null,null,null,null,null,null,null,null,null,null,null,null,null,null,null,null,null,null,null,null,null,null,null,null,{"$f":"MATCH(MAX(BackendTable[[#This Row],[T1S1]:[T1S5]]),BackendTable[[#This Row],[T1S1]:[T1S5]],0)","v":{"$error":"#N/A"}},{"$f":"MATCH(MAX(BackendTable[[#This Row],[T2S1]:[T2S5]]),BackendTable[[#This Row],[T2S1]:[T2S5]],0)","v":{"$error":"#N/A"}},{"$f":"MATCH(MAX(BackendTable[[#This Row],[T3S1]:[T3S5]]),BackendTable[[#This Row],[T3S1]:[T3S5]],0)","v":{"$error":"#N/A"}}]
[null,{"$f":"ROW()-ROW(BackendTable[[#Headers],[Row'#]])","v":60},{"$f":"'Data In'!A67","v":0},{"$f":"IF(BackendTable[[#This Row],[Time]]-'Reference Cells'!$C$3<=0,NA(),'Reference Cells'!$C$4-BackendTable[[#This Row],[Time]])*86400","v":{"$error":"#N/A"}},{"$f":"IFERROR(8-BackendTable[[#This Row],[Column1]],\"\")","v":""},{"$f":"IF(ISERROR(BackendTable[[#This Row],[Column1]]),-9,(BackendTable[[#This Row],[Net Time]]-NetTimeMin)*RangeAdj)","v":-9},{"$f":"IF(AND(BackendTable[[#This Row],[Time]]>='Reference Cells'!$C$6,BackendTable[[#This Row],[Time]]<='Reference Cells'!$C$7),(BackendTable[[#This Row],[Time]]-'Reference Cells'!$C$6)*86400,NA())","v":2},{"$f":"IF(CommandCell='Reference Cells'!$C$17,NA(),ABS('Data In'!B67-INDIRECT(\"ZeroVal_\"&H$2,0)))","v":0},{"$f":"IF(CommandCell='Reference Cells'!$C$17,NA(),ABS('Data In'!C67-INDIRECT(\"ZeroVal_\"&I$2,0)))","v":0},{"$f":"IF(CommandCell='Reference Cells'!$C$17,NA(),ABS('Data In'!D67-INDIRECT(\"ZeroVal_\"&J$2,0)))","v":0},{"$f":"IF(CommandCell='Reference Cells'!$C$17,NA(),ABS('Data In'!E67-INDIRECT(\"ZeroVal_\"&K$2,0)))","v":0},{"$f":"IF(CommandCell='Reference Cells'!$C$17,NA(),ABS('Data In'!F67-INDIRECT(\"ZeroVal_\"&L$2,0)))","v":0},{"$f":"MAX(BackendTable[[#This Row],[S1]:[S5]])","v":0},{"$f":"IF(ISERROR(BackendTable[[#This Row],[T0Time]]),0,COUNTIFS(BackendTable[T0Time],\"<=\"&3,BackendTable[T0Time],\">=\"&0)-COUNTIFS(BackendTable[T0Time],\">\"&BackendTable[[#This Row],[T0Time]]))","v":500},null,null,null,null,null,null,null,null,null,null,null,null,null,null,null,null,null,null,null,null,null,null,null,null,{"$f":"MATCH(MAX(BackendTable[[#This Row],[T1S1]:[T1S5]]),BackendTable[[#This Row],[T1S1]:[T1S5]],0)","v":{"$error":"#N/A"}},{"$f":"MATCH(MAX(BackendTable[[#This Row],[T2S1]:[T2S5]]),BackendTable[[#This Row],[T2S1]:[T2S5]],0)","v":{"$error":"#N/A"}},{"$f":"MATCH(MAX(BackendTable[[#This Row],[T3S1]:[T3S5]]),BackendTable[[#This Row],[T3S1]:[T3S5]],0)","v":{"$error":"#N/A"}}]
[null,{"$f":"ROW()-ROW(BackendTable[[#Headers],[Row'#]])","v":61},{"$f":"'Data In'!A68","v":0},{"$f":"IF(BackendTable[[#This Row],[Time]]-'Reference Cells'!$C$3<=0,NA(),'Reference Cells'!$C$4-BackendTable[[#This Row],[Time]])*86400","v":{"$error":"#N/A"}},{"$f":"IFERROR(8-BackendTable[[#This Row],[Column1]],\"\")","v":""},{"$f":"IF(ISERROR(BackendTable[[#This Row],[Column1]]),-9,(BackendTable[[#This Row],[Net Time]]-NetTimeMin)*RangeAdj)","v":-9},{"$f":"IF(AND(BackendTable[[#This Row],[Time]]>='Reference Cells'!$C$6,BackendTable[[#This Row],[Time]]<='Reference Cells'!$C$7),(BackendTable[[#This Row],[Time]]-'Reference Cells'!$C$6)*86400,NA())","v":2},{"$f":"IF(CommandCell='Reference Cells'!$C$17,NA(),ABS('Data In'!B68-INDIRECT(\"ZeroVal_\"&H$2,0)))","v":0},{"$f":"IF(CommandCell='Reference Cells'!$C$17,NA(),ABS('Data In'!C68-INDIRECT(\"ZeroVal_\"&I$2,0)))","v":0},{"$f":"IF(CommandCell='Reference Cells'!$C$17,NA(),ABS('Data In'!D68-INDIRECT(\"ZeroVal_\"&J$2,0)))","v":0},{"$f":"IF(CommandCell='Reference Cells'!$C$17,NA(),ABS('Data In'!E68-INDIRECT(\"ZeroVal_\"&K$2,0)))","v":0},{"$f":"IF(CommandCell='Reference Cells'!$C$17,NA(),ABS('Data In'!F68-INDIRECT(\"ZeroVal_\"&L$2,0)))","v":0},{"$f":"MAX(BackendTable[[#This Row],[S1]:[S5]])","v":0},{"$f":"IF(ISERROR(BackendTable[[#This Row],[T0Time]]),0,COUNTIFS(BackendTable[T0Time],\"<=\"&3,BackendTable[T0Time],\">=\"&0)-COUNTIFS(BackendTable[T0Time],\">\"&BackendTable[[#This Row],[T0Time]]))","v":500},null,null,null,null,null,null,null,null,null,null,null,null,null,null,null,null,null,null,null,null,null,null,null,null,{"$f":"MATCH(MAX(BackendTable[[#This Row],[T1S1]:[T1S5]]),BackendTable[[#This Row],[T1S1]:[T1S5]],0)","v":{"$error":"#N/A"}},{"$f":"MATCH(MAX(BackendTable[[#This Row],[T2S1]:[T2S5]]),BackendTable[[#This Row],[T2S1]:[T2S5]],0)","v":{"$error":"#N/A"}},{"$f":"MATCH(MAX(BackendTable[[#This Row],[T3S1]:[T3S5]]),BackendTable[[#This Row],[T3S1]:[T3S5]],0)","v":{"$error":"#N/A"}}]
[null,{"$f":"ROW()-ROW(BackendTable[[#Headers],[Row'#]])","v":62},{"$f":"'Data In'!A69","v":0},{"$f":"IF(BackendTable[[#This Row],[Time]]-'Reference Cells'!$C$3<=0,NA(),'Reference Cells'!$C$4-BackendTable[[#This Row],[Time]])*86400","v":{"$error":"#N/A"}},{"$f":"IFERROR(8-BackendTable[[#This Row],[Column1]],\"\")","v":""},{"$f":"IF(ISERROR(BackendTable[[#This Row],[Column1]]),-9,(BackendTable[[#This Row],[Net Time]]-NetTimeMin)*RangeAdj)","v":-9},{"$f":"IF(AND(BackendTable[[#This Row],[Time]]>='Reference Cells'!$C$6,BackendTable[[#This Row],[Time]]<='Reference Cells'!$C$7),(BackendTable[[#This Row],[Time]]-'Reference Cells'!$C$6)*86400,NA())","v":2},{"$f":"IF(CommandCell='Reference Cells'!$C$17,NA(),ABS('Data In'!B69-INDIRECT(\"ZeroVal_\"&H$2,0)))","v":0},{"$f":"IF(CommandCell='Reference Cells'!$C$17,NA(),ABS('Data In'!C69-INDIRECT(\"ZeroVal_\"&I$2,0)))","v":0},{"$f":"IF(CommandCell='Reference Cells'!$C$17,NA(),ABS('Data In'!D69-INDIRECT(\"ZeroVal_\"&J$2,0)))","v":0},{"$f":"IF(CommandCell='Reference Cells'!$C$17,NA(),ABS('Data In'!E69-INDIRECT(\"ZeroVal_\"&K$2,0)))","v":0},{"$f":"IF(CommandCell='Reference Cells'!$C$17,NA(),ABS('Data In'!F69-INDIRECT(\"ZeroVal_\"&L$2,0)))","v":0},{"$f":"MAX(BackendTable[[#This Row],[S1]:[S5]])","v":0},{"$f":"IF(ISERROR(BackendTable[[#This Row],[T0Time]]),0,COUNTIFS(BackendTable[T0Time],\"<=\"&3,BackendTable[T0Time],\">=\"&0)-COUNTIFS(BackendTable[T0Time],\">\"&BackendTable[[#This Row],[T0Time]]))","v":500},null,null,null,null,null,null,null,null,null,null,null,null,null,null,null,null,null,null,null,null,null,null,null,null,{"$f":"MATCH(MAX(BackendTable[[#This Row],[T1S1]:[T1S5]]),BackendTable[[#This Row],[T1S1]:[T1S5]],0)","v":{"$error":"#N/A"}},{"$f":"MATCH(MAX(BackendTable[[#This Row],[T2S1]:[T2S5]]),BackendTable[[#This Row],[T2S1]:[T2S5]],0)","v":{"$error":"#N/A"}},{"$f":"MATCH(MAX(BackendTable[[#This Row],[T3S1]:[T3S5]]),BackendTable[[#This Row],[T3S1]:[T3S5]],0)","v":{"$error":"#N/A"}}]
[null,{"$f":"ROW()-ROW(BackendTable[[#Headers],[Row'#]])","v":63},{"$f":"'Data In'!A70","v":0},{"$f":"IF(BackendTable[[#This Row],[Time]]-'Reference Cells'!$C$3<=0,NA(),'Reference Cells'!$C$4-BackendTable[[#This Row],[Time]])*86400","v":{"$error":"#N/A"}},{"$f":"IFERROR(8-BackendTable[[#This Row],[Column1]],\"\")","v":""},{"$f":"IF(ISERROR(BackendTable[[#This Row],[Column1]]),-9,(BackendTable[[#This Row],[Net Time]]-NetTimeMin)*RangeAdj)","v":-9},{"$f":"IF(AND(BackendTable[[#This Row],[Time]]>='Reference Cells'!$C$6,BackendTable[[#This Row],[Time]]<='Reference Cells'!$C$7),(BackendTable[[#This Row],[Time]]-'Reference Cells'!$C$6)*86400,NA())","v":2},{"$f":"IF(CommandCell='Reference Cells'!$C$17,NA(),ABS('Data In'!B70-INDIRECT(\"ZeroVal_\"&H$2,0)))","v":0},{"$f":"IF(CommandCell='Reference Cells'!$C$17,NA(),ABS('Data In'!C70-INDIRECT(\"ZeroVal_\"&I$2,0)))","v":0},{"$f":"IF(CommandCell='Reference Cells'!$C$17,NA(),ABS('Data In'!D70-INDIRECT(\"ZeroVal_\"&J$2,0)))","v":0},{"$f":"IF(CommandCell='Reference Cells'!$C$17,NA(),ABS('Data In'!E70-INDIRECT(\"ZeroVal_\"&K$2,0)))","v":0},{"$f":"IF(CommandCell='Reference Cells'!$C$17,NA(),ABS('Data In'!F70-INDIRECT(\"ZeroVal_\"&L$2,0)))","v":0},{"$f":"MAX(BackendTable[[#This Row],[S1]:[S5]])","v":0},{"$f":"IF(ISERROR(BackendTable[[#This Row],[T0Time]]),0,COUNTIFS(BackendTable[T0Time],\"<=\"&3,BackendTable[T0Time],\">=\"&0)-COUNTIFS(BackendTable[T0Time],\">\"&BackendTable[[#This Row],[T0Time]]))","v":500},null,null,null,null,null,null,null,null,null,null,null,null,null,null,null,null,null,null,null,null,null,null,null,null,{"$f":"MATCH(MAX(BackendTable[[#This Row],[T1S1]:[T1S5]]),BackendTable[[#This Row],[T1S1]:[T1S5]],0)","v":{"$error":"#N/A"}},{"$f":"MATCH(MAX(BackendTable[[#This Row],[T2S1]:[T2S5]]),BackendTable[[#This Row],[T2S1]:[T2S5]],0)","v":{"$error":"#N/A"}},{"$f":"MATCH(MAX(BackendTable[[#This Row],[T3S1]:[T3S5]]),BackendTable[[#This Row],[T3S1]:[T3S5]],0)","v":{"$error":"#N/A"}}]
[null,{"$f":"ROW()-ROW(BackendTable[[#Headers],[Row'#]])","v":64},{"$f":"'Data In'!A71","v":0},{"$f":"IF(BackendTable[[#This Row],[Time]]-'Reference Cells'!$C$3<=0,NA(),'Reference Cells'!$C$4-BackendTable[[#This Row],[Time]])*86400","v":{"$error":"#N/A"}},{"$f":"IFERROR(8-BackendTable[[#This Row],[Column1]],\"\")","v":""},{"$f":"IF(ISERROR(BackendTable[[#This Row],[Column1]]),-9,(BackendTable[[#This Row],[Net Time]]-NetTimeMin)*RangeAdj)","v":-9},{"$f":"IF(AND(BackendTable[[#This Row],[Time]]>='Reference Cells'!$C$6,BackendTable[[#This Row],[Time]]<='Reference Cells'!$C$7),(BackendTable[[#This Row],[Time]]-'Reference Cells'!$C$6)*86400,NA())","v":2},{"$f":"IF(CommandCell='Reference Cells'!$C$17,NA(),ABS('Data In'!B71-INDIRECT(\"ZeroVal_\"&H$2,0)))","v":0},{"$f":"IF(CommandCell='Reference Cells'!$C$17,NA(),ABS('Data In'!C71-INDIRECT(\"ZeroVal_\"&I$2,0)))","v":0},{"$f":"IF(CommandCell='Reference Cells'!$C$17,NA(),ABS('Data In'!D71-INDIRECT(\"ZeroVal_\"&J$2,0)))","v":0},{"$f":"IF(CommandCell='Reference Cells'!$C$17,NA(),ABS('Data In'!E71-INDIRECT(\"ZeroVal_\"&K$2,0)))","v":0},{"$f":"IF(CommandCell='Reference Cells'!$C$17,NA(),ABS('Data In'!F71-INDIRECT(\"ZeroVal_\"&L$2,0)))","v":0},{"$f":"MAX(BackendTable[[#This Row],[S1]:[S5]])","v":0},{"$f":"IF(ISERROR(BackendTable[[#This Row],[T0Time]]),0,COUNTIFS(BackendTable[T0Time],\"<=\"&3,BackendTable[T0Time],\">=\"&0)-COUNTIFS(BackendTable[T0Time],\">\"&BackendTable[[#This Row],[T0Time]]))","v":500},null,null,null,null,null,null,null,null,null,null,null,null,null,null,null,null,null,null,null,null,null,null,null,null,{"$f":"MATCH(MAX(BackendTable[[#This Row],[T1S1]:[T1S5]]),BackendTable[[#This Row],[T1S1]:[T1S5]],0)","v":{"$error":"#N/A"}},{"$f":"MATCH(MAX(BackendTable[[#This Row],[T2S1]:[T2S5]]),BackendTable[[#This Row],[T2S1]:[T2S5]],0)","v":{"$error":"#N/A"}},{"$f":"MATCH(MAX(BackendTable[[#This Row],[T3S1]:[T3S5]]),BackendTable[[#This Row],[T3S1]:[T3S5]],0)","v":{"$error":"#N/A"}}]
[null,{"$f":"ROW()-ROW(BackendTable[[#Headers],[Row'#]])","v":65},{"$f":"'Data In'!A72","v":0},{"$f":"IF(BackendTable[[#This Row],[Time]]-'Reference Cells'!$C$3<=0,NA(),'Reference Cells'!$C$4-BackendTable[[#This Row],[Time]])*86400","v":{"$error":"#N/A"}},{"$f":"IFERROR(8-BackendTable[[#This Row],[Column1]],\"\")","v":""},{"$f":"IF(ISERROR(BackendTable[[#This Row],[Column1]]),-9,(BackendTable[[#This Row],[Net Time]]-NetTimeMin)*RangeAdj)","v":-9},{"$f":"IF(AND(BackendTable[[#This Row],[Time]]>='Reference Cells'!$C$6,BackendTable[[#This Row],[Time]]<='Reference Cells'!$C$7),(BackendTable[[#This Row],[Time]]-'Reference Cells'!$C$6)*86400,NA())","v":2},{"$f":"IF(CommandCell='Reference Cells'!$C$17,NA(),ABS('Data In'!B72-INDIRECT(\"ZeroVal_\"&H$2,0)))","v":0},{"$f":"IF(CommandCell='Reference Cells'!$C$17,NA(),ABS('Data In'!C72-INDIRECT(\"ZeroVal_\"&I$2,0)))","v":0},{"$f":"IF(CommandCell='Reference Cells'!$C$17,NA(),ABS('Data In'!D72-INDIRECT(\"ZeroVal_\"&J$2,0)))","v":0},{"$f":"IF(CommandCell='Reference Cells'!$C$17,NA(),ABS('Data In'!E72-INDIRECT(\"ZeroVal_\"&K$2,0)))","v":0},{"$f":"IF(CommandCell='Reference Cells'!$C$17,NA(),ABS('Data In'!F72-INDIRECT(\"ZeroVal_\"&L$2,0)))","v":0},{"$f":"MAX(BackendTable[[#This Row],[S1]:[S5]])","v":0},{"$f":"IF(ISERROR(BackendTable[[#This Row],[T0Time]]),0,COUNTIFS(BackendTable[T0Time],\"<=\"&3,BackendTable[T0Time],\">=\"&0)-COUNTIFS(BackendTable[T0Time],\">\"&BackendTable[[#This Row],[T0Time]]))","v":500},null,null,null,null,null,null,null,null,null,null,null,null,null,null,null,null,null,null,null,null,null,null,null,null,{"$f":"MATCH(MAX(BackendTable[[#This Row],[T1S1]:[T1S5]]),BackendTable[[#This Row],[T1S1]:[T1S5]],0)","v":{"$error":"#N/A"}},{"$f":"MATCH(MAX(BackendTable[[#This Row],[T2S1]:[T2S5]]),BackendTable[[#This Row],[T2S1]:[T2S5]],0)","v":{"$error":"#N/A"}},{"$f":"MATCH(MAX(BackendTable[[#This Row],[T3S1]:[T3S5]]),BackendTable[[#This Row],[T3S1]:[T3S5]],0)","v":{"$error":"#N/A"}}]
[null,{"$f":"ROW()-ROW(BackendTable[[#Headers],[Row'#]])","v":66},{"$f":"'Data In'!A73","v":0},{"$f":"IF(BackendTable[[#This Row],[Time]]-'Reference Cells'!$C$3<=0,NA(),'Reference Cells'!$C$4-BackendTable[[#This Row],[Time]])*86400","v":{"$error":"#N/A"}},{"$f":"IFERROR(8-BackendTable[[#This Row],[Column1]],\"\")","v":""},{"$f":"IF(ISERROR(BackendTable[[#This Row],[Column1]]),-9,(BackendTable[[#This Row],[Net Time]]-NetTimeMin)*RangeAdj)","v":-9},{"$f":"IF(AND(BackendTable[[#This Row],[Time]]>='Reference Cells'!$C$6,BackendTable[[#This Row],[Time]]<='Reference Cells'!$C$7),(BackendTable[[#This Row],[Time]]-'Reference Cells'!$C$6)*86400,NA())","v":2},{"$f":"IF(CommandCell='Reference Cells'!$C$17,NA(),ABS('Data In'!B73-INDIRECT(\"ZeroVal_\"&H$2,0)))","v":0},{"$f":"IF(CommandCell='Reference Cells'!$C$17,NA(),ABS('Data In'!C73-INDIRECT(\"ZeroVal_\"&I$2,0)))","v":0},{"$f":"IF(CommandCell='Reference Cells'!$C$17,NA(),ABS('Data In'!D73-INDIRECT(\"ZeroVal_\"&J$2,0)))","v":0},{"$f":"IF(CommandCell='Reference Cells'!$C$17,NA(),ABS('Data In'!E73-INDIRECT(\"ZeroVal_\"&K$2,0)))","v":0},{"$f":"IF(CommandCell='Reference Cells'!$C$17,NA(),ABS('Data In'!F73-INDIRECT(\"ZeroVal_\"&L$2,0)))","v":0},{"$f":"MAX(BackendTable[[#This Row],[S1]:[S5]])","v":0},{"$f":"IF(ISERROR(BackendTable[[#This Row],[T0Time]]),0,COUNTIFS(BackendTable[T0Time],\"<=\"&3,BackendTable[T0Time],\">=\"&0)-COUNTIFS(BackendTable[T0Time],\">\"&BackendTable[[#This Row],[T0Time]]))","v":500},null,null,null,null,null,null,null,null,null,null,null,null,null,null,null,null,null,null,null,null,null,null,null,null,{"$f":"MATCH(MAX(BackendTable[[#This Row],[T1S1]:[T1S5]]),BackendTable[[#This Row],[T1S1]:[T1S5]],0)","v":{"$error":"#N/A"}},{"$f":"MATCH(MAX(BackendTable[[#This Row],[T2S1]:[T2S5]]),BackendTable[[#This Row],[T2S1]:[T2S5]],0)","v":{"$error":"#N/A"}},{"$f":"MATCH(MAX(BackendTable[[#This Row],[T3S1]:[T3S5]]),BackendTable[[#This Row],[T3S1]:[T3S5]],0)","v":{"$error":"#N/A"}}]
[null,{"$f":"ROW()-ROW(BackendTable[[#Headers],[Row'#]])","v":67},{"$f":"'Data In'!A74","v":0},{"$f":"IF(BackendTable[[#This Row],[Time]]-'Reference Cells'!$C$3<=0,NA(),'Reference Cells'!$C$4-BackendTable[[#This Row],[Time]])*86400","v":{"$error":"#N/A"}},{"$f":"IFERROR(8-BackendTable[[#This Row],[Column1]],\"\")","v":""},{"$f":"IF(ISERROR(BackendTable[[#This Row],[Column1]]),-9,(BackendTable[[#This Row],[Net Time]]-NetTimeMin)*RangeAdj)","v":-9},{"$f":"IF(AND(BackendTable[[#This Row],[Time]]>='Reference Cells'!$C$6,BackendTable[[#This Row],[Time]]<='Reference Cells'!$C$7),(BackendTable[[#This Row],[Time]]-'Reference Cells'!$C$6)*86400,NA())","v":2},{"$f":"IF(CommandCell='Reference Cells'!$C$17,NA(),ABS('Data In'!B74-INDIRECT(\"ZeroVal_\"&H$2,0)))","v":0},{"$f":"IF(CommandCell='Reference Cells'!$C$17,NA(),ABS('Data In'!C74-INDIRECT(\"ZeroVal_\"&I$2,0)))","v":0},{"$f":"IF(CommandCell='Reference Cells'!$C$17,NA(),ABS('Data In'!D74-INDIRECT(\"ZeroVal_\"&J$2,0)))","v":0},{"$f":"IF(CommandCell='Reference Cells'!$C$17,NA(),ABS('Data In'!E74-INDIRECT(\"ZeroVal_\"&K$2,0)))","v":0},{"$f":"IF(CommandCell='Reference Cells'!$C$17,NA(),ABS('Data In'!F74-INDIRECT(\"ZeroVal_\"&L$2,0)))","v":0},{"$f":"MAX(BackendTable[[#This Row],[S1]:[S5]])","v":0},{"$f":"IF(ISERROR(BackendTable[[#This Row],[T0Time]]),0,COUNTIFS(BackendTable[T0Time],\"<=\"&3,BackendTable[T0Time],\">=\"&0)-COUNTIFS(BackendTable[T0Time],\">\"&BackendTable[[#This Row],[T0Time]]))","v":500},null,null,null,null,null,null,null,null,null,null,null,null,null,null,null,null,null,null,null,null,null,null,null,null,{"$f":"MATCH(MAX(BackendTable[[#This Row],[T1S1]:[T1S5]]),BackendTable[[#This Row],[T1S1]:[T1S5]],0)","v":{"$error":"#N/A"}},{"$f":"MATCH(MAX(BackendTable[[#This Row],[T2S1]:[T2S5]]),BackendTable[[#This Row],[T2S1]:[T2S5]],0)","v":{"$error":"#N/A"}},{"$f":"MATCH(MAX(BackendTable[[#This Row],[T3S1]:[T3S5]]),BackendTable[[#This Row],[T3S1]:[T3S5]],0)","v":{"$error":"#N/A"}}]
[null,{"$f":"ROW()-ROW(BackendTable[[#Headers],[Row'#]])","v":68},{"$f":"'Data In'!A75","v":0},{"$f":"IF(BackendTable[[#This Row],[Time]]-'Reference Cells'!$C$3<=0,NA(),'Reference Cells'!$C$4-BackendTable[[#This Row],[Time]])*86400","v":{"$error":"#N/A"}},{"$f":"IFERROR(8-BackendTable[[#This Row],[Column1]],\"\")","v":""},{"$f":"IF(ISERROR(BackendTable[[#This Row],[Column1]]),-9,(BackendTable[[#This Row],[Net Time]]-NetTimeMin)*RangeAdj)","v":-9},{"$f":"IF(AND(BackendTable[[#This Row],[Time]]>='Reference Cells'!$C$6,BackendTable[[#This Row],[Time]]<='Reference Cells'!$C$7),(BackendTable[[#This Row],[Time]]-'Reference Cells'!$C$6)*86400,NA())","v":2},{"$f":"IF(CommandCell='Reference Cells'!$C$17,NA(),ABS('Data In'!B75-INDIRECT(\"ZeroVal_\"&H$2,0)))","v":0},{"$f":"IF(CommandCell='Reference Cells'!$C$17,NA(),ABS('Data In'!C75-INDIRECT(\"ZeroVal_\"&I$2,0)))","v":0},{"$f":"IF(CommandCell='Reference Cells'!$C$17,NA(),ABS('Data In'!D75-INDIRECT(\"ZeroVal_\"&J$2,0)))","v":0},{"$f":"IF(CommandCell='Reference Cells'!$C$17,NA(),ABS('Data In'!E75-INDIRECT(\"ZeroVal_\"&K$2,0)))","v":0},{"$f":"IF(CommandCell='Reference Cells'!$C$17,NA(),ABS('Data In'!F75-INDIRECT(\"ZeroVal_\"&L$2,0)))","v":0},{"$f":"MAX(BackendTable[[#This Row],[S1]:[S5]])","v":0},{"$f":"IF(ISERROR(BackendTable[[#This Row],[T0Time]]),0,COUNTIFS(BackendTable[T0Time],\"<=\"&3,BackendTable[T0Time],\">=\"&0)-COUNTIFS(BackendTable[T0Time],\">\"&BackendTable[[#This Row],[T0Time]]))","v":500},null,null,null,null,null,null,null,null,null,null,null,null,null,null,null,null,null,null,null,null,null,null,null,null,{"$f":"MATCH(MAX(BackendTable[[#This Row],[T1S1]:[T1S5]]),BackendTable[[#This Row],[T1S1]:[T1S5]],0)","v":{"$error":"#N/A"}},{"$f":"MATCH(MAX(BackendTable[[#This Row],[T2S1]:[T2S5]]),BackendTable[[#This Row],[T2S1]:[T2S5]],0)","v":{"$error":"#N/A"}},{"$f":"MATCH(MAX(BackendTable[[#This Row],[T3S1]:[T3S5]]),BackendTable[[#This Row],[T3S1]:[T3S5]],0)","v":{"$error":"#N/A"}}]
[null,{"$f":"ROW()-ROW(BackendTable[[#Headers],[Row'#]])","v":69},{"$f":"'Data In'!A76","v":0},{"$f":"IF(BackendTable[[#This Row],[Time]]-'Reference Cells'!$C$3<=0,NA(),'Reference Cells'!$C$4-BackendTable[[#This Row],[Time]])*86400","v":{"$error":"#N/A"}},{"$f":"IFERROR(8-BackendTable[[#This Row],[Column1]],\"\")","v":""},{"$f":"IF(ISERROR(BackendTable[[#This Row],[Column1]]),-9,(BackendTable[[#This Row],[Net Time]]-NetTimeMin)*RangeAdj)","v":-9},{"$f":"IF(AND(BackendTable[[#This Row],[Time]]>='Reference Cells'!$C$6,BackendTable[[#This Row],[Time]]<='Reference Cells'!$C$7),(BackendTable[[#This Row],[Time]]-'Reference Cells'!$C$6)*86400,NA())","v":2},{"$f":"IF(CommandCell='Reference Cells'!$C$17,NA(),ABS('Data In'!B76-INDIRECT(\"ZeroVal_\"&H$2,0)))","v":0},{"$f":"IF(CommandCell='Reference Cells'!$C$17,NA(),ABS('Data In'!C76-INDIRECT(\"ZeroVal_\"&I$2,0)))","v":0},{"$f":"IF(CommandCell='Reference Cells'!$C$17,NA(),ABS('Data In'!D76-INDIRECT(\"ZeroVal_\"&J$2,0)))","v":0},{"$f":"IF(CommandCell='Reference Cells'!$C$17,NA(),ABS('Data In'!E76-INDIRECT(\"ZeroVal_\"&K$2,0)))","v":0},{"$f":"IF(CommandCell='Reference Cells'!$C$17,NA(),ABS('Data In'!F76-INDIRECT(\"ZeroVal_\"&L$2,0)))","v":0},{"$f":"MAX(BackendTable[[#This Row],[S1]:[S5]])","v":0},{"$f":"IF(ISERROR(BackendTable[[#This Row],[T0Time]]),0,COUNTIFS(BackendTable[T0Time],\"<=\"&3,BackendTable[T0Time],\">=\"&0)-COUNTIFS(BackendTable[T0Time],\">\"&BackendTable[[#This Row],[T0Time]]))","v":500},null,null,null,null,null,null,null,null,null,null,null,null,null,null,null,null,null,null,null,null,null,null,null,null,{"$f":"MATCH(MAX(BackendTable[[#This Row],[T1S1]:[T1S5]]),BackendTable[[#This Row],[T1S1]:[T1S5]],0)","v":{"$error":"#N/A"}},{"$f":"MATCH(MAX(BackendTable[[#This Row],[T2S1]:[T2S5]]),BackendTable[[#This Row],[T2S1]:[T2S5]],0)","v":{"$error":"#N/A"}},{"$f":"MATCH(MAX(BackendTable[[#This Row],[T3S1]:[T3S5]]),BackendTable[[#This Row],[T3S1]:[T3S5]],0)","v":{"$error":"#N/A"}}]
[null,{"$f":"ROW()-ROW(BackendTable[[#Headers],[Row'#]])","v":70},{"$f":"'Data In'!A77","v":0},{"$f":"IF(BackendTable[[#This Row],[Time]]-'Reference Cells'!$C$3<=0,NA(),'Reference Cells'!$C$4-BackendTable[[#This Row],[Time]])*86400","v":{"$error":"#N/A"}},{"$f":"IFERROR(8-BackendTable[[#This Row],[Column1]],\"\")","v":""},{"$f":"IF(ISERROR(BackendTable[[#This Row],[Column1]]),-9,(BackendTable[[#This Row],[Net Time]]-NetTimeMin)*RangeAdj)","v":-9},{"$f":"IF(AND(BackendTable[[#This Row],[Time]]>='Reference Cells'!$C$6,BackendTable[[#This Row],[Time]]<='Reference Cells'!$C$7),(BackendTable[[#This Row],[Time]]-'Reference Cells'!$C$6)*86400,NA())","v":2},{"$f":"IF(CommandCell='Reference Cells'!$C$17,NA(),ABS('Data In'!B77-INDIRECT(\"ZeroVal_\"&H$2,0)))","v":0},{"$f":"IF(CommandCell='Reference Cells'!$C$17,NA(),ABS('Data In'!C77-INDIRECT(\"ZeroVal_\"&I$2,0)))","v":0},{"$f":"IF(CommandCell='Reference Cells'!$C$17,NA(),ABS('Data In'!D77-INDIRECT(\"ZeroVal_\"&J$2,0)))","v":0},{"$f":"IF(CommandCell='Reference Cells'!$C$17,NA(),ABS('Data In'!E77-INDIRECT(\"ZeroVal_\"&K$2,0)))","v":0},{"$f":"IF(CommandCell='Reference Cells'!$C$17,NA(),ABS('Data In'!F77-INDIRECT(\"ZeroVal_\"&L$2,0)))","v":0},{"$f":"MAX(BackendTable[[#This Row],[S1]:[S5]])","v":0},{"$f":"IF(ISERROR(BackendTable[[#This Row],[T0Time]]),0,COUNTIFS(BackendTable[T0Time],\"<=\"&3,BackendTable[T0Time],\">=\"&0)-COUNTIFS(BackendTable[T0Time],\">\"&BackendTable[[#This Row],[T0Time]]))","v":500},null,null,null,null,null,null,null,null,null,null,null,null,null,null,null,null,null,null,null,null,null,null,null,null,{"$f":"MATCH(MAX(BackendTable[[#This Row],[T1S1]:[T1S5]]),BackendTable[[#This Row],[T1S1]:[T1S5]],0)","v":{"$error":"#N/A"}},{"$f":"MATCH(MAX(BackendTable[[#This Row],[T2S1]:[T2S5]]),BackendTable[[#This Row],[T2S1]:[T2S5]],0)","v":{"$error":"#N/A"}},{"$f":"MATCH(MAX(BackendTable[[#This Row],[T3S1]:[T3S5]]),BackendTable[[#This Row],[T3S1]:[T3S5]],0)","v":{"$error":"#N/A"}}]
[null,{"$f":"ROW()-ROW(BackendTable[[#Headers],[Row'#]])","v":71},{"$f":"'Data In'!A78","v":0},{"$f":"IF(BackendTable[[#This Row],[Time]]-'Reference Cells'!$C$3<=0,NA(),'Reference Cells'!$C$4-BackendTable[[#This Row],[Time]])*86400","v":{"$error":"#N/A"}},{"$f":"IFERROR(8-BackendTable[[#This Row],[Column1]],\"\")","v":""},{"$f":"IF(ISERROR(BackendTable[[#This Row],[Column1]]),-9,(BackendTable[[#This Row],[Net Time]]-NetTimeMin)*RangeAdj)","v":-9},{"$f":"IF(AND(BackendTable[[#This Row],[Time]]>='Reference Cells'!$C$6,BackendTable[[#This Row],[Time]]<='Reference Cells'!$C$7),(BackendTable[[#This Row],[Time]]-'Reference Cells'!$C$6)*86400,NA())","v":2},{"$f":"IF(CommandCell='Reference Cells'!$C$17,NA(),ABS('Data In'!B78-INDIRECT(\"ZeroVal_\"&H$2,0)))","v":0},{"$f":"IF(CommandCell='Reference Cells'!$C$17,NA(),ABS('Data In'!C78-INDIRECT(\"ZeroVal_\"&I$2,0)))","v":0},{"$f":"IF(CommandCell='Reference Cells'!$C$17,NA(),ABS('Data In'!D78-INDIRECT(\"ZeroVal_\"&J$2,0)))","v":0},{"$f":"IF(CommandCell='Reference Cells'!$C$17,NA(),ABS('Data In'!E78-INDIRECT(\"ZeroVal_\"&K$2,0)))","v":0},{"$f":"IF(CommandCell='Reference Cells'!$C$17,NA(),ABS('Data In'!F78-INDIRECT(\"ZeroVal_\"&L$2,0)))","v":0},{"$f":"MAX(BackendTable[[#This Row],[S1]:[S5]])","v":0},{"$f":"IF(ISERROR(BackendTable[[#This Row],[T0Time]]),0,COUNTIFS(BackendTable[T0Time],\"<=\"&3,BackendTable[T0Time],\">=\"&0)-COUNTIFS(BackendTable[T0Time],\">\"&BackendTable[[#This Row],[T0Time]]))","v":500},null,null,null,null,null,null,null,null,null,null,null,null,null,null,null,null,null,null,null,null,null,null,null,null,{"$f":"MATCH(MAX(BackendTable[[#This Row],[T1S1]:[T1S5]]),BackendTable[[#This Row],[T1S1]:[T1S5]],0)","v":{"$error":"#N/A"}},{"$f":"MATCH(MAX(BackendTable[[#This Row],[T2S1]:[T2S5]]),BackendTable[[#This Row],[T2S1]:[T2S5]],0)","v":{"$error":"#N/A"}},{"$f":"MATCH(MAX(BackendTable[[#This Row],[T3S1]:[T3S5]]),BackendTable[[#This Row],[T3S1]:[T3S5]],0)","v":{"$error":"#N/A"}}]
[null,{"$f":"ROW()-ROW(BackendTable[[#Headers],[Row'#]])","v":72},{"$f":"'Data In'!A79","v":0},{"$f":"IF(BackendTable[[#This Row],[Time]]-'Reference Cells'!$C$3<=0,NA(),'Reference Cells'!$C$4-BackendTable[[#This Row],[Time]])*86400","v":{"$error":"#N/A"}},{"$f":"IFERROR(8-BackendTable[[#This Row],[Column1]],\"\")","v":""},{"$f":"IF(ISERROR(BackendTable[[#This Row],[Column1]]),-9,(BackendTable[[#This Row],[Net Time]]-NetTimeMin)*RangeAdj)","v":-9},{"$f":"IF(AND(BackendTable[[#This Row],[Time]]>='Reference Cells'!$C$6,BackendTable[[#This Row],[Time]]<='Reference Cells'!$C$7),(BackendTable[[#This Row],[Time]]-'Reference Cells'!$C$6)*86400,NA())","v":2},{"$f":"IF(CommandCell='Reference Cells'!$C$17,NA(),ABS('Data In'!B79-INDIRECT(\"ZeroVal_\"&H$2,0)))","v":0},{"$f":"IF(CommandCell='Reference Cells'!$C$17,NA(),ABS('Data In'!C79-INDIRECT(\"ZeroVal_\"&I$2,0)))","v":0},{"$f":"IF(CommandCell='Reference Cells'!$C$17,NA(),ABS('Data In'!D79-INDIRECT(\"ZeroVal_\"&J$2,0)))","v":0},{"$f":"IF(CommandCell='Reference Cells'!$C$17,NA(),ABS('Data In'!E79-INDIRECT(\"ZeroVal_\"&K$2,0)))","v":0},{"$f":"IF(CommandCell='Reference Cells'!$C$17,NA(),ABS('Data In'!F79-INDIRECT(\"ZeroVal_\"&L$2,0)))","v":0},{"$f":"MAX(BackendTable[[#This Row],[S1]:[S5]])","v":0},{"$f":"IF(ISERROR(BackendTable[[#This Row],[T0Time]]),0,COUNTIFS(BackendTable[T0Time],\"<=\"&3,BackendTable[T0Time],\">=\"&0)-COUNTIFS(BackendTable[T0Time],\">\"&BackendTable[[#This Row],[T0Time]]))","v":500},null,null,null,null,null,null,null,null,null,null,null,null,null,null,null,null,null,null,null,null,null,null,null,null,{"$f":"MATCH(MAX(BackendTable[[#This Row],[T1S1]:[T1S5]]),BackendTable[[#This Row],[T1S1]:[T1S5]],0)","v":{"$error":"#N/A"}},{"$f":"MATCH(MAX(BackendTable[[#This Row],[T2S1]:[T2S5]]),BackendTable[[#This Row],[T2S1]:[T2S5]],0)","v":{"$error":"#N/A"}},{"$f":"MATCH(MAX(BackendTable[[#This Row],[T3S1]:[T3S5]]),BackendTable[[#This Row],[T3S1]:[T3S5]],0)","v":{"$error":"#N/A"}}]
[null,{"$f":"ROW()-ROW(BackendTable[[#Headers],[Row'#]])","v":73},{"$f":"'Data In'!A80","v":0},{"$f":"IF(BackendTable[[#This Row],[Time]]-'Reference Cells'!$C$3<=0,NA(),'Reference Cells'!$C$4-BackendTable[[#This Row],[Time]])*86400","v":{"$error":"#N/A"}},{"$f":"IFERROR(8-BackendTable[[#This Row],[Column1]],\"\")","v":""},{"$f":"IF(ISERROR(BackendTable[[#This Row],[Column1]]),-9,(BackendTable[[#This Row],[Net Time]]-NetTimeMin)*RangeAdj)","v":-9},{"$f":"IF(AND(BackendTable[[#This Row],[Time]]>='Reference Cells'!$C$6,BackendTable[[#This Row],[Time]]<='Reference Cells'!$C$7),(BackendTable[[#This Row],[Time]]-'Reference Cells'!$C$6)*86400,NA())","v":2},{"$f":"IF(CommandCell='Reference Cells'!$C$17,NA(),ABS('Data In'!B80-INDIRECT(\"ZeroVal_\"&H$2,0)))","v":0},{"$f":"IF(CommandCell='Reference Cells'!$C$17,NA(),ABS('Data In'!C80-INDIRECT(\"ZeroVal_\"&I$2,0)))","v":0},{"$f":"IF(CommandCell='Reference Cells'!$C$17,NA(),ABS('Data In'!D80-INDIRECT(\"ZeroVal_\"&J$2,0)))","v":0},{"$f":"IF(CommandCell='Reference Cells'!$C$17,NA(),ABS('Data In'!E80-INDIRECT(\"ZeroVal_\"&K$2,0)))","v":0},{"$f":"IF(CommandCell='Reference Cells'!$C$17,NA(),ABS('Data In'!F80-INDIRECT(\"ZeroVal_\"&L$2,0)))","v":0},{"$f":"MAX(BackendTable[[#This Row],[S1]:[S5]])","v":0},{"$f":"IF(ISERROR(BackendTable[[#This Row],[T0Time]]),0,COUNTIFS(BackendTable[T0Time],\"<=\"&3,BackendTable[T0Time],\">=\"&0)-COUNTIFS(BackendTable[T0Time],\">\"&BackendTable[[#This Row],[T0Time]]))","v":500},null,null,null,null,null,null,null,null,null,null,null,null,null,null,null,null,null,null,null,null,null,null,null,null,{"$f":"MATCH(MAX(BackendTable[[#This Row],[T1S1]:[T1S5]]),BackendTable[[#This Row],[T1S1]:[T1S5]],0)","v":{"$error":"#N/A"}},{"$f":"MATCH(MAX(BackendTable[[#This Row],[T2S1]:[T2S5]]),BackendTable[[#This Row],[T2S1]:[T2S5]],0)","v":{"$error":"#N/A"}},{"$f":"MATCH(MAX(BackendTable[[#This Row],[T3S1]:[T3S5]]),BackendTable[[#This Row],[T3S1]:[T3S5]],0)","v":{"$error":"#N/A"}}]
[null,{"$f":"ROW()-ROW(BackendTable[[#Headers],[Row'#]])","v":74},{"$f":"'Data In'!A81","v":0},{"$f":"IF(BackendTable[[#This Row],[Time]]-'Reference Cells'!$C$3<=0,NA(),'Reference Cells'!$C$4-BackendTable[[#This Row],[Time]])*86400","v":{"$error":"#N/A"}},{"$f":"IFERROR(8-BackendTable[[#This Row],[Column1]],\"\")","v":""},{"$f":"IF(ISERROR(BackendTable[[#This Row],[Column1]]),-9,(BackendTable[[#This Row],[Net Time]]-NetTimeMin)*RangeAdj)","v":-9},{"$f":"IF(AND(BackendTable[[#This Row],[Time]]>='Reference Cells'!$C$6,BackendTable[[#This Row],[Time]]<='Reference Cells'!$C$7),(BackendTable[[#This Row],[Time]]-'Reference Cells'!$C$6)*86400,NA())","v":2},{"$f":"IF(CommandCell='Reference Cells'!$C$17,NA(),ABS('Data In'!B81-INDIRECT(\"ZeroVal_\"&H$2,0)))","v":0},{"$f":"IF(CommandCell='Reference Cells'!$C$17,NA(),ABS('Data In'!C81-INDIRECT(\"ZeroVal_\"&I$2,0)))","v":0},{"$f":"IF(CommandCell='Reference Cells'!$C$17,NA(),ABS('Data In'!D81-INDIRECT(\"ZeroVal_\"&J$2,0)))","v":0},{"$f":"IF(CommandCell='Reference Cells'!$C$17,NA(),ABS('Data In'!E81-INDIRECT(\"ZeroVal_\"&K$2,0)))","v":0},{"$f":"IF(CommandCell='Reference Cells'!$C$17,NA(),ABS('Data In'!F81-INDIRECT(\"ZeroVal_\"&L$2,0)))","v":0},{"$f":"MAX(BackendTable[[#This Row],[S1]:[S5]])","v":0},{"$f":"IF(ISERROR(BackendTable[[#This Row],[T0Time]]),0,COUNTIFS(BackendTable[T0Time],\"<=\"&3,BackendTable[T0Time],\">=\"&0)-COUNTIFS(BackendTable[T0Time],\">\"&BackendTable[[#This Row],[T0Time]]))","v":500},null,null,null,null,null,null,null,null,null,null,null,null,null,null,null,null,null,null,null,null,null,null,null,null,{"$f":"MATCH(MAX(BackendTable[[#This Row],[T1S1]:[T1S5]]),BackendTable[[#This Row],[T1S1]:[T1S5]],0)","v":{"$error":"#N/A"}},{"$f":"MATCH(MAX(BackendTable[[#This Row],[T2S1]:[T2S5]]),BackendTable[[#This Row],[T2S1]:[T2S5]],0)","v":{"$error":"#N/A"}},{"$f":"MATCH(MAX(BackendTable[[#This Row],[T3S1]:[T3S5]]),BackendTable[[#This Row],[T3S1]:[T3S5]],0)","v":{"$error":"#N/A"}}]
[null,{"$f":"ROW()-ROW(BackendTable[[#Headers],[Row'#]])","v":75},{"$f":"'Data In'!A82","v":0},{"$f":"IF(BackendTable[[#This Row],[Time]]-'Reference Cells'!$C$3<=0,NA(),'Reference Cells'!$C$4-BackendTable[[#This Row],[Time]])*86400","v":{"$error":"#N/A"}},{"$f":"IFERROR(8-BackendTable[[#This Row],[Column1]],\"\")","v":""},{"$f":"IF(ISERROR(BackendTable[[#This Row],[Column1]]),-9,(BackendTable[[#This Row],[Net Time]]-NetTimeMin)*RangeAdj)","v":-9},{"$f":"IF(AND(BackendTable[[#This Row],[Time]]>='Reference Cells'!$C$6,BackendTable[[#This Row],[Time]]<='Reference Cells'!$C$7),(BackendTable[[#This Row],[Time]]-'Reference Cells'!$C$6)*86400,NA())","v":2},{"$f":"IF(CommandCell='Reference Cells'!$C$17,NA(),ABS('Data In'!B82-INDIRECT(\"ZeroVal_\"&H$2,0)))","v":0},{"$f":"IF(CommandCell='Reference Cells'!$C$17,NA(),ABS('Data In'!C82-INDIRECT(\"ZeroVal_\"&I$2,0)))","v":0},{"$f":"IF(CommandCell='Reference Cells'!$C$17,NA(),ABS('Data In'!D82-INDIRECT(\"ZeroVal_\"&J$2,0)))","v":0},{"$f":"IF(CommandCell='Reference Cells'!$C$17,NA(),ABS('Data In'!E82-INDIRECT(\"ZeroVal_\"&K$2,0)))","v":0},{"$f":"IF(CommandCell='Reference Cells'!$C$17,NA(),ABS('Data In'!F82-INDIRECT(\"ZeroVal_\"&L$2,0)))","v":0},{"$f":"MAX(BackendTable[[#This Row],[S1]:[S5]])","v":0},{"$f":"IF(ISERROR(BackendTable[[#This Row],[T0Time]]),0,COUNTIFS(BackendTable[T0Time],\"<=\"&3,BackendTable[T0Time],\">=\"&0)-COUNTIFS(BackendTable[T0Time],\">\"&BackendTable[[#This Row],[T0Time]]))","v":500},null,null,null,null,null,null,null,null,null,null,null,null,null,null,null,null,null,null,null,null,null,null,null,null,{"$f":"MATCH(MAX(BackendTable[[#This Row],[T1S1]:[T1S5]]),BackendTable[[#This Row],[T1S1]:[T1S5]],0)","v":{"$error":"#N/A"}},{"$f":"MATCH(MAX(BackendTable[[#This Row],[T2S1]:[T2S5]]),BackendTable[[#This Row],[T2S1]:[T2S5]],0)","v":{"$error":"#N/A"}},{"$f":"MATCH(MAX(BackendTable[[#This Row],[T3S1]:[T3S5]]),BackendTable[[#This Row],[T3S1]:[T3S5]],0)","v":{"$error":"#N/A"}}]
[null,{"$f":"ROW()-ROW(BackendTable[[#Headers],[Row'#]])","v":76},{"$f":"'Data In'!A83","v":0},{"$f":"IF(BackendTable[[#This Row],[Time]]-'Reference Cells'!$C$3<=0,NA(),'Reference Cells'!$C$4-BackendTable[[#This Row],[Time]])*86400","v":{"$error":"#N/A"}},{"$f":"IFERROR(8-BackendTable[[#This Row],[Column1]],\"\")","v":""},{"$f":"IF(ISERROR(BackendTable[[#This Row],[Column1]]),-9,(BackendTable[[#This Row],[Net Time]]-NetTimeMin)*RangeAdj)","v":-9},{"$f":"IF(AND(BackendTable[[#This Row],[Time]]>='Reference Cells'!$C$6,BackendTable[[#This Row],[Time]]<='Reference Cells'!$C$7),(BackendTable[[#This Row],[Time]]-'Reference Cells'!$C$6)*86400,NA())","v":2},{"$f":"IF(CommandCell='Reference Cells'!$C$17,NA(),ABS('Data In'!B83-INDIRECT(\"ZeroVal_\"&H$2,0)))","v":0},{"$f":"IF(CommandCell='Reference Cells'!$C$17,NA(),ABS('Data In'!C83-INDIRECT(\"ZeroVal_\"&I$2,0)))","v":0},{"$f":"IF(CommandCell='Reference Cells'!$C$17,NA(),ABS('Data In'!D83-INDIRECT(\"ZeroVal_\"&J$2,0)))","v":0},{"$f":"IF(CommandCell='Reference Cells'!$C$17,NA(),ABS('Data In'!E83-INDIRECT(\"ZeroVal_\"&K$2,0)))","v":0},{"$f":"IF(CommandCell='Reference Cells'!$C$17,NA(),ABS('Data In'!F83-INDIRECT(\"ZeroVal_\"&L$2,0)))","v":0},{"$f":"MAX(BackendTable[[#This Row],[S1]:[S5]])","v":0},{"$f":"IF(ISERROR(BackendTable[[#This Row],[T0Time]]),0,COUNTIFS(BackendTable[T0Time],\"<=\"&3,BackendTable[T0Time],\">=\"&0)-COUNTIFS(BackendTable[T0Time],\">\"&BackendTable[[#This Row],[T0Time]]))","v":500},null,null,null,null,null,null,null,null,null,null,null,null,null,null,null,null,null,null,null,null,null,null,null,null,{"$f":"MATCH(MAX(BackendTable[[#This Row],[T1S1]:[T1S5]]),BackendTable[[#This Row],[T1S1]:[T1S5]],0)","v":{"$error":"#N/A"}},{"$f":"MATCH(MAX(BackendTable[[#This Row],[T2S1]:[T2S5]]),BackendTable[[#This Row],[T2S1]:[T2S5]],0)","v":{"$error":"#N/A"}},{"$f":"MATCH(MAX(BackendTable[[#This Row],[T3S1]:[T3S5]]),BackendTable[[#This Row],[T3S1]:[T3S5]],0)","v":{"$error":"#N/A"}}]
[null,{"$f":"ROW()-ROW(BackendTable[[#Headers],[Row'#]])","v":77},{"$f":"'Data In'!A84","v":0},{"$f":"IF(BackendTable[[#This Row],[Time]]-'Reference Cells'!$C$3<=0,NA(),'Reference Cells'!$C$4-BackendTable[[#This Row],[Time]])*86400","v":{"$error":"#N/A"}},{"$f":"IFERROR(8-BackendTable[[#This Row],[Column1]],\"\")","v":""},{"$f":"IF(ISERROR(BackendTable[[#This Row],[Column1]]),-9,(BackendTable[[#This Row],[Net Time]]-NetTimeMin)*RangeAdj)","v":-9},{"$f":"IF(AND(BackendTable[[#This Row],[Time]]>='Reference Cells'!$C$6,BackendTable[[#This Row],[Time]]<='Reference Cells'!$C$7),(BackendTable[[#This Row],[Time]]-'Reference Cells'!$C$6)*86400,NA())","v":2},{"$f":"IF(CommandCell='Reference Cells'!$C$17,NA(),ABS('Data In'!B84-INDIRECT(\"ZeroVal_\"&H$2,0)))","v":0},{"$f":"IF(CommandCell='Reference Cells'!$C$17,NA(),ABS('Data In'!C84-INDIRECT(\"ZeroVal_\"&I$2,0)))","v":0},{"$f":"IF(CommandCell='Reference Cells'!$C$17,NA(),ABS('Data In'!D84-INDIRECT(\"ZeroVal_\"&J$2,0)))","v":0},{"$f":"IF(CommandCell='Reference Cells'!$C$17,NA(),ABS('Data In'!E84-INDIRECT(\"ZeroVal_\"&K$2,0)))","v":0},{"$f":"IF(CommandCell='Reference Cells'!$C$17,NA(),ABS('Data In'!F84-INDIRECT(\"ZeroVal_\"&L$2,0)))","v":0},{"$f":"MAX(BackendTable[[#This Row],[S1]:[S5]])","v":0},{"$f":"IF(ISERROR(BackendTable[[#This Row],[T0Time]]),0,COUNTIFS(BackendTable[T0Time],\"<=\"&3,BackendTable[T0Time],\">=\"&0)-COUNTIFS(BackendTable[T0Time],\">\"&BackendTable[[#This Row],[T0Time]]))","v":500},null,null,null,null,null,null,null,null,null,null,null,null,null,null,null,null,null,null,null,null,null,null,null,null,{"$f":"MATCH(MAX(BackendTable[[#This Row],[T1S1]:[T1S5]]),BackendTable[[#This Row],[T1S1]:[T1S5]],0)","v":{"$error":"#N/A"}},{"$f":"MATCH(MAX(BackendTable[[#This Row],[T2S1]:[T2S5]]),BackendTable[[#This Row],[T2S1]:[T2S5]],0)","v":{"$error":"#N/A"}},{"$f":"MATCH(MAX(BackendTable[[#This Row],[T3S1]:[T3S5]]),BackendTable[[#This Row],[T3S1]:[T3S5]],0)","v":{"$error":"#N/A"}}]
[null,{"$f":"ROW()-ROW(BackendTable[[#Headers],[Row'#]])","v":78},{"$f":"'Data In'!A85","v":0},{"$f":"IF(BackendTable[[#This Row],[Time]]-'Reference Cells'!$C$3<=0,NA(),'Reference Cells'!$C$4-BackendTable[[#This Row],[Time]])*86400","v":{"$error":"#N/A"}},{"$f":"IFERROR(8-BackendTable[[#This Row],[Column1]],\"\")","v":""},{"$f":"IF(ISERROR(BackendTable[[#This Row],[Column1]]),-9,(BackendTable[[#This Row],[Net Time]]-NetTimeMin)*RangeAdj)","v":-9},{"$f":"IF(AND(BackendTable[[#This Row],[Time]]>='Reference Cells'!$C$6,BackendTable[[#This Row],[Time]]<='Reference Cells'!$C$7),(BackendTable[[#This Row],[Time]]-'Reference Cells'!$C$6)*86400,NA())","v":2},{"$f":"IF(CommandCell='Reference Cells'!$C$17,NA(),ABS('Data In'!B85-INDIRECT(\"ZeroVal_\"&H$2,0)))","v":0},{"$f":"IF(CommandCell='Reference Cells'!$C$17,NA(),ABS('Data In'!C85-INDIRECT(\"ZeroVal_\"&I$2,0)))","v":0},{"$f":"IF(CommandCell='Reference Cells'!$C$17,NA(),ABS('Data In'!D85-INDIRECT(\"ZeroVal_\"&J$2,0)))","v":0},{"$f":"IF(CommandCell='Reference Cells'!$C$17,NA(),ABS('Data In'!E85-INDIRECT(\"ZeroVal_\"&K$2,0)))","v":0},{"$f":"IF(CommandCell='Reference Cells'!$C$17,NA(),ABS('Data In'!F85-INDIRECT(\"ZeroVal_\"&L$2,0)))","v":0},{"$f":"MAX(BackendTable[[#This Row],[S1]:[S5]])","v":0},{"$f":"IF(ISERROR(BackendTable[[#This Row],[T0Time]]),0,COUNTIFS(BackendTable[T0Time],\"<=\"&3,BackendTable[T0Time],\">=\"&0)-COUNTIFS(BackendTable[T0Time],\">\"&BackendTable[[#This Row],[T0Time]]))","v":500},null,null,null,null,null,null,null,null,null,null,null,null,null,null,null,null,null,null,null,null,null,null,null,null,{"$f":"MATCH(MAX(BackendTable[[#This Row],[T1S1]:[T1S5]]),BackendTable[[#This Row],[T1S1]:[T1S5]],0)","v":{"$error":"#N/A"}},{"$f":"MATCH(MAX(BackendTable[[#This Row],[T2S1]:[T2S5]]),BackendTable[[#This Row],[T2S1]:[T2S5]],0)","v":{"$error":"#N/A"}},{"$f":"MATCH(MAX(BackendTable[[#This Row],[T3S1]:[T3S5]]),BackendTable[[#This Row],[T3S1]:[T3S5]],0)","v":{"$error":"#N/A"}}]
[null,{"$f":"ROW()-ROW(BackendTable[[#Headers],[Row'#]])","v":79},{"$f":"'Data In'!A86","v":0},{"$f":"IF(BackendTable[[#This Row],[Time]]-'Reference Cells'!$C$3<=0,NA(),'Reference Cells'!$C$4-BackendTable[[#This Row],[Time]])*86400","v":{"$error":"#N/A"}},{"$f":"IFERROR(8-BackendTable[[#This Row],[Column1]],\"\")","v":""},{"$f":"IF(ISERROR(BackendTable[[#This Row],[Column1]]),-9,(BackendTable[[#This Row],[Net Time]]-NetTimeMin)*RangeAdj)","v":-9},{"$f":"IF(AND(BackendTable[[#This Row],[Time]]>='Reference Cells'!$C$6,BackendTable[[#This Row],[Time]]<='Reference Cells'!$C$7),(BackendTable[[#This Row],[Time]]-'Reference Cells'!$C$6)*86400,NA())","v":2},{"$f":"IF(CommandCell='Reference Cells'!$C$17,NA(),ABS('Data In'!B86-INDIRECT(\"ZeroVal_\"&H$2,0)))","v":0},{"$f":"IF(CommandCell='Reference Cells'!$C$17,NA(),ABS('Data In'!C86-INDIRECT(\"ZeroVal_\"&I$2,0)))","v":0},{"$f":"IF(CommandCell='Reference Cells'!$C$17,NA(),ABS('Data In'!D86-INDIRECT(\"ZeroVal_\"&J$2,0)))","v":0},{"$f":"IF(CommandCell='Reference Cells'!$C$17,NA(),ABS('Data In'!E86-INDIRECT(\"ZeroVal_\"&K$2,0)))","v":0},{"$f":"IF(CommandCell='Reference Cells'!$C$17,NA(),ABS('Data In'!F86-INDIRECT(\"ZeroVal_\"&L$2,0)))","v":0},{"$f":"MAX(BackendTable[[#This Row],[S1]:[S5]])","v":0},{"$f":"IF(ISERROR(BackendTable[[#This Row],[T0Time]]),0,COUNTIFS(BackendTable[T0Time],\"<=\"&3,BackendTable[T0Time],\">=\"&0)-COUNTIFS(BackendTable[T0Time],\">\"&BackendTable[[#This Row],[T0Time]]))","v":500},null,null,null,null,null,null,null,null,null,null,null,null,null,null,null,null,null,null,null,null,null,null,null,null,{"$f":"MATCH(MAX(BackendTable[[#This Row],[T1S1]:[T1S5]]),BackendTable[[#This Row],[T1S1]:[T1S5]],0)","v":{"$error":"#N/A"}},{"$f":"MATCH(MAX(BackendTable[[#This Row],[T2S1]:[T2S5]]),BackendTable[[#This Row],[T2S1]:[T2S5]],0)","v":{"$error":"#N/A"}},{"$f":"MATCH(MAX(BackendTable[[#This Row],[T3S1]:[T3S5]]),BackendTable[[#This Row],[T3S1]:[T3S5]],0)","v":{"$error":"#N/A"}}]
[null,{"$f":"ROW()-ROW(BackendTable[[#Headers],[Row'#]])","v":80},{"$f":"'Data In'!A87","v":0},{"$f":"IF(BackendTable[[#This Row],[Time]]-'Reference Cells'!$C$3<=0,NA(),'Reference Cells'!$C$4-BackendTable[[#This Row],[Time]])*86400","v":{"$error":"#N/A"}},{"$f":"IFERROR(8-BackendTable[[#This Row],[Column1]],\"\")","v":""},{"$f":"IF(ISERROR(BackendTable[[#This Row],[Column1]]),-9,(BackendTable[[#This Row],[Net Time]]-NetTimeMin)*RangeAdj)","v":-9},{"$f":"IF(AND(BackendTable[[#This Row],[Time]]>='Reference Cells'!$C$6,BackendTable[[#This Row],[Time]]<='Reference Cells'!$C$7),(BackendTable[[#This Row],[Time]]-'Reference Cells'!$C$6)*86400,NA())","v":2},{"$f":"IF(CommandCell='Reference Cells'!$C$17,NA(),ABS('Data In'!B87-INDIRECT(\"ZeroVal_\"&H$2,0)))","v":0},{"$f":"IF(CommandCell='Reference Cells'!$C$17,NA(),ABS('Data In'!C87-INDIRECT(\"ZeroVal_\"&I$2,0)))","v":0},{"$f":"IF(CommandCell='Reference Cells'!$C$17,NA(),ABS('Data In'!D87-INDIRECT(\"ZeroVal_\"&J$2,0)))","v":0},{"$f":"IF(CommandCell='Reference Cells'!$C$17,NA(),ABS('Data In'!E87-INDIRECT(\"ZeroVal_\"&K$2,0)))","v":0},{"$f":"IF(CommandCell='Reference Cells'!$C$17,NA(),ABS('Data In'!F87-INDIRECT(\"ZeroVal_\"&L$2,0)))","v":0},{"$f":"MAX(BackendTable[[#This Row],[S1]:[S5]])","v":0},{"$f":"IF(ISERROR(BackendTable[[#This Row],[T0Time]]),0,COUNTIFS(BackendTable[T0Time],\"<=\"&3,BackendTable[T0Time],\">=\"&0)-COUNTIFS(BackendTable[T0Time],\">\"&BackendTable[[#This Row],[T0Time]]))","v":500},null,null,null,null,null,null,null,null,null,null,null,null,null,null,null,null,null,null,null,null,null,null,null,null,{"$f":"MATCH(MAX(BackendTable[[#This Row],[T1S1]:[T1S5]]),BackendTable[[#This Row],[T1S1]:[T1S5]],0)","v":{"$error":"#N/A"}},{"$f":"MATCH(MAX(BackendTable[[#This Row],[T2S1]:[T2S5]]),BackendTable[[#This Row],[T2S1]:[T2S5]],0)","v":{"$error":"#N/A"}},{"$f":"MATCH(MAX(BackendTable[[#This Row],[T3S1]:[T3S5]]),BackendTable[[#This Row],[T3S1]:[T3S5]],0)","v":{"$error":"#N/A"}}]
[null,{"$f":"ROW()-ROW(BackendTable[[#Headers],[Row'#]])","v":81},{"$f":"'Data In'!A88","v":0},{"$f":"IF(BackendTable[[#This Row],[Time]]-'Reference Cells'!$C$3<=0,NA(),'Reference Cells'!$C$4-BackendTable[[#This Row],[Time]])*86400","v":{"$error":"#N/A"}},{"$f":"IFERROR(8-BackendTable[[#This Row],[Column1]],\"\")","v":""},{"$f":"IF(ISERROR(BackendTable[[#This Row],[Column1]]),-9,(BackendTable[[#This Row],[Net Time]]-NetTimeMin)*RangeAdj)","v":-9},{"$f":"IF(AND(BackendTable[[#This Row],[Time]]>='Reference Cells'!$C$6,BackendTable[[#This Row],[Time]]<='Reference Cells'!$C$7),(BackendTable[[#This Row],[Time]]-'Reference Cells'!$C$6)*86400,NA())","v":2},{"$f":"IF(CommandCell='Reference Cells'!$C$17,NA(),ABS('Data In'!B88-INDIRECT(\"ZeroVal_\"&H$2,0)))","v":0},{"$f":"IF(CommandCell='Reference Cells'!$C$17,NA(),ABS('Data In'!C88-INDIRECT(\"ZeroVal_\"&I$2,0)))","v":0},{"$f":"IF(CommandCell='Reference Cells'!$C$17,NA(),ABS('Data In'!D88-INDIRECT(\"ZeroVal_\"&J$2,0)))","v":0},{"$f":"IF(CommandCell='Reference Cells'!$C$17,NA(),ABS('Data In'!E88-INDIRECT(\"ZeroVal_\"&K$2,0)))","v":0},{"$f":"IF(CommandCell='Reference Cells'!$C$17,NA(),ABS('Data In'!F88-INDIRECT(\"ZeroVal_\"&L$2,0)))","v":0},{"$f":"MAX(BackendTable[[#This Row],[S1]:[S5]])","v":0},{"$f":"IF(ISERROR(BackendTable[[#This Row],[T0Time]]),0,COUNTIFS(BackendTable[T0Time],\"<=\"&3,BackendTable[T0Time],\">=\"&0)-COUNTIFS(BackendTable[T0Time],\">\"&BackendTable[[#This Row],[T0Time]]))","v":500},null,null,null,null,null,null,null,null,null,null,null,null,null,null,null,null,null,null,null,null,null,null,null,null,{"$f":"MATCH(MAX(BackendTable[[#This Row],[T1S1]:[T1S5]]),BackendTable[[#This Row],[T1S1]:[T1S5]],0)","v":{"$error":"#N/A"}},{"$f":"MATCH(MAX(BackendTable[[#This Row],[T2S1]:[T2S5]]),BackendTable[[#This Row],[T2S1]:[T2S5]],0)","v":{"$error":"#N/A"}},{"$f":"MATCH(MAX(BackendTable[[#This Row],[T3S1]:[T3S5]]),BackendTable[[#This Row],[T3S1]:[T3S5]],0)","v":{"$error":"#N/A"}}]
[null,{"$f":"ROW()-ROW(BackendTable[[#Headers],[Row'#]])","v":82},{"$f":"'Data In'!A89","v":0},{"$f":"IF(BackendTable[[#This Row],[Time]]-'Reference Cells'!$C$3<=0,NA(),'Reference Cells'!$C$4-BackendTable[[#This Row],[Time]])*86400","v":{"$error":"#N/A"}},{"$f":"IFERROR(8-BackendTable[[#This Row],[Column1]],\"\")","v":""},{"$f":"IF(ISERROR(BackendTable[[#This Row],[Column1]]),-9,(BackendTable[[#This Row],[Net Time]]-NetTimeMin)*RangeAdj)","v":-9},{"$f":"IF(AND(BackendTable[[#This Row],[Time]]>='Reference Cells'!$C$6,BackendTable[[#This Row],[Time]]<='Reference Cells'!$C$7),(BackendTable[[#This Row],[Time]]-'Reference Cells'!$C$6)*86400,NA())","v":2},{"$f":"IF(CommandCell='Reference Cells'!$C$17,NA(),ABS('Data In'!B89-INDIRECT(\"ZeroVal_\"&H$2,0)))","v":0},{"$f":"IF(CommandCell='Reference Cells'!$C$17,NA(),ABS('Data In'!C89-INDIRECT(\"ZeroVal_\"&I$2,0)))","v":0},{"$f":"IF(CommandCell='Reference Cells'!$C$17,NA(),ABS('Data In'!D89-INDIRECT(\"ZeroVal_\"&J$2,0)))","v":0},{"$f":"IF(CommandCell='Reference Cells'!$C$17,NA(),ABS('Data In'!E89-INDIRECT(\"ZeroVal_\"&K$2,0)))","v":0},{"$f":"IF(CommandCell='Reference Cells'!$C$17,NA(),ABS('Data In'!F89-INDIRECT(\"ZeroVal_\"&L$2,0)))","v":0},{"$f":"MAX(BackendTable[[#This Row],[S1]:[S5]])","v":0},{"$f":"IF(ISERROR(BackendTable[[#This Row],[T0Time]]),0,COUNTIFS(BackendTable[T0Time],\"<=\"&3,BackendTable[T0Time],\">=\"&0)-COUNTIFS(BackendTable[T0Time],\">\"&BackendTable[[#This Row],[T0Time]]))","v":500},null,null,null,null,null,null,null,null,null,null,null,null,null,null,null,null,null,null,null,null,null,null,null,null,{"$f":"MATCH(MAX(BackendTable[[#This Row],[T1S1]:[T1S5]]),BackendTable[[#This Row],[T1S1]:[T1S5]],0)","v":{"$error":"#N/A"}},{"$f":"MATCH(MAX(BackendTable[[#This Row],[T2S1]:[T2S5]]),BackendTable[[#This Row],[T2S1]:[T2S5]],0)","v":{"$error":"#N/A"}},{"$f":"MATCH(MAX(BackendTable[[#This Row],[T3S1]:[T3S5]]),BackendTable[[#This Row],[T3S1]:[T3S5]],0)","v":{"$error":"#N/A"}}]
[null,{"$f":"ROW()-ROW(BackendTable[[#Headers],[Row'#]])","v":83},{"$f":"'Data In'!A90","v":0},{"$f":"IF(BackendTable[[#This Row],[Time]]-'Reference Cells'!$C$3<=0,NA(),'Reference Cells'!$C$4-BackendTable[[#This Row],[Time]])*86400","v":{"$error":"#N/A"}},{"$f":"IFERROR(8-BackendTable[[#This Row],[Column1]],\"\")","v":""},{"$f":"IF(ISERROR(BackendTable[[#This Row],[Column1]]),-9,(BackendTable[[#This Row],[Net Time]]-NetTimeMin)*RangeAdj)","v":-9},{"$f":"IF(AND(BackendTable[[#This Row],[Time]]>='Reference Cells'!$C$6,BackendTable[[#This Row],[Time]]<='Reference Cells'!$C$7),(BackendTable[[#This Row],[Time]]-'Reference Cells'!$C$6)*86400,NA())","v":2},{"$f":"IF(CommandCell='Reference Cells'!$C$17,NA(),ABS('Data In'!B90-INDIRECT(\"ZeroVal_\"&H$2,0)))","v":0},{"$f":"IF(CommandCell='Reference Cells'!$C$17,NA(),ABS('Data In'!C90-INDIRECT(\"ZeroVal_\"&I$2,0)))","v":0},{"$f":"IF(CommandCell='Reference Cells'!$C$17,NA(),ABS('Data In'!D90-INDIRECT(\"ZeroVal_\"&J$2,0)))","v":0},{"$f":"IF(CommandCell='Reference Cells'!$C$17,NA(),ABS('Data In'!E90-INDIRECT(\"ZeroVal_\"&K$2,0)))","v":0},{"$f":"IF(CommandCell='Reference Cells'!$C$17,NA(),ABS('Data In'!F90-INDIRECT(\"ZeroVal_\"&L$2,0)))","v":0},{"$f":"MAX(BackendTable[[#This Row],[S1]:[S5]])","v":0},{"$f":"IF(ISERROR(BackendTable[[#This Row],[T0Time]]),0,COUNTIFS(BackendTable[T0Time],\"<=\"&3,BackendTable[T0Time],\">=\"&0)-COUNTIFS(BackendTable[T0Time],\">\"&BackendTable[[#This Row],[T0Time]]))","v":500},null,null,null,null,null,null,null,null,null,null,null,null,null,null,null,null,null,null,null,null,null,null,null,null,{"$f":"MATCH(MAX(BackendTable[[#This Row],[T1S1]:[T1S5]]),BackendTable[[#This Row],[T1S1]:[T1S5]],0)","v":{"$error":"#N/A"}},{"$f":"MATCH(MAX(BackendTable[[#This Row],[T2S1]:[T2S5]]),BackendTable[[#This Row],[T2S1]:[T2S5]],0)","v":{"$error":"#N/A"}},{"$f":"MATCH(MAX(BackendTable[[#This Row],[T3S1]:[T3S5]]),BackendTable[[#This Row],[T3S1]:[T3S5]],0)","v":{"$error":"#N/A"}}]
[null,{"$f":"ROW()-ROW(BackendTable[[#Headers],[Row'#]])","v":84},{"$f":"'Data In'!A91","v":0},{"$f":"IF(BackendTable[[#This Row],[Time]]-'Reference Cells'!$C$3<=0,NA(),'Reference Cells'!$C$4-BackendTable[[#This Row],[Time]])*86400","v":{"$error":"#N/A"}},{"$f":"IFERROR(8-BackendTable[[#This Row],[Column1]],\"\")","v":""},{"$f":"IF(ISERROR(BackendTable[[#This Row],[Column1]]),-9,(BackendTable[[#This Row],[Net Time]]-NetTimeMin)*RangeAdj)","v":-9},{"$f":"IF(AND(BackendTable[[#This Row],[Time]]>='Reference Cells'!$C$6,BackendTable[[#This Row],[Time]]<='Reference Cells'!$C$7),(BackendTable[[#This Row],[Time]]-'Reference Cells'!$C$6)*86400,NA())","v":2},{"$f":"IF(CommandCell='Reference Cells'!$C$17,NA(),ABS('Data In'!B91-INDIRECT(\"ZeroVal_\"&H$2,0)))","v":0},{"$f":"IF(CommandCell='Reference Cells'!$C$17,NA(),ABS('Data In'!C91-INDIRECT(\"ZeroVal_\"&I$2,0)))","v":0},{"$f":"IF(CommandCell='Reference Cells'!$C$17,NA(),ABS('Data In'!D91-INDIRECT(\"ZeroVal_\"&J$2,0)))","v":0},{"$f":"IF(CommandCell='Reference Cells'!$C$17,NA(),ABS('Data In'!E91-INDIRECT(\"ZeroVal_\"&K$2,0)))","v":0},{"$f":"IF(CommandCell='Reference Cells'!$C$17,NA(),ABS('Data In'!F91-INDIRECT(\"ZeroVal_\"&L$2,0)))","v":0},{"$f":"MAX(BackendTable[[#This Row],[S1]:[S5]])","v":0},{"$f":"IF(ISERROR(BackendTable[[#This Row],[T0Time]]),0,COUNTIFS(BackendTable[T0Time],\"<=\"&3,BackendTable[T0Time],\">=\"&0)-COUNTIFS(BackendTable[T0Time],\">\"&BackendTable[[#This Row],[T0Time]]))","v":500},null,null,null,null,null,null,null,null,null,null,null,null,null,null,null,null,null,null,null,null,null,null,null,null,{"$f":"MATCH(MAX(BackendTable[[#This Row],[T1S1]:[T1S5]]),BackendTable[[#This Row],[T1S1]:[T1S5]],0)","v":{"$error":"#N/A"}},{"$f":"MATCH(MAX(BackendTable[[#This Row],[T2S1]:[T2S5]]),BackendTable[[#This Row],[T2S1]:[T2S5]],0)","v":{"$error":"#N/A"}},{"$f":"MATCH(MAX(BackendTable[[#This Row],[T3S1]:[T3S5]]),BackendTable[[#This Row],[T3S1]:[T3S5]],0)","v":{"$error":"#N/A"}}]
[null,{"$f":"ROW()-ROW(BackendTable[[#Headers],[Row'#]])","v":85},{"$f":"'Data In'!A92","v":0},{"$f":"IF(BackendTable[[#This Row],[Time]]-'Reference Cells'!$C$3<=0,NA(),'Reference Cells'!$C$4-BackendTable[[#This Row],[Time]])*86400","v":{"$error":"#N/A"}},{"$f":"IFERROR(8-BackendTable[[#This Row],[Column1]],\"\")","v":""},{"$f":"IF(ISERROR(BackendTable[[#This Row],[Column1]]),-9,(BackendTable[[#This Row],[Net Time]]-NetTimeMin)*RangeAdj)","v":-9},{"$f":"IF(AND(BackendTable[[#This Row],[Time]]>='Reference Cells'!$C$6,BackendTable[[#This Row],[Time]]<='Reference Cells'!$C$7),(BackendTable[[#This Row],[Time]]-'Reference Cells'!$C$6)*86400,NA())","v":2},{"$f":"IF(CommandCell='Reference Cells'!$C$17,NA(),ABS('Data In'!B92-INDIRECT(\"ZeroVal_\"&H$2,0)))","v":0},{"$f":"IF(CommandCell='Reference Cells'!$C$17,NA(),ABS('Data In'!C92-INDIRECT(\"ZeroVal_\"&I$2,0)))","v":0},{"$f":"IF(CommandCell='Reference Cells'!$C$17,NA(),ABS('Data In'!D92-INDIRECT(\"ZeroVal_\"&J$2,0)))","v":0},{"$f":"IF(CommandCell='Reference Cells'!$C$17,NA(),ABS('Data In'!E92-INDIRECT(\"ZeroVal_\"&K$2,0)))","v":0},{"$f":"IF(CommandCell='Reference Cells'!$C$17,NA(),ABS('Data In'!F92-INDIRECT(\"ZeroVal_\"&L$2,0)))","v":0},{"$f":"MAX(BackendTable[[#This Row],[S1]:[S5]])","v":0},{"$f":"IF(ISERROR(BackendTable[[#This Row],[T0Time]]),0,COUNTIFS(BackendTable[T0Time],\"<=\"&3,BackendTable[T0Time],\">=\"&0)-COUNTIFS(BackendTable[T0Time],\">\"&BackendTable[[#This Row],[T0Time]]))","v":500},null,null,null,null,null,null,null,null,null,null,null,null,null,null,null,null,null,null,null,null,null,null,null,null,{"$f":"MATCH(MAX(BackendTable[[#This Row],[T1S1]:[T1S5]]),BackendTable[[#This Row],[T1S1]:[T1S5]],0)","v":{"$error":"#N/A"}},{"$f":"MATCH(MAX(BackendTable[[#This Row],[T2S1]:[T2S5]]),BackendTable[[#This Row],[T2S1]:[T2S5]],0)","v":{"$error":"#N/A"}},{"$f":"MATCH(MAX(BackendTable[[#This Row],[T3S1]:[T3S5]]),BackendTable[[#This Row],[T3S1]:[T3S5]],0)","v":{"$error":"#N/A"}}]
[null,{"$f":"ROW()-ROW(BackendTable[[#Headers],[Row'#]])","v":86},{"$f":"'Data In'!A93","v":0},{"$f":"IF(BackendTable[[#This Row],[Time]]-'Reference Cells'!$C$3<=0,NA(),'Reference Cells'!$C$4-BackendTable[[#This Row],[Time]])*86400","v":{"$error":"#N/A"}},{"$f":"IFERROR(8-BackendTable[[#This Row],[Column1]],\"\")","v":""},{"$f":"IF(ISERROR(BackendTable[[#This Row],[Column1]]),-9,(BackendTable[[#This Row],[Net Time]]-NetTimeMin)*RangeAdj)","v":-9},{"$f":"IF(AND(BackendTable[[#This Row],[Time]]>='Reference Cells'!$C$6,BackendTable[[#This Row],[Time]]<='Reference Cells'!$C$7),(BackendTable[[#This Row],[Time]]-'Reference Cells'!$C$6)*86400,NA())","v":2},{"$f":"IF(CommandCell='Reference Cells'!$C$17,NA(),ABS('Data In'!B93-INDIRECT(\"ZeroVal_\"&H$2,0)))","v":0},{"$f":"IF(CommandCell='Reference Cells'!$C$17,NA(),ABS('Data In'!C93-INDIRECT(\"ZeroVal_\"&I$2,0)))","v":0},{"$f":"IF(CommandCell='Reference Cells'!$C$17,NA(),ABS('Data In'!D93-INDIRECT(\"ZeroVal_\"&J$2,0)))","v":0},{"$f":"IF(CommandCell='Reference Cells'!$C$17,NA(),ABS('Data In'!E93-INDIRECT(\"ZeroVal_\"&K$2,0)))","v":0},{"$f":"IF(CommandCell='Reference Cells'!$C$17,NA(),ABS('Data In'!F93-INDIRECT(\"ZeroVal_\"&L$2,0)))","v":0},{"$f":"MAX(BackendTable[[#This Row],[S1]:[S5]])","v":0},{"$f":"IF(ISERROR(BackendTable[[#This Row],[T0Time]]),0,COUNTIFS(BackendTable[T0Time],\"<=\"&3,BackendTable[T0Time],\">=\"&0)-COUNTIFS(BackendTable[T0Time],\">\"&BackendTable[[#This Row],[T0Time]]))","v":500},null,null,null,null,null,null,null,null,null,null,null,null,null,null,null,null,null,null,null,null,null,null,null,null,{"$f":"MATCH(MAX(BackendTable[[#This Row],[T1S1]:[T1S5]]),BackendTable[[#This Row],[T1S1]:[T1S5]],0)","v":{"$error":"#N/A"}},{"$f":"MATCH(MAX(BackendTable[[#This Row],[T2S1]:[T2S5]]),BackendTable[[#This Row],[T2S1]:[T2S5]],0)","v":{"$error":"#N/A"}},{"$f":"MATCH(MAX(BackendTable[[#This Row],[T3S1]:[T3S5]]),BackendTable[[#This Row],[T3S1]:[T3S5]],0)","v":{"$error":"#N/A"}}]
[null,{"$f":"ROW()-ROW(BackendTable[[#Headers],[Row'#]])","v":87},{"$f":"'Data In'!A94","v":0},{"$f":"IF(BackendTable[[#This Row],[Time]]-'Reference Cells'!$C$3<=0,NA(),'Reference Cells'!$C$4-BackendTable[[#This Row],[Time]])*86400","v":{"$error":"#N/A"}},{"$f":"IFERROR(8-BackendTable[[#This Row],[Column1]],\"\")","v":""},{"$f":"IF(ISERROR(BackendTable[[#This Row],[Column1]]),-9,(BackendTable[[#This Row],[Net Time]]-NetTimeMin)*RangeAdj)","v":-9},{"$f":"IF(AND(BackendTable[[#This Row],[Time]]>='Reference Cells'!$C$6,BackendTable[[#This Row],[Time]]<='Reference Cells'!$C$7),(BackendTable[[#This Row],[Time]]-'Reference Cells'!$C$6)*86400,NA())","v":2},{"$f":"IF(CommandCell='Reference Cells'!$C$17,NA(),ABS('Data In'!B94-INDIRECT(\"ZeroVal_\"&H$2,0)))","v":0},{"$f":"IF(CommandCell='Reference Cells'!$C$17,NA(),ABS('Data In'!C94-INDIRECT(\"ZeroVal_\"&I$2,0)))","v":0},{"$f":"IF(CommandCell='Reference Cells'!$C$17,NA(),ABS('Data In'!D94-INDIRECT(\"ZeroVal_\"&J$2,0)))","v":0},{"$f":"IF(CommandCell='Reference Cells'!$C$17,NA(),ABS('Data In'!E94-INDIRECT(\"ZeroVal_\"&K$2,0)))","v":0},{"$f":"IF(CommandCell='Reference Cells'!$C$17,NA(),ABS('Data In'!F94-INDIRECT(\"ZeroVal_\"&L$2,0)))","v":0},{"$f":"MAX(BackendTable[[#This Row],[S1]:[S5]])","v":0},{"$f":"IF(ISERROR(BackendTable[[#This Row],[T0Time]]),0,COUNTIFS(BackendTable[T0Time],\"<=\"&3,BackendTable[T0Time],\">=\"&0)-COUNTIFS(BackendTable[T0Time],\">\"&BackendTable[[#This Row],[T0Time]]))","v":500},null,null,null,null,null,null,null,null,null,null,null,null,null,null,null,null,null,null,null,null,null,null,null,null,{"$f":"MATCH(MAX(BackendTable[[#This Row],[T1S1]:[T1S5]]),BackendTable[[#This Row],[T1S1]:[T1S5]],0)","v":{"$error":"#N/A"}},{"$f":"MATCH(MAX(BackendTable[[#This Row],[T2S1]:[T2S5]]),BackendTable[[#This Row],[T2S1]:[T2S5]],0)","v":{"$error":"#N/A"}},{"$f":"MATCH(MAX(BackendTable[[#This Row],[T3S1]:[T3S5]]),BackendTable[[#This Row],[T3S1]:[T3S5]],0)","v":{"$error":"#N/A"}}]
[null,{"$f":"ROW()-ROW(BackendTable[[#Headers],[Row'#]])","v":88},{"$f":"'Data In'!A95","v":0},{"$f":"IF(BackendTable[[#This Row],[Time]]-'Reference Cells'!$C$3<=0,NA(),'Reference Cells'!$C$4-BackendTable[[#This Row],[Time]])*86400","v":{"$error":"#N/A"}},{"$f":"IFERROR(8-BackendTable[[#This Row],[Column1]],\"\")","v":""},{"$f":"IF(ISERROR(BackendTable[[#This Row],[Column1]]),-9,(BackendTable[[#This Row],[Net Time]]-NetTimeMin)*RangeAdj)","v":-9},{"$f":"IF(AND(BackendTable[[#This Row],[Time]]>='Reference Cells'!$C$6,BackendTable[[#This Row],[Time]]<='Reference Cells'!$C$7),(BackendTable[[#This Row],[Time]]-'Reference Cells'!$C$6)*86400,NA())","v":2},{"$f":"IF(CommandCell='Reference Cells'!$C$17,NA(),ABS('Data In'!B95-INDIRECT(\"ZeroVal_\"&H$2,0)))","v":0},{"$f":"IF(CommandCell='Reference Cells'!$C$17,NA(),ABS('Data In'!C95-INDIRECT(\"ZeroVal_\"&I$2,0)))","v":0},{"$f":"IF(CommandCell='Reference Cells'!$C$17,NA(),ABS('Data In'!D95-INDIRECT(\"ZeroVal_\"&J$2,0)))","v":0},{"$f":"IF(CommandCell='Reference Cells'!$C$17,NA(),ABS('Data In'!E95-INDIRECT(\"ZeroVal_\"&K$2,0)))","v":0},{"$f":"IF(CommandCell='Reference Cells'!$C$17,NA(),ABS('Data In'!F95-INDIRECT(\"ZeroVal_\"&L$2,0)))","v":0},{"$f":"MAX(BackendTable[[#This Row],[S1]:[S5]])","v":0},{"$f":"IF(ISERROR(BackendTable[[#This Row],[T0Time]]),0,COUNTIFS(BackendTable[T0Time],\"<=\"&3,BackendTable[T0Time],\">=\"&0)-COUNTIFS(BackendTable[T0Time],\">\"&BackendTable[[#This Row],[T0Time]]))","v":500},null,null,null,null,null,null,null,null,null,null,null,null,null,null,null,null,null,null,null,null,null,null,null,null,{"$f":"MATCH(MAX(BackendTable[[#This Row],[T1S1]:[T1S5]]),BackendTable[[#This Row],[T1S1]:[T1S5]],0)","v":{"$error":"#N/A"}},{"$f":"MATCH(MAX(BackendTable[[#This Row],[T2S1]:[T2S5]]),BackendTable[[#This Row],[T2S1]:[T2S5]],0)","v":{"$error":"#N/A"}},{"$f":"MATCH(MAX(BackendTable[[#This Row],[T3S1]:[T3S5]]),BackendTable[[#This Row],[T3S1]:[T3S5]],0)","v":{"$error":"#N/A"}}]
[null,{"$f":"ROW()-ROW(BackendTable[[#Headers],[Row'#]])","v":89},{"$f":"'Data In'!A96","v":0},{"$f":"IF(BackendTable[[#This Row],[Time]]-'Reference Cells'!$C$3<=0,NA(),'Reference Cells'!$C$4-BackendTable[[#This Row],[Time]])*86400","v":{"$error":"#N/A"}},{"$f":"IFERROR(8-BackendTable[[#This Row],[Column1]],\"\")","v":""},{"$f":"IF(ISERROR(BackendTable[[#This Row],[Column1]]),-9,(BackendTable[[#This Row],[Net Time]]-NetTimeMin)*RangeAdj)","v":-9},{"$f":"IF(AND(BackendTable[[#This Row],[Time]]>='Reference Cells'!$C$6,BackendTable[[#This Row],[Time]]<='Reference Cells'!$C$7),(BackendTable[[#This Row],[Time]]-'Reference Cells'!$C$6)*86400,NA())","v":2},{"$f":"IF(CommandCell='Reference Cells'!$C$17,NA(),ABS('Data In'!B96-INDIRECT(\"ZeroVal_\"&H$2,0)))","v":0},{"$f":"IF(CommandCell='Reference Cells'!$C$17,NA(),ABS('Data In'!C96-INDIRECT(\"ZeroVal_\"&I$2,0)))","v":0},{"$f":"IF(CommandCell='Reference Cells'!$C$17,NA(),ABS('Data In'!D96-INDIRECT(\"ZeroVal_\"&J$2,0)))","v":0},{"$f":"IF(CommandCell='Reference Cells'!$C$17,NA(),ABS('Data In'!E96-INDIRECT(\"ZeroVal_\"&K$2,0)))","v":0},{"$f":"IF(CommandCell='Reference Cells'!$C$17,NA(),ABS('Data In'!F96-INDIRECT(\"ZeroVal_\"&L$2,0)))","v":0},{"$f":"MAX(BackendTable[[#This Row],[S1]:[S5]])","v":0},{"$f":"IF(ISERROR(BackendTable[[#This Row],[T0Time]]),0,COUNTIFS(BackendTable[T0Time],\"<=\"&3,BackendTable[T0Time],\">=\"&0)-COUNTIFS(BackendTable[T0Time],\">\"&BackendTable[[#This Row],[T0Time]]))","v":500},null,null,null,null,null,null,null,null,null,null,null,null,null,null,null,null,null,null,null,null,null,null,null,null,{"$f":"MATCH(MAX(BackendTable[[#This Row],[T1S1]:[T1S5]]),BackendTable[[#This Row],[T1S1]:[T1S5]],0)","v":{"$error":"#N/A"}},{"$f":"MATCH(MAX(BackendTable[[#This Row],[T2S1]:[T2S5]]),BackendTable[[#This Row],[T2S1]:[T2S5]],0)","v":{"$error":"#N/A"}},{"$f":"MATCH(MAX(BackendTable[[#This Row],[T3S1]:[T3S5]]),BackendTable[[#This Row],[T3S1]:[T3S5]],0)","v":{"$error":"#N/A"}}]
[null,{"$f":"ROW()-ROW(BackendTable[[#Headers],[Row'#]])","v":90},{"$f":"'Data In'!A97","v":0},{"$f":"IF(BackendTable[[#This Row],[Time]]-'Reference Cells'!$C$3<=0,NA(),'Reference Cells'!$C$4-BackendTable[[#This Row],[Time]])*86400","v":{"$error":"#N/A"}},{"$f":"IFERROR(8-BackendTable[[#This Row],[Column1]],\"\")","v":""},{"$f":"IF(ISERROR(BackendTable[[#This Row],[Column1]]),-9,(BackendTable[[#This Row],[Net Time]]-NetTimeMin)*RangeAdj)","v":-9},{"$f":"IF(AND(BackendTable[[#This Row],[Time]]>='Reference Cells'!$C$6,BackendTable[[#This Row],[Time]]<='Reference Cells'!$C$7),(BackendTable[[#This Row],[Time]]-'Reference Cells'!$C$6)*86400,NA())","v":2},{"$f":"IF(CommandCell='Reference Cells'!$C$17,NA(),ABS('Data In'!B97-INDIRECT(\"ZeroVal_\"&H$2,0)))","v":0},{"$f":"IF(CommandCell='Reference Cells'!$C$17,NA(),ABS('Data In'!C97-INDIRECT(\"ZeroVal_\"&I$2,0)))","v":0},{"$f":"IF(CommandCell='Reference Cells'!$C$17,NA(),ABS('Data In'!D97-INDIRECT(\"ZeroVal_\"&J$2,0)))","v":0},{"$f":"IF(CommandCell='Reference Cells'!$C$17,NA(),ABS('Data In'!E97-INDIRECT(\"ZeroVal_\"&K$2,0)))","v":0},{"$f":"IF(CommandCell='Reference Cells'!$C$17,NA(),ABS('Data In'!F97-INDIRECT(\"ZeroVal_\"&L$2,0)))","v":0},{"$f":"MAX(BackendTable[[#This Row],[S1]:[S5]])","v":0},{"$f":"IF(ISERROR(BackendTable[[#This Row],[T0Time]]),0,COUNTIFS(BackendTable[T0Time],\"<=\"&3,BackendTable[T0Time],\">=\"&0)-COUNTIFS(BackendTable[T0Time],\">\"&BackendTable[[#This Row],[T0Time]]))","v":500},null,null,null,null,null,null,null,null,null,null,null,null,null,null,null,null,null,null,null,null,null,null,null,null,{"$f":"MATCH(MAX(BackendTable[[#This Row],[T1S1]:[T1S5]]),BackendTable[[#This Row],[T1S1]:[T1S5]],0)","v":{"$error":"#N/A"}},{"$f":"MATCH(MAX(BackendTable[[#This Row],[T2S1]:[T2S5]]),BackendTable[[#This Row],[T2S1]:[T2S5]],0)","v":{"$error":"#N/A"}},{"$f":"MATCH(MAX(BackendTable[[#This Row],[T3S1]:[T3S5]]),BackendTable[[#This Row],[T3S1]:[T3S5]],0)","v":{"$error":"#N/A"}}]
[null,{"$f":"ROW()-ROW(BackendTable[[#Headers],[Row'#]])","v":91},{"$f":"'Data In'!A98","v":0},{"$f":"IF(BackendTable[[#This Row],[Time]]-'Reference Cells'!$C$3<=0,NA(),'Reference Cells'!$C$4-BackendTable[[#This Row],[Time]])*86400","v":{"$error":"#N/A"}},{"$f":"IFERROR(8-BackendTable[[#This Row],[Column1]],\"\")","v":""},{"$f":"IF(ISERROR(BackendTable[[#This Row],[Column1]]),-9,(BackendTable[[#This Row],[Net Time]]-NetTimeMin)*RangeAdj)","v":-9},{"$f":"IF(AND(BackendTable[[#This Row],[Time]]>='Reference Cells'!$C$6,BackendTable[[#This Row],[Time]]<='Reference Cells'!$C$7),(BackendTable[[#This Row],[Time]]-'Reference Cells'!$C$6)*86400,NA())","v":2},{"$f":"IF(CommandCell='Reference Cells'!$C$17,NA(),ABS('Data In'!B98-INDIRECT(\"ZeroVal_\"&H$2,0)))","v":0},{"$f":"IF(CommandCell='Reference Cells'!$C$17,NA(),ABS('Data In'!C98-INDIRECT(\"ZeroVal_\"&I$2,0)))","v":0},{"$f":"IF(CommandCell='Reference Cells'!$C$17,NA(),ABS('Data In'!D98-INDIRECT(\"ZeroVal_\"&J$2,0)))","v":0},{"$f":"IF(CommandCell='Reference Cells'!$C$17,NA(),ABS('Data In'!E98-INDIRECT(\"ZeroVal_\"&K$2,0)))","v":0},{"$f":"IF(CommandCell='Reference Cells'!$C$17,NA(),ABS('Data In'!F98-INDIRECT(\"ZeroVal_\"&L$2,0)))","v":0},{"$f":"MAX(BackendTable[[#This Row],[S1]:[S5]])","v":0},{"$f":"IF(ISERROR(BackendTable[[#This Row],[T0Time]]),0,COUNTIFS(BackendTable[T0Time],\"<=\"&3,BackendTable[T0Time],\">=\"&0)-COUNTIFS(BackendTable[T0Time],\">\"&BackendTable[[#This Row],[T0Time]]))","v":500},null,null,null,null,null,null,null,null,null,null,null,null,null,null,null,null,null,null,null,null,null,null,null,null,{"$f":"MATCH(MAX(BackendTable[[#This Row],[T1S1]:[T1S5]]),BackendTable[[#This Row],[T1S1]:[T1S5]],0)","v":{"$error":"#N/A"}},{"$f":"MATCH(MAX(BackendTable[[#This Row],[T2S1]:[T2S5]]),BackendTable[[#This Row],[T2S1]:[T2S5]],0)","v":{"$error":"#N/A"}},{"$f":"MATCH(MAX(BackendTable[[#This Row],[T3S1]:[T3S5]]),BackendTable[[#This Row],[T3S1]:[T3S5]],0)","v":{"$error":"#N/A"}}]
[null,{"$f":"ROW()-ROW(BackendTable[[#Headers],[Row'#]])","v":92},{"$f":"'Data In'!A99","v":0},{"$f":"IF(BackendTable[[#This Row],[Time]]-'Reference Cells'!$C$3<=0,NA(),'Reference Cells'!$C$4-BackendTable[[#This Row],[Time]])*86400","v":{"$error":"#N/A"}},{"$f":"IFERROR(8-BackendTable[[#This Row],[Column1]],\"\")","v":""},{"$f":"IF(ISERROR(BackendTable[[#This Row],[Column1]]),-9,(BackendTable[[#This Row],[Net Time]]-NetTimeMin)*RangeAdj)","v":-9},{"$f":"IF(AND(BackendTable[[#This Row],[Time]]>='Reference Cells'!$C$6,BackendTable[[#This Row],[Time]]<='Reference Cells'!$C$7),(BackendTable[[#This Row],[Time]]-'Reference Cells'!$C$6)*86400,NA())","v":2},{"$f":"IF(CommandCell='Reference Cells'!$C$17,NA(),ABS('Data In'!B99-INDIRECT(\"ZeroVal_\"&H$2,0)))","v":0},{"$f":"IF(CommandCell='Reference Cells'!$C$17,NA(),ABS('Data In'!C99-INDIRECT(\"ZeroVal_\"&I$2,0)))","v":0},{"$f":"IF(CommandCell='Reference Cells'!$C$17,NA(),ABS('Data In'!D99-INDIRECT(\"ZeroVal_\"&J$2,0)))","v":0},{"$f":"IF(CommandCell='Reference Cells'!$C$17,NA(),ABS('Data In'!E99-INDIRECT(\"ZeroVal_\"&K$2,0)))","v":0},{"$f":"IF(CommandCell='Reference Cells'!$C$17,NA(),ABS('Data In'!F99-INDIRECT(\"ZeroVal_\"&L$2,0)))","v":0},{"$f":"MAX(BackendTable[[#This Row],[S1]:[S5]])","v":0},{"$f":"IF(ISERROR(BackendTable[[#This Row],[T0Time]]),0,COUNTIFS(BackendTable[T0Time],\"<=\"&3,BackendTable[T0Time],\">=\"&0)-COUNTIFS(BackendTable[T0Time],\">\"&BackendTable[[#This Row],[T0Time]]))","v":500},null,null,null,null,null,null,null,null,null,null,null,null,null,null,null,null,null,null,null,null,null,null,null,null,{"$f":"MATCH(MAX(BackendTable[[#This Row],[T1S1]:[T1S5]]),BackendTable[[#This Row],[T1S1]:[T1S5]],0)","v":{"$error":"#N/A"}},{"$f":"MATCH(MAX(BackendTable[[#This Row],[T2S1]:[T2S5]]),BackendTable[[#This Row],[T2S1]:[T2S5]],0)","v":{"$error":"#N/A"}},{"$f":"MATCH(MAX(BackendTable[[#This Row],[T3S1]:[T3S5]]),BackendTable[[#This Row],[T3S1]:[T3S5]],0)","v":{"$error":"#N/A"}}]
[null,{"$f":"ROW()-ROW(BackendTable[[#Headers],[Row'#]])","v":93},{"$f":"'Data In'!A100","v":0},{"$f":"IF(BackendTable[[#This Row],[Time]]-'Reference Cells'!$C$3<=0,NA(),'Reference Cells'!$C$4-BackendTable[[#This Row],[Time]])*86400","v":{"$error":"#N/A"}},{"$f":"IFERROR(8-BackendTable[[#This Row],[Column1]],\"\")","v":""},{"$f":"IF(ISERROR(BackendTable[[#This Row],[Column1]]),-9,(BackendTable[[#This Row],[Net Time]]-NetTimeMin)*RangeAdj)","v":-9},{"$f":"IF(AND(BackendTable[[#This Row],[Time]]>='Reference Cells'!$C$6,BackendTable[[#This Row],[Time]]<='Reference Cells'!$C$7),(BackendTable[[#This Row],[Time]]-'Reference Cells'!$C$6)*86400,NA())","v":2},{"$f":"IF(CommandCell='Reference Cells'!$C$17,NA(),ABS('Data In'!B100-INDIRECT(\"ZeroVal_\"&H$2,0)))","v":0},{"$f":"IF(CommandCell='Reference Cells'!$C$17,NA(),ABS('Data In'!C100-INDIRECT(\"ZeroVal_\"&I$2,0)))","v":0},{"$f":"IF(CommandCell='Reference Cells'!$C$17,NA(),ABS('Data In'!D100-INDIRECT(\"ZeroVal_\"&J$2,0)))","v":0},{"$f":"IF(CommandCell='Reference Cells'!$C$17,NA(),ABS('Data In'!E100-INDIRECT(\"ZeroVal_\"&K$2,0)))","v":0},{"$f":"IF(CommandCell='Reference Cells'!$C$17,NA(),ABS('Data In'!F100-INDIRECT(\"ZeroVal_\"&L$2,0)))","v":0},{"$f":"MAX(BackendTable[[#This Row],[S1]:[S5]])","v":0},{"$f":"IF(ISERROR(BackendTable[[#This Row],[T0Time]]),0,COUNTIFS(BackendTable[T0Time],\"<=\"&3,BackendTable[T0Time],\">=\"&0)-COUNTIFS(BackendTable[T0Time],\">\"&BackendTable[[#This Row],[T0Time]]))","v":500},null,null,null,null,null,null,null,null,null,null,null,null,null,null,null,null,null,null,null,null,null,null,null,null,{"$f":"MATCH(MAX(BackendTable[[#This Row],[T1S1]:[T1S5]]),BackendTable[[#This Row],[T1S1]:[T1S5]],0)","v":{"$error":"#N/A"}},{"$f":"MATCH(MAX(BackendTable[[#This Row],[T2S1]:[T2S5]]),BackendTable[[#This Row],[T2S1]:[T2S5]],0)","v":{"$error":"#N/A"}},{"$f":"MATCH(MAX(BackendTable[[#This Row],[T3S1]:[T3S5]]),BackendTable[[#This Row],[T3S1]:[T3S5]],0)","v":{"$error":"#N/A"}}]
[null,{"$f":"ROW()-ROW(BackendTable[[#Headers],[Row'#]])","v":94},{"$f":"'Data In'!A101","v":0},{"$f":"IF(BackendTable[[#This Row],[Time]]-'Reference Cells'!$C$3<=0,NA(),'Reference Cells'!$C$4-BackendTable[[#This Row],[Time]])*86400","v":{"$error":"#N/A"}},{"$f":"IFERROR(8-BackendTable[[#This Row],[Column1]],\"\")","v":""},{"$f":"IF(ISERROR(BackendTable[[#This Row],[Column1]]),-9,(BackendTable[[#This Row],[Net Time]]-NetTimeMin)*RangeAdj)","v":-9},{"$f":"IF(AND(BackendTable[[#This Row],[Time]]>='Reference Cells'!$C$6,BackendTable[[#This Row],[Time]]<='Reference Cells'!$C$7),(BackendTable[[#This Row],[Time]]-'Reference Cells'!$C$6)*86400,NA())","v":2},{"$f":"IF(CommandCell='Reference Cells'!$C$17,NA(),ABS('Data In'!B101-INDIRECT(\"ZeroVal_\"&H$2,0)))","v":0},{"$f":"IF(CommandCell='Reference Cells'!$C$17,NA(),ABS('Data In'!C101-INDIRECT(\"ZeroVal_\"&I$2,0)))","v":0},{"$f":"IF(CommandCell='Reference Cells'!$C$17,NA(),ABS('Data In'!D101-INDIRECT(\"ZeroVal_\"&J$2,0)))","v":0},{"$f":"IF(CommandCell='Reference Cells'!$C$17,NA(),ABS('Data In'!E101-INDIRECT(\"ZeroVal_\"&K$2,0)))","v":0},{"$f":"IF(CommandCell='Reference Cells'!$C$17,NA(),ABS('Data In'!F101-INDIRECT(\"ZeroVal_\"&L$2,0)))","v":0},{"$f":"MAX(BackendTable[[#This Row],[S1]:[S5]])","v":0},{"$f":"IF(ISERROR(BackendTable[[#This Row],[T0Time]]),0,COUNTIFS(BackendTable[T0Time],\"<=\"&3,BackendTable[T0Time],\">=\"&0)-COUNTIFS(BackendTable[T0Time],\">\"&BackendTable[[#This Row],[T0Time]]))","v":500},null,null,null,null,null,null,null,null,null,null,null,null,null,null,null,null,null,null,null,null,null,null,null,null,{"$f":"MATCH(MAX(BackendTable[[#This Row],[T1S1]:[T1S5]]),BackendTable[[#This Row],[T1S1]:[T1S5]],0)","v":{"$error":"#N/A"}},{"$f":"MATCH(MAX(BackendTable[[#This Row],[T2S1]:[T2S5]]),BackendTable[[#This Row],[T2S1]:[T2S5]],0)","v":{"$error":"#N/A"}},{"$f":"MATCH(MAX(BackendTable[[#This Row],[T3S1]:[T3S5]]),BackendTable[[#This Row],[T3S1]:[T3S5]],0)","v":{"$error":"#N/A"}}]
[null,{"$f":"ROW()-ROW(BackendTable[[#Headers],[Row'#]])","v":95},{"$f":"'Data In'!A102","v":0},{"$f":"IF(BackendTable[[#This Row],[Time]]-'Reference Cells'!$C$3<=0,NA(),'Reference Cells'!$C$4-BackendTable[[#This Row],[Time]])*86400","v":{"$error":"#N/A"}},{"$f":"IFERROR(8-BackendTable[[#This Row],[Column1]],\"\")","v":""},{"$f":"IF(ISERROR(BackendTable[[#This Row],[Column1]]),-9,(BackendTable[[#This Row],[Net Time]]-NetTimeMin)*RangeAdj)","v":-9},{"$f":"IF(AND(BackendTable[[#This Row],[Time]]>='Reference Cells'!$C$6,BackendTable[[#This Row],[Time]]<='Reference Cells'!$C$7),(BackendTable[[#This Row],[Time]]-'Reference Cells'!$C$6)*86400,NA())","v":2},{"$f":"IF(CommandCell='Reference Cells'!$C$17,NA(),ABS('Data In'!B102-INDIRECT(\"ZeroVal_\"&H$2,0)))","v":0},{"$f":"IF(CommandCell='Reference Cells'!$C$17,NA(),ABS('Data In'!C102-INDIRECT(\"ZeroVal_\"&I$2,0)))","v":0},{"$f":"IF(CommandCell='Reference Cells'!$C$17,NA(),ABS('Data In'!D102-INDIRECT(\"ZeroVal_\"&J$2,0)))","v":0},{"$f":"IF(CommandCell='Reference Cells'!$C$17,NA(),ABS('Data In'!E102-INDIRECT(\"ZeroVal_\"&K$2,0)))","v":0},{"$f":"IF(CommandCell='Reference Cells'!$C$17,NA(),ABS('Data In'!F102-INDIRECT(\"ZeroVal_\"&L$2,0)))","v":0},{"$f":"MAX(BackendTable[[#This Row],[S1]:[S5]])","v":0},{"$f":"IF(ISERROR(BackendTable[[#This Row],[T0Time]]),0,COUNTIFS(BackendTable[T0Time],\"<=\"&3,BackendTable[T0Time],\">=\"&0)-COUNTIFS(BackendTable[T0Time],\">\"&BackendTable[[#This Row],[T0Time]]))","v":500},null,null,null,null,null,null,null,null,null,null,null,null,null,null,null,null,null,null,null,null,null,null,null,null,{"$f":"MATCH(MAX(BackendTable[[#This Row],[T1S1]:[T1S5]]),BackendTable[[#This Row],[T1S1]:[T1S5]],0)","v":{"$error":"#N/A"}},{"$f":"MATCH(MAX(BackendTable[[#This Row],[T2S1]:[T2S5]]),BackendTable[[#This Row],[T2S1]:[T2S5]],0)","v":{"$error":"#N/A"}},{"$f":"MATCH(MAX(BackendTable[[#This Row],[T3S1]:[T3S5]]),BackendTable[[#This Row],[T3S1]:[T3S5]],0)","v":{"$error":"#N/A"}}]
[null,{"$f":"ROW()-ROW(BackendTable[[#Headers],[Row'#]])","v":96},{"$f":"'Data In'!A103","v":0},{"$f":"IF(BackendTable[[#This Row],[Time]]-'Reference Cells'!$C$3<=0,NA(),'Reference Cells'!$C$4-BackendTable[[#This Row],[Time]])*86400","v":{"$error":"#N/A"}},{"$f":"IFERROR(8-BackendTable[[#This Row],[Column1]],\"\")","v":""},{"$f":"IF(ISERROR(BackendTable[[#This Row],[Column1]]),-9,(BackendTable[[#This Row],[Net Time]]-NetTimeMin)*RangeAdj)","v":-9},{"$f":"IF(AND(BackendTable[[#This Row],[Time]]>='Reference Cells'!$C$6,BackendTable[[#This Row],[Time]]<='Reference Cells'!$C$7),(BackendTable[[#This Row],[Time]]-'Reference Cells'!$C$6)*86400,NA())","v":2},{"$f":"IF(CommandCell='Reference Cells'!$C$17,NA(),ABS('Data In'!B103-INDIRECT(\"ZeroVal_\"&H$2,0)))","v":0},{"$f":"IF(CommandCell='Reference Cells'!$C$17,NA(),ABS('Data In'!C103-INDIRECT(\"ZeroVal_\"&I$2,0)))","v":0},{"$f":"IF(CommandCell='Reference Cells'!$C$17,NA(),ABS('Data In'!D103-INDIRECT(\"ZeroVal_\"&J$2,0)))","v":0},{"$f":"IF(CommandCell='Reference Cells'!$C$17,NA(),ABS('Data In'!E103-INDIRECT(\"ZeroVal_\"&K$2,0)))","v":0},{"$f":"IF(CommandCell='Reference Cells'!$C$17,NA(),ABS('Data In'!F103-INDIRECT(\"ZeroVal_\"&L$2,0)))","v":0},{"$f":"MAX(BackendTable[[#This Row],[S1]:[S5]])","v":0},{"$f":"IF(ISERROR(BackendTable[[#This Row],[T0Time]]),0,COUNTIFS(BackendTable[T0Time],\"<=\"&3,BackendTable[T0Time],\">=\"&0)-COUNTIFS(BackendTable[T0Time],\">\"&BackendTable[[#This Row],[T0Time]]))","v":500},null,null,null,null,null,null,null,null,null,null,null,null,null,null,null,null,null,null,null,null,null,null,null,null,{"$f":"MATCH(MAX(BackendTable[[#This Row],[T1S1]:[T1S5]]),BackendTable[[#This Row],[T1S1]:[T1S5]],0)","v":{"$error":"#N/A"}},{"$f":"MATCH(MAX(BackendTable[[#This Row],[T2S1]:[T2S5]]),BackendTable[[#This Row],[T2S1]:[T2S5]],0)","v":{"$error":"#N/A"}},{"$f":"MATCH(MAX(BackendTable[[#This Row],[T3S1]:[T3S5]]),BackendTable[[#This Row],[T3S1]:[T3S5]],0)","v":{"$error":"#N/A"}}]
[null,{"$f":"ROW()-ROW(BackendTable[[#Headers],[Row'#]])","v":97},{"$f":"'Data In'!A104","v":0},{"$f":"IF(BackendTable[[#This Row],[Time]]-'Reference Cells'!$C$3<=0,NA(),'Reference Cells'!$C$4-BackendTable[[#This Row],[Time]])*86400","v":{"$error":"#N/A"}},{"$f":"IFERROR(8-BackendTable[[#This Row],[Column1]],\"\")","v":""},{"$f":"IF(ISERROR(BackendTable[[#This Row],[Column1]]),-9,(BackendTable[[#This Row],[Net Time]]-NetTimeMin)*RangeAdj)","v":-9},{"$f":"IF(AND(BackendTable[[#This Row],[Time]]>='Reference Cells'!$C$6,BackendTable[[#This Row],[Time]]<='Reference Cells'!$C$7),(BackendTable[[#This Row],[Time]]-'Reference Cells'!$C$6)*86400,NA())","v":2},{"$f":"IF(CommandCell='Reference Cells'!$C$17,NA(),ABS('Data In'!B104-INDIRECT(\"ZeroVal_\"&H$2,0)))","v":0},{"$f":"IF(CommandCell='Reference Cells'!$C$17,NA(),ABS('Data In'!C104-INDIRECT(\"ZeroVal_\"&I$2,0)))","v":0},{"$f":"IF(CommandCell='Reference Cells'!$C$17,NA(),ABS('Data In'!D104-INDIRECT(\"ZeroVal_\"&J$2,0)))","v":0},{"$f":"IF(CommandCell='Reference Cells'!$C$17,NA(),ABS('Data In'!E104-INDIRECT(\"ZeroVal_\"&K$2,0)))","v":0},{"$f":"IF(CommandCell='Reference Cells'!$C$17,NA(),ABS('Data In'!F104-INDIRECT(\"ZeroVal_\"&L$2,0)))","v":0},{"$f":"MAX(BackendTable[[#This Row],[S1]:[S5]])","v":0},{"$f":"IF(ISERROR(BackendTable[[#This Row],[T0Time]]),0,COUNTIFS(BackendTable[T0Time],\"<=\"&3,BackendTable[T0Time],\">=\"&0)-COUNTIFS(BackendTable[T0Time],\">\"&BackendTable[[#This Row],[T0Time]]))","v":500},null,null,null,null,null,null,null,null,null,null,null,null,null,null,null,null,null,null,null,null,null,null,null,null,{"$f":"MATCH(MAX(BackendTable[[#This Row],[T1S1]:[T1S5]]),BackendTable[[#This Row],[T1S1]:[T1S5]],0)","v":{"$error":"#N/A"}},{"$f":"MATCH(MAX(BackendTable[[#This Row],[T2S1]:[T2S5]]),BackendTable[[#This Row],[T2S1]:[T2S5]],0)","v":{"$error":"#N/A"}},{"$f":"MATCH(MAX(BackendTable[[#This Row],[T3S1]:[T3S5]]),BackendTable[[#This Row],[T3S1]:[T3S5]],0)","v":{"$error":"#N/A"}}]
[null,{"$f":"ROW()-ROW(BackendTable[[#Headers],[Row'#]])","v":98},{"$f":"'Data In'!A105","v":0},{"$f":"IF(BackendTable[[#This Row],[Time]]-'Reference Cells'!$C$3<=0,NA(),'Reference Cells'!$C$4-BackendTable[[#This Row],[Time]])*86400","v":{"$error":"#N/A"}},{"$f":"IFERROR(8-BackendTable[[#This Row],[Column1]],\"\")","v":""},{"$f":"IF(ISERROR(BackendTable[[#This Row],[Column1]]),-9,(BackendTable[[#This Row],[Net Time]]-NetTimeMin)*RangeAdj)","v":-9},{"$f":"IF(AND(BackendTable[[#This Row],[Time]]>='Reference Cells'!$C$6,BackendTable[[#This Row],[Time]]<='Reference Cells'!$C$7),(BackendTable[[#This Row],[Time]]-'Reference Cells'!$C$6)*86400,NA())","v":2},{"$f":"IF(CommandCell='Reference Cells'!$C$17,NA(),ABS('Data In'!B105-INDIRECT(\"ZeroVal_\"&H$2,0)))","v":0},{"$f":"IF(CommandCell='Reference Cells'!$C$17,NA(),ABS('Data In'!C105-INDIRECT(\"ZeroVal_\"&I$2,0)))","v":0},{"$f":"IF(CommandCell='Reference Cells'!$C$17,NA(),ABS('Data In'!D105-INDIRECT(\"ZeroVal_\"&J$2,0)))","v":0},{"$f":"IF(CommandCell='Reference Cells'!$C$17,NA(),ABS('Data In'!E105-INDIRECT(\"ZeroVal_\"&K$2,0)))","v":0},{"$f":"IF(CommandCell='Reference Cells'!$C$17,NA(),ABS('Data In'!F105-INDIRECT(\"ZeroVal_\"&L$2,0)))","v":0},{"$f":"MAX(BackendTable[[#This Row],[S1]:[S5]])","v":0},{"$f":"IF(ISERROR(BackendTable[[#This Row],[T0Time]]),0,COUNTIFS(BackendTable[T0Time],\"<=\"&3,BackendTable[T0Time],\">=\"&0)-COUNTIFS(BackendTable[T0Time],\">\"&BackendTable[[#This Row],[T0Time]]))","v":500},null,null,null,null,null,null,null,null,null,null,null,null,null,null,null,null,null,null,null,null,null,null,null,null,{"$f":"MATCH(MAX(BackendTable[[#This Row],[T1S1]:[T1S5]]),BackendTable[[#This Row],[T1S1]:[T1S5]],0)","v":{"$error":"#N/A"}},{"$f":"MATCH(MAX(BackendTable[[#This Row],[T2S1]:[T2S5]]),BackendTable[[#This Row],[T2S1]:[T2S5]],0)","v":{"$error":"#N/A"}},{"$f":"MATCH(MAX(BackendTable[[#This Row],[T3S1]:[T3S5]]),BackendTable[[#This Row],[T3S1]:[T3S5]],0)","v":{"$error":"#N/A"}}]
[null,{"$f":"ROW()-ROW(BackendTable[[#Headers],[Row'#]])","v":99},{"$f":"'Data In'!A106","v":0},{"$f":"IF(BackendTable[[#This Row],[Time]]-'Reference Cells'!$C$3<=0,NA(),'Reference Cells'!$C$4-BackendTable[[#This Row],[Time]])*86400","v":{"$error":"#N/A"}},{"$f":"IFERROR(8-BackendTable[[#This Row],[Column1]],\"\")","v":""},{"$f":"IF(ISERROR(BackendTable[[#This Row],[Column1]]),-9,(BackendTable[[#This Row],[Net Time]]-NetTimeMin)*RangeAdj)","v":-9},{"$f":"IF(AND(BackendTable[[#This Row],[Time]]>='Reference Cells'!$C$6,BackendTable[[#This Row],[Time]]<='Reference Cells'!$C$7),(BackendTable[[#This Row],[Time]]-'Reference Cells'!$C$6)*86400,NA())","v":2},{"$f":"IF(CommandCell='Reference Cells'!$C$17,NA(),ABS('Data In'!B106-INDIRECT(\"ZeroVal_\"&H$2,0)))","v":0},{"$f":"IF(CommandCell='Reference Cells'!$C$17,NA(),ABS('Data In'!C106-INDIRECT(\"ZeroVal_\"&I$2,0)))","v":0},{"$f":"IF(CommandCell='Reference Cells'!$C$17,NA(),ABS('Data In'!D106-INDIRECT(\"ZeroVal_\"&J$2,0)))","v":0},{"$f":"IF(CommandCell='Reference Cells'!$C$17,NA(),ABS('Data In'!E106-INDIRECT(\"ZeroVal_\"&K$2,0)))","v":0},{"$f":"IF(CommandCell='Reference Cells'!$C$17,NA(),ABS('Data In'!F106-INDIRECT(\"ZeroVal_\"&L$2,0)))","v":0},{"$f":"MAX(BackendTable[[#This Row],[S1]:[S5]])","v":0},{"$f":"IF(ISERROR(BackendTable[[#This Row],[T0Time]]),0,COUNTIFS(BackendTable[T0Time],\"<=\"&3,BackendTable[T0Time],\">=\"&0)-COUNTIFS(BackendTable[T0Time],\">\"&BackendTable[[#This Row],[T0Time]]))","v":500},null,null,null,null,null,null,null,null,null,null,null,null,null,null,null,null,null,null,null,null,null,null,null,null,{"$f":"MATCH(MAX(BackendTable[[#This Row],[T1S1]:[T1S5]]),BackendTable[[#This Row],[T1S1]:[T1S5]],0)","v":{"$error":"#N/A"}},{"$f":"MATCH(MAX(BackendTable[[#This Row],[T2S1]:[T2S5]]),BackendTable[[#This Row],[T2S1]:[T2S5]],0)","v":{"$error":"#N/A"}},{"$f":"MATCH(MAX(BackendTable[[#This Row],[T3S1]:[T3S5]]),BackendTable[[#This Row],[T3S1]:[T3S5]],0)","v":{"$error":"#N/A"}}]
[null,{"$f":"ROW()-ROW(BackendTable[[#Headers],[Row'#]])","v":100},{"$f":"'Data In'!A107","v":0},{"$f":"IF(BackendTable[[#This Row],[Time]]-'Reference Cells'!$C$3<=0,NA(),'Reference Cells'!$C$4-BackendTable[[#This Row],[Time]])*86400","v":{"$error":"#N/A"}},{"$f":"IFERROR(8-BackendTable[[#This Row],[Column1]],\"\")","v":""},{"$f":"IF(ISERROR(BackendTable[[#This Row],[Column1]]),-9,(BackendTable[[#This Row],[Net Time]]-NetTimeMin)*RangeAdj)","v":-9},{"$f":"IF(AND(BackendTable[[#This Row],[Time]]>='Reference Cells'!$C$6,BackendTable[[#This Row],[Time]]<='Reference Cells'!$C$7),(BackendTable[[#This Row],[Time]]-'Reference Cells'!$C$6)*86400,NA())","v":2},{"$f":"IF(CommandCell='Reference Cells'!$C$17,NA(),ABS('Data In'!B107-INDIRECT(\"ZeroVal_\"&H$2,0)))","v":0},{"$f":"IF(CommandCell='Reference Cells'!$C$17,NA(),ABS('Data In'!C107-INDIRECT(\"ZeroVal_\"&I$2,0)))","v":0},{"$f":"IF(CommandCell='Reference Cells'!$C$17,NA(),ABS('Data In'!D107-INDIRECT(\"ZeroVal_\"&J$2,0)))","v":0},{"$f":"IF(CommandCell='Reference Cells'!$C$17,NA(),ABS('Data In'!E107-INDIRECT(\"ZeroVal_\"&K$2,0)))","v":0},{"$f":"IF(CommandCell='Reference Cells'!$C$17,NA(),ABS('Data In'!F107-INDIRECT(\"ZeroVal_\"&L$2,0)))","v":0},{"$f":"MAX(BackendTable[[#This Row],[S1]:[S5]])","v":0},{"$f":"IF(ISERROR(BackendTable[[#This Row],[T0Time]]),0,COUNTIFS(BackendTable[T0Time],\"<=\"&3,BackendTable[T0Time],\">=\"&0)-COUNTIFS(BackendTable[T0Time],\">\"&BackendTable[[#This Row],[T0Time]]))","v":500},null,null,null,null,null,null,null,null,null,null,null,null,null,null,null,null,null,null,null,null,null,null,null,null,{"$f":"MATCH(MAX(BackendTable[[#This Row],[T1S1]:[T1S5]]),BackendTable[[#This Row],[T1S1]:[T1S5]],0)","v":{"$error":"#N/A"}},{"$f":"MATCH(MAX(BackendTable[[#This Row],[T2S1]:[T2S5]]),BackendTable[[#This Row],[T2S1]:[T2S5]],0)","v":{"$error":"#N/A"}},{"$f":"MATCH(MAX(BackendTable[[#This Row],[T3S1]:[T3S5]]),BackendTable[[#This Row],[T3S1]:[T3S5]],0)","v":{"$error":"#N/A"}}]
[null,{"$f":"ROW()-ROW(BackendTable[[#Headers],[Row'#]])","v":101},{"$f":"'Data In'!A108","v":0},{"$f":"IF(BackendTable[[#This Row],[Time]]-'Reference Cells'!$C$3<=0,NA(),'Reference Cells'!$C$4-BackendTable[[#This Row],[Time]])*86400","v":{"$error":"#N/A"}},{"$f":"IFERROR(8-BackendTable[[#This Row],[Column1]],\"\")","v":""},{"$f":"IF(ISERROR(BackendTable[[#This Row],[Column1]]),-9,(BackendTable[[#This Row],[Net Time]]-NetTimeMin)*RangeAdj)","v":-9},{"$f":"IF(AND(BackendTable[[#This Row],[Time]]>='Reference Cells'!$C$6,BackendTable[[#This Row],[Time]]<='Reference Cells'!$C$7),(BackendTable[[#This Row],[Time]]-'Reference Cells'!$C$6)*86400,NA())","v":2},{"$f":"IF(CommandCell='Reference Cells'!$C$17,NA(),ABS('Data In'!B108-INDIRECT(\"ZeroVal_\"&H$2,0)))","v":0},{"$f":"IF(CommandCell='Reference Cells'!$C$17,NA(),ABS('Data In'!C108-INDIRECT(\"ZeroVal_\"&I$2,0)))","v":0},{"$f":"IF(CommandCell='Reference Cells'!$C$17,NA(),ABS('Data In'!D108-INDIRECT(\"ZeroVal_\"&J$2,0)))","v":0},{"$f":"IF(CommandCell='Reference Cells'!$C$17,NA(),ABS('Data In'!E108-INDIRECT(\"ZeroVal_\"&K$2,0)))","v":0},{"$f":"IF(CommandCell='Reference Cells'!$C$17,NA(),ABS('Data In'!F108-INDIRECT(\"ZeroVal_\"&L$2,0)))","v":0},{"$f":"MAX(BackendTable[[#This Row],[S1]:[S5]])","v":0},{"$f":"IF(ISERROR(BackendTable[[#This Row],[T0Time]]),0,COUNTIFS(BackendTable[T0Time],\"<=\"&3,BackendTable[T0Time],\">=\"&0)-COUNTIFS(BackendTable[T0Time],\">\"&BackendTable[[#This Row],[T0Time]]))","v":500},null,null,null,null,null,null,null,null,null,null,null,null,null,null,null,null,null,null,null,null,null,null,null,null,{"$f":"MATCH(MAX(BackendTable[[#This Row],[T1S1]:[T1S5]]),BackendTable[[#This Row],[T1S1]:[T1S5]],0)","v":{"$error":"#N/A"}},{"$f":"MATCH(MAX(BackendTable[[#This Row],[T2S1]:[T2S5]]),BackendTable[[#This Row],[T2S1]:[T2S5]],0)","v":{"$error":"#N/A"}},{"$f":"MATCH(MAX(BackendTable[[#This Row],[T3S1]:[T3S5]]),BackendTable[[#This Row],[T3S1]:[T3S5]],0)","v":{"$error":"#N/A"}}]
[null,{"$f":"ROW()-ROW(BackendTable[[#Headers],[Row'#]])","v":102},{"$f":"'Data In'!A109","v":0},{"$f":"IF(BackendTable[[#This Row],[Time]]-'Reference Cells'!$C$3<=0,NA(),'Reference Cells'!$C$4-BackendTable[[#This Row],[Time]])*86400","v":{"$error":"#N/A"}},{"$f":"IFERROR(8-BackendTable[[#This Row],[Column1]],\"\")","v":""},{"$f":"IF(ISERROR(BackendTable[[#This Row],[Column1]]),-9,(BackendTable[[#This Row],[Net Time]]-NetTimeMin)*RangeAdj)","v":-9},{"$f":"IF(AND(BackendTable[[#This Row],[Time]]>='Reference Cells'!$C$6,BackendTable[[#This Row],[Time]]<='Reference Cells'!$C$7),(BackendTable[[#This Row],[Time]]-'Reference Cells'!$C$6)*86400,NA())","v":2},{"$f":"IF(CommandCell='Reference Cells'!$C$17,NA(),ABS('Data In'!B109-INDIRECT(\"ZeroVal_\"&H$2,0)))","v":0},{"$f":"IF(CommandCell='Reference Cells'!$C$17,NA(),ABS('Data In'!C109-INDIRECT(\"ZeroVal_\"&I$2,0)))","v":0},{"$f":"IF(CommandCell='Reference Cells'!$C$17,NA(),ABS('Data In'!D109-INDIRECT(\"ZeroVal_\"&J$2,0)))","v":0},{"$f":"IF(CommandCell='Reference Cells'!$C$17,NA(),ABS('Data In'!E109-INDIRECT(\"ZeroVal_\"&K$2,0)))","v":0},{"$f":"IF(CommandCell='Reference Cells'!$C$17,NA(),ABS('Data In'!F109-INDIRECT(\"ZeroVal_\"&L$2,0)))","v":0},{"$f":"MAX(BackendTable[[#This Row],[S1]:[S5]])","v":0},{"$f":"IF(ISERROR(BackendTable[[#This Row],[T0Time]]),0,COUNTIFS(BackendTable[T0Time],\"<=\"&3,BackendTable[T0Time],\">=\"&0)-COUNTIFS(BackendTable[T0Time],\">\"&BackendTable[[#This Row],[T0Time]]))","v":500},null,null,null,null,null,null,null,null,null,null,null,null,null,null,null,null,null,null,null,null,null,null,null,null,{"$f":"MATCH(MAX(BackendTable[[#This Row],[T1S1]:[T1S5]]),BackendTable[[#This Row],[T1S1]:[T1S5]],0)","v":{"$error":"#N/A"}},{"$f":"MATCH(MAX(BackendTable[[#This Row],[T2S1]:[T2S5]]),BackendTable[[#This Row],[T2S1]:[T2S5]],0)","v":{"$error":"#N/A"}},{"$f":"MATCH(MAX(BackendTable[[#This Row],[T3S1]:[T3S5]]),BackendTable[[#This Row],[T3S1]:[T3S5]],0)","v":{"$error":"#N/A"}}]
[null,{"$f":"ROW()-ROW(BackendTable[[#Headers],[Row'#]])","v":103},{"$f":"'Data In'!A110","v":0},{"$f":"IF(BackendTable[[#This Row],[Time]]-'Reference Cells'!$C$3<=0,NA(),'Reference Cells'!$C$4-BackendTable[[#This Row],[Time]])*86400","v":{"$error":"#N/A"}},{"$f":"IFERROR(8-BackendTable[[#This Row],[Column1]],\"\")","v":""},{"$f":"IF(ISERROR(BackendTable[[#This Row],[Column1]]),-9,(BackendTable[[#This Row],[Net Time]]-NetTimeMin)*RangeAdj)","v":-9},{"$f":"IF(AND(BackendTable[[#This Row],[Time]]>='Reference Cells'!$C$6,BackendTable[[#This Row],[Time]]<='Reference Cells'!$C$7),(BackendTable[[#This Row],[Time]]-'Reference Cells'!$C$6)*86400,NA())","v":2},{"$f":"IF(CommandCell='Reference Cells'!$C$17,NA(),ABS('Data In'!B110-INDIRECT(\"ZeroVal_\"&H$2,0)))","v":0},{"$f":"IF(CommandCell='Reference Cells'!$C$17,NA(),ABS('Data In'!C110-INDIRECT(\"ZeroVal_\"&I$2,0)))","v":0},{"$f":"IF(CommandCell='Reference Cells'!$C$17,NA(),ABS('Data In'!D110-INDIRECT(\"ZeroVal_\"&J$2,0)))","v":0},{"$f":"IF(CommandCell='Reference Cells'!$C$17,NA(),ABS('Data In'!E110-INDIRECT(\"ZeroVal_\"&K$2,0)))","v":0},{"$f":"IF(CommandCell='Reference Cells'!$C$17,NA(),ABS('Data In'!F110-INDIRECT(\"ZeroVal_\"&L$2,0)))","v":0},{"$f":"MAX(BackendTable[[#This Row],[S1]:[S5]])","v":0},{"$f":"IF(ISERROR(BackendTable[[#This Row],[T0Time]]),0,COUNTIFS(BackendTable[T0Time],\"<=\"&3,BackendTable[T0Time],\">=\"&0)-COUNTIFS(BackendTable[T0Time],\">\"&BackendTable[[#This Row],[T0Time]]))","v":500},null,null,null,null,null,null,null,null,null,null,null,null,null,null,null,null,null,null,null,null,null,null,null,null,{"$f":"MATCH(MAX(BackendTable[[#This Row],[T1S1]:[T1S5]]),BackendTable[[#This Row],[T1S1]:[T1S5]],0)","v":{"$error":"#N/A"}},{"$f":"MATCH(MAX(BackendTable[[#This Row],[T2S1]:[T2S5]]),BackendTable[[#This Row],[T2S1]:[T2S5]],0)","v":{"$error":"#N/A"}},{"$f":"MATCH(MAX(BackendTable[[#This Row],[T3S1]:[T3S5]]),BackendTable[[#This Row],[T3S1]:[T3S5]],0)","v":{"$error":"#N/A"}}]
[null,{"$f":"ROW()-ROW(BackendTable[[#Headers],[Row'#]])","v":104},{"$f":"'Data In'!A111","v":0},{"$f":"IF(BackendTable[[#This Row],[Time]]-'Reference Cells'!$C$3<=0,NA(),'Reference Cells'!$C$4-BackendTable[[#This Row],[Time]])*86400","v":{"$error":"#N/A"}},{"$f":"IFERROR(8-BackendTable[[#This Row],[Column1]],\"\")","v":""},{"$f":"IF(ISERROR(BackendTable[[#This Row],[Column1]]),-9,(BackendTable[[#This Row],[Net Time]]-NetTimeMin)*RangeAdj)","v":-9},{"$f":"IF(AND(BackendTable[[#This Row],[Time]]>='Reference Cells'!$C$6,BackendTable[[#This Row],[Time]]<='Reference Cells'!$C$7),(BackendTable[[#This Row],[Time]]-'Reference Cells'!$C$6)*86400,NA())","v":2},{"$f":"IF(CommandCell='Reference Cells'!$C$17,NA(),ABS('Data In'!B111-INDIRECT(\"ZeroVal_\"&H$2,0)))","v":0},{"$f":"IF(CommandCell='Reference Cells'!$C$17,NA(),ABS('Data In'!C111-INDIRECT(\"ZeroVal_\"&I$2,0)))","v":0},{"$f":"IF(CommandCell='Reference Cells'!$C$17,NA(),ABS('Data In'!D111-INDIRECT(\"ZeroVal_\"&J$2,0)))","v":0},{"$f":"IF(CommandCell='Reference Cells'!$C$17,NA(),ABS('Data In'!E111-INDIRECT(\"ZeroVal_\"&K$2,0)))","v":0},{"$f":"IF(CommandCell='Reference Cells'!$C$17,NA(),ABS('Data In'!F111-INDIRECT(\"ZeroVal_\"&L$2,0)))","v":0},{"$f":"MAX(BackendTable[[#This Row],[S1]:[S5]])","v":0},{"$f":"IF(ISERROR(BackendTable[[#This Row],[T0Time]]),0,COUNTIFS(BackendTable[T0Time],\"<=\"&3,BackendTable[T0Time],\">=\"&0)-COUNTIFS(BackendTable[T0Time],\">\"&BackendTable[[#This Row],[T0Time]]))","v":500},null,null,null,null,null,null,null,null,null,null,null,null,null,null,null,null,null,null,null,null,null,null,null,null,{"$f":"MATCH(MAX(BackendTable[[#This Row],[T1S1]:[T1S5]]),BackendTable[[#This Row],[T1S1]:[T1S5]],0)","v":{"$error":"#N/A"}},{"$f":"MATCH(MAX(BackendTable[[#This Row],[T2S1]:[T2S5]]),BackendTable[[#This Row],[T2S1]:[T2S5]],0)","v":{"$error":"#N/A"}},{"$f":"MATCH(MAX(BackendTable[[#This Row],[T3S1]:[T3S5]]),BackendTable[[#This Row],[T3S1]:[T3S5]],0)","v":{"$error":"#N/A"}}]
[null,{"$f":"ROW()-ROW(BackendTable[[#Headers],[Row'#]])","v":105},{"$f":"'Data In'!A112","v":0},{"$f":"IF(BackendTable[[#This Row],[Time]]-'Reference Cells'!$C$3<=0,NA(),'Reference Cells'!$C$4-BackendTable[[#This Row],[Time]])*86400","v":{"$error":"#N/A"}},{"$f":"IFERROR(8-BackendTable[[#This Row],[Column1]],\"\")","v":""},{"$f":"IF(ISERROR(BackendTable[[#This Row],[Column1]]),-9,(BackendTable[[#This Row],[Net Time]]-NetTimeMin)*RangeAdj)","v":-9},{"$f":"IF(AND(BackendTable[[#This Row],[Time]]>='Reference Cells'!$C$6,BackendTable[[#This Row],[Time]]<='Reference Cells'!$C$7),(BackendTable[[#This Row],[Time]]-'Reference Cells'!$C$6)*86400,NA())","v":2},{"$f":"IF(CommandCell='Reference Cells'!$C$17,NA(),ABS('Data In'!B112-INDIRECT(\"ZeroVal_\"&H$2,0)))","v":0},{"$f":"IF(CommandCell='Reference Cells'!$C$17,NA(),ABS('Data In'!C112-INDIRECT(\"ZeroVal_\"&I$2,0)))","v":0},{"$f":"IF(CommandCell='Reference Cells'!$C$17,NA(),ABS('Data In'!D112-INDIRECT(\"ZeroVal_\"&J$2,0)))","v":0},{"$f":"IF(CommandCell='Reference Cells'!$C$17,NA(),ABS('Data In'!E112-INDIRECT(\"ZeroVal_\"&K$2,0)))","v":0},{"$f":"IF(CommandCell='Reference Cells'!$C$17,NA(),ABS('Data In'!F112-INDIRECT(\"ZeroVal_\"&L$2,0)))","v":0},{"$f":"MAX(BackendTable[[#This Row],[S1]:[S5]])","v":0},{"$f":"IF(ISERROR(BackendTable[[#This Row],[T0Time]]),0,COUNTIFS(BackendTable[T0Time],\"<=\"&3,BackendTable[T0Time],\">=\"&0)-COUNTIFS(BackendTable[T0Time],\">\"&BackendTable[[#This Row],[T0Time]]))","v":500},null,null,null,null,null,null,null,null,null,null,null,null,null,null,null,null,null,null,null,null,null,null,null,null,{"$f":"MATCH(MAX(BackendTable[[#This Row],[T1S1]:[T1S5]]),BackendTable[[#This Row],[T1S1]:[T1S5]],0)","v":{"$error":"#N/A"}},{"$f":"MATCH(MAX(BackendTable[[#This Row],[T2S1]:[T2S5]]),BackendTable[[#This Row],[T2S1]:[T2S5]],0)","v":{"$error":"#N/A"}},{"$f":"MATCH(MAX(BackendTable[[#This Row],[T3S1]:[T3S5]]),BackendTable[[#This Row],[T3S1]:[T3S5]],0)","v":{"$error":"#N/A"}}]
[null,{"$f":"ROW()-ROW(BackendTable[[#Headers],[Row'#]])","v":106},{"$f":"'Data In'!A113","v":0},{"$f":"IF(BackendTable[[#This Row],[Time]]-'Reference Cells'!$C$3<=0,NA(),'Reference Cells'!$C$4-BackendTable[[#This Row],[Time]])*86400","v":{"$error":"#N/A"}},{"$f":"IFERROR(8-BackendTable[[#This Row],[Column1]],\"\")","v":""},{"$f":"IF(ISERROR(BackendTable[[#This Row],[Column1]]),-9,(BackendTable[[#This Row],[Net Time]]-NetTimeMin)*RangeAdj)","v":-9},{"$f":"IF(AND(BackendTable[[#This Row],[Time]]>='Reference Cells'!$C$6,BackendTable[[#This Row],[Time]]<='Reference Cells'!$C$7),(BackendTable[[#This Row],[Time]]-'Reference Cells'!$C$6)*86400,NA())","v":2},{"$f":"IF(CommandCell='Reference Cells'!$C$17,NA(),ABS('Data In'!B113-INDIRECT(\"ZeroVal_\"&H$2,0)))","v":0},{"$f":"IF(CommandCell='Reference Cells'!$C$17,NA(),ABS('Data In'!C113-INDIRECT(\"ZeroVal_\"&I$2,0)))","v":0},{"$f":"IF(CommandCell='Reference Cells'!$C$17,NA(),ABS('Data In'!D113-INDIRECT(\"ZeroVal_\"&J$2,0)))","v":0},{"$f":"IF(CommandCell='Reference Cells'!$C$17,NA(),ABS('Data In'!E113-INDIRECT(\"ZeroVal_\"&K$2,0)))","v":0},{"$f":"IF(CommandCell='Reference Cells'!$C$17,NA(),ABS('Data In'!F113-INDIRECT(\"ZeroVal_\"&L$2,0)))","v":0},{"$f":"MAX(BackendTable[[#This Row],[S1]:[S5]])","v":0},{"$f":"IF(ISERROR(BackendTable[[#This Row],[T0Time]]),0,COUNTIFS(BackendTable[T0Time],\"<=\"&3,BackendTable[T0Time],\">=\"&0)-COUNTIFS(BackendTable[T0Time],\">\"&BackendTable[[#This Row],[T0Time]]))","v":500},null,null,null,null,null,null,null,null,null,null,null,null,null,null,null,null,null,null,null,null,null,null,null,null,{"$f":"MATCH(MAX(BackendTable[[#This Row],[T1S1]:[T1S5]]),BackendTable[[#This Row],[T1S1]:[T1S5]],0)","v":{"$error":"#N/A"}},{"$f":"MATCH(MAX(BackendTable[[#This Row],[T2S1]:[T2S5]]),BackendTable[[#This Row],[T2S1]:[T2S5]],0)","v":{"$error":"#N/A"}},{"$f":"MATCH(MAX(BackendTable[[#This Row],[T3S1]:[T3S5]]),BackendTable[[#This Row],[T3S1]:[T3S5]],0)","v":{"$error":"#N/A"}}]
[null,{"$f":"ROW()-ROW(BackendTable[[#Headers],[Row'#]])","v":107},{"$f":"'Data In'!A114","v":0},{"$f":"IF(BackendTable[[#This Row],[Time]]-'Reference Cells'!$C$3<=0,NA(),'Reference Cells'!$C$4-BackendTable[[#This Row],[Time]])*86400","v":{"$error":"#N/A"}},{"$f":"IFERROR(8-BackendTable[[#This Row],[Column1]],\"\")","v":""},{"$f":"IF(ISERROR(BackendTable[[#This Row],[Column1]]),-9,(BackendTable[[#This Row],[Net Time]]-NetTimeMin)*RangeAdj)","v":-9},{"$f":"IF(AND(BackendTable[[#This Row],[Time]]>='Reference Cells'!$C$6,BackendTable[[#This Row],[Time]]<='Reference Cells'!$C$7),(BackendTable[[#This Row],[Time]]-'Reference Cells'!$C$6)*86400,NA())","v":2},{"$f":"IF(CommandCell='Reference Cells'!$C$17,NA(),ABS('Data In'!B114-INDIRECT(\"ZeroVal_\"&H$2,0)))","v":0},{"$f":"IF(CommandCell='Reference Cells'!$C$17,NA(),ABS('Data In'!C114-INDIRECT(\"ZeroVal_\"&I$2,0)))","v":0},{"$f":"IF(CommandCell='Reference Cells'!$C$17,NA(),ABS('Data In'!D114-INDIRECT(\"ZeroVal_\"&J$2,0)))","v":0},{"$f":"IF(CommandCell='Reference Cells'!$C$17,NA(),ABS('Data In'!E114-INDIRECT(\"ZeroVal_\"&K$2,0)))","v":0},{"$f":"IF(CommandCell='Reference Cells'!$C$17,NA(),ABS('Data In'!F114-INDIRECT(\"ZeroVal_\"&L$2,0)))","v":0},{"$f":"MAX(BackendTable[[#This Row],[S1]:[S5]])","v":0},{"$f":"IF(ISERROR(BackendTable[[#This Row],[T0Time]]),0,COUNTIFS(BackendTable[T0Time],\"<=\"&3,BackendTable[T0Time],\">=\"&0)-COUNTIFS(BackendTable[T0Time],\">\"&BackendTable[[#This Row],[T0Time]]))","v":500},null,null,null,null,null,null,null,null,null,null,null,null,null,null,null,null,null,null,null,null,null,null,null,null,{"$f":"MATCH(MAX(BackendTable[[#This Row],[T1S1]:[T1S5]]),BackendTable[[#This Row],[T1S1]:[T1S5]],0)","v":{"$error":"#N/A"}},{"$f":"MATCH(MAX(BackendTable[[#This Row],[T2S1]:[T2S5]]),BackendTable[[#This Row],[T2S1]:[T2S5]],0)","v":{"$error":"#N/A"}},{"$f":"MATCH(MAX(BackendTable[[#This Row],[T3S1]:[T3S5]]),BackendTable[[#This Row],[T3S1]:[T3S5]],0)","v":{"$error":"#N/A"}}]
[null,{"$f":"ROW()-ROW(BackendTable[[#Headers],[Row'#]])","v":108},{"$f":"'Data In'!A115","v":0},{"$f":"IF(BackendTable[[#This Row],[Time]]-'Reference Cells'!$C$3<=0,NA(),'Reference Cells'!$C$4-BackendTable[[#This Row],[Time]])*86400","v":{"$error":"#N/A"}},{"$f":"IFERROR(8-BackendTable[[#This Row],[Column1]],\"\")","v":""},{"$f":"IF(ISERROR(BackendTable[[#This Row],[Column1]]),-9,(BackendTable[[#This Row],[Net Time]]-NetTimeMin)*RangeAdj)","v":-9},{"$f":"IF(AND(BackendTable[[#This Row],[Time]]>='Reference Cells'!$C$6,BackendTable[[#This Row],[Time]]<='Reference Cells'!$C$7),(BackendTable[[#This Row],[Time]]-'Reference Cells'!$C$6)*86400,NA())","v":2},{"$f":"IF(CommandCell='Reference Cells'!$C$17,NA(),ABS('Data In'!B115-INDIRECT(\"ZeroVal_\"&H$2,0)))","v":0},{"$f":"IF(CommandCell='Reference Cells'!$C$17,NA(),ABS('Data In'!C115-INDIRECT(\"ZeroVal_\"&I$2,0)))","v":0},{"$f":"IF(CommandCell='Reference Cells'!$C$17,NA(),ABS('Data In'!D115-INDIRECT(\"ZeroVal_\"&J$2,0)))","v":0},{"$f":"IF(CommandCell='Reference Cells'!$C$17,NA(),ABS('Data In'!E115-INDIRECT(\"ZeroVal_\"&K$2,0)))","v":0},{"$f":"IF(CommandCell='Reference Cells'!$C$17,NA(),ABS('Data In'!F115-INDIRECT(\"ZeroVal_\"&L$2,0)))","v":0},{"$f":"MAX(BackendTable[[#This Row],[S1]:[S5]])","v":0},{"$f":"IF(ISERROR(BackendTable[[#This Row],[T0Time]]),0,COUNTIFS(BackendTable[T0Time],\"<=\"&3,BackendTable[T0Time],\">=\"&0)-COUNTIFS(BackendTable[T0Time],\">\"&BackendTable[[#This Row],[T0Time]]))","v":500},null,null,null,null,null,null,null,null,null,null,null,null,null,null,null,null,null,null,null,null,null,null,null,null,{"$f":"MATCH(MAX(BackendTable[[#This Row],[T1S1]:[T1S5]]),BackendTable[[#This Row],[T1S1]:[T1S5]],0)","v":{"$error":"#N/A"}},{"$f":"MATCH(MAX(BackendTable[[#This Row],[T2S1]:[T2S5]]),BackendTable[[#This Row],[T2S1]:[T2S5]],0)","v":{"$error":"#N/A"}},{"$f":"MATCH(MAX(BackendTable[[#This Row],[T3S1]:[T3S5]]),BackendTable[[#This Row],[T3S1]:[T3S5]],0)","v":{"$error":"#N/A"}}]
[null,{"$f":"ROW()-ROW(BackendTable[[#Headers],[Row'#]])","v":109},{"$f":"'Data In'!A116","v":0},{"$f":"IF(BackendTable[[#This Row],[Time]]-'Reference Cells'!$C$3<=0,NA(),'Reference Cells'!$C$4-BackendTable[[#This Row],[Time]])*86400","v":{"$error":"#N/A"}},{"$f":"IFERROR(8-BackendTable[[#This Row],[Column1]],\"\")","v":""},{"$f":"IF(ISERROR(BackendTable[[#This Row],[Column1]]),-9,(BackendTable[[#This Row],[Net Time]]-NetTimeMin)*RangeAdj)","v":-9},{"$f":"IF(AND(BackendTable[[#This Row],[Time]]>='Reference Cells'!$C$6,BackendTable[[#This Row],[Time]]<='Reference Cells'!$C$7),(BackendTable[[#This Row],[Time]]-'Reference Cells'!$C$6)*86400,NA())","v":2},{"$f":"IF(CommandCell='Reference Cells'!$C$17,NA(),ABS('Data In'!B116-INDIRECT(\"ZeroVal_\"&H$2,0)))","v":0},{"$f":"IF(CommandCell='Reference Cells'!$C$17,NA(),ABS('Data In'!C116-INDIRECT(\"ZeroVal_\"&I$2,0)))","v":0},{"$f":"IF(CommandCell='Reference Cells'!$C$17,NA(),ABS('Data In'!D116-INDIRECT(\"ZeroVal_\"&J$2,0)))","v":0},{"$f":"IF(CommandCell='Reference Cells'!$C$17,NA(),ABS('Data In'!E116-INDIRECT(\"ZeroVal_\"&K$2,0)))","v":0},{"$f":"IF(CommandCell='Reference Cells'!$C$17,NA(),ABS('Data In'!F116-INDIRECT(\"ZeroVal_\"&L$2,0)))","v":0},{"$f":"MAX(BackendTable[[#This Row],[S1]:[S5]])","v":0},{"$f":"IF(ISERROR(BackendTable[[#This Row],[T0Time]]),0,COUNTIFS(BackendTable[T0Time],\"<=\"&3,BackendTable[T0Time],\">=\"&0)-COUNTIFS(BackendTable[T0Time],\">\"&BackendTable[[#This Row],[T0Time]]))","v":500},null,null,null,null,null,null,null,null,null,null,null,null,null,null,null,null,null,null,null,null,null,null,null,null,{"$f":"MATCH(MAX(BackendTable[[#This Row],[T1S1]:[T1S5]]),BackendTable[[#This Row],[T1S1]:[T1S5]],0)","v":{"$error":"#N/A"}},{"$f":"MATCH(MAX(BackendTable[[#This Row],[T2S1]:[T2S5]]),BackendTable[[#This Row],[T2S1]:[T2S5]],0)","v":{"$error":"#N/A"}},{"$f":"MATCH(MAX(BackendTable[[#This Row],[T3S1]:[T3S5]]),BackendTable[[#This Row],[T3S1]:[T3S5]],0)","v":{"$error":"#N/A"}}]
[null,{"$f":"ROW()-ROW(BackendTable[[#Headers],[Row'#]])","v":110},{"$f":"'Data In'!A117","v":0},{"$f":"IF(BackendTable[[#This Row],[Time]]-'Reference Cells'!$C$3<=0,NA(),'Reference Cells'!$C$4-BackendTable[[#This Row],[Time]])*86400","v":{"$error":"#N/A"}},{"$f":"IFERROR(8-BackendTable[[#This Row],[Column1]],\"\")","v":""},{"$f":"IF(ISERROR(BackendTable[[#This Row],[Column1]]),-9,(BackendTable[[#This Row],[Net Time]]-NetTimeMin)*RangeAdj)","v":-9},{"$f":"IF(AND(BackendTable[[#This Row],[Time]]>='Reference Cells'!$C$6,BackendTable[[#This Row],[Time]]<='Reference Cells'!$C$7),(BackendTable[[#This Row],[Time]]-'Reference Cells'!$C$6)*86400,NA())","v":2},{"$f":"IF(CommandCell='Reference Cells'!$C$17,NA(),ABS('Data In'!B117-INDIRECT(\"ZeroVal_\"&H$2,0)))","v":0},{"$f":"IF(CommandCell='Reference Cells'!$C$17,NA(),ABS('Data In'!C117-INDIRECT(\"ZeroVal_\"&I$2,0)))","v":0},{"$f":"IF(CommandCell='Reference Cells'!$C$17,NA(),ABS('Data In'!D117-INDIRECT(\"ZeroVal_\"&J$2,0)))","v":0},{"$f":"IF(CommandCell='Reference Cells'!$C$17,NA(),ABS('Data In'!E117-INDIRECT(\"ZeroVal_\"&K$2,0)))","v":0},{"$f":"IF(CommandCell='Reference Cells'!$C$17,NA(),ABS('Data In'!F117-INDIRECT(\"ZeroVal_\"&L$2,0)))","v":0},{"$f":"MAX(BackendTable[[#This Row],[S1]:[S5]])","v":0},{"$f":"IF(ISERROR(BackendTable[[#This Row],[T0Time]]),0,COUNTIFS(BackendTable[T0Time],\"<=\"&3,BackendTable[T0Time],\">=\"&0)-COUNTIFS(BackendTable[T0Time],\">\"&BackendTable[[#This Row],[T0Time]]))","v":500},null,null,null,null,null,null,null,null,null,null,null,null,null,null,null,null,null,null,null,null,null,null,null,null,{"$f":"MATCH(MAX(BackendTable[[#This Row],[T1S1]:[T1S5]]),BackendTable[[#This Row],[T1S1]:[T1S5]],0)","v":{"$error":"#N/A"}},{"$f":"MATCH(MAX(BackendTable[[#This Row],[T2S1]:[T2S5]]),BackendTable[[#This Row],[T2S1]:[T2S5]],0)","v":{"$error":"#N/A"}},{"$f":"MATCH(MAX(BackendTable[[#This Row],[T3S1]:[T3S5]]),BackendTable[[#This Row],[T3S1]:[T3S5]],0)","v":{"$error":"#N/A"}}]
[null,{"$f":"ROW()-ROW(BackendTable[[#Headers],[Row'#]])","v":111},{"$f":"'Data In'!A118","v":0},{"$f":"IF(BackendTable[[#This Row],[Time]]-'Reference Cells'!$C$3<=0,NA(),'Reference Cells'!$C$4-BackendTable[[#This Row],[Time]])*86400","v":{"$error":"#N/A"}},{"$f":"IFERROR(8-BackendTable[[#This Row],[Column1]],\"\")","v":""},{"$f":"IF(ISERROR(BackendTable[[#This Row],[Column1]]),-9,(BackendTable[[#This Row],[Net Time]]-NetTimeMin)*RangeAdj)","v":-9},{"$f":"IF(AND(BackendTable[[#This Row],[Time]]>='Reference Cells'!$C$6,BackendTable[[#This Row],[Time]]<='Reference Cells'!$C$7),(BackendTable[[#This Row],[Time]]-'Reference Cells'!$C$6)*86400,NA())","v":2},{"$f":"IF(CommandCell='Reference Cells'!$C$17,NA(),ABS('Data In'!B118-INDIRECT(\"ZeroVal_\"&H$2,0)))","v":0},{"$f":"IF(CommandCell='Reference Cells'!$C$17,NA(),ABS('Data In'!C118-INDIRECT(\"ZeroVal_\"&I$2,0)))","v":0},{"$f":"IF(CommandCell='Reference Cells'!$C$17,NA(),ABS('Data In'!D118-INDIRECT(\"ZeroVal_\"&J$2,0)))","v":0},{"$f":"IF(CommandCell='Reference Cells'!$C$17,NA(),ABS('Data In'!E118-INDIRECT(\"ZeroVal_\"&K$2,0)))","v":0},{"$f":"IF(CommandCell='Reference Cells'!$C$17,NA(),ABS('Data In'!F118-INDIRECT(\"ZeroVal_\"&L$2,0)))","v":0},{"$f":"MAX(BackendTable[[#This Row],[S1]:[S5]])","v":0},{"$f":"IF(ISERROR(BackendTable[[#This Row],[T0Time]]),0,COUNTIFS(BackendTable[T0Time],\"<=\"&3,BackendTable[T0Time],\">=\"&0)-COUNTIFS(BackendTable[T0Time],\">\"&BackendTable[[#This Row],[T0Time]]))","v":500},null,null,null,null,null,null,null,null,null,null,null,null,null,null,null,null,null,null,null,null,null,null,null,null,{"$f":"MATCH(MAX(BackendTable[[#This Row],[T1S1]:[T1S5]]),BackendTable[[#This Row],[T1S1]:[T1S5]],0)","v":{"$error":"#N/A"}},{"$f":"MATCH(MAX(BackendTable[[#This Row],[T2S1]:[T2S5]]),BackendTable[[#This Row],[T2S1]:[T2S5]],0)","v":{"$error":"#N/A"}},{"$f":"MATCH(MAX(BackendTable[[#This Row],[T3S1]:[T3S5]]),BackendTable[[#This Row],[T3S1]:[T3S5]],0)","v":{"$error":"#N/A"}}]
[null,{"$f":"ROW()-ROW(BackendTable[[#Headers],[Row'#]])","v":112},{"$f":"'Data In'!A119","v":0},{"$f":"IF(BackendTable[[#This Row],[Time]]-'Reference Cells'!$C$3<=0,NA(),'Reference Cells'!$C$4-BackendTable[[#This Row],[Time]])*86400","v":{"$error":"#N/A"}},{"$f":"IFERROR(8-BackendTable[[#This Row],[Column1]],\"\")","v":""},{"$f":"IF(ISERROR(BackendTable[[#This Row],[Column1]]),-9,(BackendTable[[#This Row],[Net Time]]-NetTimeMin)*RangeAdj)","v":-9},{"$f":"IF(AND(BackendTable[[#This Row],[Time]]>='Reference Cells'!$C$6,BackendTable[[#This Row],[Time]]<='Reference Cells'!$C$7),(BackendTable[[#This Row],[Time]]-'Reference Cells'!$C$6)*86400,NA())","v":2},{"$f":"IF(CommandCell='Reference Cells'!$C$17,NA(),ABS('Data In'!B119-INDIRECT(\"ZeroVal_\"&H$2,0)))","v":0},{"$f":"IF(CommandCell='Reference Cells'!$C$17,NA(),ABS('Data In'!C119-INDIRECT(\"ZeroVal_\"&I$2,0)))","v":0},{"$f":"IF(CommandCell='Reference Cells'!$C$17,NA(),ABS('Data In'!D119-INDIRECT(\"ZeroVal_\"&J$2,0)))","v":0},{"$f":"IF(CommandCell='Reference Cells'!$C$17,NA(),ABS('Data In'!E119-INDIRECT(\"ZeroVal_\"&K$2,0)))","v":0},{"$f":"IF(CommandCell='Reference Cells'!$C$17,NA(),ABS('Data In'!F119-INDIRECT(\"ZeroVal_\"&L$2,0)))","v":0},{"$f":"MAX(BackendTable[[#This Row],[S1]:[S5]])","v":0},{"$f":"IF(ISERROR(BackendTable[[#This Row],[T0Time]]),0,COUNTIFS(BackendTable[T0Time],\"<=\"&3,BackendTable[T0Time],\">=\"&0)-COUNTIFS(BackendTable[T0Time],\">\"&BackendTable[[#This Row],[T0Time]]))","v":500},null,null,null,null,null,null,null,null,null,null,null,null,null,null,null,null,null,null,null,null,null,null,null,null,{"$f":"MATCH(MAX(BackendTable[[#This Row],[T1S1]:[T1S5]]),BackendTable[[#This Row],[T1S1]:[T1S5]],0)","v":{"$error":"#N/A"}},{"$f":"MATCH(MAX(BackendTable[[#This Row],[T2S1]:[T2S5]]),BackendTable[[#This Row],[T2S1]:[T2S5]],0)","v":{"$error":"#N/A"}},{"$f":"MATCH(MAX(BackendTable[[#This Row],[T3S1]:[T3S5]]),BackendTable[[#This Row],[T3S1]:[T3S5]],0)","v":{"$error":"#N/A"}}]
[null,{"$f":"ROW()-ROW(BackendTable[[#Headers],[Row'#]])","v":113},{"$f":"'Data In'!A120","v":0},{"$f":"IF(BackendTable[[#This Row],[Time]]-'Reference Cells'!$C$3<=0,NA(),'Reference Cells'!$C$4-BackendTable[[#This Row],[Time]])*86400","v":{"$error":"#N/A"}},{"$f":"IFERROR(8-BackendTable[[#This Row],[Column1]],\"\")","v":""},{"$f":"IF(ISERROR(BackendTable[[#This Row],[Column1]]),-9,(BackendTable[[#This Row],[Net Time]]-NetTimeMin)*RangeAdj)","v":-9},{"$f":"IF(AND(BackendTable[[#This Row],[Time]]>='Reference Cells'!$C$6,BackendTable[[#This Row],[Time]]<='Reference Cells'!$C$7),(BackendTable[[#This Row],[Time]]-'Reference Cells'!$C$6)*86400,NA())","v":2},{"$f":"IF(CommandCell='Reference Cells'!$C$17,NA(),ABS('Data In'!B120-INDIRECT(\"ZeroVal_\"&H$2,0)))","v":0},{"$f":"IF(CommandCell='Reference Cells'!$C$17,NA(),ABS('Data In'!C120-INDIRECT(\"ZeroVal_\"&I$2,0)))","v":0},{"$f":"IF(CommandCell='Reference Cells'!$C$17,NA(),ABS('Data In'!D120-INDIRECT(\"ZeroVal_\"&J$2,0)))","v":0},{"$f":"IF(CommandCell='Reference Cells'!$C$17,NA(),ABS('Data In'!E120-INDIRECT(\"ZeroVal_\"&K$2,0)))","v":0},{"$f":"IF(CommandCell='Reference Cells'!$C$17,NA(),ABS('Data In'!F120-INDIRECT(\"ZeroVal_\"&L$2,0)))","v":0},{"$f":"MAX(BackendTable[[#This Row],[S1]:[S5]])","v":0},{"$f":"IF(ISERROR(BackendTable[[#This Row],[T0Time]]),0,COUNTIFS(BackendTable[T0Time],\"<=\"&3,BackendTable[T0Time],\">=\"&0)-COUNTIFS(BackendTable[T0Time],\">\"&BackendTable[[#This Row],[T0Time]]))","v":500},null,null,null,null,null,null,null,null,null,null,null,null,null,null,null,null,null,null,null,null,null,null,null,null,{"$f":"MATCH(MAX(BackendTable[[#This Row],[T1S1]:[T1S5]]),BackendTable[[#This Row],[T1S1]:[T1S5]],0)","v":{"$error":"#N/A"}},{"$f":"MATCH(MAX(BackendTable[[#This Row],[T2S1]:[T2S5]]),BackendTable[[#This Row],[T2S1]:[T2S5]],0)","v":{"$error":"#N/A"}},{"$f":"MATCH(MAX(BackendTable[[#This Row],[T3S1]:[T3S5]]),BackendTable[[#This Row],[T3S1]:[T3S5]],0)","v":{"$error":"#N/A"}}]
[null,{"$f":"ROW()-ROW(BackendTable[[#Headers],[Row'#]])","v":114},{"$f":"'Data In'!A121","v":0},{"$f":"IF(BackendTable[[#This Row],[Time]]-'Reference Cells'!$C$3<=0,NA(),'Reference Cells'!$C$4-BackendTable[[#This Row],[Time]])*86400","v":{"$error":"#N/A"}},{"$f":"IFERROR(8-BackendTable[[#This Row],[Column1]],\"\")","v":""},{"$f":"IF(ISERROR(BackendTable[[#This Row],[Column1]]),-9,(BackendTable[[#This Row],[Net Time]]-NetTimeMin)*RangeAdj)","v":-9},{"$f":"IF(AND(BackendTable[[#This Row],[Time]]>='Reference Cells'!$C$6,BackendTable[[#This Row],[Time]]<='Reference Cells'!$C$7),(BackendTable[[#This Row],[Time]]-'Reference Cells'!$C$6)*86400,NA())","v":2},{"$f":"IF(CommandCell='Reference Cells'!$C$17,NA(),ABS('Data In'!B121-INDIRECT(\"ZeroVal_\"&H$2,0)))","v":0},{"$f":"IF(CommandCell='Reference Cells'!$C$17,NA(),ABS('Data In'!C121-INDIRECT(\"ZeroVal_\"&I$2,0)))","v":0},{"$f":"IF(CommandCell='Reference Cells'!$C$17,NA(),ABS('Data In'!D121-INDIRECT(\"ZeroVal_\"&J$2,0)))","v":0},{"$f":"IF(CommandCell='Reference Cells'!$C$17,NA(),ABS('Data In'!E121-INDIRECT(\"ZeroVal_\"&K$2,0)))","v":0},{"$f":"IF(CommandCell='Reference Cells'!$C$17,NA(),ABS('Data In'!F121-INDIRECT(\"ZeroVal_\"&L$2,0)))","v":0},{"$f":"MAX(BackendTable[[#This Row],[S1]:[S5]])","v":0},{"$f":"IF(ISERROR(BackendTable[[#This Row],[T0Time]]),0,COUNTIFS(BackendTable[T0Time],\"<=\"&3,BackendTable[T0Time],\">=\"&0)-COUNTIFS(BackendTable[T0Time],\">\"&BackendTable[[#This Row],[T0Time]]))","v":500},null,null,null,null,null,null,null,null,null,null,null,null,null,null,null,null,null,null,null,null,null,null,null,null,{"$f":"MATCH(MAX(BackendTable[[#This Row],[T1S1]:[T1S5]]),BackendTable[[#This Row],[T1S1]:[T1S5]],0)","v":{"$error":"#N/A"}},{"$f":"MATCH(MAX(BackendTable[[#This Row],[T2S1]:[T2S5]]),BackendTable[[#This Row],[T2S1]:[T2S5]],0)","v":{"$error":"#N/A"}},{"$f":"MATCH(MAX(BackendTable[[#This Row],[T3S1]:[T3S5]]),BackendTable[[#This Row],[T3S1]:[T3S5]],0)","v":{"$error":"#N/A"}}]
[null,{"$f":"ROW()-ROW(BackendTable[[#Headers],[Row'#]])","v":115},{"$f":"'Data In'!A122","v":0},{"$f":"IF(BackendTable[[#This Row],[Time]]-'Reference Cells'!$C$3<=0,NA(),'Reference Cells'!$C$4-BackendTable[[#This Row],[Time]])*86400","v":{"$error":"#N/A"}},{"$f":"IFERROR(8-BackendTable[[#This Row],[Column1]],\"\")","v":""},{"$f":"IF(ISERROR(BackendTable[[#This Row],[Column1]]),-9,(BackendTable[[#This Row],[Net Time]]-NetTimeMin)*RangeAdj)","v":-9},{"$f":"IF(AND(BackendTable[[#This Row],[Time]]>='Reference Cells'!$C$6,BackendTable[[#This Row],[Time]]<='Reference Cells'!$C$7),(BackendTable[[#This Row],[Time]]-'Reference Cells'!$C$6)*86400,NA())","v":2},{"$f":"IF(CommandCell='Reference Cells'!$C$17,NA(),ABS('Data In'!B122-INDIRECT(\"ZeroVal_\"&H$2,0)))","v":0},{"$f":"IF(CommandCell='Reference Cells'!$C$17,NA(),ABS('Data In'!C122-INDIRECT(\"ZeroVal_\"&I$2,0)))","v":0},{"$f":"IF(CommandCell='Reference Cells'!$C$17,NA(),ABS('Data In'!D122-INDIRECT(\"ZeroVal_\"&J$2,0)))","v":0},{"$f":"IF(CommandCell='Reference Cells'!$C$17,NA(),ABS('Data In'!E122-INDIRECT(\"ZeroVal_\"&K$2,0)))","v":0},{"$f":"IF(CommandCell='Reference Cells'!$C$17,NA(),ABS('Data In'!F122-INDIRECT(\"ZeroVal_\"&L$2,0)))","v":0},{"$f":"MAX(BackendTable[[#This Row],[S1]:[S5]])","v":0},{"$f":"IF(ISERROR(BackendTable[[#This Row],[T0Time]]),0,COUNTIFS(BackendTable[T0Time],\"<=\"&3,BackendTable[T0Time],\">=\"&0)-COUNTIFS(BackendTable[T0Time],\">\"&BackendTable[[#This Row],[T0Time]]))","v":500},null,null,null,null,null,null,null,null,null,null,null,null,null,null,null,null,null,null,null,null,null,null,null,null,{"$f":"MATCH(MAX(BackendTable[[#This Row],[T1S1]:[T1S5]]),BackendTable[[#This Row],[T1S1]:[T1S5]],0)","v":{"$error":"#N/A"}},{"$f":"MATCH(MAX(BackendTable[[#This Row],[T2S1]:[T2S5]]),BackendTable[[#This Row],[T2S1]:[T2S5]],0)","v":{"$error":"#N/A"}},{"$f":"MATCH(MAX(BackendTable[[#This Row],[T3S1]:[T3S5]]),BackendTable[[#This Row],[T3S1]:[T3S5]],0)","v":{"$error":"#N/A"}}]
[null,{"$f":"ROW()-ROW(BackendTable[[#Headers],[Row'#]])","v":116},{"$f":"'Data In'!A123","v":0},{"$f":"IF(BackendTable[[#This Row],[Time]]-'Reference Cells'!$C$3<=0,NA(),'Reference Cells'!$C$4-BackendTable[[#This Row],[Time]])*86400","v":{"$error":"#N/A"}},{"$f":"IFERROR(8-BackendTable[[#This Row],[Column1]],\"\")","v":""},{"$f":"IF(ISERROR(BackendTable[[#This Row],[Column1]]),-9,(BackendTable[[#This Row],[Net Time]]-NetTimeMin)*RangeAdj)","v":-9},{"$f":"IF(AND(BackendTable[[#This Row],[Time]]>='Reference Cells'!$C$6,BackendTable[[#This Row],[Time]]<='Reference Cells'!$C$7),(BackendTable[[#This Row],[Time]]-'Reference Cells'!$C$6)*86400,NA())","v":2},{"$f":"IF(CommandCell='Reference Cells'!$C$17,NA(),ABS('Data In'!B123-INDIRECT(\"ZeroVal_\"&H$2,0)))","v":0},{"$f":"IF(CommandCell='Reference Cells'!$C$17,NA(),ABS('Data In'!C123-INDIRECT(\"ZeroVal_\"&I$2,0)))","v":0},{"$f":"IF(CommandCell='Reference Cells'!$C$17,NA(),ABS('Data In'!D123-INDIRECT(\"ZeroVal_\"&J$2,0)))","v":0},{"$f":"IF(CommandCell='Reference Cells'!$C$17,NA(),ABS('Data In'!E123-INDIRECT(\"ZeroVal_\"&K$2,0)))","v":0},{"$f":"IF(CommandCell='Reference Cells'!$C$17,NA(),ABS('Data In'!F123-INDIRECT(\"ZeroVal_\"&L$2,0)))","v":0},{"$f":"MAX(BackendTable[[#This Row],[S1]:[S5]])","v":0},{"$f":"IF(ISERROR(BackendTable[[#This Row],[T0Time]]),0,COUNTIFS(BackendTable[T0Time],\"<=\"&3,BackendTable[T0Time],\">=\"&0)-COUNTIFS(BackendTable[T0Time],\">\"&BackendTable[[#This Row],[T0Time]]))","v":500},null,null,null,null,null,null,null,null,null,null,null,null,null,null,null,null,null,null,null,null,null,null,null,null,{"$f":"MATCH(MAX(BackendTable[[#This Row],[T1S1]:[T1S5]]),BackendTable[[#This Row],[T1S1]:[T1S5]],0)","v":{"$error":"#N/A"}},{"$f":"MATCH(MAX(BackendTable[[#This Row],[T2S1]:[T2S5]]),BackendTable[[#This Row],[T2S1]:[T2S5]],0)","v":{"$error":"#N/A"}},{"$f":"MATCH(MAX(BackendTable[[#This Row],[T3S1]:[T3S5]]),BackendTable[[#This Row],[T3S1]:[T3S5]],0)","v":{"$error":"#N/A"}}]
[null,{"$f":"ROW()-ROW(BackendTable[[#Headers],[Row'#]])","v":117},{"$f":"'Data In'!A124","v":0},{"$f":"IF(BackendTable[[#This Row],[Time]]-'Reference Cells'!$C$3<=0,NA(),'Reference Cells'!$C$4-BackendTable[[#This Row],[Time]])*86400","v":{"$error":"#N/A"}},{"$f":"IFERROR(8-BackendTable[[#This Row],[Column1]],\"\")","v":""},{"$f":"IF(ISERROR(BackendTable[[#This Row],[Column1]]),-9,(BackendTable[[#This Row],[Net Time]]-NetTimeMin)*RangeAdj)","v":-9},{"$f":"IF(AND(BackendTable[[#This Row],[Time]]>='Reference Cells'!$C$6,BackendTable[[#This Row],[Time]]<='Reference Cells'!$C$7),(BackendTable[[#This Row],[Time]]-'Reference Cells'!$C$6)*86400,NA())","v":2},{"$f":"IF(CommandCell='Reference Cells'!$C$17,NA(),ABS('Data In'!B124-INDIRECT(\"ZeroVal_\"&H$2,0)))","v":0},{"$f":"IF(CommandCell='Reference Cells'!$C$17,NA(),ABS('Data In'!C124-INDIRECT(\"ZeroVal_\"&I$2,0)))","v":0},{"$f":"IF(CommandCell='Reference Cells'!$C$17,NA(),ABS('Data In'!D124-INDIRECT(\"ZeroVal_\"&J$2,0)))","v":0},{"$f":"IF(CommandCell='Reference Cells'!$C$17,NA(),ABS('Data In'!E124-INDIRECT(\"ZeroVal_\"&K$2,0)))","v":0},{"$f":"IF(CommandCell='Reference Cells'!$C$17,NA(),ABS('Data In'!F124-INDIRECT(\"ZeroVal_\"&L$2,0)))","v":0},{"$f":"MAX(BackendTable[[#This Row],[S1]:[S5]])","v":0},{"$f":"IF(ISERROR(BackendTable[[#This Row],[T0Time]]),0,COUNTIFS(BackendTable[T0Time],\"<=\"&3,BackendTable[T0Time],\">=\"&0)-COUNTIFS(BackendTable[T0Time],\">\"&BackendTable[[#This Row],[T0Time]]))","v":500},null,null,null,null,null,null,null,null,null,null,null,null,null,null,null,null,null,null,null,null,null,null,null,null,{"$f":"MATCH(MAX(BackendTable[[#This Row],[T1S1]:[T1S5]]),BackendTable[[#This Row],[T1S1]:[T1S5]],0)","v":{"$error":"#N/A"}},{"$f":"MATCH(MAX(BackendTable[[#This Row],[T2S1]:[T2S5]]),BackendTable[[#This Row],[T2S1]:[T2S5]],0)","v":{"$error":"#N/A"}},{"$f":"MATCH(MAX(BackendTable[[#This Row],[T3S1]:[T3S5]]),BackendTable[[#This Row],[T3S1]:[T3S5]],0)","v":{"$error":"#N/A"}}]
[null,{"$f":"ROW()-ROW(BackendTable[[#Headers],[Row'#]])","v":118},{"$f":"'Data In'!A125","v":0},{"$f":"IF(BackendTable[[#This Row],[Time]]-'Reference Cells'!$C$3<=0,NA(),'Reference Cells'!$C$4-BackendTable[[#This Row],[Time]])*86400","v":{"$error":"#N/A"}},{"$f":"IFERROR(8-BackendTable[[#This Row],[Column1]],\"\")","v":""},{"$f":"IF(ISERROR(BackendTable[[#This Row],[Column1]]),-9,(BackendTable[[#This Row],[Net Time]]-NetTimeMin)*RangeAdj)","v":-9},{"$f":"IF(AND(BackendTable[[#This Row],[Time]]>='Reference Cells'!$C$6,BackendTable[[#This Row],[Time]]<='Reference Cells'!$C$7),(BackendTable[[#This Row],[Time]]-'Reference Cells'!$C$6)*86400,NA())","v":2},{"$f":"IF(CommandCell='Reference Cells'!$C$17,NA(),ABS('Data In'!B125-INDIRECT(\"ZeroVal_\"&H$2,0)))","v":0},{"$f":"IF(CommandCell='Reference Cells'!$C$17,NA(),ABS('Data In'!C125-INDIRECT(\"ZeroVal_\"&I$2,0)))","v":0},{"$f":"IF(CommandCell='Reference Cells'!$C$17,NA(),ABS('Data In'!D125-INDIRECT(\"ZeroVal_\"&J$2,0)))","v":0},{"$f":"IF(CommandCell='Reference Cells'!$C$17,NA(),ABS('Data In'!E125-INDIRECT(\"ZeroVal_\"&K$2,0)))","v":0},{"$f":"IF(CommandCell='Reference Cells'!$C$17,NA(),ABS('Data In'!F125-INDIRECT(\"ZeroVal_\"&L$2,0)))","v":0},{"$f":"MAX(BackendTable[[#This Row],[S1]:[S5]])","v":0},{"$f":"IF(ISERROR(BackendTable[[#This Row],[T0Time]]),0,COUNTIFS(BackendTable[T0Time],\"<=\"&3,BackendTable[T0Time],\">=\"&0)-COUNTIFS(BackendTable[T0Time],\">\"&BackendTable[[#This Row],[T0Time]]))","v":500},null,null,null,null,null,null,null,null,null,null,null,null,null,null,null,null,null,null,null,null,null,null,null,null,{"$f":"MATCH(MAX(BackendTable[[#This Row],[T1S1]:[T1S5]]),BackendTable[[#This Row],[T1S1]:[T1S5]],0)","v":{"$error":"#N/A"}},{"$f":"MATCH(MAX(BackendTable[[#This Row],[T2S1]:[T2S5]]),BackendTable[[#This Row],[T2S1]:[T2S5]],0)","v":{"$error":"#N/A"}},{"$f":"MATCH(MAX(BackendTable[[#This Row],[T3S1]:[T3S5]]),BackendTable[[#This Row],[T3S1]:[T3S5]],0)","v":{"$error":"#N/A"}}]
[null,{"$f":"ROW()-ROW(BackendTable[[#Headers],[Row'#]])","v":119},{"$f":"'Data In'!A126","v":0},{"$f":"IF(BackendTable[[#This Row],[Time]]-'Reference Cells'!$C$3<=0,NA(),'Reference Cells'!$C$4-BackendTable[[#This Row],[Time]])*86400","v":{"$error":"#N/A"}},{"$f":"IFERROR(8-BackendTable[[#This Row],[Column1]],\"\")","v":""},{"$f":"IF(ISERROR(BackendTable[[#This Row],[Column1]]),-9,(BackendTable[[#This Row],[Net Time]]-NetTimeMin)*RangeAdj)","v":-9},{"$f":"IF(AND(BackendTable[[#This Row],[Time]]>='Reference Cells'!$C$6,BackendTable[[#This Row],[Time]]<='Reference Cells'!$C$7),(BackendTable[[#This Row],[Time]]-'Reference Cells'!$C$6)*86400,NA())","v":2},{"$f":"IF(CommandCell='Reference Cells'!$C$17,NA(),ABS('Data In'!B126-INDIRECT(\"ZeroVal_\"&H$2,0)))","v":0},{"$f":"IF(CommandCell='Reference Cells'!$C$17,NA(),ABS('Data In'!C126-INDIRECT(\"ZeroVal_\"&I$2,0)))","v":0},{"$f":"IF(CommandCell='Reference Cells'!$C$17,NA(),ABS('Data In'!D126-INDIRECT(\"ZeroVal_\"&J$2,0)))","v":0},{"$f":"IF(CommandCell='Reference Cells'!$C$17,NA(),ABS('Data In'!E126-INDIRECT(\"ZeroVal_\"&K$2,0)))","v":0},{"$f":"IF(CommandCell='Reference Cells'!$C$17,NA(),ABS('Data In'!F126-INDIRECT(\"ZeroVal_\"&L$2,0)))","v":0},{"$f":"MAX(BackendTable[[#This Row],[S1]:[S5]])","v":0},{"$f":"IF(ISERROR(BackendTable[[#This Row],[T0Time]]),0,COUNTIFS(BackendTable[T0Time],\"<=\"&3,BackendTable[T0Time],\">=\"&0)-COUNTIFS(BackendTable[T0Time],\">\"&BackendTable[[#This Row],[T0Time]]))","v":500},null,null,null,null,null,null,null,null,null,null,null,null,null,null,null,null,null,null,null,null,null,null,null,null,{"$f":"MATCH(MAX(BackendTable[[#This Row],[T1S1]:[T1S5]]),BackendTable[[#This Row],[T1S1]:[T1S5]],0)","v":{"$error":"#N/A"}},{"$f":"MATCH(MAX(BackendTable[[#This Row],[T2S1]:[T2S5]]),BackendTable[[#This Row],[T2S1]:[T2S5]],0)","v":{"$error":"#N/A"}},{"$f":"MATCH(MAX(BackendTable[[#This Row],[T3S1]:[T3S5]]),BackendTable[[#This Row],[T3S1]:[T3S5]],0)","v":{"$error":"#N/A"}}]
[null,{"$f":"ROW()-ROW(BackendTable[[#Headers],[Row'#]])","v":120},{"$f":"'Data In'!A127","v":0},{"$f":"IF(BackendTable[[#This Row],[Time]]-'Reference Cells'!$C$3<=0,NA(),'Reference Cells'!$C$4-BackendTable[[#This Row],[Time]])*86400","v":{"$error":"#N/A"}},{"$f":"IFERROR(8-BackendTable[[#This Row],[Column1]],\"\")","v":""},{"$f":"IF(ISERROR(BackendTable[[#This Row],[Column1]]),-9,(BackendTable[[#This Row],[Net Time]]-NetTimeMin)*RangeAdj)","v":-9},{"$f":"IF(AND(BackendTable[[#This Row],[Time]]>='Reference Cells'!$C$6,BackendTable[[#This Row],[Time]]<='Reference Cells'!$C$7),(BackendTable[[#This Row],[Time]]-'Reference Cells'!$C$6)*86400,NA())","v":2},{"$f":"IF(CommandCell='Reference Cells'!$C$17,NA(),ABS('Data In'!B127-INDIRECT(\"ZeroVal_\"&H$2,0)))","v":0},{"$f":"IF(CommandCell='Reference Cells'!$C$17,NA(),ABS('Data In'!C127-INDIRECT(\"ZeroVal_\"&I$2,0)))","v":0},{"$f":"IF(CommandCell='Reference Cells'!$C$17,NA(),ABS('Data In'!D127-INDIRECT(\"ZeroVal_\"&J$2,0)))","v":0},{"$f":"IF(CommandCell='Reference Cells'!$C$17,NA(),ABS('Data In'!E127-INDIRECT(\"ZeroVal_\"&K$2,0)))","v":0},{"$f":"IF(CommandCell='Reference Cells'!$C$17,NA(),ABS('Data In'!F127-INDIRECT(\"ZeroVal_\"&L$2,0)))","v":0},{"$f":"MAX(BackendTable[[#This Row],[S1]:[S5]])","v":0},{"$f":"IF(ISERROR(BackendTable[[#This Row],[T0Time]]),0,COUNTIFS(BackendTable[T0Time],\"<=\"&3,BackendTable[T0Time],\">=\"&0)-COUNTIFS(BackendTable[T0Time],\">\"&BackendTable[[#This Row],[T0Time]]))","v":500},null,null,null,null,null,null,null,null,null,null,null,null,null,null,null,null,null,null,null,null,null,null,null,null,{"$f":"MATCH(MAX(BackendTable[[#This Row],[T1S1]:[T1S5]]),BackendTable[[#This Row],[T1S1]:[T1S5]],0)","v":{"$error":"#N/A"}},{"$f":"MATCH(MAX(BackendTable[[#This Row],[T2S1]:[T2S5]]),BackendTable[[#This Row],[T2S1]:[T2S5]],0)","v":{"$error":"#N/A"}},{"$f":"MATCH(MAX(BackendTable[[#This Row],[T3S1]:[T3S5]]),BackendTable[[#This Row],[T3S1]:[T3S5]],0)","v":{"$error":"#N/A"}}]
[null,{"$f":"ROW()-ROW(BackendTable[[#Headers],[Row'#]])","v":121},{"$f":"'Data In'!A128","v":0},{"$f":"IF(BackendTable[[#This Row],[Time]]-'Reference Cells'!$C$3<=0,NA(),'Reference Cells'!$C$4-BackendTable[[#This Row],[Time]])*86400","v":{"$error":"#N/A"}},{"$f":"IFERROR(8-BackendTable[[#This Row],[Column1]],\"\")","v":""},{"$f":"IF(ISERROR(BackendTable[[#This Row],[Column1]]),-9,(BackendTable[[#This Row],[Net Time]]-NetTimeMin)*RangeAdj)","v":-9},{"$f":"IF(AND(BackendTable[[#This Row],[Time]]>='Reference Cells'!$C$6,BackendTable[[#This Row],[Time]]<='Reference Cells'!$C$7),(BackendTable[[#This Row],[Time]]-'Reference Cells'!$C$6)*86400,NA())","v":2},{"$f":"IF(CommandCell='Reference Cells'!$C$17,NA(),ABS('Data In'!B128-INDIRECT(\"ZeroVal_\"&H$2,0)))","v":0},{"$f":"IF(CommandCell='Reference Cells'!$C$17,NA(),ABS('Data In'!C128-INDIRECT(\"ZeroVal_\"&I$2,0)))","v":0},{"$f":"IF(CommandCell='Reference Cells'!$C$17,NA(),ABS('Data In'!D128-INDIRECT(\"ZeroVal_\"&J$2,0)))","v":0},{"$f":"IF(CommandCell='Reference Cells'!$C$17,NA(),ABS('Data In'!E128-INDIRECT(\"ZeroVal_\"&K$2,0)))","v":0},{"$f":"IF(CommandCell='Reference Cells'!$C$17,NA(),ABS('Data In'!F128-INDIRECT(\"ZeroVal_\"&L$2,0)))","v":0},{"$f":"MAX(BackendTable[[#This Row],[S1]:[S5]])","v":0},{"$f":"IF(ISERROR(BackendTable[[#This Row],[T0Time]]),0,COUNTIFS(BackendTable[T0Time],\"<=\"&3,BackendTable[T0Time],\">=\"&0)-COUNTIFS(BackendTable[T0Time],\">\"&BackendTable[[#This Row],[T0Time]]))","v":500},null,null,null,null,null,null,null,null,null,null,null,null,null,null,null,null,null,null,null,null,null,null,null,null,{"$f":"MATCH(MAX(BackendTable[[#This Row],[T1S1]:[T1S5]]),BackendTable[[#This Row],[T1S1]:[T1S5]],0)","v":{"$error":"#N/A"}},{"$f":"MATCH(MAX(BackendTable[[#This Row],[T2S1]:[T2S5]]),BackendTable[[#This Row],[T2S1]:[T2S5]],0)","v":{"$error":"#N/A"}},{"$f":"MATCH(MAX(BackendTable[[#This Row],[T3S1]:[T3S5]]),BackendTable[[#This Row],[T3S1]:[T3S5]],0)","v":{"$error":"#N/A"}}]
[null,{"$f":"ROW()-ROW(BackendTable[[#Headers],[Row'#]])","v":122},{"$f":"'Data In'!A129","v":0},{"$f":"IF(BackendTable[[#This Row],[Time]]-'Reference Cells'!$C$3<=0,NA(),'Reference Cells'!$C$4-BackendTable[[#This Row],[Time]])*86400","v":{"$error":"#N/A"}},{"$f":"IFERROR(8-BackendTable[[#This Row],[Column1]],\"\")","v":""},{"$f":"IF(ISERROR(BackendTable[[#This Row],[Column1]]),-9,(BackendTable[[#This Row],[Net Time]]-NetTimeMin)*RangeAdj)","v":-9},{"$f":"IF(AND(BackendTable[[#This Row],[Time]]>='Reference Cells'!$C$6,BackendTable[[#This Row],[Time]]<='Reference Cells'!$C$7),(BackendTable[[#This Row],[Time]]-'Reference Cells'!$C$6)*86400,NA())","v":2},{"$f":"IF(CommandCell='Reference Cells'!$C$17,NA(),ABS('Data In'!B129-INDIRECT(\"ZeroVal_\"&H$2,0)))","v":0},{"$f":"IF(CommandCell='Reference Cells'!$C$17,NA(),ABS('Data In'!C129-INDIRECT(\"ZeroVal_\"&I$2,0)))","v":0},{"$f":"IF(CommandCell='Reference Cells'!$C$17,NA(),ABS('Data In'!D129-INDIRECT(\"ZeroVal_\"&J$2,0)))","v":0},{"$f":"IF(CommandCell='Reference Cells'!$C$17,NA(),ABS('Data In'!E129-INDIRECT(\"ZeroVal_\"&K$2,0)))","v":0},{"$f":"IF(CommandCell='Reference Cells'!$C$17,NA(),ABS('Data In'!F129-INDIRECT(\"ZeroVal_\"&L$2,0)))","v":0},{"$f":"MAX(BackendTable[[#This Row],[S1]:[S5]])","v":0},{"$f":"IF(ISERROR(BackendTable[[#This Row],[T0Time]]),0,COUNTIFS(BackendTable[T0Time],\"<=\"&3,BackendTable[T0Time],\">=\"&0)-COUNTIFS(BackendTable[T0Time],\">\"&BackendTable[[#This Row],[T0Time]]))","v":500},null,null,null,null,null,null,null,null,null,null,null,null,null,null,null,null,null,null,null,null,null,null,null,null,{"$f":"MATCH(MAX(BackendTable[[#This Row],[T1S1]:[T1S5]]),BackendTable[[#This Row],[T1S1]:[T1S5]],0)","v":{"$error":"#N/A"}},{"$f":"MATCH(MAX(BackendTable[[#This Row],[T2S1]:[T2S5]]),BackendTable[[#This Row],[T2S1]:[T2S5]],0)","v":{"$error":"#N/A"}},{"$f":"MATCH(MAX(BackendTable[[#This Row],[T3S1]:[T3S5]]),BackendTable[[#This Row],[T3S1]:[T3S5]],0)","v":{"$error":"#N/A"}}]
[null,{"$f":"ROW()-ROW(BackendTable[[#Headers],[Row'#]])","v":123},{"$f":"'Data In'!A130","v":0},{"$f":"IF(BackendTable[[#This Row],[Time]]-'Reference Cells'!$C$3<=0,NA(),'Reference Cells'!$C$4-BackendTable[[#This Row],[Time]])*86400","v":{"$error":"#N/A"}},{"$f":"IFERROR(8-BackendTable[[#This Row],[Column1]],\"\")","v":""},{"$f":"IF(ISERROR(BackendTable[[#This Row],[Column1]]),-9,(BackendTable[[#This Row],[Net Time]]-NetTimeMin)*RangeAdj)","v":-9},{"$f":"IF(AND(BackendTable[[#This Row],[Time]]>='Reference Cells'!$C$6,BackendTable[[#This Row],[Time]]<='Reference Cells'!$C$7),(BackendTable[[#This Row],[Time]]-'Reference Cells'!$C$6)*86400,NA())","v":2},{"$f":"IF(CommandCell='Reference Cells'!$C$17,NA(),ABS('Data In'!B130-INDIRECT(\"ZeroVal_\"&H$2,0)))","v":0},{"$f":"IF(CommandCell='Reference Cells'!$C$17,NA(),ABS('Data In'!C130-INDIRECT(\"ZeroVal_\"&I$2,0)))","v":0},{"$f":"IF(CommandCell='Reference Cells'!$C$17,NA(),ABS('Data In'!D130-INDIRECT(\"ZeroVal_\"&J$2,0)))","v":0},{"$f":"IF(CommandCell='Reference Cells'!$C$17,NA(),ABS('Data In'!E130-INDIRECT(\"ZeroVal_\"&K$2,0)))","v":0},{"$f":"IF(CommandCell='Reference Cells'!$C$17,NA(),ABS('Data In'!F130-INDIRECT(\"ZeroVal_\"&L$2,0)))","v":0},{"$f":"MAX(BackendTable[[#This Row],[S1]:[S5]])","v":0},{"$f":"IF(ISERROR(BackendTable[[#This Row],[T0Time]]),0,COUNTIFS(BackendTable[T0Time],\"<=\"&3,BackendTable[T0Time],\">=\"&0)-COUNTIFS(BackendTable[T0Time],\">\"&BackendTable[[#This Row],[T0Time]]))","v":500},null,null,null,null,null,null,null,null,null,null,null,null,null,null,null,null,null,null,null,null,null,null,null,null,{"$f":"MATCH(MAX(BackendTable[[#This Row],[T1S1]:[T1S5]]),BackendTable[[#This Row],[T1S1]:[T1S5]],0)","v":{"$error":"#N/A"}},{"$f":"MATCH(MAX(BackendTable[[#This Row],[T2S1]:[T2S5]]),BackendTable[[#This Row],[T2S1]:[T2S5]],0)","v":{"$error":"#N/A"}},{"$f":"MATCH(MAX(BackendTable[[#This Row],[T3S1]:[T3S5]]),BackendTable[[#This Row],[T3S1]:[T3S5]],0)","v":{"$error":"#N/A"}}]
[null,{"$f":"ROW()-ROW(BackendTable[[#Headers],[Row'#]])","v":124},{"$f":"'Data In'!A131","v":0},{"$f":"IF(BackendTable[[#This Row],[Time]]-'Reference Cells'!$C$3<=0,NA(),'Reference Cells'!$C$4-BackendTable[[#This Row],[Time]])*86400","v":{"$error":"#N/A"}},{"$f":"IFERROR(8-BackendTable[[#This Row],[Column1]],\"\")","v":""},{"$f":"IF(ISERROR(BackendTable[[#This Row],[Column1]]),-9,(BackendTable[[#This Row],[Net Time]]-NetTimeMin)*RangeAdj)","v":-9},{"$f":"IF(AND(BackendTable[[#This Row],[Time]]>='Reference Cells'!$C$6,BackendTable[[#This Row],[Time]]<='Reference Cells'!$C$7),(BackendTable[[#This Row],[Time]]-'Reference Cells'!$C$6)*86400,NA())","v":2},{"$f":"IF(CommandCell='Reference Cells'!$C$17,NA(),ABS('Data In'!B131-INDIRECT(\"ZeroVal_\"&H$2,0)))","v":0},{"$f":"IF(CommandCell='Reference Cells'!$C$17,NA(),ABS('Data In'!C131-INDIRECT(\"ZeroVal_\"&I$2,0)))","v":0},{"$f":"IF(CommandCell='Reference Cells'!$C$17,NA(),ABS('Data In'!D131-INDIRECT(\"ZeroVal_\"&J$2,0)))","v":0},{"$f":"IF(CommandCell='Reference Cells'!$C$17,NA(),ABS('Data In'!E131-INDIRECT(\"ZeroVal_\"&K$2,0)))","v":0},{"$f":"IF(CommandCell='Reference Cells'!$C$17,NA(),ABS('Data In'!F131-INDIRECT(\"ZeroVal_\"&L$2,0)))","v":0},{"$f":"MAX(BackendTable[[#This Row],[S1]:[S5]])","v":0},{"$f":"IF(ISERROR(BackendTable[[#This Row],[T0Time]]),0,COUNTIFS(BackendTable[T0Time],\"<=\"&3,BackendTable[T0Time],\">=\"&0)-COUNTIFS(BackendTable[T0Time],\">\"&BackendTable[[#This Row],[T0Time]]))","v":500},null,null,null,null,null,null,null,null,null,null,null,null,null,null,null,null,null,null,null,null,null,null,null,null,{"$f":"MATCH(MAX(BackendTable[[#This Row],[T1S1]:[T1S5]]),BackendTable[[#This Row],[T1S1]:[T1S5]],0)","v":{"$error":"#N/A"}},{"$f":"MATCH(MAX(BackendTable[[#This Row],[T2S1]:[T2S5]]),BackendTable[[#This Row],[T2S1]:[T2S5]],0)","v":{"$error":"#N/A"}},{"$f":"MATCH(MAX(BackendTable[[#This Row],[T3S1]:[T3S5]]),BackendTable[[#This Row],[T3S1]:[T3S5]],0)","v":{"$error":"#N/A"}}]
[null,{"$f":"ROW()-ROW(BackendTable[[#Headers],[Row'#]])","v":125},{"$f":"'Data In'!A132","v":0},{"$f":"IF(BackendTable[[#This Row],[Time]]-'Reference Cells'!$C$3<=0,NA(),'Reference Cells'!$C$4-BackendTable[[#This Row],[Time]])*86400","v":{"$error":"#N/A"}},{"$f":"IFERROR(8-BackendTable[[#This Row],[Column1]],\"\")","v":""},{"$f":"IF(ISERROR(BackendTable[[#This Row],[Column1]]),-9,(BackendTable[[#This Row],[Net Time]]-NetTimeMin)*RangeAdj)","v":-9},{"$f":"IF(AND(BackendTable[[#This Row],[Time]]>='Reference Cells'!$C$6,BackendTable[[#This Row],[Time]]<='Reference Cells'!$C$7),(BackendTable[[#This Row],[Time]]-'Reference Cells'!$C$6)*86400,NA())","v":2},{"$f":"IF(CommandCell='Reference Cells'!$C$17,NA(),ABS('Data In'!B132-INDIRECT(\"ZeroVal_\"&H$2,0)))","v":0},{"$f":"IF(CommandCell='Reference Cells'!$C$17,NA(),ABS('Data In'!C132-INDIRECT(\"ZeroVal_\"&I$2,0)))","v":0},{"$f":"IF(CommandCell='Reference Cells'!$C$17,NA(),ABS('Data In'!D132-INDIRECT(\"ZeroVal_\"&J$2,0)))","v":0},{"$f":"IF(CommandCell='Reference Cells'!$C$17,NA(),ABS('Data In'!E132-INDIRECT(\"ZeroVal_\"&K$2,0)))","v":0},{"$f":"IF(CommandCell='Reference Cells'!$C$17,NA(),ABS('Data In'!F132-INDIRECT(\"ZeroVal_\"&L$2,0)))","v":0},{"$f":"MAX(BackendTable[[#This Row],[S1]:[S5]])","v":0},{"$f":"IF(ISERROR(BackendTable[[#This Row],[T0Time]]),0,COUNTIFS(BackendTable[T0Time],\"<=\"&3,BackendTable[T0Time],\">=\"&0)-COUNTIFS(BackendTable[T0Time],\">\"&BackendTable[[#This Row],[T0Time]]))","v":500},null,null,null,null,null,null,null,null,null,null,null,null,null,null,null,null,null,null,null,null,null,null,null,null,{"$f":"MATCH(MAX(BackendTable[[#This Row],[T1S1]:[T1S5]]),BackendTable[[#This Row],[T1S1]:[T1S5]],0)","v":{"$error":"#N/A"}},{"$f":"MATCH(MAX(BackendTable[[#This Row],[T2S1]:[T2S5]]),BackendTable[[#This Row],[T2S1]:[T2S5]],0)","v":{"$error":"#N/A"}},{"$f":"MATCH(MAX(BackendTable[[#This Row],[T3S1]:[T3S5]]),BackendTable[[#This Row],[T3S1]:[T3S5]],0)","v":{"$error":"#N/A"}}]
[null,{"$f":"ROW()-ROW(BackendTable[[#Headers],[Row'#]])","v":126},{"$f":"'Data In'!A133","v":0},{"$f":"IF(BackendTable[[#This Row],[Time]]-'Reference Cells'!$C$3<=0,NA(),'Reference Cells'!$C$4-BackendTable[[#This Row],[Time]])*86400","v":{"$error":"#N/A"}},{"$f":"IFERROR(8-BackendTable[[#This Row],[Column1]],\"\")","v":""},{"$f":"IF(ISERROR(BackendTable[[#This Row],[Column1]]),-9,(BackendTable[[#This Row],[Net Time]]-NetTimeMin)*RangeAdj)","v":-9},{"$f":"IF(AND(BackendTable[[#This Row],[Time]]>='Reference Cells'!$C$6,BackendTable[[#This Row],[Time]]<='Reference Cells'!$C$7),(BackendTable[[#This Row],[Time]]-'Reference Cells'!$C$6)*86400,NA())","v":2},{"$f":"IF(CommandCell='Reference Cells'!$C$17,NA(),ABS('Data In'!B133-INDIRECT(\"ZeroVal_\"&H$2,0)))","v":0},{"$f":"IF(CommandCell='Reference Cells'!$C$17,NA(),ABS('Data In'!C133-INDIRECT(\"ZeroVal_\"&I$2,0)))","v":0},{"$f":"IF(CommandCell='Reference Cells'!$C$17,NA(),ABS('Data In'!D133-INDIRECT(\"ZeroVal_\"&J$2,0)))","v":0},{"$f":"IF(CommandCell='Reference Cells'!$C$17,NA(),ABS('Data In'!E133-INDIRECT(\"ZeroVal_\"&K$2,0)))","v":0},{"$f":"IF(CommandCell='Reference Cells'!$C$17,NA(),ABS('Data In'!F133-INDIRECT(\"ZeroVal_\"&L$2,0)))","v":0},{"$f":"MAX(BackendTable[[#This Row],[S1]:[S5]])","v":0},{"$f":"IF(ISERROR(BackendTable[[#This Row],[T0Time]]),0,COUNTIFS(BackendTable[T0Time],\"<=\"&3,BackendTable[T0Time],\">=\"&0)-COUNTIFS(BackendTable[T0Time],\">\"&BackendTable[[#This Row],[T0Time]]))","v":500},null,null,null,null,null,null,null,null,null,null,null,null,null,null,null,null,null,null,null,null,null,null,null,null,{"$f":"MATCH(MAX(BackendTable[[#This Row],[T1S1]:[T1S5]]),BackendTable[[#This Row],[T1S1]:[T1S5]],0)","v":{"$error":"#N/A"}},{"$f":"MATCH(MAX(BackendTable[[#This Row],[T2S1]:[T2S5]]),BackendTable[[#This Row],[T2S1]:[T2S5]],0)","v":{"$error":"#N/A"}},{"$f":"MATCH(MAX(BackendTable[[#This Row],[T3S1]:[T3S5]]),BackendTable[[#This Row],[T3S1]:[T3S5]],0)","v":{"$error":"#N/A"}}]
[null,{"$f":"ROW()-ROW(BackendTable[[#Headers],[Row'#]])","v":127},{"$f":"'Data In'!A134","v":0},{"$f":"IF(BackendTable[[#This Row],[Time]]-'Reference Cells'!$C$3<=0,NA(),'Reference Cells'!$C$4-BackendTable[[#This Row],[Time]])*86400","v":{"$error":"#N/A"}},{"$f":"IFERROR(8-BackendTable[[#This Row],[Column1]],\"\")","v":""},{"$f":"IF(ISERROR(BackendTable[[#This Row],[Column1]]),-9,(BackendTable[[#This Row],[Net Time]]-NetTimeMin)*RangeAdj)","v":-9},{"$f":"IF(AND(BackendTable[[#This Row],[Time]]>='Reference Cells'!$C$6,BackendTable[[#This Row],[Time]]<='Reference Cells'!$C$7),(BackendTable[[#This Row],[Time]]-'Reference Cells'!$C$6)*86400,NA())","v":2},{"$f":"IF(CommandCell='Reference Cells'!$C$17,NA(),ABS('Data In'!B134-INDIRECT(\"ZeroVal_\"&H$2,0)))","v":0},{"$f":"IF(CommandCell='Reference Cells'!$C$17,NA(),ABS('Data In'!C134-INDIRECT(\"ZeroVal_\"&I$2,0)))","v":0},{"$f":"IF(CommandCell='Reference Cells'!$C$17,NA(),ABS('Data In'!D134-INDIRECT(\"ZeroVal_\"&J$2,0)))","v":0},{"$f":"IF(CommandCell='Reference Cells'!$C$17,NA(),ABS('Data In'!E134-INDIRECT(\"ZeroVal_\"&K$2,0)))","v":0},{"$f":"IF(CommandCell='Reference Cells'!$C$17,NA(),ABS('Data In'!F134-INDIRECT(\"ZeroVal_\"&L$2,0)))","v":0},{"$f":"MAX(BackendTable[[#This Row],[S1]:[S5]])","v":0},{"$f":"IF(ISERROR(BackendTable[[#This Row],[T0Time]]),0,COUNTIFS(BackendTable[T0Time],\"<=\"&3,BackendTable[T0Time],\">=\"&0)-COUNTIFS(BackendTable[T0Time],\">\"&BackendTable[[#This Row],[T0Time]]))","v":500},null,null,null,null,null,null,null,null,null,null,null,null,null,null,null,null,null,null,null,null,null,null,null,null,{"$f":"MATCH(MAX(BackendTable[[#This Row],[T1S1]:[T1S5]]),BackendTable[[#This Row],[T1S1]:[T1S5]],0)","v":{"$error":"#N/A"}},{"$f":"MATCH(MAX(BackendTable[[#This Row],[T2S1]:[T2S5]]),BackendTable[[#This Row],[T2S1]:[T2S5]],0)","v":{"$error":"#N/A"}},{"$f":"MATCH(MAX(BackendTable[[#This Row],[T3S1]:[T3S5]]),BackendTable[[#This Row],[T3S1]:[T3S5]],0)","v":{"$error":"#N/A"}}]
[null,{"$f":"ROW()-ROW(BackendTable[[#Headers],[Row'#]])","v":128},{"$f":"'Data In'!A135","v":0},{"$f":"IF(BackendTable[[#This Row],[Time]]-'Reference Cells'!$C$3<=0,NA(),'Reference Cells'!$C$4-BackendTable[[#This Row],[Time]])*86400","v":{"$error":"#N/A"}},{"$f":"IFERROR(8-BackendTable[[#This Row],[Column1]],\"\")","v":""},{"$f":"IF(ISERROR(BackendTable[[#This Row],[Column1]]),-9,(BackendTable[[#This Row],[Net Time]]-NetTimeMin)*RangeAdj)","v":-9},{"$f":"IF(AND(BackendTable[[#This Row],[Time]]>='Reference Cells'!$C$6,BackendTable[[#This Row],[Time]]<='Reference Cells'!$C$7),(BackendTable[[#This Row],[Time]]-'Reference Cells'!$C$6)*86400,NA())","v":2},{"$f":"IF(CommandCell='Reference Cells'!$C$17,NA(),ABS('Data In'!B135-INDIRECT(\"ZeroVal_\"&H$2,0)))","v":0},{"$f":"IF(CommandCell='Reference Cells'!$C$17,NA(),ABS('Data In'!C135-INDIRECT(\"ZeroVal_\"&I$2,0)))","v":0},{"$f":"IF(CommandCell='Reference Cells'!$C$17,NA(),ABS('Data In'!D135-INDIRECT(\"ZeroVal_\"&J$2,0)))","v":0},{"$f":"IF(CommandCell='Reference Cells'!$C$17,NA(),ABS('Data In'!E135-INDIRECT(\"ZeroVal_\"&K$2,0)))","v":0},{"$f":"IF(CommandCell='Reference Cells'!$C$17,NA(),ABS('Data In'!F135-INDIRECT(\"ZeroVal_\"&L$2,0)))","v":0},{"$f":"MAX(BackendTable[[#This Row],[S1]:[S5]])","v":0},{"$f":"IF(ISERROR(BackendTable[[#This Row],[T0Time]]),0,COUNTIFS(BackendTable[T0Time],\"<=\"&3,BackendTable[T0Time],\">=\"&0)-COUNTIFS(BackendTable[T0Time],\">\"&BackendTable[[#This Row],[T0Time]]))","v":500},null,null,null,null,null,null,null,null,null,null,null,null,null,null,null,null,null,null,null,null,null,null,null,null,{"$f":"MATCH(MAX(BackendTable[[#This Row],[T1S1]:[T1S5]]),BackendTable[[#This Row],[T1S1]:[T1S5]],0)","v":{"$error":"#N/A"}},{"$f":"MATCH(MAX(BackendTable[[#This Row],[T2S1]:[T2S5]]),BackendTable[[#This Row],[T2S1]:[T2S5]],0)","v":{"$error":"#N/A"}},{"$f":"MATCH(MAX(BackendTable[[#This Row],[T3S1]:[T3S5]]),BackendTable[[#This Row],[T3S1]:[T3S5]],0)","v":{"$error":"#N/A"}}]
[null,{"$f":"ROW()-ROW(BackendTable[[#Headers],[Row'#]])","v":129},{"$f":"'Data In'!A136","v":0},{"$f":"IF(BackendTable[[#This Row],[Time]]-'Reference Cells'!$C$3<=0,NA(),'Reference Cells'!$C$4-BackendTable[[#This Row],[Time]])*86400","v":{"$error":"#N/A"}},{"$f":"IFERROR(8-BackendTable[[#This Row],[Column1]],\"\")","v":""},{"$f":"IF(ISERROR(BackendTable[[#This Row],[Column1]]),-9,(BackendTable[[#This Row],[Net Time]]-NetTimeMin)*RangeAdj)","v":-9},{"$f":"IF(AND(BackendTable[[#This Row],[Time]]>='Reference Cells'!$C$6,BackendTable[[#This Row],[Time]]<='Reference Cells'!$C$7),(BackendTable[[#This Row],[Time]]-'Reference Cells'!$C$6)*86400,NA())","v":2},{"$f":"IF(CommandCell='Reference Cells'!$C$17,NA(),ABS('Data In'!B136-INDIRECT(\"ZeroVal_\"&H$2,0)))","v":0},{"$f":"IF(CommandCell='Reference Cells'!$C$17,NA(),ABS('Data In'!C136-INDIRECT(\"ZeroVal_\"&I$2,0)))","v":0},{"$f":"IF(CommandCell='Reference Cells'!$C$17,NA(),ABS('Data In'!D136-INDIRECT(\"ZeroVal_\"&J$2,0)))","v":0},{"$f":"IF(CommandCell='Reference Cells'!$C$17,NA(),ABS('Data In'!E136-INDIRECT(\"ZeroVal_\"&K$2,0)))","v":0},{"$f":"IF(CommandCell='Reference Cells'!$C$17,NA(),ABS('Data In'!F136-INDIRECT(\"ZeroVal_\"&L$2,0)))","v":0},{"$f":"MAX(BackendTable[[#This Row],[S1]:[S5]])","v":0},{"$f":"IF(ISERROR(BackendTable[[#This Row],[T0Time]]),0,COUNTIFS(BackendTable[T0Time],\"<=\"&3,BackendTable[T0Time],\">=\"&0)-COUNTIFS(BackendTable[T0Time],\">\"&BackendTable[[#This Row],[T0Time]]))","v":500},null,null,null,null,null,null,null,null,null,null,null,null,null,null,null,null,null,null,null,null,null,null,null,null,{"$f":"MATCH(MAX(BackendTable[[#This Row],[T1S1]:[T1S5]]),BackendTable[[#This Row],[T1S1]:[T1S5]],0)","v":{"$error":"#N/A"}},{"$f":"MATCH(MAX(BackendTable[[#This Row],[T2S1]:[T2S5]]),BackendTable[[#This Row],[T2S1]:[T2S5]],0)","v":{"$error":"#N/A"}},{"$f":"MATCH(MAX(BackendTable[[#This Row],[T3S1]:[T3S5]]),BackendTable[[#This Row],[T3S1]:[T3S5]],0)","v":{"$error":"#N/A"}}]
[null,{"$f":"ROW()-ROW(BackendTable[[#Headers],[Row'#]])","v":130},{"$f":"'Data In'!A137","v":0},{"$f":"IF(BackendTable[[#This Row],[Time]]-'Reference Cells'!$C$3<=0,NA(),'Reference Cells'!$C$4-BackendTable[[#This Row],[Time]])*86400","v":{"$error":"#N/A"}},{"$f":"IFERROR(8-BackendTable[[#This Row],[Column1]],\"\")","v":""},{"$f":"IF(ISERROR(BackendTable[[#This Row],[Column1]]),-9,(BackendTable[[#This Row],[Net Time]]-NetTimeMin)*RangeAdj)","v":-9},{"$f":"IF(AND(BackendTable[[#This Row],[Time]]>='Reference Cells'!$C$6,BackendTable[[#This Row],[Time]]<='Reference Cells'!$C$7),(BackendTable[[#This Row],[Time]]-'Reference Cells'!$C$6)*86400,NA())","v":2},{"$f":"IF(CommandCell='Reference Cells'!$C$17,NA(),ABS('Data In'!B137-INDIRECT(\"ZeroVal_\"&H$2,0)))","v":0},{"$f":"IF(CommandCell='Reference Cells'!$C$17,NA(),ABS('Data In'!C137-INDIRECT(\"ZeroVal_\"&I$2,0)))","v":0},{"$f":"IF(CommandCell='Reference Cells'!$C$17,NA(),ABS('Data In'!D137-INDIRECT(\"ZeroVal_\"&J$2,0)))","v":0},{"$f":"IF(CommandCell='Reference Cells'!$C$17,NA(),ABS('Data In'!E137-INDIRECT(\"ZeroVal_\"&K$2,0)))","v":0},{"$f":"IF(CommandCell='Reference Cells'!$C$17,NA(),ABS('Data In'!F137-INDIRECT(\"ZeroVal_\"&L$2,0)))","v":0},{"$f":"MAX(BackendTable[[#This Row],[S1]:[S5]])","v":0},{"$f":"IF(ISERROR(BackendTable[[#This Row],[T0Time]]),0,COUNTIFS(BackendTable[T0Time],\"<=\"&3,BackendTable[T0Time],\">=\"&0)-COUNTIFS(BackendTable[T0Time],\">\"&BackendTable[[#This Row],[T0Time]]))","v":500},null,null,null,null,null,null,null,null,null,null,null,null,null,null,null,null,null,null,null,null,null,null,null,null,{"$f":"MATCH(MAX(BackendTable[[#This Row],[T1S1]:[T1S5]]),BackendTable[[#This Row],[T1S1]:[T1S5]],0)","v":{"$error":"#N/A"}},{"$f":"MATCH(MAX(BackendTable[[#This Row],[T2S1]:[T2S5]]),BackendTable[[#This Row],[T2S1]:[T2S5]],0)","v":{"$error":"#N/A"}},{"$f":"MATCH(MAX(BackendTable[[#This Row],[T3S1]:[T3S5]]),BackendTable[[#This Row],[T3S1]:[T3S5]],0)","v":{"$error":"#N/A"}}]
[null,{"$f":"ROW()-ROW(BackendTable[[#Headers],[Row'#]])","v":131},{"$f":"'Data In'!A138","v":0},{"$f":"IF(BackendTable[[#This Row],[Time]]-'Reference Cells'!$C$3<=0,NA(),'Reference Cells'!$C$4-BackendTable[[#This Row],[Time]])*86400","v":{"$error":"#N/A"}},{"$f":"IFERROR(8-BackendTable[[#This Row],[Column1]],\"\")","v":""},{"$f":"IF(ISERROR(BackendTable[[#This Row],[Column1]]),-9,(BackendTable[[#This Row],[Net Time]]-NetTimeMin)*RangeAdj)","v":-9},{"$f":"IF(AND(BackendTable[[#This Row],[Time]]>='Reference Cells'!$C$6,BackendTable[[#This Row],[Time]]<='Reference Cells'!$C$7),(BackendTable[[#This Row],[Time]]-'Reference Cells'!$C$6)*86400,NA())","v":2},{"$f":"IF(CommandCell='Reference Cells'!$C$17,NA(),ABS('Data In'!B138-INDIRECT(\"ZeroVal_\"&H$2,0)))","v":0},{"$f":"IF(CommandCell='Reference Cells'!$C$17,NA(),ABS('Data In'!C138-INDIRECT(\"ZeroVal_\"&I$2,0)))","v":0},{"$f":"IF(CommandCell='Reference Cells'!$C$17,NA(),ABS('Data In'!D138-INDIRECT(\"ZeroVal_\"&J$2,0)))","v":0},{"$f":"IF(CommandCell='Reference Cells'!$C$17,NA(),ABS('Data In'!E138-INDIRECT(\"ZeroVal_\"&K$2,0)))","v":0},{"$f":"IF(CommandCell='Reference Cells'!$C$17,NA(),ABS('Data In'!F138-INDIRECT(\"ZeroVal_\"&L$2,0)))","v":0},{"$f":"MAX(BackendTable[[#This Row],[S1]:[S5]])","v":0},{"$f":"IF(ISERROR(BackendTable[[#This Row],[T0Time]]),0,COUNTIFS(BackendTable[T0Time],\"<=\"&3,BackendTable[T0Time],\">=\"&0)-COUNTIFS(BackendTable[T0Time],\">\"&BackendTable[[#This Row],[T0Time]]))","v":500},null,null,null,null,null,null,null,null,null,null,null,null,null,null,null,null,null,null,null,null,null,null,null,null,{"$f":"MATCH(MAX(BackendTable[[#This Row],[T1S1]:[T1S5]]),BackendTable[[#This Row],[T1S1]:[T1S5]],0)","v":{"$error":"#N/A"}},{"$f":"MATCH(MAX(BackendTable[[#This Row],[T2S1]:[T2S5]]),BackendTable[[#This Row],[T2S1]:[T2S5]],0)","v":{"$error":"#N/A"}},{"$f":"MATCH(MAX(BackendTable[[#This Row],[T3S1]:[T3S5]]),BackendTable[[#This Row],[T3S1]:[T3S5]],0)","v":{"$error":"#N/A"}}]
[null,{"$f":"ROW()-ROW(BackendTable[[#Headers],[Row'#]])","v":132},{"$f":"'Data In'!A139","v":0},{"$f":"IF(BackendTable[[#This Row],[Time]]-'Reference Cells'!$C$3<=0,NA(),'Reference Cells'!$C$4-BackendTable[[#This Row],[Time]])*86400","v":{"$error":"#N/A"}},{"$f":"IFERROR(8-BackendTable[[#This Row],[Column1]],\"\")","v":""},{"$f":"IF(ISERROR(BackendTable[[#This Row],[Column1]]),-9,(BackendTable[[#This Row],[Net Time]]-NetTimeMin)*RangeAdj)","v":-9},{"$f":"IF(AND(BackendTable[[#This Row],[Time]]>='Reference Cells'!$C$6,BackendTable[[#This Row],[Time]]<='Reference Cells'!$C$7),(BackendTable[[#This Row],[Time]]-'Reference Cells'!$C$6)*86400,NA())","v":2},{"$f":"IF(CommandCell='Reference Cells'!$C$17,NA(),ABS('Data In'!B139-INDIRECT(\"ZeroVal_\"&H$2,0)))","v":0},{"$f":"IF(CommandCell='Reference Cells'!$C$17,NA(),ABS('Data In'!C139-INDIRECT(\"ZeroVal_\"&I$2,0)))","v":0},{"$f":"IF(CommandCell='Reference Cells'!$C$17,NA(),ABS('Data In'!D139-INDIRECT(\"ZeroVal_\"&J$2,0)))","v":0},{"$f":"IF(CommandCell='Reference Cells'!$C$17,NA(),ABS('Data In'!E139-INDIRECT(\"ZeroVal_\"&K$2,0)))","v":0},{"$f":"IF(CommandCell='Reference Cells'!$C$17,NA(),ABS('Data In'!F139-INDIRECT(\"ZeroVal_\"&L$2,0)))","v":0},{"$f":"MAX(BackendTable[[#This Row],[S1]:[S5]])","v":0},{"$f":"IF(ISERROR(BackendTable[[#This Row],[T0Time]]),0,COUNTIFS(BackendTable[T0Time],\"<=\"&3,BackendTable[T0Time],\">=\"&0)-COUNTIFS(BackendTable[T0Time],\">\"&BackendTable[[#This Row],[T0Time]]))","v":500},null,null,null,null,null,null,null,null,null,null,null,null,null,null,null,null,null,null,null,null,null,null,null,null,{"$f":"MATCH(MAX(BackendTable[[#This Row],[T1S1]:[T1S5]]),BackendTable[[#This Row],[T1S1]:[T1S5]],0)","v":{"$error":"#N/A"}},{"$f":"MATCH(MAX(BackendTable[[#This Row],[T2S1]:[T2S5]]),BackendTable[[#This Row],[T2S1]:[T2S5]],0)","v":{"$error":"#N/A"}},{"$f":"MATCH(MAX(BackendTable[[#This Row],[T3S1]:[T3S5]]),BackendTable[[#This Row],[T3S1]:[T3S5]],0)","v":{"$error":"#N/A"}}]
[null,{"$f":"ROW()-ROW(BackendTable[[#Headers],[Row'#]])","v":133},{"$f":"'Data In'!A140","v":0},{"$f":"IF(BackendTable[[#This Row],[Time]]-'Reference Cells'!$C$3<=0,NA(),'Reference Cells'!$C$4-BackendTable[[#This Row],[Time]])*86400","v":{"$error":"#N/A"}},{"$f":"IFERROR(8-BackendTable[[#This Row],[Column1]],\"\")","v":""},{"$f":"IF(ISERROR(BackendTable[[#This Row],[Column1]]),-9,(BackendTable[[#This Row],[Net Time]]-NetTimeMin)*RangeAdj)","v":-9},{"$f":"IF(AND(BackendTable[[#This Row],[Time]]>='Reference Cells'!$C$6,BackendTable[[#This Row],[Time]]<='Reference Cells'!$C$7),(BackendTable[[#This Row],[Time]]-'Reference Cells'!$C$6)*86400,NA())","v":2},{"$f":"IF(CommandCell='Reference Cells'!$C$17,NA(),ABS('Data In'!B140-INDIRECT(\"ZeroVal_\"&H$2,0)))","v":0},{"$f":"IF(CommandCell='Reference Cells'!$C$17,NA(),ABS('Data In'!C140-INDIRECT(\"ZeroVal_\"&I$2,0)))","v":0},{"$f":"IF(CommandCell='Reference Cells'!$C$17,NA(),ABS('Data In'!D140-INDIRECT(\"ZeroVal_\"&J$2,0)))","v":0},{"$f":"IF(CommandCell='Reference Cells'!$C$17,NA(),ABS('Data In'!E140-INDIRECT(\"ZeroVal_\"&K$2,0)))","v":0},{"$f":"IF(CommandCell='Reference Cells'!$C$17,NA(),ABS('Data In'!F140-INDIRECT(\"ZeroVal_\"&L$2,0)))","v":0},{"$f":"MAX(BackendTable[[#This Row],[S1]:[S5]])","v":0},{"$f":"IF(ISERROR(BackendTable[[#This Row],[T0Time]]),0,COUNTIFS(BackendTable[T0Time],\"<=\"&3,BackendTable[T0Time],\">=\"&0)-COUNTIFS(BackendTable[T0Time],\">\"&BackendTable[[#This Row],[T0Time]]))","v":500},null,null,null,null,null,null,null,null,null,null,null,null,null,null,null,null,null,null,null,null,null,null,null,null,{"$f":"MATCH(MAX(BackendTable[[#This Row],[T1S1]:[T1S5]]),BackendTable[[#This Row],[T1S1]:[T1S5]],0)","v":{"$error":"#N/A"}},{"$f":"MATCH(MAX(BackendTable[[#This Row],[T2S1]:[T2S5]]),BackendTable[[#This Row],[T2S1]:[T2S5]],0)","v":{"$error":"#N/A"}},{"$f":"MATCH(MAX(BackendTable[[#This Row],[T3S1]:[T3S5]]),BackendTable[[#This Row],[T3S1]:[T3S5]],0)","v":{"$error":"#N/A"}}]
[null,{"$f":"ROW()-ROW(BackendTable[[#Headers],[Row'#]])","v":134},{"$f":"'Data In'!A141","v":0},{"$f":"IF(BackendTable[[#This Row],[Time]]-'Reference Cells'!$C$3<=0,NA(),'Reference Cells'!$C$4-BackendTable[[#This Row],[Time]])*86400","v":{"$error":"#N/A"}},{"$f":"IFERROR(8-BackendTable[[#This Row],[Column1]],\"\")","v":""},{"$f":"IF(ISERROR(BackendTable[[#This Row],[Column1]]),-9,(BackendTable[[#This Row],[Net Time]]-NetTimeMin)*RangeAdj)","v":-9},{"$f":"IF(AND(BackendTable[[#This Row],[Time]]>='Reference Cells'!$C$6,BackendTable[[#This Row],[Time]]<='Reference Cells'!$C$7),(BackendTable[[#This Row],[Time]]-'Reference Cells'!$C$6)*86400,NA())","v":2},{"$f":"IF(CommandCell='Reference Cells'!$C$17,NA(),ABS('Data In'!B141-INDIRECT(\"ZeroVal_\"&H$2,0)))","v":0},{"$f":"IF(CommandCell='Reference Cells'!$C$17,NA(),ABS('Data In'!C141-INDIRECT(\"ZeroVal_\"&I$2,0)))","v":0},{"$f":"IF(CommandCell='Reference Cells'!$C$17,NA(),ABS('Data In'!D141-INDIRECT(\"ZeroVal_\"&J$2,0)))","v":0},{"$f":"IF(CommandCell='Reference Cells'!$C$17,NA(),ABS('Data In'!E141-INDIRECT(\"ZeroVal_\"&K$2,0)))","v":0},{"$f":"IF(CommandCell='Reference Cells'!$C$17,NA(),ABS('Data In'!F141-INDIRECT(\"ZeroVal_\"&L$2,0)))","v":0},{"$f":"MAX(BackendTable[[#This Row],[S1]:[S5]])","v":0},{"$f":"IF(ISERROR(BackendTable[[#This Row],[T0Time]]),0,COUNTIFS(BackendTable[T0Time],\"<=\"&3,BackendTable[T0Time],\">=\"&0)-COUNTIFS(BackendTable[T0Time],\">\"&BackendTable[[#This Row],[T0Time]]))","v":500},null,null,null,null,null,null,null,null,null,null,null,null,null,null,null,null,null,null,null,null,null,null,null,null,{"$f":"MATCH(MAX(BackendTable[[#This Row],[T1S1]:[T1S5]]),BackendTable[[#This Row],[T1S1]:[T1S5]],0)","v":{"$error":"#N/A"}},{"$f":"MATCH(MAX(BackendTable[[#This Row],[T2S1]:[T2S5]]),BackendTable[[#This Row],[T2S1]:[T2S5]],0)","v":{"$error":"#N/A"}},{"$f":"MATCH(MAX(BackendTable[[#This Row],[T3S1]:[T3S5]]),BackendTable[[#This Row],[T3S1]:[T3S5]],0)","v":{"$error":"#N/A"}}]
[null,{"$f":"ROW()-ROW(BackendTable[[#Headers],[Row'#]])","v":135},{"$f":"'Data In'!A142","v":0},{"$f":"IF(BackendTable[[#This Row],[Time]]-'Reference Cells'!$C$3<=0,NA(),'Reference Cells'!$C$4-BackendTable[[#This Row],[Time]])*86400","v":{"$error":"#N/A"}},{"$f":"IFERROR(8-BackendTable[[#This Row],[Column1]],\"\")","v":""},{"$f":"IF(ISERROR(BackendTable[[#This Row],[Column1]]),-9,(BackendTable[[#This Row],[Net Time]]-NetTimeMin)*RangeAdj)","v":-9},{"$f":"IF(AND(BackendTable[[#This Row],[Time]]>='Reference Cells'!$C$6,BackendTable[[#This Row],[Time]]<='Reference Cells'!$C$7),(BackendTable[[#This Row],[Time]]-'Reference Cells'!$C$6)*86400,NA())","v":2},{"$f":"IF(CommandCell='Reference Cells'!$C$17,NA(),ABS('Data In'!B142-INDIRECT(\"ZeroVal_\"&H$2,0)))","v":0},{"$f":"IF(CommandCell='Reference Cells'!$C$17,NA(),ABS('Data In'!C142-INDIRECT(\"ZeroVal_\"&I$2,0)))","v":0},{"$f":"IF(CommandCell='Reference Cells'!$C$17,NA(),ABS('Data In'!D142-INDIRECT(\"ZeroVal_\"&J$2,0)))","v":0},{"$f":"IF(CommandCell='Reference Cells'!$C$17,NA(),ABS('Data In'!E142-INDIRECT(\"ZeroVal_\"&K$2,0)))","v":0},{"$f":"IF(CommandCell='Reference Cells'!$C$17,NA(),ABS('Data In'!F142-INDIRECT(\"ZeroVal_\"&L$2,0)))","v":0},{"$f":"MAX(BackendTable[[#This Row],[S1]:[S5]])","v":0},{"$f":"IF(ISERROR(BackendTable[[#This Row],[T0Time]]),0,COUNTIFS(BackendTable[T0Time],\"<=\"&3,BackendTable[T0Time],\">=\"&0)-COUNTIFS(BackendTable[T0Time],\">\"&BackendTable[[#This Row],[T0Time]]))","v":500},null,null,null,null,null,null,null,null,null,null,null,null,null,null,null,null,null,null,null,null,null,null,null,null,{"$f":"MATCH(MAX(BackendTable[[#This Row],[T1S1]:[T1S5]]),BackendTable[[#This Row],[T1S1]:[T1S5]],0)","v":{"$error":"#N/A"}},{"$f":"MATCH(MAX(BackendTable[[#This Row],[T2S1]:[T2S5]]),BackendTable[[#This Row],[T2S1]:[T2S5]],0)","v":{"$error":"#N/A"}},{"$f":"MATCH(MAX(BackendTable[[#This Row],[T3S1]:[T3S5]]),BackendTable[[#This Row],[T3S1]:[T3S5]],0)","v":{"$error":"#N/A"}}]
[null,{"$f":"ROW()-ROW(BackendTable[[#Headers],[Row'#]])","v":136},{"$f":"'Data In'!A143","v":0},{"$f":"IF(BackendTable[[#This Row],[Time]]-'Reference Cells'!$C$3<=0,NA(),'Reference Cells'!$C$4-BackendTable[[#This Row],[Time]])*86400","v":{"$error":"#N/A"}},{"$f":"IFERROR(8-BackendTable[[#This Row],[Column1]],\"\")","v":""},{"$f":"IF(ISERROR(BackendTable[[#This Row],[Column1]]),-9,(BackendTable[[#This Row],[Net Time]]-NetTimeMin)*RangeAdj)","v":-9},{"$f":"IF(AND(BackendTable[[#This Row],[Time]]>='Reference Cells'!$C$6,BackendTable[[#This Row],[Time]]<='Reference Cells'!$C$7),(BackendTable[[#This Row],[Time]]-'Reference Cells'!$C$6)*86400,NA())","v":2},{"$f":"IF(CommandCell='Reference Cells'!$C$17,NA(),ABS('Data In'!B143-INDIRECT(\"ZeroVal_\"&H$2,0)))","v":0},{"$f":"IF(CommandCell='Reference Cells'!$C$17,NA(),ABS('Data In'!C143-INDIRECT(\"ZeroVal_\"&I$2,0)))","v":0},{"$f":"IF(CommandCell='Reference Cells'!$C$17,NA(),ABS('Data In'!D143-INDIRECT(\"ZeroVal_\"&J$2,0)))","v":0},{"$f":"IF(CommandCell='Reference Cells'!$C$17,NA(),ABS('Data In'!E143-INDIRECT(\"ZeroVal_\"&K$2,0)))","v":0},{"$f":"IF(CommandCell='Reference Cells'!$C$17,NA(),ABS('Data In'!F143-INDIRECT(\"ZeroVal_\"&L$2,0)))","v":0},{"$f":"MAX(BackendTable[[#This Row],[S1]:[S5]])","v":0},{"$f":"IF(ISERROR(BackendTable[[#This Row],[T0Time]]),0,COUNTIFS(BackendTable[T0Time],\"<=\"&3,BackendTable[T0Time],\">=\"&0)-COUNTIFS(BackendTable[T0Time],\">\"&BackendTable[[#This Row],[T0Time]]))","v":500},null,null,null,null,null,null,null,null,null,null,null,null,null,null,null,null,null,null,null,null,null,null,null,null,{"$f":"MATCH(MAX(BackendTable[[#This Row],[T1S1]:[T1S5]]),BackendTable[[#This Row],[T1S1]:[T1S5]],0)","v":{"$error":"#N/A"}},{"$f":"MATCH(MAX(BackendTable[[#This Row],[T2S1]:[T2S5]]),BackendTable[[#This Row],[T2S1]:[T2S5]],0)","v":{"$error":"#N/A"}},{"$f":"MATCH(MAX(BackendTable[[#This Row],[T3S1]:[T3S5]]),BackendTable[[#This Row],[T3S1]:[T3S5]],0)","v":{"$error":"#N/A"}}]
[null,{"$f":"ROW()-ROW(BackendTable[[#Headers],[Row'#]])","v":137},{"$f":"'Data In'!A144","v":0},{"$f":"IF(BackendTable[[#This Row],[Time]]-'Reference Cells'!$C$3<=0,NA(),'Reference Cells'!$C$4-BackendTable[[#This Row],[Time]])*86400","v":{"$error":"#N/A"}},{"$f":"IFERROR(8-BackendTable[[#This Row],[Column1]],\"\")","v":""},{"$f":"IF(ISERROR(BackendTable[[#This Row],[Column1]]),-9,(BackendTable[[#This Row],[Net Time]]-NetTimeMin)*RangeAdj)","v":-9},{"$f":"IF(AND(BackendTable[[#This Row],[Time]]>='Reference Cells'!$C$6,BackendTable[[#This Row],[Time]]<='Reference Cells'!$C$7),(BackendTable[[#This Row],[Time]]-'Reference Cells'!$C$6)*86400,NA())","v":2},{"$f":"IF(CommandCell='Reference Cells'!$C$17,NA(),ABS('Data In'!B144-INDIRECT(\"ZeroVal_\"&H$2,0)))","v":0},{"$f":"IF(CommandCell='Reference Cells'!$C$17,NA(),ABS('Data In'!C144-INDIRECT(\"ZeroVal_\"&I$2,0)))","v":0},{"$f":"IF(CommandCell='Reference Cells'!$C$17,NA(),ABS('Data In'!D144-INDIRECT(\"ZeroVal_\"&J$2,0)))","v":0},{"$f":"IF(CommandCell='Reference Cells'!$C$17,NA(),ABS('Data In'!E144-INDIRECT(\"ZeroVal_\"&K$2,0)))","v":0},{"$f":"IF(CommandCell='Reference Cells'!$C$17,NA(),ABS('Data In'!F144-INDIRECT(\"ZeroVal_\"&L$2,0)))","v":0},{"$f":"MAX(BackendTable[[#This Row],[S1]:[S5]])","v":0},{"$f":"IF(ISERROR(BackendTable[[#This Row],[T0Time]]),0,COUNTIFS(BackendTable[T0Time],\"<=\"&3,BackendTable[T0Time],\">=\"&0)-COUNTIFS(BackendTable[T0Time],\">\"&BackendTable[[#This Row],[T0Time]]))","v":500},null,null,null,null,null,null,null,null,null,null,null,null,null,null,null,null,null,null,null,null,null,null,null,null,{"$f":"MATCH(MAX(BackendTable[[#This Row],[T1S1]:[T1S5]]),BackendTable[[#This Row],[T1S1]:[T1S5]],0)","v":{"$error":"#N/A"}},{"$f":"MATCH(MAX(BackendTable[[#This Row],[T2S1]:[T2S5]]),BackendTable[[#This Row],[T2S1]:[T2S5]],0)","v":{"$error":"#N/A"}},{"$f":"MATCH(MAX(BackendTable[[#This Row],[T3S1]:[T3S5]]),BackendTable[[#This Row],[T3S1]:[T3S5]],0)","v":{"$error":"#N/A"}}]
[null,{"$f":"ROW()-ROW(BackendTable[[#Headers],[Row'#]])","v":138},{"$f":"'Data In'!A145","v":0},{"$f":"IF(BackendTable[[#This Row],[Time]]-'Reference Cells'!$C$3<=0,NA(),'Reference Cells'!$C$4-BackendTable[[#This Row],[Time]])*86400","v":{"$error":"#N/A"}},{"$f":"IFERROR(8-BackendTable[[#This Row],[Column1]],\"\")","v":""},{"$f":"IF(ISERROR(BackendTable[[#This Row],[Column1]]),-9,(BackendTable[[#This Row],[Net Time]]-NetTimeMin)*RangeAdj)","v":-9},{"$f":"IF(AND(BackendTable[[#This Row],[Time]]>='Reference Cells'!$C$6,BackendTable[[#This Row],[Time]]<='Reference Cells'!$C$7),(BackendTable[[#This Row],[Time]]-'Reference Cells'!$C$6)*86400,NA())","v":2},{"$f":"IF(CommandCell='Reference Cells'!$C$17,NA(),ABS('Data In'!B145-INDIRECT(\"ZeroVal_\"&H$2,0)))","v":0},{"$f":"IF(CommandCell='Reference Cells'!$C$17,NA(),ABS('Data In'!C145-INDIRECT(\"ZeroVal_\"&I$2,0)))","v":0},{"$f":"IF(CommandCell='Reference Cells'!$C$17,NA(),ABS('Data In'!D145-INDIRECT(\"ZeroVal_\"&J$2,0)))","v":0},{"$f":"IF(CommandCell='Reference Cells'!$C$17,NA(),ABS('Data In'!E145-INDIRECT(\"ZeroVal_\"&K$2,0)))","v":0},{"$f":"IF(CommandCell='Reference Cells'!$C$17,NA(),ABS('Data In'!F145-INDIRECT(\"ZeroVal_\"&L$2,0)))","v":0},{"$f":"MAX(BackendTable[[#This Row],[S1]:[S5]])","v":0},{"$f":"IF(ISERROR(BackendTable[[#This Row],[T0Time]]),0,COUNTIFS(BackendTable[T0Time],\"<=\"&3,BackendTable[T0Time],\">=\"&0)-COUNTIFS(BackendTable[T0Time],\">\"&BackendTable[[#This Row],[T0Time]]))","v":500},null,null,null,null,null,null,null,null,null,null,null,null,null,null,null,null,null,null,null,null,null,null,null,null,{"$f":"MATCH(MAX(BackendTable[[#This Row],[T1S1]:[T1S5]]),BackendTable[[#This Row],[T1S1]:[T1S5]],0)","v":{"$error":"#N/A"}},{"$f":"MATCH(MAX(BackendTable[[#This Row],[T2S1]:[T2S5]]),BackendTable[[#This Row],[T2S1]:[T2S5]],0)","v":{"$error":"#N/A"}},{"$f":"MATCH(MAX(BackendTable[[#This Row],[T3S1]:[T3S5]]),BackendTable[[#This Row],[T3S1]:[T3S5]],0)","v":{"$error":"#N/A"}}]
[null,{"$f":"ROW()-ROW(BackendTable[[#Headers],[Row'#]])","v":139},{"$f":"'Data In'!A146","v":0},{"$f":"IF(BackendTable[[#This Row],[Time]]-'Reference Cells'!$C$3<=0,NA(),'Reference Cells'!$C$4-BackendTable[[#This Row],[Time]])*86400","v":{"$error":"#N/A"}},{"$f":"IFERROR(8-BackendTable[[#This Row],[Column1]],\"\")","v":""},{"$f":"IF(ISERROR(BackendTable[[#This Row],[Column1]]),-9,(BackendTable[[#This Row],[Net Time]]-NetTimeMin)*RangeAdj)","v":-9},{"$f":"IF(AND(BackendTable[[#This Row],[Time]]>='Reference Cells'!$C$6,BackendTable[[#This Row],[Time]]<='Reference Cells'!$C$7),(BackendTable[[#This Row],[Time]]-'Reference Cells'!$C$6)*86400,NA())","v":2},{"$f":"IF(CommandCell='Reference Cells'!$C$17,NA(),ABS('Data In'!B146-INDIRECT(\"ZeroVal_\"&H$2,0)))","v":0},{"$f":"IF(CommandCell='Reference Cells'!$C$17,NA(),ABS('Data In'!C146-INDIRECT(\"ZeroVal_\"&I$2,0)))","v":0},{"$f":"IF(CommandCell='Reference Cells'!$C$17,NA(),ABS('Data In'!D146-INDIRECT(\"ZeroVal_\"&J$2,0)))","v":0},{"$f":"IF(CommandCell='Reference Cells'!$C$17,NA(),ABS('Data In'!E146-INDIRECT(\"ZeroVal_\"&K$2,0)))","v":0},{"$f":"IF(CommandCell='Reference Cells'!$C$17,NA(),ABS('Data In'!F146-INDIRECT(\"ZeroVal_\"&L$2,0)))","v":0},{"$f":"MAX(BackendTable[[#This Row],[S1]:[S5]])","v":0},{"$f":"IF(ISERROR(BackendTable[[#This Row],[T0Time]]),0,COUNTIFS(BackendTable[T0Time],\"<=\"&3,BackendTable[T0Time],\">=\"&0)-COUNTIFS(BackendTable[T0Time],\">\"&BackendTable[[#This Row],[T0Time]]))","v":500},null,null,null,null,null,null,null,null,null,null,null,null,null,null,null,null,null,null,null,null,null,null,null,null,{"$f":"MATCH(MAX(BackendTable[[#This Row],[T1S1]:[T1S5]]),BackendTable[[#This Row],[T1S1]:[T1S5]],0)","v":{"$error":"#N/A"}},{"$f":"MATCH(MAX(BackendTable[[#This Row],[T2S1]:[T2S5]]),BackendTable[[#This Row],[T2S1]:[T2S5]],0)","v":{"$error":"#N/A"}},{"$f":"MATCH(MAX(BackendTable[[#This Row],[T3S1]:[T3S5]]),BackendTable[[#This Row],[T3S1]:[T3S5]],0)","v":{"$error":"#N/A"}}]
[null,{"$f":"ROW()-ROW(BackendTable[[#Headers],[Row'#]])","v":140},{"$f":"'Data In'!A147","v":0},{"$f":"IF(BackendTable[[#This Row],[Time]]-'Reference Cells'!$C$3<=0,NA(),'Reference Cells'!$C$4-BackendTable[[#This Row],[Time]])*86400","v":{"$error":"#N/A"}},{"$f":"IFERROR(8-BackendTable[[#This Row],[Column1]],\"\")","v":""},{"$f":"IF(ISERROR(BackendTable[[#This Row],[Column1]]),-9,(BackendTable[[#This Row],[Net Time]]-NetTimeMin)*RangeAdj)","v":-9},{"$f":"IF(AND(BackendTable[[#This Row],[Time]]>='Reference Cells'!$C$6,BackendTable[[#This Row],[Time]]<='Reference Cells'!$C$7),(BackendTable[[#This Row],[Time]]-'Reference Cells'!$C$6)*86400,NA())","v":2},{"$f":"IF(CommandCell='Reference Cells'!$C$17,NA(),ABS('Data In'!B147-INDIRECT(\"ZeroVal_\"&H$2,0)))","v":0},{"$f":"IF(CommandCell='Reference Cells'!$C$17,NA(),ABS('Data In'!C147-INDIRECT(\"ZeroVal_\"&I$2,0)))","v":0},{"$f":"IF(CommandCell='Reference Cells'!$C$17,NA(),ABS('Data In'!D147-INDIRECT(\"ZeroVal_\"&J$2,0)))","v":0},{"$f":"IF(CommandCell='Reference Cells'!$C$17,NA(),ABS('Data In'!E147-INDIRECT(\"ZeroVal_\"&K$2,0)))","v":0},{"$f":"IF(CommandCell='Reference Cells'!$C$17,NA(),ABS('Data In'!F147-INDIRECT(\"ZeroVal_\"&L$2,0)))","v":0},{"$f":"MAX(BackendTable[[#This Row],[S1]:[S5]])","v":0},{"$f":"IF(ISERROR(BackendTable[[#This Row],[T0Time]]),0,COUNTIFS(BackendTable[T0Time],\"<=\"&3,BackendTable[T0Time],\">=\"&0)-COUNTIFS(BackendTable[T0Time],\">\"&BackendTable[[#This Row],[T0Time]]))","v":500},null,null,null,null,null,null,null,null,null,null,null,null,null,null,null,null,null,null,null,null,null,null,null,null,{"$f":"MATCH(MAX(BackendTable[[#This Row],[T1S1]:[T1S5]]),BackendTable[[#This Row],[T1S1]:[T1S5]],0)","v":{"$error":"#N/A"}},{"$f":"MATCH(MAX(BackendTable[[#This Row],[T2S1]:[T2S5]]),BackendTable[[#This Row],[T2S1]:[T2S5]],0)","v":{"$error":"#N/A"}},{"$f":"MATCH(MAX(BackendTable[[#This Row],[T3S1]:[T3S5]]),BackendTable[[#This Row],[T3S1]:[T3S5]],0)","v":{"$error":"#N/A"}}]
[null,{"$f":"ROW()-ROW(BackendTable[[#Headers],[Row'#]])","v":141},{"$f":"'Data In'!A148","v":0},{"$f":"IF(BackendTable[[#This Row],[Time]]-'Reference Cells'!$C$3<=0,NA(),'Reference Cells'!$C$4-BackendTable[[#This Row],[Time]])*86400","v":{"$error":"#N/A"}},{"$f":"IFERROR(8-BackendTable[[#This Row],[Column1]],\"\")","v":""},{"$f":"IF(ISERROR(BackendTable[[#This Row],[Column1]]),-9,(BackendTable[[#This Row],[Net Time]]-NetTimeMin)*RangeAdj)","v":-9},{"$f":"IF(AND(BackendTable[[#This Row],[Time]]>='Reference Cells'!$C$6,BackendTable[[#This Row],[Time]]<='Reference Cells'!$C$7),(BackendTable[[#This Row],[Time]]-'Reference Cells'!$C$6)*86400,NA())","v":2},{"$f":"IF(CommandCell='Reference Cells'!$C$17,NA(),ABS('Data In'!B148-INDIRECT(\"ZeroVal_\"&H$2,0)))","v":0},{"$f":"IF(CommandCell='Reference Cells'!$C$17,NA(),ABS('Data In'!C148-INDIRECT(\"ZeroVal_\"&I$2,0)))","v":0},{"$f":"IF(CommandCell='Reference Cells'!$C$17,NA(),ABS('Data In'!D148-INDIRECT(\"ZeroVal_\"&J$2,0)))","v":0},{"$f":"IF(CommandCell='Reference Cells'!$C$17,NA(),ABS('Data In'!E148-INDIRECT(\"ZeroVal_\"&K$2,0)))","v":0},{"$f":"IF(CommandCell='Reference Cells'!$C$17,NA(),ABS('Data In'!F148-INDIRECT(\"ZeroVal_\"&L$2,0)))","v":0},{"$f":"MAX(BackendTable[[#This Row],[S1]:[S5]])","v":0},{"$f":"IF(ISERROR(BackendTable[[#This Row],[T0Time]]),0,COUNTIFS(BackendTable[T0Time],\"<=\"&3,BackendTable[T0Time],\">=\"&0)-COUNTIFS(BackendTable[T0Time],\">\"&BackendTable[[#This Row],[T0Time]]))","v":500},null,null,null,null,null,null,null,null,null,null,null,null,null,null,null,null,null,null,null,null,null,null,null,null,{"$f":"MATCH(MAX(BackendTable[[#This Row],[T1S1]:[T1S5]]),BackendTable[[#This Row],[T1S1]:[T1S5]],0)","v":{"$error":"#N/A"}},{"$f":"MATCH(MAX(BackendTable[[#This Row],[T2S1]:[T2S5]]),BackendTable[[#This Row],[T2S1]:[T2S5]],0)","v":{"$error":"#N/A"}},{"$f":"MATCH(MAX(BackendTable[[#This Row],[T3S1]:[T3S5]]),BackendTable[[#This Row],[T3S1]:[T3S5]],0)","v":{"$error":"#N/A"}}]
[null,{"$f":"ROW()-ROW(BackendTable[[#Headers],[Row'#]])","v":142},{"$f":"'Data In'!A149","v":0},{"$f":"IF(BackendTable[[#This Row],[Time]]-'Reference Cells'!$C$3<=0,NA(),'Reference Cells'!$C$4-BackendTable[[#This Row],[Time]])*86400","v":{"$error":"#N/A"}},{"$f":"IFERROR(8-BackendTable[[#This Row],[Column1]],\"\")","v":""},{"$f":"IF(ISERROR(BackendTable[[#This Row],[Column1]]),-9,(BackendTable[[#This Row],[Net Time]]-NetTimeMin)*RangeAdj)","v":-9},{"$f":"IF(AND(BackendTable[[#This Row],[Time]]>='Reference Cells'!$C$6,BackendTable[[#This Row],[Time]]<='Reference Cells'!$C$7),(BackendTable[[#This Row],[Time]]-'Reference Cells'!$C$6)*86400,NA())","v":2},{"$f":"IF(CommandCell='Reference Cells'!$C$17,NA(),ABS('Data In'!B149-INDIRECT(\"ZeroVal_\"&H$2,0)))","v":0},{"$f":"IF(CommandCell='Reference Cells'!$C$17,NA(),ABS('Data In'!C149-INDIRECT(\"ZeroVal_\"&I$2,0)))","v":0},{"$f":"IF(CommandCell='Reference Cells'!$C$17,NA(),ABS('Data In'!D149-INDIRECT(\"ZeroVal_\"&J$2,0)))","v":0},{"$f":"IF(CommandCell='Reference Cells'!$C$17,NA(),ABS('Data In'!E149-INDIRECT(\"ZeroVal_\"&K$2,0)))","v":0},{"$f":"IF(CommandCell='Reference Cells'!$C$17,NA(),ABS('Data In'!F149-INDIRECT(\"ZeroVal_\"&L$2,0)))","v":0},{"$f":"MAX(BackendTable[[#This Row],[S1]:[S5]])","v":0},{"$f":"IF(ISERROR(BackendTable[[#This Row],[T0Time]]),0,COUNTIFS(BackendTable[T0Time],\"<=\"&3,BackendTable[T0Time],\">=\"&0)-COUNTIFS(BackendTable[T0Time],\">\"&BackendTable[[#This Row],[T0Time]]))","v":500},null,null,null,null,null,null,null,null,null,null,null,null,null,null,null,null,null,null,null,null,null,null,null,null,{"$f":"MATCH(MAX(BackendTable[[#This Row],[T1S1]:[T1S5]]),BackendTable[[#This Row],[T1S1]:[T1S5]],0)","v":{"$error":"#N/A"}},{"$f":"MATCH(MAX(BackendTable[[#This Row],[T2S1]:[T2S5]]),BackendTable[[#This Row],[T2S1]:[T2S5]],0)","v":{"$error":"#N/A"}},{"$f":"MATCH(MAX(BackendTable[[#This Row],[T3S1]:[T3S5]]),BackendTable[[#This Row],[T3S1]:[T3S5]],0)","v":{"$error":"#N/A"}}]
[null,{"$f":"ROW()-ROW(BackendTable[[#Headers],[Row'#]])","v":143},{"$f":"'Data In'!A150","v":0},{"$f":"IF(BackendTable[[#This Row],[Time]]-'Reference Cells'!$C$3<=0,NA(),'Reference Cells'!$C$4-BackendTable[[#This Row],[Time]])*86400","v":{"$error":"#N/A"}},{"$f":"IFERROR(8-BackendTable[[#This Row],[Column1]],\"\")","v":""},{"$f":"IF(ISERROR(BackendTable[[#This Row],[Column1]]),-9,(BackendTable[[#This Row],[Net Time]]-NetTimeMin)*RangeAdj)","v":-9},{"$f":"IF(AND(BackendTable[[#This Row],[Time]]>='Reference Cells'!$C$6,BackendTable[[#This Row],[Time]]<='Reference Cells'!$C$7),(BackendTable[[#This Row],[Time]]-'Reference Cells'!$C$6)*86400,NA())","v":2},{"$f":"IF(CommandCell='Reference Cells'!$C$17,NA(),ABS('Data In'!B150-INDIRECT(\"ZeroVal_\"&H$2,0)))","v":0},{"$f":"IF(CommandCell='Reference Cells'!$C$17,NA(),ABS('Data In'!C150-INDIRECT(\"ZeroVal_\"&I$2,0)))","v":0},{"$f":"IF(CommandCell='Reference Cells'!$C$17,NA(),ABS('Data In'!D150-INDIRECT(\"ZeroVal_\"&J$2,0)))","v":0},{"$f":"IF(CommandCell='Reference Cells'!$C$17,NA(),ABS('Data In'!E150-INDIRECT(\"ZeroVal_\"&K$2,0)))","v":0},{"$f":"IF(CommandCell='Reference Cells'!$C$17,NA(),ABS('Data In'!F150-INDIRECT(\"ZeroVal_\"&L$2,0)))","v":0},{"$f":"MAX(BackendTable[[#This Row],[S1]:[S5]])","v":0},{"$f":"IF(ISERROR(BackendTable[[#This Row],[T0Time]]),0,COUNTIFS(BackendTable[T0Time],\"<=\"&3,BackendTable[T0Time],\">=\"&0)-COUNTIFS(BackendTable[T0Time],\">\"&BackendTable[[#This Row],[T0Time]]))","v":500},null,null,null,null,null,null,null,null,null,null,null,null,null,null,null,null,null,null,null,null,null,null,null,null,{"$f":"MATCH(MAX(BackendTable[[#This Row],[T1S1]:[T1S5]]),BackendTable[[#This Row],[T1S1]:[T1S5]],0)","v":{"$error":"#N/A"}},{"$f":"MATCH(MAX(BackendTable[[#This Row],[T2S1]:[T2S5]]),BackendTable[[#This Row],[T2S1]:[T2S5]],0)","v":{"$error":"#N/A"}},{"$f":"MATCH(MAX(BackendTable[[#This Row],[T3S1]:[T3S5]]),BackendTable[[#This Row],[T3S1]:[T3S5]],0)","v":{"$error":"#N/A"}}]
[null,{"$f":"ROW()-ROW(BackendTable[[#Headers],[Row'#]])","v":144},{"$f":"'Data In'!A151","v":0},{"$f":"IF(BackendTable[[#This Row],[Time]]-'Reference Cells'!$C$3<=0,NA(),'Reference Cells'!$C$4-BackendTable[[#This Row],[Time]])*86400","v":{"$error":"#N/A"}},{"$f":"IFERROR(8-BackendTable[[#This Row],[Column1]],\"\")","v":""},{"$f":"IF(ISERROR(BackendTable[[#This Row],[Column1]]),-9,(BackendTable[[#This Row],[Net Time]]-NetTimeMin)*RangeAdj)","v":-9},{"$f":"IF(AND(BackendTable[[#This Row],[Time]]>='Reference Cells'!$C$6,BackendTable[[#This Row],[Time]]<='Reference Cells'!$C$7),(BackendTable[[#This Row],[Time]]-'Reference Cells'!$C$6)*86400,NA())","v":2},{"$f":"IF(CommandCell='Reference Cells'!$C$17,NA(),ABS('Data In'!B151-INDIRECT(\"ZeroVal_\"&H$2,0)))","v":0},{"$f":"IF(CommandCell='Reference Cells'!$C$17,NA(),ABS('Data In'!C151-INDIRECT(\"ZeroVal_\"&I$2,0)))","v":0},{"$f":"IF(CommandCell='Reference Cells'!$C$17,NA(),ABS('Data In'!D151-INDIRECT(\"ZeroVal_\"&J$2,0)))","v":0},{"$f":"IF(CommandCell='Reference Cells'!$C$17,NA(),ABS('Data In'!E151-INDIRECT(\"ZeroVal_\"&K$2,0)))","v":0},{"$f":"IF(CommandCell='Reference Cells'!$C$17,NA(),ABS('Data In'!F151-INDIRECT(\"ZeroVal_\"&L$2,0)))","v":0},{"$f":"MAX(BackendTable[[#This Row],[S1]:[S5]])","v":0},{"$f":"IF(ISERROR(BackendTable[[#This Row],[T0Time]]),0,COUNTIFS(BackendTable[T0Time],\"<=\"&3,BackendTable[T0Time],\">=\"&0)-COUNTIFS(BackendTable[T0Time],\">\"&BackendTable[[#This Row],[T0Time]]))","v":500},null,null,null,null,null,null,null,null,null,null,null,null,null,null,null,null,null,null,null,null,null,null,null,null,{"$f":"MATCH(MAX(BackendTable[[#This Row],[T1S1]:[T1S5]]),BackendTable[[#This Row],[T1S1]:[T1S5]],0)","v":{"$error":"#N/A"}},{"$f":"MATCH(MAX(BackendTable[[#This Row],[T2S1]:[T2S5]]),BackendTable[[#This Row],[T2S1]:[T2S5]],0)","v":{"$error":"#N/A"}},{"$f":"MATCH(MAX(BackendTable[[#This Row],[T3S1]:[T3S5]]),BackendTable[[#This Row],[T3S1]:[T3S5]],0)","v":{"$error":"#N/A"}}]
[null,{"$f":"ROW()-ROW(BackendTable[[#Headers],[Row'#]])","v":145},{"$f":"'Data In'!A152","v":0},{"$f":"IF(BackendTable[[#This Row],[Time]]-'Reference Cells'!$C$3<=0,NA(),'Reference Cells'!$C$4-BackendTable[[#This Row],[Time]])*86400","v":{"$error":"#N/A"}},{"$f":"IFERROR(8-BackendTable[[#This Row],[Column1]],\"\")","v":""},{"$f":"IF(ISERROR(BackendTable[[#This Row],[Column1]]),-9,(BackendTable[[#This Row],[Net Time]]-NetTimeMin)*RangeAdj)","v":-9},{"$f":"IF(AND(BackendTable[[#This Row],[Time]]>='Reference Cells'!$C$6,BackendTable[[#This Row],[Time]]<='Reference Cells'!$C$7),(BackendTable[[#This Row],[Time]]-'Reference Cells'!$C$6)*86400,NA())","v":2},{"$f":"IF(CommandCell='Reference Cells'!$C$17,NA(),ABS('Data In'!B152-INDIRECT(\"ZeroVal_\"&H$2,0)))","v":0},{"$f":"IF(CommandCell='Reference Cells'!$C$17,NA(),ABS('Data In'!C152-INDIRECT(\"ZeroVal_\"&I$2,0)))","v":0},{"$f":"IF(CommandCell='Reference Cells'!$C$17,NA(),ABS('Data In'!D152-INDIRECT(\"ZeroVal_\"&J$2,0)))","v":0},{"$f":"IF(CommandCell='Reference Cells'!$C$17,NA(),ABS('Data In'!E152-INDIRECT(\"ZeroVal_\"&K$2,0)))","v":0},{"$f":"IF(CommandCell='Reference Cells'!$C$17,NA(),ABS('Data In'!F152-INDIRECT(\"ZeroVal_\"&L$2,0)))","v":0},{"$f":"MAX(BackendTable[[#This Row],[S1]:[S5]])","v":0},{"$f":"IF(ISERROR(BackendTable[[#This Row],[T0Time]]),0,COUNTIFS(BackendTable[T0Time],\"<=\"&3,BackendTable[T0Time],\">=\"&0)-COUNTIFS(BackendTable[T0Time],\">\"&BackendTable[[#This Row],[T0Time]]))","v":500},null,null,null,null,null,null,null,null,null,null,null,null,null,null,null,null,null,null,null,null,null,null,null,null,{"$f":"MATCH(MAX(BackendTable[[#This Row],[T1S1]:[T1S5]]),BackendTable[[#This Row],[T1S1]:[T1S5]],0)","v":{"$error":"#N/A"}},{"$f":"MATCH(MAX(BackendTable[[#This Row],[T2S1]:[T2S5]]),BackendTable[[#This Row],[T2S1]:[T2S5]],0)","v":{"$error":"#N/A"}},{"$f":"MATCH(MAX(BackendTable[[#This Row],[T3S1]:[T3S5]]),BackendTable[[#This Row],[T3S1]:[T3S5]],0)","v":{"$error":"#N/A"}}]
[null,{"$f":"ROW()-ROW(BackendTable[[#Headers],[Row'#]])","v":146},{"$f":"'Data In'!A153","v":0},{"$f":"IF(BackendTable[[#This Row],[Time]]-'Reference Cells'!$C$3<=0,NA(),'Reference Cells'!$C$4-BackendTable[[#This Row],[Time]])*86400","v":{"$error":"#N/A"}},{"$f":"IFERROR(8-BackendTable[[#This Row],[Column1]],\"\")","v":""},{"$f":"IF(ISERROR(BackendTable[[#This Row],[Column1]]),-9,(BackendTable[[#This Row],[Net Time]]-NetTimeMin)*RangeAdj)","v":-9},{"$f":"IF(AND(BackendTable[[#This Row],[Time]]>='Reference Cells'!$C$6,BackendTable[[#This Row],[Time]]<='Reference Cells'!$C$7),(BackendTable[[#This Row],[Time]]-'Reference Cells'!$C$6)*86400,NA())","v":2},{"$f":"IF(CommandCell='Reference Cells'!$C$17,NA(),ABS('Data In'!B153-INDIRECT(\"ZeroVal_\"&H$2,0)))","v":0},{"$f":"IF(CommandCell='Reference Cells'!$C$17,NA(),ABS('Data In'!C153-INDIRECT(\"ZeroVal_\"&I$2,0)))","v":0},{"$f":"IF(CommandCell='Reference Cells'!$C$17,NA(),ABS('Data In'!D153-INDIRECT(\"ZeroVal_\"&J$2,0)))","v":0},{"$f":"IF(CommandCell='Reference Cells'!$C$17,NA(),ABS('Data In'!E153-INDIRECT(\"ZeroVal_\"&K$2,0)))","v":0},{"$f":"IF(CommandCell='Reference Cells'!$C$17,NA(),ABS('Data In'!F153-INDIRECT(\"ZeroVal_\"&L$2,0)))","v":0},{"$f":"MAX(BackendTable[[#This Row],[S1]:[S5]])","v":0},{"$f":"IF(ISERROR(BackendTable[[#This Row],[T0Time]]),0,COUNTIFS(BackendTable[T0Time],\"<=\"&3,BackendTable[T0Time],\">=\"&0)-COUNTIFS(BackendTable[T0Time],\">\"&BackendTable[[#This Row],[T0Time]]))","v":500},null,null,null,null,null,null,null,null,null,null,null,null,null,null,null,null,null,null,null,null,null,null,null,null,{"$f":"MATCH(MAX(BackendTable[[#This Row],[T1S1]:[T1S5]]),BackendTable[[#This Row],[T1S1]:[T1S5]],0)","v":{"$error":"#N/A"}},{"$f":"MATCH(MAX(BackendTable[[#This Row],[T2S1]:[T2S5]]),BackendTable[[#This Row],[T2S1]:[T2S5]],0)","v":{"$error":"#N/A"}},{"$f":"MATCH(MAX(BackendTable[[#This Row],[T3S1]:[T3S5]]),BackendTable[[#This Row],[T3S1]:[T3S5]],0)","v":{"$error":"#N/A"}}]
[null,{"$f":"ROW()-ROW(BackendTable[[#Headers],[Row'#]])","v":147},{"$f":"'Data In'!A154","v":0},{"$f":"IF(BackendTable[[#This Row],[Time]]-'Reference Cells'!$C$3<=0,NA(),'Reference Cells'!$C$4-BackendTable[[#This Row],[Time]])*86400","v":{"$error":"#N/A"}},{"$f":"IFERROR(8-BackendTable[[#This Row],[Column1]],\"\")","v":""},{"$f":"IF(ISERROR(BackendTable[[#This Row],[Column1]]),-9,(BackendTable[[#This Row],[Net Time]]-NetTimeMin)*RangeAdj)","v":-9},{"$f":"IF(AND(BackendTable[[#This Row],[Time]]>='Reference Cells'!$C$6,BackendTable[[#This Row],[Time]]<='Reference Cells'!$C$7),(BackendTable[[#This Row],[Time]]-'Reference Cells'!$C$6)*86400,NA())","v":2},{"$f":"IF(CommandCell='Reference Cells'!$C$17,NA(),ABS('Data In'!B154-INDIRECT(\"ZeroVal_\"&H$2,0)))","v":0},{"$f":"IF(CommandCell='Reference Cells'!$C$17,NA(),ABS('Data In'!C154-INDIRECT(\"ZeroVal_\"&I$2,0)))","v":0},{"$f":"IF(CommandCell='Reference Cells'!$C$17,NA(),ABS('Data In'!D154-INDIRECT(\"ZeroVal_\"&J$2,0)))","v":0},{"$f":"IF(CommandCell='Reference Cells'!$C$17,NA(),ABS('Data In'!E154-INDIRECT(\"ZeroVal_\"&K$2,0)))","v":0},{"$f":"IF(CommandCell='Reference Cells'!$C$17,NA(),ABS('Data In'!F154-INDIRECT(\"ZeroVal_\"&L$2,0)))","v":0},{"$f":"MAX(BackendTable[[#This Row],[S1]:[S5]])","v":0},{"$f":"IF(ISERROR(BackendTable[[#This Row],[T0Time]]),0,COUNTIFS(BackendTable[T0Time],\"<=\"&3,BackendTable[T0Time],\">=\"&0)-COUNTIFS(BackendTable[T0Time],\">\"&BackendTable[[#This Row],[T0Time]]))","v":500},null,null,null,null,null,null,null,null,null,null,null,null,null,null,null,null,null,null,null,null,null,null,null,null,{"$f":"MATCH(MAX(BackendTable[[#This Row],[T1S1]:[T1S5]]),BackendTable[[#This Row],[T1S1]:[T1S5]],0)","v":{"$error":"#N/A"}},{"$f":"MATCH(MAX(BackendTable[[#This Row],[T2S1]:[T2S5]]),BackendTable[[#This Row],[T2S1]:[T2S5]],0)","v":{"$error":"#N/A"}},{"$f":"MATCH(MAX(BackendTable[[#This Row],[T3S1]:[T3S5]]),BackendTable[[#This Row],[T3S1]:[T3S5]],0)","v":{"$error":"#N/A"}}]
[null,{"$f":"ROW()-ROW(BackendTable[[#Headers],[Row'#]])","v":148},{"$f":"'Data In'!A155","v":0},{"$f":"IF(BackendTable[[#This Row],[Time]]-'Reference Cells'!$C$3<=0,NA(),'Reference Cells'!$C$4-BackendTable[[#This Row],[Time]])*86400","v":{"$error":"#N/A"}},{"$f":"IFERROR(8-BackendTable[[#This Row],[Column1]],\"\")","v":""},{"$f":"IF(ISERROR(BackendTable[[#This Row],[Column1]]),-9,(BackendTable[[#This Row],[Net Time]]-NetTimeMin)*RangeAdj)","v":-9},{"$f":"IF(AND(BackendTable[[#This Row],[Time]]>='Reference Cells'!$C$6,BackendTable[[#This Row],[Time]]<='Reference Cells'!$C$7),(BackendTable[[#This Row],[Time]]-'Reference Cells'!$C$6)*86400,NA())","v":2},{"$f":"IF(CommandCell='Reference Cells'!$C$17,NA(),ABS('Data In'!B155-INDIRECT(\"ZeroVal_\"&H$2,0)))","v":0},{"$f":"IF(CommandCell='Reference Cells'!$C$17,NA(),ABS('Data In'!C155-INDIRECT(\"ZeroVal_\"&I$2,0)))","v":0},{"$f":"IF(CommandCell='Reference Cells'!$C$17,NA(),ABS('Data In'!D155-INDIRECT(\"ZeroVal_\"&J$2,0)))","v":0},{"$f":"IF(CommandCell='Reference Cells'!$C$17,NA(),ABS('Data In'!E155-INDIRECT(\"ZeroVal_\"&K$2,0)))","v":0},{"$f":"IF(CommandCell='Reference Cells'!$C$17,NA(),ABS('Data In'!F155-INDIRECT(\"ZeroVal_\"&L$2,0)))","v":0},{"$f":"MAX(BackendTable[[#This Row],[S1]:[S5]])","v":0},{"$f":"IF(ISERROR(BackendTable[[#This Row],[T0Time]]),0,COUNTIFS(BackendTable[T0Time],\"<=\"&3,BackendTable[T0Time],\">=\"&0)-COUNTIFS(BackendTable[T0Time],\">\"&BackendTable[[#This Row],[T0Time]]))","v":500},null,null,null,null,null,null,null,null,null,null,null,null,null,null,null,null,null,null,null,null,null,null,null,null,{"$f":"MATCH(MAX(BackendTable[[#This Row],[T1S1]:[T1S5]]),BackendTable[[#This Row],[T1S1]:[T1S5]],0)","v":{"$error":"#N/A"}},{"$f":"MATCH(MAX(BackendTable[[#This Row],[T2S1]:[T2S5]]),BackendTable[[#This Row],[T2S1]:[T2S5]],0)","v":{"$error":"#N/A"}},{"$f":"MATCH(MAX(BackendTable[[#This Row],[T3S1]:[T3S5]]),BackendTable[[#This Row],[T3S1]:[T3S5]],0)","v":{"$error":"#N/A"}}]
[null,{"$f":"ROW()-ROW(BackendTable[[#Headers],[Row'#]])","v":149},{"$f":"'Data In'!A156","v":0},{"$f":"IF(BackendTable[[#This Row],[Time]]-'Reference Cells'!$C$3<=0,NA(),'Reference Cells'!$C$4-BackendTable[[#This Row],[Time]])*86400","v":{"$error":"#N/A"}},{"$f":"IFERROR(8-BackendTable[[#This Row],[Column1]],\"\")","v":""},{"$f":"IF(ISERROR(BackendTable[[#This Row],[Column1]]),-9,(BackendTable[[#This Row],[Net Time]]-NetTimeMin)*RangeAdj)","v":-9},{"$f":"IF(AND(BackendTable[[#This Row],[Time]]>='Reference Cells'!$C$6,BackendTable[[#This Row],[Time]]<='Reference Cells'!$C$7),(BackendTable[[#This Row],[Time]]-'Reference Cells'!$C$6)*86400,NA())","v":2},{"$f":"IF(CommandCell='Reference Cells'!$C$17,NA(),ABS('Data In'!B156-INDIRECT(\"ZeroVal_\"&H$2,0)))","v":0},{"$f":"IF(CommandCell='Reference Cells'!$C$17,NA(),ABS('Data In'!C156-INDIRECT(\"ZeroVal_\"&I$2,0)))","v":0},{"$f":"IF(CommandCell='Reference Cells'!$C$17,NA(),ABS('Data In'!D156-INDIRECT(\"ZeroVal_\"&J$2,0)))","v":0},{"$f":"IF(CommandCell='Reference Cells'!$C$17,NA(),ABS('Data In'!E156-INDIRECT(\"ZeroVal_\"&K$2,0)))","v":0},{"$f":"IF(CommandCell='Reference Cells'!$C$17,NA(),ABS('Data In'!F156-INDIRECT(\"ZeroVal_\"&L$2,0)))","v":0},{"$f":"MAX(BackendTable[[#This Row],[S1]:[S5]])","v":0},{"$f":"IF(ISERROR(BackendTable[[#This Row],[T0Time]]),0,COUNTIFS(BackendTable[T0Time],\"<=\"&3,BackendTable[T0Time],\">=\"&0)-COUNTIFS(BackendTable[T0Time],\">\"&BackendTable[[#This Row],[T0Time]]))","v":500},null,null,null,null,null,null,null,null,null,null,null,null,null,null,null,null,null,null,null,null,null,null,null,null,{"$f":"MATCH(MAX(BackendTable[[#This Row],[T1S1]:[T1S5]]),BackendTable[[#This Row],[T1S1]:[T1S5]],0)","v":{"$error":"#N/A"}},{"$f":"MATCH(MAX(BackendTable[[#This Row],[T2S1]:[T2S5]]),BackendTable[[#This Row],[T2S1]:[T2S5]],0)","v":{"$error":"#N/A"}},{"$f":"MATCH(MAX(BackendTable[[#This Row],[T3S1]:[T3S5]]),BackendTable[[#This Row],[T3S1]:[T3S5]],0)","v":{"$error":"#N/A"}}]
[null,{"$f":"ROW()-ROW(BackendTable[[#Headers],[Row'#]])","v":150},{"$f":"'Data In'!A157","v":0},{"$f":"IF(BackendTable[[#This Row],[Time]]-'Reference Cells'!$C$3<=0,NA(),'Reference Cells'!$C$4-BackendTable[[#This Row],[Time]])*86400","v":{"$error":"#N/A"}},{"$f":"IFERROR(8-BackendTable[[#This Row],[Column1]],\"\")","v":""},{"$f":"IF(ISERROR(BackendTable[[#This Row],[Column1]]),-9,(BackendTable[[#This Row],[Net Time]]-NetTimeMin)*RangeAdj)","v":-9},{"$f":"IF(AND(BackendTable[[#This Row],[Time]]>='Reference Cells'!$C$6,BackendTable[[#This Row],[Time]]<='Reference Cells'!$C$7),(BackendTable[[#This Row],[Time]]-'Reference Cells'!$C$6)*86400,NA())","v":2},{"$f":"IF(CommandCell='Reference Cells'!$C$17,NA(),ABS('Data In'!B157-INDIRECT(\"ZeroVal_\"&H$2,0)))","v":0},{"$f":"IF(CommandCell='Reference Cells'!$C$17,NA(),ABS('Data In'!C157-INDIRECT(\"ZeroVal_\"&I$2,0)))","v":0},{"$f":"IF(CommandCell='Reference Cells'!$C$17,NA(),ABS('Data In'!D157-INDIRECT(\"ZeroVal_\"&J$2,0)))","v":0},{"$f":"IF(CommandCell='Reference Cells'!$C$17,NA(),ABS('Data In'!E157-INDIRECT(\"ZeroVal_\"&K$2,0)))","v":0},{"$f":"IF(CommandCell='Reference Cells'!$C$17,NA(),ABS('Data In'!F157-INDIRECT(\"ZeroVal_\"&L$2,0)))","v":0},{"$f":"MAX(BackendTable[[#This Row],[S1]:[S5]])","v":0},{"$f":"IF(ISERROR(BackendTable[[#This Row],[T0Time]]),0,COUNTIFS(BackendTable[T0Time],\"<=\"&3,BackendTable[T0Time],\">=\"&0)-COUNTIFS(BackendTable[T0Time],\">\"&BackendTable[[#This Row],[T0Time]]))","v":500},null,null,null,null,null,null,null,null,null,null,null,null,null,null,null,null,null,null,null,null,null,null,null,null,{"$f":"MATCH(MAX(BackendTable[[#This Row],[T1S1]:[T1S5]]),BackendTable[[#This Row],[T1S1]:[T1S5]],0)","v":{"$error":"#N/A"}},{"$f":"MATCH(MAX(BackendTable[[#This Row],[T2S1]:[T2S5]]),BackendTable[[#This Row],[T2S1]:[T2S5]],0)","v":{"$error":"#N/A"}},{"$f":"MATCH(MAX(BackendTable[[#This Row],[T3S1]:[T3S5]]),BackendTable[[#This Row],[T3S1]:[T3S5]],0)","v":{"$error":"#N/A"}}]
[null,{"$f":"ROW()-ROW(BackendTable[[#Headers],[Row'#]])","v":151},{"$f":"'Data In'!A158","v":0},{"$f":"IF(BackendTable[[#This Row],[Time]]-'Reference Cells'!$C$3<=0,NA(),'Reference Cells'!$C$4-BackendTable[[#This Row],[Time]])*86400","v":{"$error":"#N/A"}},{"$f":"IFERROR(8-BackendTable[[#This Row],[Column1]],\"\")","v":""},{"$f":"IF(ISERROR(BackendTable[[#This Row],[Column1]]),-9,(BackendTable[[#This Row],[Net Time]]-NetTimeMin)*RangeAdj)","v":-9},{"$f":"IF(AND(BackendTable[[#This Row],[Time]]>='Reference Cells'!$C$6,BackendTable[[#This Row],[Time]]<='Reference Cells'!$C$7),(BackendTable[[#This Row],[Time]]-'Reference Cells'!$C$6)*86400,NA())","v":2},{"$f":"IF(CommandCell='Reference Cells'!$C$17,NA(),ABS('Data In'!B158-INDIRECT(\"ZeroVal_\"&H$2,0)))","v":0},{"$f":"IF(CommandCell='Reference Cells'!$C$17,NA(),ABS('Data In'!C158-INDIRECT(\"ZeroVal_\"&I$2,0)))","v":0},{"$f":"IF(CommandCell='Reference Cells'!$C$17,NA(),ABS('Data In'!D158-INDIRECT(\"ZeroVal_\"&J$2,0)))","v":0},{"$f":"IF(CommandCell='Reference Cells'!$C$17,NA(),ABS('Data In'!E158-INDIRECT(\"ZeroVal_\"&K$2,0)))","v":0},{"$f":"IF(CommandCell='Reference Cells'!$C$17,NA(),ABS('Data In'!F158-INDIRECT(\"ZeroVal_\"&L$2,0)))","v":0},{"$f":"MAX(BackendTable[[#This Row],[S1]:[S5]])","v":0},{"$f":"IF(ISERROR(BackendTable[[#This Row],[T0Time]]),0,COUNTIFS(BackendTable[T0Time],\"<=\"&3,BackendTable[T0Time],\">=\"&0)-COUNTIFS(BackendTable[T0Time],\">\"&BackendTable[[#This Row],[T0Time]]))","v":500},null,null,null,null,null,null,null,null,null,null,null,null,null,null,null,null,null,null,null,null,null,null,null,null,{"$f":"MATCH(MAX(BackendTable[[#This Row],[T1S1]:[T1S5]]),BackendTable[[#This Row],[T1S1]:[T1S5]],0)","v":{"$error":"#N/A"}},{"$f":"MATCH(MAX(BackendTable[[#This Row],[T2S1]:[T2S5]]),BackendTable[[#This Row],[T2S1]:[T2S5]],0)","v":{"$error":"#N/A"}},{"$f":"MATCH(MAX(BackendTable[[#This Row],[T3S1]:[T3S5]]),BackendTable[[#This Row],[T3S1]:[T3S5]],0)","v":{"$error":"#N/A"}}]
[null,{"$f":"ROW()-ROW(BackendTable[[#Headers],[Row'#]])","v":152},{"$f":"'Data In'!A159","v":0},{"$f":"IF(BackendTable[[#This Row],[Time]]-'Reference Cells'!$C$3<=0,NA(),'Reference Cells'!$C$4-BackendTable[[#This Row],[Time]])*86400","v":{"$error":"#N/A"}},{"$f":"IFERROR(8-BackendTable[[#This Row],[Column1]],\"\")","v":""},{"$f":"IF(ISERROR(BackendTable[[#This Row],[Column1]]),-9,(BackendTable[[#This Row],[Net Time]]-NetTimeMin)*RangeAdj)","v":-9},{"$f":"IF(AND(BackendTable[[#This Row],[Time]]>='Reference Cells'!$C$6,BackendTable[[#This Row],[Time]]<='Reference Cells'!$C$7),(BackendTable[[#This Row],[Time]]-'Reference Cells'!$C$6)*86400,NA())","v":2},{"$f":"IF(CommandCell='Reference Cells'!$C$17,NA(),ABS('Data In'!B159-INDIRECT(\"ZeroVal_\"&H$2,0)))","v":0},{"$f":"IF(CommandCell='Reference Cells'!$C$17,NA(),ABS('Data In'!C159-INDIRECT(\"ZeroVal_\"&I$2,0)))","v":0},{"$f":"IF(CommandCell='Reference Cells'!$C$17,NA(),ABS('Data In'!D159-INDIRECT(\"ZeroVal_\"&J$2,0)))","v":0},{"$f":"IF(CommandCell='Reference Cells'!$C$17,NA(),ABS('Data In'!E159-INDIRECT(\"ZeroVal_\"&K$2,0)))","v":0},{"$f":"IF(CommandCell='Reference Cells'!$C$17,NA(),ABS('Data In'!F159-INDIRECT(\"ZeroVal_\"&L$2,0)))","v":0},{"$f":"MAX(BackendTable[[#This Row],[S1]:[S5]])","v":0},{"$f":"IF(ISERROR(BackendTable[[#This Row],[T0Time]]),0,COUNTIFS(BackendTable[T0Time],\"<=\"&3,BackendTable[T0Time],\">=\"&0)-COUNTIFS(BackendTable[T0Time],\">\"&BackendTable[[#This Row],[T0Time]]))","v":500},null,null,null,null,null,null,null,null,null,null,null,null,null,null,null,null,null,null,null,null,null,null,null,null,{"$f":"MATCH(MAX(BackendTable[[#This Row],[T1S1]:[T1S5]]),BackendTable[[#This Row],[T1S1]:[T1S5]],0)","v":{"$error":"#N/A"}},{"$f":"MATCH(MAX(BackendTable[[#This Row],[T2S1]:[T2S5]]),BackendTable[[#This Row],[T2S1]:[T2S5]],0)","v":{"$error":"#N/A"}},{"$f":"MATCH(MAX(BackendTable[[#This Row],[T3S1]:[T3S5]]),BackendTable[[#This Row],[T3S1]:[T3S5]],0)","v":{"$error":"#N/A"}}]
[null,{"$f":"ROW()-ROW(BackendTable[[#Headers],[Row'#]])","v":153},{"$f":"'Data In'!A160","v":0},{"$f":"IF(BackendTable[[#This Row],[Time]]-'Reference Cells'!$C$3<=0,NA(),'Reference Cells'!$C$4-BackendTable[[#This Row],[Time]])*86400","v":{"$error":"#N/A"}},{"$f":"IFERROR(8-BackendTable[[#This Row],[Column1]],\"\")","v":""},{"$f":"IF(ISERROR(BackendTable[[#This Row],[Column1]]),-9,(BackendTable[[#This Row],[Net Time]]-NetTimeMin)*RangeAdj)","v":-9},{"$f":"IF(AND(BackendTable[[#This Row],[Time]]>='Reference Cells'!$C$6,BackendTable[[#This Row],[Time]]<='Reference Cells'!$C$7),(BackendTable[[#This Row],[Time]]-'Reference Cells'!$C$6)*86400,NA())","v":2},{"$f":"IF(CommandCell='Reference Cells'!$C$17,NA(),ABS('Data In'!B160-INDIRECT(\"ZeroVal_\"&H$2,0)))","v":0},{"$f":"IF(CommandCell='Reference Cells'!$C$17,NA(),ABS('Data In'!C160-INDIRECT(\"ZeroVal_\"&I$2,0)))","v":0},{"$f":"IF(CommandCell='Reference Cells'!$C$17,NA(),ABS('Data In'!D160-INDIRECT(\"ZeroVal_\"&J$2,0)))","v":0},{"$f":"IF(CommandCell='Reference Cells'!$C$17,NA(),ABS('Data In'!E160-INDIRECT(\"ZeroVal_\"&K$2,0)))","v":0},{"$f":"IF(CommandCell='Reference Cells'!$C$17,NA(),ABS('Data In'!F160-INDIRECT(\"ZeroVal_\"&L$2,0)))","v":0},{"$f":"MAX(BackendTable[[#This Row],[S1]:[S5]])","v":0},{"$f":"IF(ISERROR(BackendTable[[#This Row],[T0Time]]),0,COUNTIFS(BackendTable[T0Time],\"<=\"&3,BackendTable[T0Time],\">=\"&0)-COUNTIFS(BackendTable[T0Time],\">\"&BackendTable[[#This Row],[T0Time]]))","v":500},null,null,null,null,null,null,null,null,null,null,null,null,null,null,null,null,null,null,null,null,null,null,null,null,{"$f":"MATCH(MAX(BackendTable[[#This Row],[T1S1]:[T1S5]]),BackendTable[[#This Row],[T1S1]:[T1S5]],0)","v":{"$error":"#N/A"}},{"$f":"MATCH(MAX(BackendTable[[#This Row],[T2S1]:[T2S5]]),BackendTable[[#This Row],[T2S1]:[T2S5]],0)","v":{"$error":"#N/A"}},{"$f":"MATCH(MAX(BackendTable[[#This Row],[T3S1]:[T3S5]]),BackendTable[[#This Row],[T3S1]:[T3S5]],0)","v":{"$error":"#N/A"}}]
[null,{"$f":"ROW()-ROW(BackendTable[[#Headers],[Row'#]])","v":154},{"$f":"'Data In'!A161","v":0},{"$f":"IF(BackendTable[[#This Row],[Time]]-'Reference Cells'!$C$3<=0,NA(),'Reference Cells'!$C$4-BackendTable[[#This Row],[Time]])*86400","v":{"$error":"#N/A"}},{"$f":"IFERROR(8-BackendTable[[#This Row],[Column1]],\"\")","v":""},{"$f":"IF(ISERROR(BackendTable[[#This Row],[Column1]]),-9,(BackendTable[[#This Row],[Net Time]]-NetTimeMin)*RangeAdj)","v":-9},{"$f":"IF(AND(BackendTable[[#This Row],[Time]]>='Reference Cells'!$C$6,BackendTable[[#This Row],[Time]]<='Reference Cells'!$C$7),(BackendTable[[#This Row],[Time]]-'Reference Cells'!$C$6)*86400,NA())","v":2},{"$f":"IF(CommandCell='Reference Cells'!$C$17,NA(),ABS('Data In'!B161-INDIRECT(\"ZeroVal_\"&H$2,0)))","v":0},{"$f":"IF(CommandCell='Reference Cells'!$C$17,NA(),ABS('Data In'!C161-INDIRECT(\"ZeroVal_\"&I$2,0)))","v":0},{"$f":"IF(CommandCell='Reference Cells'!$C$17,NA(),ABS('Data In'!D161-INDIRECT(\"ZeroVal_\"&J$2,0)))","v":0},{"$f":"IF(CommandCell='Reference Cells'!$C$17,NA(),ABS('Data In'!E161-INDIRECT(\"ZeroVal_\"&K$2,0)))","v":0},{"$f":"IF(CommandCell='Reference Cells'!$C$17,NA(),ABS('Data In'!F161-INDIRECT(\"ZeroVal_\"&L$2,0)))","v":0},{"$f":"MAX(BackendTable[[#This Row],[S1]:[S5]])","v":0},{"$f":"IF(ISERROR(BackendTable[[#This Row],[T0Time]]),0,COUNTIFS(BackendTable[T0Time],\"<=\"&3,BackendTable[T0Time],\">=\"&0)-COUNTIFS(BackendTable[T0Time],\">\"&BackendTable[[#This Row],[T0Time]]))","v":500},null,null,null,null,null,null,null,null,null,null,null,null,null,null,null,null,null,null,null,null,null,null,null,null,{"$f":"MATCH(MAX(BackendTable[[#This Row],[T1S1]:[T1S5]]),BackendTable[[#This Row],[T1S1]:[T1S5]],0)","v":{"$error":"#N/A"}},{"$f":"MATCH(MAX(BackendTable[[#This Row],[T2S1]:[T2S5]]),BackendTable[[#This Row],[T2S1]:[T2S5]],0)","v":{"$error":"#N/A"}},{"$f":"MATCH(MAX(BackendTable[[#This Row],[T3S1]:[T3S5]]),BackendTable[[#This Row],[T3S1]:[T3S5]],0)","v":{"$error":"#N/A"}}]
[null,{"$f":"ROW()-ROW(BackendTable[[#Headers],[Row'#]])","v":155},{"$f":"'Data In'!A162","v":0},{"$f":"IF(BackendTable[[#This Row],[Time]]-'Reference Cells'!$C$3<=0,NA(),'Reference Cells'!$C$4-BackendTable[[#This Row],[Time]])*86400","v":{"$error":"#N/A"}},{"$f":"IFERROR(8-BackendTable[[#This Row],[Column1]],\"\")","v":""},{"$f":"IF(ISERROR(BackendTable[[#This Row],[Column1]]),-9,(BackendTable[[#This Row],[Net Time]]-NetTimeMin)*RangeAdj)","v":-9},{"$f":"IF(AND(BackendTable[[#This Row],[Time]]>='Reference Cells'!$C$6,BackendTable[[#This Row],[Time]]<='Reference Cells'!$C$7),(BackendTable[[#This Row],[Time]]-'Reference Cells'!$C$6)*86400,NA())","v":2},{"$f":"IF(CommandCell='Reference Cells'!$C$17,NA(),ABS('Data In'!B162-INDIRECT(\"ZeroVal_\"&H$2,0)))","v":0},{"$f":"IF(CommandCell='Reference Cells'!$C$17,NA(),ABS('Data In'!C162-INDIRECT(\"ZeroVal_\"&I$2,0)))","v":0},{"$f":"IF(CommandCell='Reference Cells'!$C$17,NA(),ABS('Data In'!D162-INDIRECT(\"ZeroVal_\"&J$2,0)))","v":0},{"$f":"IF(CommandCell='Reference Cells'!$C$17,NA(),ABS('Data In'!E162-INDIRECT(\"ZeroVal_\"&K$2,0)))","v":0},{"$f":"IF(CommandCell='Reference Cells'!$C$17,NA(),ABS('Data In'!F162-INDIRECT(\"ZeroVal_\"&L$2,0)))","v":0},{"$f":"MAX(BackendTable[[#This Row],[S1]:[S5]])","v":0},{"$f":"IF(ISERROR(BackendTable[[#This Row],[T0Time]]),0,COUNTIFS(BackendTable[T0Time],\"<=\"&3,BackendTable[T0Time],\">=\"&0)-COUNTIFS(BackendTable[T0Time],\">\"&BackendTable[[#This Row],[T0Time]]))","v":500},null,null,null,null,null,null,null,null,null,null,null,null,null,null,null,null,null,null,null,null,null,null,null,null,{"$f":"MATCH(MAX(BackendTable[[#This Row],[T1S1]:[T1S5]]),BackendTable[[#This Row],[T1S1]:[T1S5]],0)","v":{"$error":"#N/A"}},{"$f":"MATCH(MAX(BackendTable[[#This Row],[T2S1]:[T2S5]]),BackendTable[[#This Row],[T2S1]:[T2S5]],0)","v":{"$error":"#N/A"}},{"$f":"MATCH(MAX(BackendTable[[#This Row],[T3S1]:[T3S5]]),BackendTable[[#This Row],[T3S1]:[T3S5]],0)","v":{"$error":"#N/A"}}]
[null,{"$f":"ROW()-ROW(BackendTable[[#Headers],[Row'#]])","v":156},{"$f":"'Data In'!A163","v":0},{"$f":"IF(BackendTable[[#This Row],[Time]]-'Reference Cells'!$C$3<=0,NA(),'Reference Cells'!$C$4-BackendTable[[#This Row],[Time]])*86400","v":{"$error":"#N/A"}},{"$f":"IFERROR(8-BackendTable[[#This Row],[Column1]],\"\")","v":""},{"$f":"IF(ISERROR(BackendTable[[#This Row],[Column1]]),-9,(BackendTable[[#This Row],[Net Time]]-NetTimeMin)*RangeAdj)","v":-9},{"$f":"IF(AND(BackendTable[[#This Row],[Time]]>='Reference Cells'!$C$6,BackendTable[[#This Row],[Time]]<='Reference Cells'!$C$7),(BackendTable[[#This Row],[Time]]-'Reference Cells'!$C$6)*86400,NA())","v":2},{"$f":"IF(CommandCell='Reference Cells'!$C$17,NA(),ABS('Data In'!B163-INDIRECT(\"ZeroVal_\"&H$2,0)))","v":0},{"$f":"IF(CommandCell='Reference Cells'!$C$17,NA(),ABS('Data In'!C163-INDIRECT(\"ZeroVal_\"&I$2,0)))","v":0},{"$f":"IF(CommandCell='Reference Cells'!$C$17,NA(),ABS('Data In'!D163-INDIRECT(\"ZeroVal_\"&J$2,0)))","v":0},{"$f":"IF(CommandCell='Reference Cells'!$C$17,NA(),ABS('Data In'!E163-INDIRECT(\"ZeroVal_\"&K$2,0)))","v":0},{"$f":"IF(CommandCell='Reference Cells'!$C$17,NA(),ABS('Data In'!F163-INDIRECT(\"ZeroVal_\"&L$2,0)))","v":0},{"$f":"MAX(BackendTable[[#This Row],[S1]:[S5]])","v":0},{"$f":"IF(ISERROR(BackendTable[[#This Row],[T0Time]]),0,COUNTIFS(BackendTable[T0Time],\"<=\"&3,BackendTable[T0Time],\">=\"&0)-COUNTIFS(BackendTable[T0Time],\">\"&BackendTable[[#This Row],[T0Time]]))","v":500},null,null,null,null,null,null,null,null,null,null,null,null,null,null,null,null,null,null,null,null,null,null,null,null,{"$f":"MATCH(MAX(BackendTable[[#This Row],[T1S1]:[T1S5]]),BackendTable[[#This Row],[T1S1]:[T1S5]],0)","v":{"$error":"#N/A"}},{"$f":"MATCH(MAX(BackendTable[[#This Row],[T2S1]:[T2S5]]),BackendTable[[#This Row],[T2S1]:[T2S5]],0)","v":{"$error":"#N/A"}},{"$f":"MATCH(MAX(BackendTable[[#This Row],[T3S1]:[T3S5]]),BackendTable[[#This Row],[T3S1]:[T3S5]],0)","v":{"$error":"#N/A"}}]
[null,{"$f":"ROW()-ROW(BackendTable[[#Headers],[Row'#]])","v":157},{"$f":"'Data In'!A164","v":0},{"$f":"IF(BackendTable[[#This Row],[Time]]-'Reference Cells'!$C$3<=0,NA(),'Reference Cells'!$C$4-BackendTable[[#This Row],[Time]])*86400","v":{"$error":"#N/A"}},{"$f":"IFERROR(8-BackendTable[[#This Row],[Column1]],\"\")","v":""},{"$f":"IF(ISERROR(BackendTable[[#This Row],[Column1]]),-9,(BackendTable[[#This Row],[Net Time]]-NetTimeMin)*RangeAdj)","v":-9},{"$f":"IF(AND(BackendTable[[#This Row],[Time]]>='Reference Cells'!$C$6,BackendTable[[#This Row],[Time]]<='Reference Cells'!$C$7),(BackendTable[[#This Row],[Time]]-'Reference Cells'!$C$6)*86400,NA())","v":2},{"$f":"IF(CommandCell='Reference Cells'!$C$17,NA(),ABS('Data In'!B164-INDIRECT(\"ZeroVal_\"&H$2,0)))","v":0},{"$f":"IF(CommandCell='Reference Cells'!$C$17,NA(),ABS('Data In'!C164-INDIRECT(\"ZeroVal_\"&I$2,0)))","v":0},{"$f":"IF(CommandCell='Reference Cells'!$C$17,NA(),ABS('Data In'!D164-INDIRECT(\"ZeroVal_\"&J$2,0)))","v":0},{"$f":"IF(CommandCell='Reference Cells'!$C$17,NA(),ABS('Data In'!E164-INDIRECT(\"ZeroVal_\"&K$2,0)))","v":0},{"$f":"IF(CommandCell='Reference Cells'!$C$17,NA(),ABS('Data In'!F164-INDIRECT(\"ZeroVal_\"&L$2,0)))","v":0},{"$f":"MAX(BackendTable[[#This Row],[S1]:[S5]])","v":0},{"$f":"IF(ISERROR(BackendTable[[#This Row],[T0Time]]),0,COUNTIFS(BackendTable[T0Time],\"<=\"&3,BackendTable[T0Time],\">=\"&0)-COUNTIFS(BackendTable[T0Time],\">\"&BackendTable[[#This Row],[T0Time]]))","v":500},null,null,null,null,null,null,null,null,null,null,null,null,null,null,null,null,null,null,null,null,null,null,null,null,{"$f":"MATCH(MAX(BackendTable[[#This Row],[T1S1]:[T1S5]]),BackendTable[[#This Row],[T1S1]:[T1S5]],0)","v":{"$error":"#N/A"}},{"$f":"MATCH(MAX(BackendTable[[#This Row],[T2S1]:[T2S5]]),BackendTable[[#This Row],[T2S1]:[T2S5]],0)","v":{"$error":"#N/A"}},{"$f":"MATCH(MAX(BackendTable[[#This Row],[T3S1]:[T3S5]]),BackendTable[[#This Row],[T3S1]:[T3S5]],0)","v":{"$error":"#N/A"}}]
[null,{"$f":"ROW()-ROW(BackendTable[[#Headers],[Row'#]])","v":158},{"$f":"'Data In'!A165","v":0},{"$f":"IF(BackendTable[[#This Row],[Time]]-'Reference Cells'!$C$3<=0,NA(),'Reference Cells'!$C$4-BackendTable[[#This Row],[Time]])*86400","v":{"$error":"#N/A"}},{"$f":"IFERROR(8-BackendTable[[#This Row],[Column1]],\"\")","v":""},{"$f":"IF(ISERROR(BackendTable[[#This Row],[Column1]]),-9,(BackendTable[[#This Row],[Net Time]]-NetTimeMin)*RangeAdj)","v":-9},{"$f":"IF(AND(BackendTable[[#This Row],[Time]]>='Reference Cells'!$C$6,BackendTable[[#This Row],[Time]]<='Reference Cells'!$C$7),(BackendTable[[#This Row],[Time]]-'Reference Cells'!$C$6)*86400,NA())","v":2},{"$f":"IF(CommandCell='Reference Cells'!$C$17,NA(),ABS('Data In'!B165-INDIRECT(\"ZeroVal_\"&H$2,0)))","v":0},{"$f":"IF(CommandCell='Reference Cells'!$C$17,NA(),ABS('Data In'!C165-INDIRECT(\"ZeroVal_\"&I$2,0)))","v":0},{"$f":"IF(CommandCell='Reference Cells'!$C$17,NA(),ABS('Data In'!D165-INDIRECT(\"ZeroVal_\"&J$2,0)))","v":0},{"$f":"IF(CommandCell='Reference Cells'!$C$17,NA(),ABS('Data In'!E165-INDIRECT(\"ZeroVal_\"&K$2,0)))","v":0},{"$f":"IF(CommandCell='Reference Cells'!$C$17,NA(),ABS('Data In'!F165-INDIRECT(\"ZeroVal_\"&L$2,0)))","v":0},{"$f":"MAX(BackendTable[[#This Row],[S1]:[S5]])","v":0},{"$f":"IF(ISERROR(BackendTable[[#This Row],[T0Time]]),0,COUNTIFS(BackendTable[T0Time],\"<=\"&3,BackendTable[T0Time],\">=\"&0)-COUNTIFS(BackendTable[T0Time],\">\"&BackendTable[[#This Row],[T0Time]]))","v":500},null,null,null,null,null,null,null,null,null,null,null,null,null,null,null,null,null,null,null,null,null,null,null,null,{"$f":"MATCH(MAX(BackendTable[[#This Row],[T1S1]:[T1S5]]),BackendTable[[#This Row],[T1S1]:[T1S5]],0)","v":{"$error":"#N/A"}},{"$f":"MATCH(MAX(BackendTable[[#This Row],[T2S1]:[T2S5]]),BackendTable[[#This Row],[T2S1]:[T2S5]],0)","v":{"$error":"#N/A"}},{"$f":"MATCH(MAX(BackendTable[[#This Row],[T3S1]:[T3S5]]),BackendTable[[#This Row],[T3S1]:[T3S5]],0)","v":{"$error":"#N/A"}}]
[null,{"$f":"ROW()-ROW(BackendTable[[#Headers],[Row'#]])","v":159},{"$f":"'Data In'!A166","v":0},{"$f":"IF(BackendTable[[#This Row],[Time]]-'Reference Cells'!$C$3<=0,NA(),'Reference Cells'!$C$4-BackendTable[[#This Row],[Time]])*86400","v":{"$error":"#N/A"}},{"$f":"IFERROR(8-BackendTable[[#This Row],[Column1]],\"\")","v":""},{"$f":"IF(ISERROR(BackendTable[[#This Row],[Column1]]),-9,(BackendTable[[#This Row],[Net Time]]-NetTimeMin)*RangeAdj)","v":-9},{"$f":"IF(AND(BackendTable[[#This Row],[Time]]>='Reference Cells'!$C$6,BackendTable[[#This Row],[Time]]<='Reference Cells'!$C$7),(BackendTable[[#This Row],[Time]]-'Reference Cells'!$C$6)*86400,NA())","v":2},{"$f":"IF(CommandCell='Reference Cells'!$C$17,NA(),ABS('Data In'!B166-INDIRECT(\"ZeroVal_\"&H$2,0)))","v":0},{"$f":"IF(CommandCell='Reference Cells'!$C$17,NA(),ABS('Data In'!C166-INDIRECT(\"ZeroVal_\"&I$2,0)))","v":0},{"$f":"IF(CommandCell='Reference Cells'!$C$17,NA(),ABS('Data In'!D166-INDIRECT(\"ZeroVal_\"&J$2,0)))","v":0},{"$f":"IF(CommandCell='Reference Cells'!$C$17,NA(),ABS('Data In'!E166-INDIRECT(\"ZeroVal_\"&K$2,0)))","v":0},{"$f":"IF(CommandCell='Reference Cells'!$C$17,NA(),ABS('Data In'!F166-INDIRECT(\"ZeroVal_\"&L$2,0)))","v":0},{"$f":"MAX(BackendTable[[#This Row],[S1]:[S5]])","v":0},{"$f":"IF(ISERROR(BackendTable[[#This Row],[T0Time]]),0,COUNTIFS(BackendTable[T0Time],\"<=\"&3,BackendTable[T0Time],\">=\"&0)-COUNTIFS(BackendTable[T0Time],\">\"&BackendTable[[#This Row],[T0Time]]))","v":500},null,null,null,null,null,null,null,null,null,null,null,null,null,null,null,null,null,null,null,null,null,null,null,null,{"$f":"MATCH(MAX(BackendTable[[#This Row],[T1S1]:[T1S5]]),BackendTable[[#This Row],[T1S1]:[T1S5]],0)","v":{"$error":"#N/A"}},{"$f":"MATCH(MAX(BackendTable[[#This Row],[T2S1]:[T2S5]]),BackendTable[[#This Row],[T2S1]:[T2S5]],0)","v":{"$error":"#N/A"}},{"$f":"MATCH(MAX(BackendTable[[#This Row],[T3S1]:[T3S5]]),BackendTable[[#This Row],[T3S1]:[T3S5]],0)","v":{"$error":"#N/A"}}]
[null,{"$f":"ROW()-ROW(BackendTable[[#Headers],[Row'#]])","v":160},{"$f":"'Data In'!A167","v":0},{"$f":"IF(BackendTable[[#This Row],[Time]]-'Reference Cells'!$C$3<=0,NA(),'Reference Cells'!$C$4-BackendTable[[#This Row],[Time]])*86400","v":{"$error":"#N/A"}},{"$f":"IFERROR(8-BackendTable[[#This Row],[Column1]],\"\")","v":""},{"$f":"IF(ISERROR(BackendTable[[#This Row],[Column1]]),-9,(BackendTable[[#This Row],[Net Time]]-NetTimeMin)*RangeAdj)","v":-9},{"$f":"IF(AND(BackendTable[[#This Row],[Time]]>='Reference Cells'!$C$6,BackendTable[[#This Row],[Time]]<='Reference Cells'!$C$7),(BackendTable[[#This Row],[Time]]-'Reference Cells'!$C$6)*86400,NA())","v":2},{"$f":"IF(CommandCell='Reference Cells'!$C$17,NA(),ABS('Data In'!B167-INDIRECT(\"ZeroVal_\"&H$2,0)))","v":0},{"$f":"IF(CommandCell='Reference Cells'!$C$17,NA(),ABS('Data In'!C167-INDIRECT(\"ZeroVal_\"&I$2,0)))","v":0},{"$f":"IF(CommandCell='Reference Cells'!$C$17,NA(),ABS('Data In'!D167-INDIRECT(\"ZeroVal_\"&J$2,0)))","v":0},{"$f":"IF(CommandCell='Reference Cells'!$C$17,NA(),ABS('Data In'!E167-INDIRECT(\"ZeroVal_\"&K$2,0)))","v":0},{"$f":"IF(CommandCell='Reference Cells'!$C$17,NA(),ABS('Data In'!F167-INDIRECT(\"ZeroVal_\"&L$2,0)))","v":0},{"$f":"MAX(BackendTable[[#This Row],[S1]:[S5]])","v":0},{"$f":"IF(ISERROR(BackendTable[[#This Row],[T0Time]]),0,COUNTIFS(BackendTable[T0Time],\"<=\"&3,BackendTable[T0Time],\">=\"&0)-COUNTIFS(BackendTable[T0Time],\">\"&BackendTable[[#This Row],[T0Time]]))","v":500},null,null,null,null,null,null,null,null,null,null,null,null,null,null,null,null,null,null,null,null,null,null,null,null,{"$f":"MATCH(MAX(BackendTable[[#This Row],[T1S1]:[T1S5]]),BackendTable[[#This Row],[T1S1]:[T1S5]],0)","v":{"$error":"#N/A"}},{"$f":"MATCH(MAX(BackendTable[[#This Row],[T2S1]:[T2S5]]),BackendTable[[#This Row],[T2S1]:[T2S5]],0)","v":{"$error":"#N/A"}},{"$f":"MATCH(MAX(BackendTable[[#This Row],[T3S1]:[T3S5]]),BackendTable[[#This Row],[T3S1]:[T3S5]],0)","v":{"$error":"#N/A"}}]
[null,{"$f":"ROW()-ROW(BackendTable[[#Headers],[Row'#]])","v":161},{"$f":"'Data In'!A168","v":0},{"$f":"IF(BackendTable[[#This Row],[Time]]-'Reference Cells'!$C$3<=0,NA(),'Reference Cells'!$C$4-BackendTable[[#This Row],[Time]])*86400","v":{"$error":"#N/A"}},{"$f":"IFERROR(8-BackendTable[[#This Row],[Column1]],\"\")","v":""},{"$f":"IF(ISERROR(BackendTable[[#This Row],[Column1]]),-9,(BackendTable[[#This Row],[Net Time]]-NetTimeMin)*RangeAdj)","v":-9},{"$f":"IF(AND(BackendTable[[#This Row],[Time]]>='Reference Cells'!$C$6,BackendTable[[#This Row],[Time]]<='Reference Cells'!$C$7),(BackendTable[[#This Row],[Time]]-'Reference Cells'!$C$6)*86400,NA())","v":2},{"$f":"IF(CommandCell='Reference Cells'!$C$17,NA(),ABS('Data In'!B168-INDIRECT(\"ZeroVal_\"&H$2,0)))","v":0},{"$f":"IF(CommandCell='Reference Cells'!$C$17,NA(),ABS('Data In'!C168-INDIRECT(\"ZeroVal_\"&I$2,0)))","v":0},{"$f":"IF(CommandCell='Reference Cells'!$C$17,NA(),ABS('Data In'!D168-INDIRECT(\"ZeroVal_\"&J$2,0)))","v":0},{"$f":"IF(CommandCell='Reference Cells'!$C$17,NA(),ABS('Data In'!E168-INDIRECT(\"ZeroVal_\"&K$2,0)))","v":0},{"$f":"IF(CommandCell='Reference Cells'!$C$17,NA(),ABS('Data In'!F168-INDIRECT(\"ZeroVal_\"&L$2,0)))","v":0},{"$f":"MAX(BackendTable[[#This Row],[S1]:[S5]])","v":0},{"$f":"IF(ISERROR(BackendTable[[#This Row],[T0Time]]),0,COUNTIFS(BackendTable[T0Time],\"<=\"&3,BackendTable[T0Time],\">=\"&0)-COUNTIFS(BackendTable[T0Time],\">\"&BackendTable[[#This Row],[T0Time]]))","v":500},null,null,null,null,null,null,null,null,null,null,null,null,null,null,null,null,null,null,null,null,null,null,null,null,{"$f":"MATCH(MAX(BackendTable[[#This Row],[T1S1]:[T1S5]]),BackendTable[[#This Row],[T1S1]:[T1S5]],0)","v":{"$error":"#N/A"}},{"$f":"MATCH(MAX(BackendTable[[#This Row],[T2S1]:[T2S5]]),BackendTable[[#This Row],[T2S1]:[T2S5]],0)","v":{"$error":"#N/A"}},{"$f":"MATCH(MAX(BackendTable[[#This Row],[T3S1]:[T3S5]]),BackendTable[[#This Row],[T3S1]:[T3S5]],0)","v":{"$error":"#N/A"}}]
[null,{"$f":"ROW()-ROW(BackendTable[[#Headers],[Row'#]])","v":162},{"$f":"'Data In'!A169","v":0},{"$f":"IF(BackendTable[[#This Row],[Time]]-'Reference Cells'!$C$3<=0,NA(),'Reference Cells'!$C$4-BackendTable[[#This Row],[Time]])*86400","v":{"$error":"#N/A"}},{"$f":"IFERROR(8-BackendTable[[#This Row],[Column1]],\"\")","v":""},{"$f":"IF(ISERROR(BackendTable[[#This Row],[Column1]]),-9,(BackendTable[[#This Row],[Net Time]]-NetTimeMin)*RangeAdj)","v":-9},{"$f":"IF(AND(BackendTable[[#This Row],[Time]]>='Reference Cells'!$C$6,BackendTable[[#This Row],[Time]]<='Reference Cells'!$C$7),(BackendTable[[#This Row],[Time]]-'Reference Cells'!$C$6)*86400,NA())","v":2},{"$f":"IF(CommandCell='Reference Cells'!$C$17,NA(),ABS('Data In'!B169-INDIRECT(\"ZeroVal_\"&H$2,0)))","v":0},{"$f":"IF(CommandCell='Reference Cells'!$C$17,NA(),ABS('Data In'!C169-INDIRECT(\"ZeroVal_\"&I$2,0)))","v":0},{"$f":"IF(CommandCell='Reference Cells'!$C$17,NA(),ABS('Data In'!D169-INDIRECT(\"ZeroVal_\"&J$2,0)))","v":0},{"$f":"IF(CommandCell='Reference Cells'!$C$17,NA(),ABS('Data In'!E169-INDIRECT(\"ZeroVal_\"&K$2,0)))","v":0},{"$f":"IF(CommandCell='Reference Cells'!$C$17,NA(),ABS('Data In'!F169-INDIRECT(\"ZeroVal_\"&L$2,0)))","v":0},{"$f":"MAX(BackendTable[[#This Row],[S1]:[S5]])","v":0},{"$f":"IF(ISERROR(BackendTable[[#This Row],[T0Time]]),0,COUNTIFS(BackendTable[T0Time],\"<=\"&3,BackendTable[T0Time],\">=\"&0)-COUNTIFS(BackendTable[T0Time],\">\"&BackendTable[[#This Row],[T0Time]]))","v":500},null,null,null,null,null,null,null,null,null,null,null,null,null,null,null,null,null,null,null,null,null,null,null,null,{"$f":"MATCH(MAX(BackendTable[[#This Row],[T1S1]:[T1S5]]),BackendTable[[#This Row],[T1S1]:[T1S5]],0)","v":{"$error":"#N/A"}},{"$f":"MATCH(MAX(BackendTable[[#This Row],[T2S1]:[T2S5]]),BackendTable[[#This Row],[T2S1]:[T2S5]],0)","v":{"$error":"#N/A"}},{"$f":"MATCH(MAX(BackendTable[[#This Row],[T3S1]:[T3S5]]),BackendTable[[#This Row],[T3S1]:[T3S5]],0)","v":{"$error":"#N/A"}}]
[null,{"$f":"ROW()-ROW(BackendTable[[#Headers],[Row'#]])","v":163},{"$f":"'Data In'!A170","v":0},{"$f":"IF(BackendTable[[#This Row],[Time]]-'Reference Cells'!$C$3<=0,NA(),'Reference Cells'!$C$4-BackendTable[[#This Row],[Time]])*86400","v":{"$error":"#N/A"}},{"$f":"IFERROR(8-BackendTable[[#This Row],[Column1]],\"\")","v":""},{"$f":"IF(ISERROR(BackendTable[[#This Row],[Column1]]),-9,(BackendTable[[#This Row],[Net Time]]-NetTimeMin)*RangeAdj)","v":-9},{"$f":"IF(AND(BackendTable[[#This Row],[Time]]>='Reference Cells'!$C$6,BackendTable[[#This Row],[Time]]<='Reference Cells'!$C$7),(BackendTable[[#This Row],[Time]]-'Reference Cells'!$C$6)*86400,NA())","v":2},{"$f":"IF(CommandCell='Reference Cells'!$C$17,NA(),ABS('Data In'!B170-INDIRECT(\"ZeroVal_\"&H$2,0)))","v":0},{"$f":"IF(CommandCell='Reference Cells'!$C$17,NA(),ABS('Data In'!C170-INDIRECT(\"ZeroVal_\"&I$2,0)))","v":0},{"$f":"IF(CommandCell='Reference Cells'!$C$17,NA(),ABS('Data In'!D170-INDIRECT(\"ZeroVal_\"&J$2,0)))","v":0},{"$f":"IF(CommandCell='Reference Cells'!$C$17,NA(),ABS('Data In'!E170-INDIRECT(\"ZeroVal_\"&K$2,0)))","v":0},{"$f":"IF(CommandCell='Reference Cells'!$C$17,NA(),ABS('Data In'!F170-INDIRECT(\"ZeroVal_\"&L$2,0)))","v":0},{"$f":"MAX(BackendTable[[#This Row],[S1]:[S5]])","v":0},{"$f":"IF(ISERROR(BackendTable[[#This Row],[T0Time]]),0,COUNTIFS(BackendTable[T0Time],\"<=\"&3,BackendTable[T0Time],\">=\"&0)-COUNTIFS(BackendTable[T0Time],\">\"&BackendTable[[#This Row],[T0Time]]))","v":500},null,null,null,null,null,null,null,null,null,null,null,null,null,null,null,null,null,null,null,null,null,null,null,null,{"$f":"MATCH(MAX(BackendTable[[#This Row],[T1S1]:[T1S5]]),BackendTable[[#This Row],[T1S1]:[T1S5]],0)","v":{"$error":"#N/A"}},{"$f":"MATCH(MAX(BackendTable[[#This Row],[T2S1]:[T2S5]]),BackendTable[[#This Row],[T2S1]:[T2S5]],0)","v":{"$error":"#N/A"}},{"$f":"MATCH(MAX(BackendTable[[#This Row],[T3S1]:[T3S5]]),BackendTable[[#This Row],[T3S1]:[T3S5]],0)","v":{"$error":"#N/A"}}]
[null,{"$f":"ROW()-ROW(BackendTable[[#Headers],[Row'#]])","v":164},{"$f":"'Data In'!A171","v":0},{"$f":"IF(BackendTable[[#This Row],[Time]]-'Reference Cells'!$C$3<=0,NA(),'Reference Cells'!$C$4-BackendTable[[#This Row],[Time]])*86400","v":{"$error":"#N/A"}},{"$f":"IFERROR(8-BackendTable[[#This Row],[Column1]],\"\")","v":""},{"$f":"IF(ISERROR(BackendTable[[#This Row],[Column1]]),-9,(BackendTable[[#This Row],[Net Time]]-NetTimeMin)*RangeAdj)","v":-9},{"$f":"IF(AND(BackendTable[[#This Row],[Time]]>='Reference Cells'!$C$6,BackendTable[[#This Row],[Time]]<='Reference Cells'!$C$7),(BackendTable[[#This Row],[Time]]-'Reference Cells'!$C$6)*86400,NA())","v":2},{"$f":"IF(CommandCell='Reference Cells'!$C$17,NA(),ABS('Data In'!B171-INDIRECT(\"ZeroVal_\"&H$2,0)))","v":0},{"$f":"IF(CommandCell='Reference Cells'!$C$17,NA(),ABS('Data In'!C171-INDIRECT(\"ZeroVal_\"&I$2,0)))","v":0},{"$f":"IF(CommandCell='Reference Cells'!$C$17,NA(),ABS('Data In'!D171-INDIRECT(\"ZeroVal_\"&J$2,0)))","v":0},{"$f":"IF(CommandCell='Reference Cells'!$C$17,NA(),ABS('Data In'!E171-INDIRECT(\"ZeroVal_\"&K$2,0)))","v":0},{"$f":"IF(CommandCell='Reference Cells'!$C$17,NA(),ABS('Data In'!F171-INDIRECT(\"ZeroVal_\"&L$2,0)))","v":0},{"$f":"MAX(BackendTable[[#This Row],[S1]:[S5]])","v":0},{"$f":"IF(ISERROR(BackendTable[[#This Row],[T0Time]]),0,COUNTIFS(BackendTable[T0Time],\"<=\"&3,BackendTable[T0Time],\">=\"&0)-COUNTIFS(BackendTable[T0Time],\">\"&BackendTable[[#This Row],[T0Time]]))","v":500},null,null,null,null,null,null,null,null,null,null,null,null,null,null,null,null,null,null,null,null,null,null,null,null,{"$f":"MATCH(MAX(BackendTable[[#This Row],[T1S1]:[T1S5]]),BackendTable[[#This Row],[T1S1]:[T1S5]],0)","v":{"$error":"#N/A"}},{"$f":"MATCH(MAX(BackendTable[[#This Row],[T2S1]:[T2S5]]),BackendTable[[#This Row],[T2S1]:[T2S5]],0)","v":{"$error":"#N/A"}},{"$f":"MATCH(MAX(BackendTable[[#This Row],[T3S1]:[T3S5]]),BackendTable[[#This Row],[T3S1]:[T3S5]],0)","v":{"$error":"#N/A"}}]
[null,{"$f":"ROW()-ROW(BackendTable[[#Headers],[Row'#]])","v":165},{"$f":"'Data In'!A172","v":0},{"$f":"IF(BackendTable[[#This Row],[Time]]-'Reference Cells'!$C$3<=0,NA(),'Reference Cells'!$C$4-BackendTable[[#This Row],[Time]])*86400","v":{"$error":"#N/A"}},{"$f":"IFERROR(8-BackendTable[[#This Row],[Column1]],\"\")","v":""},{"$f":"IF(ISERROR(BackendTable[[#This Row],[Column1]]),-9,(BackendTable[[#This Row],[Net Time]]-NetTimeMin)*RangeAdj)","v":-9},{"$f":"IF(AND(BackendTable[[#This Row],[Time]]>='Reference Cells'!$C$6,BackendTable[[#This Row],[Time]]<='Reference Cells'!$C$7),(BackendTable[[#This Row],[Time]]-'Reference Cells'!$C$6)*86400,NA())","v":2},{"$f":"IF(CommandCell='Reference Cells'!$C$17,NA(),ABS('Data In'!B172-INDIRECT(\"ZeroVal_\"&H$2,0)))","v":0},{"$f":"IF(CommandCell='Reference Cells'!$C$17,NA(),ABS('Data In'!C172-INDIRECT(\"ZeroVal_\"&I$2,0)))","v":0},{"$f":"IF(CommandCell='Reference Cells'!$C$17,NA(),ABS('Data In'!D172-INDIRECT(\"ZeroVal_\"&J$2,0)))","v":0},{"$f":"IF(CommandCell='Reference Cells'!$C$17,NA(),ABS('Data In'!E172-INDIRECT(\"ZeroVal_\"&K$2,0)))","v":0},{"$f":"IF(CommandCell='Reference Cells'!$C$17,NA(),ABS('Data In'!F172-INDIRECT(\"ZeroVal_\"&L$2,0)))","v":0},{"$f":"MAX(BackendTable[[#This Row],[S1]:[S5]])","v":0},{"$f":"IF(ISERROR(BackendTable[[#This Row],[T0Time]]),0,COUNTIFS(BackendTable[T0Time],\"<=\"&3,BackendTable[T0Time],\">=\"&0)-COUNTIFS(BackendTable[T0Time],\">\"&BackendTable[[#This Row],[T0Time]]))","v":500},null,null,null,null,null,null,null,null,null,null,null,null,null,null,null,null,null,null,null,null,null,null,null,null,{"$f":"MATCH(MAX(BackendTable[[#This Row],[T1S1]:[T1S5]]),BackendTable[[#This Row],[T1S1]:[T1S5]],0)","v":{"$error":"#N/A"}},{"$f":"MATCH(MAX(BackendTable[[#This Row],[T2S1]:[T2S5]]),BackendTable[[#This Row],[T2S1]:[T2S5]],0)","v":{"$error":"#N/A"}},{"$f":"MATCH(MAX(BackendTable[[#This Row],[T3S1]:[T3S5]]),BackendTable[[#This Row],[T3S1]:[T3S5]],0)","v":{"$error":"#N/A"}}]
[null,{"$f":"ROW()-ROW(BackendTable[[#Headers],[Row'#]])","v":166},{"$f":"'Data In'!A173","v":0},{"$f":"IF(BackendTable[[#This Row],[Time]]-'Reference Cells'!$C$3<=0,NA(),'Reference Cells'!$C$4-BackendTable[[#This Row],[Time]])*86400","v":{"$error":"#N/A"}},{"$f":"IFERROR(8-BackendTable[[#This Row],[Column1]],\"\")","v":""},{"$f":"IF(ISERROR(BackendTable[[#This Row],[Column1]]),-9,(BackendTable[[#This Row],[Net Time]]-NetTimeMin)*RangeAdj)","v":-9},{"$f":"IF(AND(BackendTable[[#This Row],[Time]]>='Reference Cells'!$C$6,BackendTable[[#This Row],[Time]]<='Reference Cells'!$C$7),(BackendTable[[#This Row],[Time]]-'Reference Cells'!$C$6)*86400,NA())","v":2},{"$f":"IF(CommandCell='Reference Cells'!$C$17,NA(),ABS('Data In'!B173-INDIRECT(\"ZeroVal_\"&H$2,0)))","v":0},{"$f":"IF(CommandCell='Reference Cells'!$C$17,NA(),ABS('Data In'!C173-INDIRECT(\"ZeroVal_\"&I$2,0)))","v":0},{"$f":"IF(CommandCell='Reference Cells'!$C$17,NA(),ABS('Data In'!D173-INDIRECT(\"ZeroVal_\"&J$2,0)))","v":0},{"$f":"IF(CommandCell='Reference Cells'!$C$17,NA(),ABS('Data In'!E173-INDIRECT(\"ZeroVal_\"&K$2,0)))","v":0},{"$f":"IF(CommandCell='Reference Cells'!$C$17,NA(),ABS('Data In'!F173-INDIRECT(\"ZeroVal_\"&L$2,0)))","v":0},{"$f":"MAX(BackendTable[[#This Row],[S1]:[S5]])","v":0},{"$f":"IF(ISERROR(BackendTable[[#This Row],[T0Time]]),0,COUNTIFS(BackendTable[T0Time],\"<=\"&3,BackendTable[T0Time],\">=\"&0)-COUNTIFS(BackendTable[T0Time],\">\"&BackendTable[[#This Row],[T0Time]]))","v":500},null,null,null,null,null,null,null,null,null,null,null,null,null,null,null,null,null,null,null,null,null,null,null,null,{"$f":"MATCH(MAX(BackendTable[[#This Row],[T1S1]:[T1S5]]),BackendTable[[#This Row],[T1S1]:[T1S5]],0)","v":{"$error":"#N/A"}},{"$f":"MATCH(MAX(BackendTable[[#This Row],[T2S1]:[T2S5]]),BackendTable[[#This Row],[T2S1]:[T2S5]],0)","v":{"$error":"#N/A"}},{"$f":"MATCH(MAX(BackendTable[[#This Row],[T3S1]:[T3S5]]),BackendTable[[#This Row],[T3S1]:[T3S5]],0)","v":{"$error":"#N/A"}}]
[null,{"$f":"ROW()-ROW(BackendTable[[#Headers],[Row'#]])","v":167},{"$f":"'Data In'!A174","v":0},{"$f":"IF(BackendTable[[#This Row],[Time]]-'Reference Cells'!$C$3<=0,NA(),'Reference Cells'!$C$4-BackendTable[[#This Row],[Time]])*86400","v":{"$error":"#N/A"}},{"$f":"IFERROR(8-BackendTable[[#This Row],[Column1]],\"\")","v":""},{"$f":"IF(ISERROR(BackendTable[[#This Row],[Column1]]),-9,(BackendTable[[#This Row],[Net Time]]-NetTimeMin)*RangeAdj)","v":-9},{"$f":"IF(AND(BackendTable[[#This Row],[Time]]>='Reference Cells'!$C$6,BackendTable[[#This Row],[Time]]<='Reference Cells'!$C$7),(BackendTable[[#This Row],[Time]]-'Reference Cells'!$C$6)*86400,NA())","v":2},{"$f":"IF(CommandCell='Reference Cells'!$C$17,NA(),ABS('Data In'!B174-INDIRECT(\"ZeroVal_\"&H$2,0)))","v":0},{"$f":"IF(CommandCell='Reference Cells'!$C$17,NA(),ABS('Data In'!C174-INDIRECT(\"ZeroVal_\"&I$2,0)))","v":0},{"$f":"IF(CommandCell='Reference Cells'!$C$17,NA(),ABS('Data In'!D174-INDIRECT(\"ZeroVal_\"&J$2,0)))","v":0},{"$f":"IF(CommandCell='Reference Cells'!$C$17,NA(),ABS('Data In'!E174-INDIRECT(\"ZeroVal_\"&K$2,0)))","v":0},{"$f":"IF(CommandCell='Reference Cells'!$C$17,NA(),ABS('Data In'!F174-INDIRECT(\"ZeroVal_\"&L$2,0)))","v":0},{"$f":"MAX(BackendTable[[#This Row],[S1]:[S5]])","v":0},{"$f":"IF(ISERROR(BackendTable[[#This Row],[T0Time]]),0,COUNTIFS(BackendTable[T0Time],\"<=\"&3,BackendTable[T0Time],\">=\"&0)-COUNTIFS(BackendTable[T0Time],\">\"&BackendTable[[#This Row],[T0Time]]))","v":500},null,null,null,null,null,null,null,null,null,null,null,null,null,null,null,null,null,null,null,null,null,null,null,null,{"$f":"MATCH(MAX(BackendTable[[#This Row],[T1S1]:[T1S5]]),BackendTable[[#This Row],[T1S1]:[T1S5]],0)","v":{"$error":"#N/A"}},{"$f":"MATCH(MAX(BackendTable[[#This Row],[T2S1]:[T2S5]]),BackendTable[[#This Row],[T2S1]:[T2S5]],0)","v":{"$error":"#N/A"}},{"$f":"MATCH(MAX(BackendTable[[#This Row],[T3S1]:[T3S5]]),BackendTable[[#This Row],[T3S1]:[T3S5]],0)","v":{"$error":"#N/A"}}]
[null,{"$f":"ROW()-ROW(BackendTable[[#Headers],[Row'#]])","v":168},{"$f":"'Data In'!A175","v":0},{"$f":"IF(BackendTable[[#This Row],[Time]]-'Reference Cells'!$C$3<=0,NA(),'Reference Cells'!$C$4-BackendTable[[#This Row],[Time]])*86400","v":{"$error":"#N/A"}},{"$f":"IFERROR(8-BackendTable[[#This Row],[Column1]],\"\")","v":""},{"$f":"IF(ISERROR(BackendTable[[#This Row],[Column1]]),-9,(BackendTable[[#This Row],[Net Time]]-NetTimeMin)*RangeAdj)","v":-9},{"$f":"IF(AND(BackendTable[[#This Row],[Time]]>='Reference Cells'!$C$6,BackendTable[[#This Row],[Time]]<='Reference Cells'!$C$7),(BackendTable[[#This Row],[Time]]-'Reference Cells'!$C$6)*86400,NA())","v":2},{"$f":"IF(CommandCell='Reference Cells'!$C$17,NA(),ABS('Data In'!B175-INDIRECT(\"ZeroVal_\"&H$2,0)))","v":0},{"$f":"IF(CommandCell='Reference Cells'!$C$17,NA(),ABS('Data In'!C175-INDIRECT(\"ZeroVal_\"&I$2,0)))","v":0},{"$f":"IF(CommandCell='Reference Cells'!$C$17,NA(),ABS('Data In'!D175-INDIRECT(\"ZeroVal_\"&J$2,0)))","v":0},{"$f":"IF(CommandCell='Reference Cells'!$C$17,NA(),ABS('Data In'!E175-INDIRECT(\"ZeroVal_\"&K$2,0)))","v":0},{"$f":"IF(CommandCell='Reference Cells'!$C$17,NA(),ABS('Data In'!F175-INDIRECT(\"ZeroVal_\"&L$2,0)))","v":0},{"$f":"MAX(BackendTable[[#This Row],[S1]:[S5]])","v":0},{"$f":"IF(ISERROR(BackendTable[[#This Row],[T0Time]]),0,COUNTIFS(BackendTable[T0Time],\"<=\"&3,BackendTable[T0Time],\">=\"&0)-COUNTIFS(BackendTable[T0Time],\">\"&BackendTable[[#This Row],[T0Time]]))","v":500},null,null,null,null,null,null,null,null,null,null,null,null,null,null,null,null,null,null,null,null,null,null,null,null,{"$f":"MATCH(MAX(BackendTable[[#This Row],[T1S1]:[T1S5]]),BackendTable[[#This Row],[T1S1]:[T1S5]],0)","v":{"$error":"#N/A"}},{"$f":"MATCH(MAX(BackendTable[[#This Row],[T2S1]:[T2S5]]),BackendTable[[#This Row],[T2S1]:[T2S5]],0)","v":{"$error":"#N/A"}},{"$f":"MATCH(MAX(BackendTable[[#This Row],[T3S1]:[T3S5]]),BackendTable[[#This Row],[T3S1]:[T3S5]],0)","v":{"$error":"#N/A"}}]
[null,{"$f":"ROW()-ROW(BackendTable[[#Headers],[Row'#]])","v":169},{"$f":"'Data In'!A176","v":0},{"$f":"IF(BackendTable[[#This Row],[Time]]-'Reference Cells'!$C$3<=0,NA(),'Reference Cells'!$C$4-BackendTable[[#This Row],[Time]])*86400","v":{"$error":"#N/A"}},{"$f":"IFERROR(8-BackendTable[[#This Row],[Column1]],\"\")","v":""},{"$f":"IF(ISERROR(BackendTable[[#This Row],[Column1]]),-9,(BackendTable[[#This Row],[Net Time]]-NetTimeMin)*RangeAdj)","v":-9},{"$f":"IF(AND(BackendTable[[#This Row],[Time]]>='Reference Cells'!$C$6,BackendTable[[#This Row],[Time]]<='Reference Cells'!$C$7),(BackendTable[[#This Row],[Time]]-'Reference Cells'!$C$6)*86400,NA())","v":2},{"$f":"IF(CommandCell='Reference Cells'!$C$17,NA(),ABS('Data In'!B176-INDIRECT(\"ZeroVal_\"&H$2,0)))","v":0},{"$f":"IF(CommandCell='Reference Cells'!$C$17,NA(),ABS('Data In'!C176-INDIRECT(\"ZeroVal_\"&I$2,0)))","v":0},{"$f":"IF(CommandCell='Reference Cells'!$C$17,NA(),ABS('Data In'!D176-INDIRECT(\"ZeroVal_\"&J$2,0)))","v":0},{"$f":"IF(CommandCell='Reference Cells'!$C$17,NA(),ABS('Data In'!E176-INDIRECT(\"ZeroVal_\"&K$2,0)))","v":0},{"$f":"IF(CommandCell='Reference Cells'!$C$17,NA(),ABS('Data In'!F176-INDIRECT(\"ZeroVal_\"&L$2,0)))","v":0},{"$f":"MAX(BackendTable[[#This Row],[S1]:[S5]])","v":0},{"$f":"IF(ISERROR(BackendTable[[#This Row],[T0Time]]),0,COUNTIFS(BackendTable[T0Time],\"<=\"&3,BackendTable[T0Time],\">=\"&0)-COUNTIFS(BackendTable[T0Time],\">\"&BackendTable[[#This Row],[T0Time]]))","v":500},null,null,null,null,null,null,null,null,null,null,null,null,null,null,null,null,null,null,null,null,null,null,null,null,{"$f":"MATCH(MAX(BackendTable[[#This Row],[T1S1]:[T1S5]]),BackendTable[[#This Row],[T1S1]:[T1S5]],0)","v":{"$error":"#N/A"}},{"$f":"MATCH(MAX(BackendTable[[#This Row],[T2S1]:[T2S5]]),BackendTable[[#This Row],[T2S1]:[T2S5]],0)","v":{"$error":"#N/A"}},{"$f":"MATCH(MAX(BackendTable[[#This Row],[T3S1]:[T3S5]]),BackendTable[[#This Row],[T3S1]:[T3S5]],0)","v":{"$error":"#N/A"}}]
[null,{"$f":"ROW()-ROW(BackendTable[[#Headers],[Row'#]])","v":170},{"$f":"'Data In'!A177","v":0},{"$f":"IF(BackendTable[[#This Row],[Time]]-'Reference Cells'!$C$3<=0,NA(),'Reference Cells'!$C$4-BackendTable[[#This Row],[Time]])*86400","v":{"$error":"#N/A"}},{"$f":"IFERROR(8-BackendTable[[#This Row],[Column1]],\"\")","v":""},{"$f":"IF(ISERROR(BackendTable[[#This Row],[Column1]]),-9,(BackendTable[[#This Row],[Net Time]]-NetTimeMin)*RangeAdj)","v":-9},{"$f":"IF(AND(BackendTable[[#This Row],[Time]]>='Reference Cells'!$C$6,BackendTable[[#This Row],[Time]]<='Reference Cells'!$C$7),(BackendTable[[#This Row],[Time]]-'Reference Cells'!$C$6)*86400,NA())","v":2},{"$f":"IF(CommandCell='Reference Cells'!$C$17,NA(),ABS('Data In'!B177-INDIRECT(\"ZeroVal_\"&H$2,0)))","v":0},{"$f":"IF(CommandCell='Reference Cells'!$C$17,NA(),ABS('Data In'!C177-INDIRECT(\"ZeroVal_\"&I$2,0)))","v":0},{"$f":"IF(CommandCell='Reference Cells'!$C$17,NA(),ABS('Data In'!D177-INDIRECT(\"ZeroVal_\"&J$2,0)))","v":0},{"$f":"IF(CommandCell='Reference Cells'!$C$17,NA(),ABS('Data In'!E177-INDIRECT(\"ZeroVal_\"&K$2,0)))","v":0},{"$f":"IF(CommandCell='Reference Cells'!$C$17,NA(),ABS('Data In'!F177-INDIRECT(\"ZeroVal_\"&L$2,0)))","v":0},{"$f":"MAX(BackendTable[[#This Row],[S1]:[S5]])","v":0},{"$f":"IF(ISERROR(BackendTable[[#This Row],[T0Time]]),0,COUNTIFS(BackendTable[T0Time],\"<=\"&3,BackendTable[T0Time],\">=\"&0)-COUNTIFS(BackendTable[T0Time],\">\"&BackendTable[[#This Row],[T0Time]]))","v":500},null,null,null,null,null,null,null,null,null,null,null,null,null,null,null,null,null,null,null,null,null,null,null,null,{"$f":"MATCH(MAX(BackendTable[[#This Row],[T1S1]:[T1S5]]),BackendTable[[#This Row],[T1S1]:[T1S5]],0)","v":{"$error":"#N/A"}},{"$f":"MATCH(MAX(BackendTable[[#This Row],[T2S1]:[T2S5]]),BackendTable[[#This Row],[T2S1]:[T2S5]],0)","v":{"$error":"#N/A"}},{"$f":"MATCH(MAX(BackendTable[[#This Row],[T3S1]:[T3S5]]),BackendTable[[#This Row],[T3S1]:[T3S5]],0)","v":{"$error":"#N/A"}}]
[null,{"$f":"ROW()-ROW(BackendTable[[#Headers],[Row'#]])","v":171},{"$f":"'Data In'!A178","v":0},{"$f":"IF(BackendTable[[#This Row],[Time]]-'Reference Cells'!$C$3<=0,NA(),'Reference Cells'!$C$4-BackendTable[[#This Row],[Time]])*86400","v":{"$error":"#N/A"}},{"$f":"IFERROR(8-BackendTable[[#This Row],[Column1]],\"\")","v":""},{"$f":"IF(ISERROR(BackendTable[[#This Row],[Column1]]),-9,(BackendTable[[#This Row],[Net Time]]-NetTimeMin)*RangeAdj)","v":-9},{"$f":"IF(AND(BackendTable[[#This Row],[Time]]>='Reference Cells'!$C$6,BackendTable[[#This Row],[Time]]<='Reference Cells'!$C$7),(BackendTable[[#This Row],[Time]]-'Reference Cells'!$C$6)*86400,NA())","v":2},{"$f":"IF(CommandCell='Reference Cells'!$C$17,NA(),ABS('Data In'!B178-INDIRECT(\"ZeroVal_\"&H$2,0)))","v":0},{"$f":"IF(CommandCell='Reference Cells'!$C$17,NA(),ABS('Data In'!C178-INDIRECT(\"ZeroVal_\"&I$2,0)))","v":0},{"$f":"IF(CommandCell='Reference Cells'!$C$17,NA(),ABS('Data In'!D178-INDIRECT(\"ZeroVal_\"&J$2,0)))","v":0},{"$f":"IF(CommandCell='Reference Cells'!$C$17,NA(),ABS('Data In'!E178-INDIRECT(\"ZeroVal_\"&K$2,0)))","v":0},{"$f":"IF(CommandCell='Reference Cells'!$C$17,NA(),ABS('Data In'!F178-INDIRECT(\"ZeroVal_\"&L$2,0)))","v":0},{"$f":"MAX(BackendTable[[#This Row],[S1]:[S5]])","v":0},{"$f":"IF(ISERROR(BackendTable[[#This Row],[T0Time]]),0,COUNTIFS(BackendTable[T0Time],\"<=\"&3,BackendTable[T0Time],\">=\"&0)-COUNTIFS(BackendTable[T0Time],\">\"&BackendTable[[#This Row],[T0Time]]))","v":500},null,null,null,null,null,null,null,null,null,null,null,null,null,null,null,null,null,null,null,null,null,null,null,null,{"$f":"MATCH(MAX(BackendTable[[#This Row],[T1S1]:[T1S5]]),BackendTable[[#This Row],[T1S1]:[T1S5]],0)","v":{"$error":"#N/A"}},{"$f":"MATCH(MAX(BackendTable[[#This Row],[T2S1]:[T2S5]]),BackendTable[[#This Row],[T2S1]:[T2S5]],0)","v":{"$error":"#N/A"}},{"$f":"MATCH(MAX(BackendTable[[#This Row],[T3S1]:[T3S5]]),BackendTable[[#This Row],[T3S1]:[T3S5]],0)","v":{"$error":"#N/A"}}]
[null,{"$f":"ROW()-ROW(BackendTable[[#Headers],[Row'#]])","v":172},{"$f":"'Data In'!A179","v":0},{"$f":"IF(BackendTable[[#This Row],[Time]]-'Reference Cells'!$C$3<=0,NA(),'Reference Cells'!$C$4-BackendTable[[#This Row],[Time]])*86400","v":{"$error":"#N/A"}},{"$f":"IFERROR(8-BackendTable[[#This Row],[Column1]],\"\")","v":""},{"$f":"IF(ISERROR(BackendTable[[#This Row],[Column1]]),-9,(BackendTable[[#This Row],[Net Time]]-NetTimeMin)*RangeAdj)","v":-9},{"$f":"IF(AND(BackendTable[[#This Row],[Time]]>='Reference Cells'!$C$6,BackendTable[[#This Row],[Time]]<='Reference Cells'!$C$7),(BackendTable[[#This Row],[Time]]-'Reference Cells'!$C$6)*86400,NA())","v":2},{"$f":"IF(CommandCell='Reference Cells'!$C$17,NA(),ABS('Data In'!B179-INDIRECT(\"ZeroVal_\"&H$2,0)))","v":0},{"$f":"IF(CommandCell='Reference Cells'!$C$17,NA(),ABS('Data In'!C179-INDIRECT(\"ZeroVal_\"&I$2,0)))","v":0},{"$f":"IF(CommandCell='Reference Cells'!$C$17,NA(),ABS('Data In'!D179-INDIRECT(\"ZeroVal_\"&J$2,0)))","v":0},{"$f":"IF(CommandCell='Reference Cells'!$C$17,NA(),ABS('Data In'!E179-INDIRECT(\"ZeroVal_\"&K$2,0)))","v":0},{"$f":"IF(CommandCell='Reference Cells'!$C$17,NA(),ABS('Data In'!F179-INDIRECT(\"ZeroVal_\"&L$2,0)))","v":0},{"$f":"MAX(BackendTable[[#This Row],[S1]:[S5]])","v":0},{"$f":"IF(ISERROR(BackendTable[[#This Row],[T0Time]]),0,COUNTIFS(BackendTable[T0Time],\"<=\"&3,BackendTable[T0Time],\">=\"&0)-COUNTIFS(BackendTable[T0Time],\">\"&BackendTable[[#This Row],[T0Time]]))","v":500},null,null,null,null,null,null,null,null,null,null,null,null,null,null,null,null,null,null,null,null,null,null,null,null,{"$f":"MATCH(MAX(BackendTable[[#This Row],[T1S1]:[T1S5]]),BackendTable[[#This Row],[T1S1]:[T1S5]],0)","v":{"$error":"#N/A"}},{"$f":"MATCH(MAX(BackendTable[[#This Row],[T2S1]:[T2S5]]),BackendTable[[#This Row],[T2S1]:[T2S5]],0)","v":{"$error":"#N/A"}},{"$f":"MATCH(MAX(BackendTable[[#This Row],[T3S1]:[T3S5]]),BackendTable[[#This Row],[T3S1]:[T3S5]],0)","v":{"$error":"#N/A"}}]
[null,{"$f":"ROW()-ROW(BackendTable[[#Headers],[Row'#]])","v":173},{"$f":"'Data In'!A180","v":0},{"$f":"IF(BackendTable[[#This Row],[Time]]-'Reference Cells'!$C$3<=0,NA(),'Reference Cells'!$C$4-BackendTable[[#This Row],[Time]])*86400","v":{"$error":"#N/A"}},{"$f":"IFERROR(8-BackendTable[[#This Row],[Column1]],\"\")","v":""},{"$f":"IF(ISERROR(BackendTable[[#This Row],[Column1]]),-9,(BackendTable[[#This Row],[Net Time]]-NetTimeMin)*RangeAdj)","v":-9},{"$f":"IF(AND(BackendTable[[#This Row],[Time]]>='Reference Cells'!$C$6,BackendTable[[#This Row],[Time]]<='Reference Cells'!$C$7),(BackendTable[[#This Row],[Time]]-'Reference Cells'!$C$6)*86400,NA())","v":2},{"$f":"IF(CommandCell='Reference Cells'!$C$17,NA(),ABS('Data In'!B180-INDIRECT(\"ZeroVal_\"&H$2,0)))","v":0},{"$f":"IF(CommandCell='Reference Cells'!$C$17,NA(),ABS('Data In'!C180-INDIRECT(\"ZeroVal_\"&I$2,0)))","v":0},{"$f":"IF(CommandCell='Reference Cells'!$C$17,NA(),ABS('Data In'!D180-INDIRECT(\"ZeroVal_\"&J$2,0)))","v":0},{"$f":"IF(CommandCell='Reference Cells'!$C$17,NA(),ABS('Data In'!E180-INDIRECT(\"ZeroVal_\"&K$2,0)))","v":0},{"$f":"IF(CommandCell='Reference Cells'!$C$17,NA(),ABS('Data In'!F180-INDIRECT(\"ZeroVal_\"&L$2,0)))","v":0},{"$f":"MAX(BackendTable[[#This Row],[S1]:[S5]])","v":0},{"$f":"IF(ISERROR(BackendTable[[#This Row],[T0Time]]),0,COUNTIFS(BackendTable[T0Time],\"<=\"&3,BackendTable[T0Time],\">=\"&0)-COUNTIFS(BackendTable[T0Time],\">\"&BackendTable[[#This Row],[T0Time]]))","v":500},null,null,null,null,null,null,null,null,null,null,null,null,null,null,null,null,null,null,null,null,null,null,null,null,{"$f":"MATCH(MAX(BackendTable[[#This Row],[T1S1]:[T1S5]]),BackendTable[[#This Row],[T1S1]:[T1S5]],0)","v":{"$error":"#N/A"}},{"$f":"MATCH(MAX(BackendTable[[#This Row],[T2S1]:[T2S5]]),BackendTable[[#This Row],[T2S1]:[T2S5]],0)","v":{"$error":"#N/A"}},{"$f":"MATCH(MAX(BackendTable[[#This Row],[T3S1]:[T3S5]]),BackendTable[[#This Row],[T3S1]:[T3S5]],0)","v":{"$error":"#N/A"}}]
[null,{"$f":"ROW()-ROW(BackendTable[[#Headers],[Row'#]])","v":174},{"$f":"'Data In'!A181","v":0},{"$f":"IF(BackendTable[[#This Row],[Time]]-'Reference Cells'!$C$3<=0,NA(),'Reference Cells'!$C$4-BackendTable[[#This Row],[Time]])*86400","v":{"$error":"#N/A"}},{"$f":"IFERROR(8-BackendTable[[#This Row],[Column1]],\"\")","v":""},{"$f":"IF(ISERROR(BackendTable[[#This Row],[Column1]]),-9,(BackendTable[[#This Row],[Net Time]]-NetTimeMin)*RangeAdj)","v":-9},{"$f":"IF(AND(BackendTable[[#This Row],[Time]]>='Reference Cells'!$C$6,BackendTable[[#This Row],[Time]]<='Reference Cells'!$C$7),(BackendTable[[#This Row],[Time]]-'Reference Cells'!$C$6)*86400,NA())","v":2},{"$f":"IF(CommandCell='Reference Cells'!$C$17,NA(),ABS('Data In'!B181-INDIRECT(\"ZeroVal_\"&H$2,0)))","v":0},{"$f":"IF(CommandCell='Reference Cells'!$C$17,NA(),ABS('Data In'!C181-INDIRECT(\"ZeroVal_\"&I$2,0)))","v":0},{"$f":"IF(CommandCell='Reference Cells'!$C$17,NA(),ABS('Data In'!D181-INDIRECT(\"ZeroVal_\"&J$2,0)))","v":0},{"$f":"IF(CommandCell='Reference Cells'!$C$17,NA(),ABS('Data In'!E181-INDIRECT(\"ZeroVal_\"&K$2,0)))","v":0},{"$f":"IF(CommandCell='Reference Cells'!$C$17,NA(),ABS('Data In'!F181-INDIRECT(\"ZeroVal_\"&L$2,0)))","v":0},{"$f":"MAX(BackendTable[[#This Row],[S1]:[S5]])","v":0},{"$f":"IF(ISERROR(BackendTable[[#This Row],[T0Time]]),0,COUNTIFS(BackendTable[T0Time],\"<=\"&3,BackendTable[T0Time],\">=\"&0)-COUNTIFS(BackendTable[T0Time],\">\"&BackendTable[[#This Row],[T0Time]]))","v":500},null,null,null,null,null,null,null,null,null,null,null,null,null,null,null,null,null,null,null,null,null,null,null,null,{"$f":"MATCH(MAX(BackendTable[[#This Row],[T1S1]:[T1S5]]),BackendTable[[#This Row],[T1S1]:[T1S5]],0)","v":{"$error":"#N/A"}},{"$f":"MATCH(MAX(BackendTable[[#This Row],[T2S1]:[T2S5]]),BackendTable[[#This Row],[T2S1]:[T2S5]],0)","v":{"$error":"#N/A"}},{"$f":"MATCH(MAX(BackendTable[[#This Row],[T3S1]:[T3S5]]),BackendTable[[#This Row],[T3S1]:[T3S5]],0)","v":{"$error":"#N/A"}}]
[null,{"$f":"ROW()-ROW(BackendTable[[#Headers],[Row'#]])","v":175},{"$f":"'Data In'!A182","v":0},{"$f":"IF(BackendTable[[#This Row],[Time]]-'Reference Cells'!$C$3<=0,NA(),'Reference Cells'!$C$4-BackendTable[[#This Row],[Time]])*86400","v":{"$error":"#N/A"}},{"$f":"IFERROR(8-BackendTable[[#This Row],[Column1]],\"\")","v":""},{"$f":"IF(ISERROR(BackendTable[[#This Row],[Column1]]),-9,(BackendTable[[#This Row],[Net Time]]-NetTimeMin)*RangeAdj)","v":-9},{"$f":"IF(AND(BackendTable[[#This Row],[Time]]>='Reference Cells'!$C$6,BackendTable[[#This Row],[Time]]<='Reference Cells'!$C$7),(BackendTable[[#This Row],[Time]]-'Reference Cells'!$C$6)*86400,NA())","v":2},{"$f":"IF(CommandCell='Reference Cells'!$C$17,NA(),ABS('Data In'!B182-INDIRECT(\"ZeroVal_\"&H$2,0)))","v":0},{"$f":"IF(CommandCell='Reference Cells'!$C$17,NA(),ABS('Data In'!C182-INDIRECT(\"ZeroVal_\"&I$2,0)))","v":0},{"$f":"IF(CommandCell='Reference Cells'!$C$17,NA(),ABS('Data In'!D182-INDIRECT(\"ZeroVal_\"&J$2,0)))","v":0},{"$f":"IF(CommandCell='Reference Cells'!$C$17,NA(),ABS('Data In'!E182-INDIRECT(\"ZeroVal_\"&K$2,0)))","v":0},{"$f":"IF(CommandCell='Reference Cells'!$C$17,NA(),ABS('Data In'!F182-INDIRECT(\"ZeroVal_\"&L$2,0)))","v":0},{"$f":"MAX(BackendTable[[#This Row],[S1]:[S5]])","v":0},{"$f":"IF(ISERROR(BackendTable[[#This Row],[T0Time]]),0,COUNTIFS(BackendTable[T0Time],\"<=\"&3,BackendTable[T0Time],\">=\"&0)-COUNTIFS(BackendTable[T0Time],\">\"&BackendTable[[#This Row],[T0Time]]))","v":500},null,null,null,null,null,null,null,null,null,null,null,null,null,null,null,null,null,null,null,null,null,null,null,null,{"$f":"MATCH(MAX(BackendTable[[#This Row],[T1S1]:[T1S5]]),BackendTable[[#This Row],[T1S1]:[T1S5]],0)","v":{"$error":"#N/A"}},{"$f":"MATCH(MAX(BackendTable[[#This Row],[T2S1]:[T2S5]]),BackendTable[[#This Row],[T2S1]:[T2S5]],0)","v":{"$error":"#N/A"}},{"$f":"MATCH(MAX(BackendTable[[#This Row],[T3S1]:[T3S5]]),BackendTable[[#This Row],[T3S1]:[T3S5]],0)","v":{"$error":"#N/A"}}]
[null,{"$f":"ROW()-ROW(BackendTable[[#Headers],[Row'#]])","v":176},{"$f":"'Data In'!A183","v":0},{"$f":"IF(BackendTable[[#This Row],[Time]]-'Reference Cells'!$C$3<=0,NA(),'Reference Cells'!$C$4-BackendTable[[#This Row],[Time]])*86400","v":{"$error":"#N/A"}},{"$f":"IFERROR(8-BackendTable[[#This Row],[Column1]],\"\")","v":""},{"$f":"IF(ISERROR(BackendTable[[#This Row],[Column1]]),-9,(BackendTable[[#This Row],[Net Time]]-NetTimeMin)*RangeAdj)","v":-9},{"$f":"IF(AND(BackendTable[[#This Row],[Time]]>='Reference Cells'!$C$6,BackendTable[[#This Row],[Time]]<='Reference Cells'!$C$7),(BackendTable[[#This Row],[Time]]-'Reference Cells'!$C$6)*86400,NA())","v":2},{"$f":"IF(CommandCell='Reference Cells'!$C$17,NA(),ABS('Data In'!B183-INDIRECT(\"ZeroVal_\"&H$2,0)))","v":0},{"$f":"IF(CommandCell='Reference Cells'!$C$17,NA(),ABS('Data In'!C183-INDIRECT(\"ZeroVal_\"&I$2,0)))","v":0},{"$f":"IF(CommandCell='Reference Cells'!$C$17,NA(),ABS('Data In'!D183-INDIRECT(\"ZeroVal_\"&J$2,0)))","v":0},{"$f":"IF(CommandCell='Reference Cells'!$C$17,NA(),ABS('Data In'!E183-INDIRECT(\"ZeroVal_\"&K$2,0)))","v":0},{"$f":"IF(CommandCell='Reference Cells'!$C$17,NA(),ABS('Data In'!F183-INDIRECT(\"ZeroVal_\"&L$2,0)))","v":0},{"$f":"MAX(BackendTable[[#This Row],[S1]:[S5]])","v":0},{"$f":"IF(ISERROR(BackendTable[[#This Row],[T0Time]]),0,COUNTIFS(BackendTable[T0Time],\"<=\"&3,BackendTable[T0Time],\">=\"&0)-COUNTIFS(BackendTable[T0Time],\">\"&BackendTable[[#This Row],[T0Time]]))","v":500},null,null,null,null,null,null,null,null,null,null,null,null,null,null,null,null,null,null,null,null,null,null,null,null,{"$f":"MATCH(MAX(BackendTable[[#This Row],[T1S1]:[T1S5]]),BackendTable[[#This Row],[T1S1]:[T1S5]],0)","v":{"$error":"#N/A"}},{"$f":"MATCH(MAX(BackendTable[[#This Row],[T2S1]:[T2S5]]),BackendTable[[#This Row],[T2S1]:[T2S5]],0)","v":{"$error":"#N/A"}},{"$f":"MATCH(MAX(BackendTable[[#This Row],[T3S1]:[T3S5]]),BackendTable[[#This Row],[T3S1]:[T3S5]],0)","v":{"$error":"#N/A"}}]
[null,{"$f":"ROW()-ROW(BackendTable[[#Headers],[Row'#]])","v":177},{"$f":"'Data In'!A184","v":0},{"$f":"IF(BackendTable[[#This Row],[Time]]-'Reference Cells'!$C$3<=0,NA(),'Reference Cells'!$C$4-BackendTable[[#This Row],[Time]])*86400","v":{"$error":"#N/A"}},{"$f":"IFERROR(8-BackendTable[[#This Row],[Column1]],\"\")","v":""},{"$f":"IF(ISERROR(BackendTable[[#This Row],[Column1]]),-9,(BackendTable[[#This Row],[Net Time]]-NetTimeMin)*RangeAdj)","v":-9},{"$f":"IF(AND(BackendTable[[#This Row],[Time]]>='Reference Cells'!$C$6,BackendTable[[#This Row],[Time]]<='Reference Cells'!$C$7),(BackendTable[[#This Row],[Time]]-'Reference Cells'!$C$6)*86400,NA())","v":2},{"$f":"IF(CommandCell='Reference Cells'!$C$17,NA(),ABS('Data In'!B184-INDIRECT(\"ZeroVal_\"&H$2,0)))","v":0},{"$f":"IF(CommandCell='Reference Cells'!$C$17,NA(),ABS('Data In'!C184-INDIRECT(\"ZeroVal_\"&I$2,0)))","v":0},{"$f":"IF(CommandCell='Reference Cells'!$C$17,NA(),ABS('Data In'!D184-INDIRECT(\"ZeroVal_\"&J$2,0)))","v":0},{"$f":"IF(CommandCell='Reference Cells'!$C$17,NA(),ABS('Data In'!E184-INDIRECT(\"ZeroVal_\"&K$2,0)))","v":0},{"$f":"IF(CommandCell='Reference Cells'!$C$17,NA(),ABS('Data In'!F184-INDIRECT(\"ZeroVal_\"&L$2,0)))","v":0},{"$f":"MAX(BackendTable[[#This Row],[S1]:[S5]])","v":0},{"$f":"IF(ISERROR(BackendTable[[#This Row],[T0Time]]),0,COUNTIFS(BackendTable[T0Time],\"<=\"&3,BackendTable[T0Time],\">=\"&0)-COUNTIFS(BackendTable[T0Time],\">\"&BackendTable[[#This Row],[T0Time]]))","v":500},null,null,null,null,null,null,null,null,null,null,null,null,null,null,null,null,null,null,null,null,null,null,null,null,{"$f":"MATCH(MAX(BackendTable[[#This Row],[T1S1]:[T1S5]]),BackendTable[[#This Row],[T1S1]:[T1S5]],0)","v":{"$error":"#N/A"}},{"$f":"MATCH(MAX(BackendTable[[#This Row],[T2S1]:[T2S5]]),BackendTable[[#This Row],[T2S1]:[T2S5]],0)","v":{"$error":"#N/A"}},{"$f":"MATCH(MAX(BackendTable[[#This Row],[T3S1]:[T3S5]]),BackendTable[[#This Row],[T3S1]:[T3S5]],0)","v":{"$error":"#N/A"}}]
[null,{"$f":"ROW()-ROW(BackendTable[[#Headers],[Row'#]])","v":178},{"$f":"'Data In'!A185","v":0},{"$f":"IF(BackendTable[[#This Row],[Time]]-'Reference Cells'!$C$3<=0,NA(),'Reference Cells'!$C$4-BackendTable[[#This Row],[Time]])*86400","v":{"$error":"#N/A"}},{"$f":"IFERROR(8-BackendTable[[#This Row],[Column1]],\"\")","v":""},{"$f":"IF(ISERROR(BackendTable[[#This Row],[Column1]]),-9,(BackendTable[[#This Row],[Net Time]]-NetTimeMin)*RangeAdj)","v":-9},{"$f":"IF(AND(BackendTable[[#This Row],[Time]]>='Reference Cells'!$C$6,BackendTable[[#This Row],[Time]]<='Reference Cells'!$C$7),(BackendTable[[#This Row],[Time]]-'Reference Cells'!$C$6)*86400,NA())","v":2},{"$f":"IF(CommandCell='Reference Cells'!$C$17,NA(),ABS('Data In'!B185-INDIRECT(\"ZeroVal_\"&H$2,0)))","v":0},{"$f":"IF(CommandCell='Reference Cells'!$C$17,NA(),ABS('Data In'!C185-INDIRECT(\"ZeroVal_\"&I$2,0)))","v":0},{"$f":"IF(CommandCell='Reference Cells'!$C$17,NA(),ABS('Data In'!D185-INDIRECT(\"ZeroVal_\"&J$2,0)))","v":0},{"$f":"IF(CommandCell='Reference Cells'!$C$17,NA(),ABS('Data In'!E185-INDIRECT(\"ZeroVal_\"&K$2,0)))","v":0},{"$f":"IF(CommandCell='Reference Cells'!$C$17,NA(),ABS('Data In'!F185-INDIRECT(\"ZeroVal_\"&L$2,0)))","v":0},{"$f":"MAX(BackendTable[[#This Row],[S1]:[S5]])","v":0},{"$f":"IF(ISERROR(BackendTable[[#This Row],[T0Time]]),0,COUNTIFS(BackendTable[T0Time],\"<=\"&3,BackendTable[T0Time],\">=\"&0)-COUNTIFS(BackendTable[T0Time],\">\"&BackendTable[[#This Row],[T0Time]]))","v":500},null,null,null,null,null,null,null,null,null,null,null,null,null,null,null,null,null,null,null,null,null,null,null,null,{"$f":"MATCH(MAX(BackendTable[[#This Row],[T1S1]:[T1S5]]),BackendTable[[#This Row],[T1S1]:[T1S5]],0)","v":{"$error":"#N/A"}},{"$f":"MATCH(MAX(BackendTable[[#This Row],[T2S1]:[T2S5]]),BackendTable[[#This Row],[T2S1]:[T2S5]],0)","v":{"$error":"#N/A"}},{"$f":"MATCH(MAX(BackendTable[[#This Row],[T3S1]:[T3S5]]),BackendTable[[#This Row],[T3S1]:[T3S5]],0)","v":{"$error":"#N/A"}}]
[null,{"$f":"ROW()-ROW(BackendTable[[#Headers],[Row'#]])","v":179},{"$f":"'Data In'!A186","v":0},{"$f":"IF(BackendTable[[#This Row],[Time]]-'Reference Cells'!$C$3<=0,NA(),'Reference Cells'!$C$4-BackendTable[[#This Row],[Time]])*86400","v":{"$error":"#N/A"}},{"$f":"IFERROR(8-BackendTable[[#This Row],[Column1]],\"\")","v":""},{"$f":"IF(ISERROR(BackendTable[[#This Row],[Column1]]),-9,(BackendTable[[#This Row],[Net Time]]-NetTimeMin)*RangeAdj)","v":-9},{"$f":"IF(AND(BackendTable[[#This Row],[Time]]>='Reference Cells'!$C$6,BackendTable[[#This Row],[Time]]<='Reference Cells'!$C$7),(BackendTable[[#This Row],[Time]]-'Reference Cells'!$C$6)*86400,NA())","v":2},{"$f":"IF(CommandCell='Reference Cells'!$C$17,NA(),ABS('Data In'!B186-INDIRECT(\"ZeroVal_\"&H$2,0)))","v":0},{"$f":"IF(CommandCell='Reference Cells'!$C$17,NA(),ABS('Data In'!C186-INDIRECT(\"ZeroVal_\"&I$2,0)))","v":0},{"$f":"IF(CommandCell='Reference Cells'!$C$17,NA(),ABS('Data In'!D186-INDIRECT(\"ZeroVal_\"&J$2,0)))","v":0},{"$f":"IF(CommandCell='Reference Cells'!$C$17,NA(),ABS('Data In'!E186-INDIRECT(\"ZeroVal_\"&K$2,0)))","v":0},{"$f":"IF(CommandCell='Reference Cells'!$C$17,NA(),ABS('Data In'!F186-INDIRECT(\"ZeroVal_\"&L$2,0)))","v":0},{"$f":"MAX(BackendTable[[#This Row],[S1]:[S5]])","v":0},{"$f":"IF(ISERROR(BackendTable[[#This Row],[T0Time]]),0,COUNTIFS(BackendTable[T0Time],\"<=\"&3,BackendTable[T0Time],\">=\"&0)-COUNTIFS(BackendTable[T0Time],\">\"&BackendTable[[#This Row],[T0Time]]))","v":500},null,null,null,null,null,null,null,null,null,null,null,null,null,null,null,null,null,null,null,null,null,null,null,null,{"$f":"MATCH(MAX(BackendTable[[#This Row],[T1S1]:[T1S5]]),BackendTable[[#This Row],[T1S1]:[T1S5]],0)","v":{"$error":"#N/A"}},{"$f":"MATCH(MAX(BackendTable[[#This Row],[T2S1]:[T2S5]]),BackendTable[[#This Row],[T2S1]:[T2S5]],0)","v":{"$error":"#N/A"}},{"$f":"MATCH(MAX(BackendTable[[#This Row],[T3S1]:[T3S5]]),BackendTable[[#This Row],[T3S1]:[T3S5]],0)","v":{"$error":"#N/A"}}]
[null,{"$f":"ROW()-ROW(BackendTable[[#Headers],[Row'#]])","v":180},{"$f":"'Data In'!A187","v":0},{"$f":"IF(BackendTable[[#This Row],[Time]]-'Reference Cells'!$C$3<=0,NA(),'Reference Cells'!$C$4-BackendTable[[#This Row],[Time]])*86400","v":{"$error":"#N/A"}},{"$f":"IFERROR(8-BackendTable[[#This Row],[Column1]],\"\")","v":""},{"$f":"IF(ISERROR(BackendTable[[#This Row],[Column1]]),-9,(BackendTable[[#This Row],[Net Time]]-NetTimeMin)*RangeAdj)","v":-9},{"$f":"IF(AND(BackendTable[[#This Row],[Time]]>='Reference Cells'!$C$6,BackendTable[[#This Row],[Time]]<='Reference Cells'!$C$7),(BackendTable[[#This Row],[Time]]-'Reference Cells'!$C$6)*86400,NA())","v":2},{"$f":"IF(CommandCell='Reference Cells'!$C$17,NA(),ABS('Data In'!B187-INDIRECT(\"ZeroVal_\"&H$2,0)))","v":0},{"$f":"IF(CommandCell='Reference Cells'!$C$17,NA(),ABS('Data In'!C187-INDIRECT(\"ZeroVal_\"&I$2,0)))","v":0},{"$f":"IF(CommandCell='Reference Cells'!$C$17,NA(),ABS('Data In'!D187-INDIRECT(\"ZeroVal_\"&J$2,0)))","v":0},{"$f":"IF(CommandCell='Reference Cells'!$C$17,NA(),ABS('Data In'!E187-INDIRECT(\"ZeroVal_\"&K$2,0)))","v":0},{"$f":"IF(CommandCell='Reference Cells'!$C$17,NA(),ABS('Data In'!F187-INDIRECT(\"ZeroVal_\"&L$2,0)))","v":0},{"$f":"MAX(BackendTable[[#This Row],[S1]:[S5]])","v":0},{"$f":"IF(ISERROR(BackendTable[[#This Row],[T0Time]]),0,COUNTIFS(BackendTable[T0Time],\"<=\"&3,BackendTable[T0Time],\">=\"&0)-COUNTIFS(BackendTable[T0Time],\">\"&BackendTable[[#This Row],[T0Time]]))","v":500},null,null,null,null,null,null,null,null,null,null,null,null,null,null,null,null,null,null,null,null,null,null,null,null,{"$f":"MATCH(MAX(BackendTable[[#This Row],[T1S1]:[T1S5]]),BackendTable[[#This Row],[T1S1]:[T1S5]],0)","v":{"$error":"#N/A"}},{"$f":"MATCH(MAX(BackendTable[[#This Row],[T2S1]:[T2S5]]),BackendTable[[#This Row],[T2S1]:[T2S5]],0)","v":{"$error":"#N/A"}},{"$f":"MATCH(MAX(BackendTable[[#This Row],[T3S1]:[T3S5]]),BackendTable[[#This Row],[T3S1]:[T3S5]],0)","v":{"$error":"#N/A"}}]
[null,{"$f":"ROW()-ROW(BackendTable[[#Headers],[Row'#]])","v":181},{"$f":"'Data In'!A188","v":0},{"$f":"IF(BackendTable[[#This Row],[Time]]-'Reference Cells'!$C$3<=0,NA(),'Reference Cells'!$C$4-BackendTable[[#This Row],[Time]])*86400","v":{"$error":"#N/A"}},{"$f":"IFERROR(8-BackendTable[[#This Row],[Column1]],\"\")","v":""},{"$f":"IF(ISERROR(BackendTable[[#This Row],[Column1]]),-9,(BackendTable[[#This Row],[Net Time]]-NetTimeMin)*RangeAdj)","v":-9},{"$f":"IF(AND(BackendTable[[#This Row],[Time]]>='Reference Cells'!$C$6,BackendTable[[#This Row],[Time]]<='Reference Cells'!$C$7),(BackendTable[[#This Row],[Time]]-'Reference Cells'!$C$6)*86400,NA())","v":2},{"$f":"IF(CommandCell='Reference Cells'!$C$17,NA(),ABS('Data In'!B188-INDIRECT(\"ZeroVal_\"&H$2,0)))","v":0},{"$f":"IF(CommandCell='Reference Cells'!$C$17,NA(),ABS('Data In'!C188-INDIRECT(\"ZeroVal_\"&I$2,0)))","v":0},{"$f":"IF(CommandCell='Reference Cells'!$C$17,NA(),ABS('Data In'!D188-INDIRECT(\"ZeroVal_\"&J$2,0)))","v":0},{"$f":"IF(CommandCell='Reference Cells'!$C$17,NA(),ABS('Data In'!E188-INDIRECT(\"ZeroVal_\"&K$2,0)))","v":0},{"$f":"IF(CommandCell='Reference Cells'!$C$17,NA(),ABS('Data In'!F188-INDIRECT(\"ZeroVal_\"&L$2,0)))","v":0},{"$f":"MAX(BackendTable[[#This Row],[S1]:[S5]])","v":0},{"$f":"IF(ISERROR(BackendTable[[#This Row],[T0Time]]),0,COUNTIFS(BackendTable[T0Time],\"<=\"&3,BackendTable[T0Time],\">=\"&0)-COUNTIFS(BackendTable[T0Time],\">\"&BackendTable[[#This Row],[T0Time]]))","v":500},null,null,null,null,null,null,null,null,null,null,null,null,null,null,null,null,null,null,null,null,null,null,null,null,{"$f":"MATCH(MAX(BackendTable[[#This Row],[T1S1]:[T1S5]]),BackendTable[[#This Row],[T1S1]:[T1S5]],0)","v":{"$error":"#N/A"}},{"$f":"MATCH(MAX(BackendTable[[#This Row],[T2S1]:[T2S5]]),BackendTable[[#This Row],[T2S1]:[T2S5]],0)","v":{"$error":"#N/A"}},{"$f":"MATCH(MAX(BackendTable[[#This Row],[T3S1]:[T3S5]]),BackendTable[[#This Row],[T3S1]:[T3S5]],0)","v":{"$error":"#N/A"}}]
[null,{"$f":"ROW()-ROW(BackendTable[[#Headers],[Row'#]])","v":182},{"$f":"'Data In'!A189","v":0},{"$f":"IF(BackendTable[[#This Row],[Time]]-'Reference Cells'!$C$3<=0,NA(),'Reference Cells'!$C$4-BackendTable[[#This Row],[Time]])*86400","v":{"$error":"#N/A"}},{"$f":"IFERROR(8-BackendTable[[#This Row],[Column1]],\"\")","v":""},{"$f":"IF(ISERROR(BackendTable[[#This Row],[Column1]]),-9,(BackendTable[[#This Row],[Net Time]]-NetTimeMin)*RangeAdj)","v":-9},{"$f":"IF(AND(BackendTable[[#This Row],[Time]]>='Reference Cells'!$C$6,BackendTable[[#This Row],[Time]]<='Reference Cells'!$C$7),(BackendTable[[#This Row],[Time]]-'Reference Cells'!$C$6)*86400,NA())","v":2},{"$f":"IF(CommandCell='Reference Cells'!$C$17,NA(),ABS('Data In'!B189-INDIRECT(\"ZeroVal_\"&H$2,0)))","v":0},{"$f":"IF(CommandCell='Reference Cells'!$C$17,NA(),ABS('Data In'!C189-INDIRECT(\"ZeroVal_\"&I$2,0)))","v":0},{"$f":"IF(CommandCell='Reference Cells'!$C$17,NA(),ABS('Data In'!D189-INDIRECT(\"ZeroVal_\"&J$2,0)))","v":0},{"$f":"IF(CommandCell='Reference Cells'!$C$17,NA(),ABS('Data In'!E189-INDIRECT(\"ZeroVal_\"&K$2,0)))","v":0},{"$f":"IF(CommandCell='Reference Cells'!$C$17,NA(),ABS('Data In'!F189-INDIRECT(\"ZeroVal_\"&L$2,0)))","v":0},{"$f":"MAX(BackendTable[[#This Row],[S1]:[S5]])","v":0},{"$f":"IF(ISERROR(BackendTable[[#This Row],[T0Time]]),0,COUNTIFS(BackendTable[T0Time],\"<=\"&3,BackendTable[T0Time],\">=\"&0)-COUNTIFS(BackendTable[T0Time],\">\"&BackendTable[[#This Row],[T0Time]]))","v":500},null,null,null,null,null,null,null,null,null,null,null,null,null,null,null,null,null,null,null,null,null,null,null,null,{"$f":"MATCH(MAX(BackendTable[[#This Row],[T1S1]:[T1S5]]),BackendTable[[#This Row],[T1S1]:[T1S5]],0)","v":{"$error":"#N/A"}},{"$f":"MATCH(MAX(BackendTable[[#This Row],[T2S1]:[T2S5]]),BackendTable[[#This Row],[T2S1]:[T2S5]],0)","v":{"$error":"#N/A"}},{"$f":"MATCH(MAX(BackendTable[[#This Row],[T3S1]:[T3S5]]),BackendTable[[#This Row],[T3S1]:[T3S5]],0)","v":{"$error":"#N/A"}}]
[null,{"$f":"ROW()-ROW(BackendTable[[#Headers],[Row'#]])","v":183},{"$f":"'Data In'!A190","v":0},{"$f":"IF(BackendTable[[#This Row],[Time]]-'Reference Cells'!$C$3<=0,NA(),'Reference Cells'!$C$4-BackendTable[[#This Row],[Time]])*86400","v":{"$error":"#N/A"}},{"$f":"IFERROR(8-BackendTable[[#This Row],[Column1]],\"\")","v":""},{"$f":"IF(ISERROR(BackendTable[[#This Row],[Column1]]),-9,(BackendTable[[#This Row],[Net Time]]-NetTimeMin)*RangeAdj)","v":-9},{"$f":"IF(AND(BackendTable[[#This Row],[Time]]>='Reference Cells'!$C$6,BackendTable[[#This Row],[Time]]<='Reference Cells'!$C$7),(BackendTable[[#This Row],[Time]]-'Reference Cells'!$C$6)*86400,NA())","v":2},{"$f":"IF(CommandCell='Reference Cells'!$C$17,NA(),ABS('Data In'!B190-INDIRECT(\"ZeroVal_\"&H$2,0)))","v":0},{"$f":"IF(CommandCell='Reference Cells'!$C$17,NA(),ABS('Data In'!C190-INDIRECT(\"ZeroVal_\"&I$2,0)))","v":0},{"$f":"IF(CommandCell='Reference Cells'!$C$17,NA(),ABS('Data In'!D190-INDIRECT(\"ZeroVal_\"&J$2,0)))","v":0},{"$f":"IF(CommandCell='Reference Cells'!$C$17,NA(),ABS('Data In'!E190-INDIRECT(\"ZeroVal_\"&K$2,0)))","v":0},{"$f":"IF(CommandCell='Reference Cells'!$C$17,NA(),ABS('Data In'!F190-INDIRECT(\"ZeroVal_\"&L$2,0)))","v":0},{"$f":"MAX(BackendTable[[#This Row],[S1]:[S5]])","v":0},{"$f":"IF(ISERROR(BackendTable[[#This Row],[T0Time]]),0,COUNTIFS(BackendTable[T0Time],\"<=\"&3,BackendTable[T0Time],\">=\"&0)-COUNTIFS(BackendTable[T0Time],\">\"&BackendTable[[#This Row],[T0Time]]))","v":500},null,null,null,null,null,null,null,null,null,null,null,null,null,null,null,null,null,null,null,null,null,null,null,null,{"$f":"MATCH(MAX(BackendTable[[#This Row],[T1S1]:[T1S5]]),BackendTable[[#This Row],[T1S1]:[T1S5]],0)","v":{"$error":"#N/A"}},{"$f":"MATCH(MAX(BackendTable[[#This Row],[T2S1]:[T2S5]]),BackendTable[[#This Row],[T2S1]:[T2S5]],0)","v":{"$error":"#N/A"}},{"$f":"MATCH(MAX(BackendTable[[#This Row],[T3S1]:[T3S5]]),BackendTable[[#This Row],[T3S1]:[T3S5]],0)","v":{"$error":"#N/A"}}]
[null,{"$f":"ROW()-ROW(BackendTable[[#Headers],[Row'#]])","v":184},{"$f":"'Data In'!A191","v":0},{"$f":"IF(BackendTable[[#This Row],[Time]]-'Reference Cells'!$C$3<=0,NA(),'Reference Cells'!$C$4-BackendTable[[#This Row],[Time]])*86400","v":{"$error":"#N/A"}},{"$f":"IFERROR(8-BackendTable[[#This Row],[Column1]],\"\")","v":""},{"$f":"IF(ISERROR(BackendTable[[#This Row],[Column1]]),-9,(BackendTable[[#This Row],[Net Time]]-NetTimeMin)*RangeAdj)","v":-9},{"$f":"IF(AND(BackendTable[[#This Row],[Time]]>='Reference Cells'!$C$6,BackendTable[[#This Row],[Time]]<='Reference Cells'!$C$7),(BackendTable[[#This Row],[Time]]-'Reference Cells'!$C$6)*86400,NA())","v":2},{"$f":"IF(CommandCell='Reference Cells'!$C$17,NA(),ABS('Data In'!B191-INDIRECT(\"ZeroVal_\"&H$2,0)))","v":0},{"$f":"IF(CommandCell='Reference Cells'!$C$17,NA(),ABS('Data In'!C191-INDIRECT(\"ZeroVal_\"&I$2,0)))","v":0},{"$f":"IF(CommandCell='Reference Cells'!$C$17,NA(),ABS('Data In'!D191-INDIRECT(\"ZeroVal_\"&J$2,0)))","v":0},{"$f":"IF(CommandCell='Reference Cells'!$C$17,NA(),ABS('Data In'!E191-INDIRECT(\"ZeroVal_\"&K$2,0)))","v":0},{"$f":"IF(CommandCell='Reference Cells'!$C$17,NA(),ABS('Data In'!F191-INDIRECT(\"ZeroVal_\"&L$2,0)))","v":0},{"$f":"MAX(BackendTable[[#This Row],[S1]:[S5]])","v":0},{"$f":"IF(ISERROR(BackendTable[[#This Row],[T0Time]]),0,COUNTIFS(BackendTable[T0Time],\"<=\"&3,BackendTable[T0Time],\">=\"&0)-COUNTIFS(BackendTable[T0Time],\">\"&BackendTable[[#This Row],[T0Time]]))","v":500},null,null,null,null,null,null,null,null,null,null,null,null,null,null,null,null,null,null,null,null,null,null,null,null,{"$f":"MATCH(MAX(BackendTable[[#This Row],[T1S1]:[T1S5]]),BackendTable[[#This Row],[T1S1]:[T1S5]],0)","v":{"$error":"#N/A"}},{"$f":"MATCH(MAX(BackendTable[[#This Row],[T2S1]:[T2S5]]),BackendTable[[#This Row],[T2S1]:[T2S5]],0)","v":{"$error":"#N/A"}},{"$f":"MATCH(MAX(BackendTable[[#This Row],[T3S1]:[T3S5]]),BackendTable[[#This Row],[T3S1]:[T3S5]],0)","v":{"$error":"#N/A"}}]
[null,{"$f":"ROW()-ROW(BackendTable[[#Headers],[Row'#]])","v":185},{"$f":"'Data In'!A192","v":0},{"$f":"IF(BackendTable[[#This Row],[Time]]-'Reference Cells'!$C$3<=0,NA(),'Reference Cells'!$C$4-BackendTable[[#This Row],[Time]])*86400","v":{"$error":"#N/A"}},{"$f":"IFERROR(8-BackendTable[[#This Row],[Column1]],\"\")","v":""},{"$f":"IF(ISERROR(BackendTable[[#This Row],[Column1]]),-9,(BackendTable[[#This Row],[Net Time]]-NetTimeMin)*RangeAdj)","v":-9},{"$f":"IF(AND(BackendTable[[#This Row],[Time]]>='Reference Cells'!$C$6,BackendTable[[#This Row],[Time]]<='Reference Cells'!$C$7),(BackendTable[[#This Row],[Time]]-'Reference Cells'!$C$6)*86400,NA())","v":2},{"$f":"IF(CommandCell='Reference Cells'!$C$17,NA(),ABS('Data In'!B192-INDIRECT(\"ZeroVal_\"&H$2,0)))","v":0},{"$f":"IF(CommandCell='Reference Cells'!$C$17,NA(),ABS('Data In'!C192-INDIRECT(\"ZeroVal_\"&I$2,0)))","v":0},{"$f":"IF(CommandCell='Reference Cells'!$C$17,NA(),ABS('Data In'!D192-INDIRECT(\"ZeroVal_\"&J$2,0)))","v":0},{"$f":"IF(CommandCell='Reference Cells'!$C$17,NA(),ABS('Data In'!E192-INDIRECT(\"ZeroVal_\"&K$2,0)))","v":0},{"$f":"IF(CommandCell='Reference Cells'!$C$17,NA(),ABS('Data In'!F192-INDIRECT(\"ZeroVal_\"&L$2,0)))","v":0},{"$f":"MAX(BackendTable[[#This Row],[S1]:[S5]])","v":0},{"$f":"IF(ISERROR(BackendTable[[#This Row],[T0Time]]),0,COUNTIFS(BackendTable[T0Time],\"<=\"&3,BackendTable[T0Time],\">=\"&0)-COUNTIFS(BackendTable[T0Time],\">\"&BackendTable[[#This Row],[T0Time]]))","v":500},null,null,null,null,null,null,null,null,null,null,null,null,null,null,null,null,null,null,null,null,null,null,null,null,{"$f":"MATCH(MAX(BackendTable[[#This Row],[T1S1]:[T1S5]]),BackendTable[[#This Row],[T1S1]:[T1S5]],0)","v":{"$error":"#N/A"}},{"$f":"MATCH(MAX(BackendTable[[#This Row],[T2S1]:[T2S5]]),BackendTable[[#This Row],[T2S1]:[T2S5]],0)","v":{"$error":"#N/A"}},{"$f":"MATCH(MAX(BackendTable[[#This Row],[T3S1]:[T3S5]]),BackendTable[[#This Row],[T3S1]:[T3S5]],0)","v":{"$error":"#N/A"}}]
[null,{"$f":"ROW()-ROW(BackendTable[[#Headers],[Row'#]])","v":186},{"$f":"'Data In'!A193","v":0},{"$f":"IF(BackendTable[[#This Row],[Time]]-'Reference Cells'!$C$3<=0,NA(),'Reference Cells'!$C$4-BackendTable[[#This Row],[Time]])*86400","v":{"$error":"#N/A"}},{"$f":"IFERROR(8-BackendTable[[#This Row],[Column1]],\"\")","v":""},{"$f":"IF(ISERROR(BackendTable[[#This Row],[Column1]]),-9,(BackendTable[[#This Row],[Net Time]]-NetTimeMin)*RangeAdj)","v":-9},{"$f":"IF(AND(BackendTable[[#This Row],[Time]]>='Reference Cells'!$C$6,BackendTable[[#This Row],[Time]]<='Reference Cells'!$C$7),(BackendTable[[#This Row],[Time]]-'Reference Cells'!$C$6)*86400,NA())","v":2},{"$f":"IF(CommandCell='Reference Cells'!$C$17,NA(),ABS('Data In'!B193-INDIRECT(\"ZeroVal_\"&H$2,0)))","v":0},{"$f":"IF(CommandCell='Reference Cells'!$C$17,NA(),ABS('Data In'!C193-INDIRECT(\"ZeroVal_\"&I$2,0)))","v":0},{"$f":"IF(CommandCell='Reference Cells'!$C$17,NA(),ABS('Data In'!D193-INDIRECT(\"ZeroVal_\"&J$2,0)))","v":0},{"$f":"IF(CommandCell='Reference Cells'!$C$17,NA(),ABS('Data In'!E193-INDIRECT(\"ZeroVal_\"&K$2,0)))","v":0},{"$f":"IF(CommandCell='Reference Cells'!$C$17,NA(),ABS('Data In'!F193-INDIRECT(\"ZeroVal_\"&L$2,0)))","v":0},{"$f":"MAX(BackendTable[[#This Row],[S1]:[S5]])","v":0},{"$f":"IF(ISERROR(BackendTable[[#This Row],[T0Time]]),0,COUNTIFS(BackendTable[T0Time],\"<=\"&3,BackendTable[T0Time],\">=\"&0)-COUNTIFS(BackendTable[T0Time],\">\"&BackendTable[[#This Row],[T0Time]]))","v":500},null,null,null,null,null,null,null,null,null,null,null,null,null,null,null,null,null,null,null,null,null,null,null,null,{"$f":"MATCH(MAX(BackendTable[[#This Row],[T1S1]:[T1S5]]),BackendTable[[#This Row],[T1S1]:[T1S5]],0)","v":{"$error":"#N/A"}},{"$f":"MATCH(MAX(BackendTable[[#This Row],[T2S1]:[T2S5]]),BackendTable[[#This Row],[T2S1]:[T2S5]],0)","v":{"$error":"#N/A"}},{"$f":"MATCH(MAX(BackendTable[[#This Row],[T3S1]:[T3S5]]),BackendTable[[#This Row],[T3S1]:[T3S5]],0)","v":{"$error":"#N/A"}}]
[null,{"$f":"ROW()-ROW(BackendTable[[#Headers],[Row'#]])","v":187},{"$f":"'Data In'!A194","v":0},{"$f":"IF(BackendTable[[#This Row],[Time]]-'Reference Cells'!$C$3<=0,NA(),'Reference Cells'!$C$4-BackendTable[[#This Row],[Time]])*86400","v":{"$error":"#N/A"}},{"$f":"IFERROR(8-BackendTable[[#This Row],[Column1]],\"\")","v":""},{"$f":"IF(ISERROR(BackendTable[[#This Row],[Column1]]),-9,(BackendTable[[#This Row],[Net Time]]-NetTimeMin)*RangeAdj)","v":-9},{"$f":"IF(AND(BackendTable[[#This Row],[Time]]>='Reference Cells'!$C$6,BackendTable[[#This Row],[Time]]<='Reference Cells'!$C$7),(BackendTable[[#This Row],[Time]]-'Reference Cells'!$C$6)*86400,NA())","v":2},{"$f":"IF(CommandCell='Reference Cells'!$C$17,NA(),ABS('Data In'!B194-INDIRECT(\"ZeroVal_\"&H$2,0)))","v":0},{"$f":"IF(CommandCell='Reference Cells'!$C$17,NA(),ABS('Data In'!C194-INDIRECT(\"ZeroVal_\"&I$2,0)))","v":0},{"$f":"IF(CommandCell='Reference Cells'!$C$17,NA(),ABS('Data In'!D194-INDIRECT(\"ZeroVal_\"&J$2,0)))","v":0},{"$f":"IF(CommandCell='Reference Cells'!$C$17,NA(),ABS('Data In'!E194-INDIRECT(\"ZeroVal_\"&K$2,0)))","v":0},{"$f":"IF(CommandCell='Reference Cells'!$C$17,NA(),ABS('Data In'!F194-INDIRECT(\"ZeroVal_\"&L$2,0)))","v":0},{"$f":"MAX(BackendTable[[#This Row],[S1]:[S5]])","v":0},{"$f":"IF(ISERROR(BackendTable[[#This Row],[T0Time]]),0,COUNTIFS(BackendTable[T0Time],\"<=\"&3,BackendTable[T0Time],\">=\"&0)-COUNTIFS(BackendTable[T0Time],\">\"&BackendTable[[#This Row],[T0Time]]))","v":500},null,null,null,null,null,null,null,null,null,null,null,null,null,null,null,null,null,null,null,null,null,null,null,null,{"$f":"MATCH(MAX(BackendTable[[#This Row],[T1S1]:[T1S5]]),BackendTable[[#This Row],[T1S1]:[T1S5]],0)","v":{"$error":"#N/A"}},{"$f":"MATCH(MAX(BackendTable[[#This Row],[T2S1]:[T2S5]]),BackendTable[[#This Row],[T2S1]:[T2S5]],0)","v":{"$error":"#N/A"}},{"$f":"MATCH(MAX(BackendTable[[#This Row],[T3S1]:[T3S5]]),BackendTable[[#This Row],[T3S1]:[T3S5]],0)","v":{"$error":"#N/A"}}]
[null,{"$f":"ROW()-ROW(BackendTable[[#Headers],[Row'#]])","v":188},{"$f":"'Data In'!A195","v":0},{"$f":"IF(BackendTable[[#This Row],[Time]]-'Reference Cells'!$C$3<=0,NA(),'Reference Cells'!$C$4-BackendTable[[#This Row],[Time]])*86400","v":{"$error":"#N/A"}},{"$f":"IFERROR(8-BackendTable[[#This Row],[Column1]],\"\")","v":""},{"$f":"IF(ISERROR(BackendTable[[#This Row],[Column1]]),-9,(BackendTable[[#This Row],[Net Time]]-NetTimeMin)*RangeAdj)","v":-9},{"$f":"IF(AND(BackendTable[[#This Row],[Time]]>='Reference Cells'!$C$6,BackendTable[[#This Row],[Time]]<='Reference Cells'!$C$7),(BackendTable[[#This Row],[Time]]-'Reference Cells'!$C$6)*86400,NA())","v":2},{"$f":"IF(CommandCell='Reference Cells'!$C$17,NA(),ABS('Data In'!B195-INDIRECT(\"ZeroVal_\"&H$2,0)))","v":0},{"$f":"IF(CommandCell='Reference Cells'!$C$17,NA(),ABS('Data In'!C195-INDIRECT(\"ZeroVal_\"&I$2,0)))","v":0},{"$f":"IF(CommandCell='Reference Cells'!$C$17,NA(),ABS('Data In'!D195-INDIRECT(\"ZeroVal_\"&J$2,0)))","v":0},{"$f":"IF(CommandCell='Reference Cells'!$C$17,NA(),ABS('Data In'!E195-INDIRECT(\"ZeroVal_\"&K$2,0)))","v":0},{"$f":"IF(CommandCell='Reference Cells'!$C$17,NA(),ABS('Data In'!F195-INDIRECT(\"ZeroVal_\"&L$2,0)))","v":0},{"$f":"MAX(BackendTable[[#This Row],[S1]:[S5]])","v":0},{"$f":"IF(ISERROR(BackendTable[[#This Row],[T0Time]]),0,COUNTIFS(BackendTable[T0Time],\"<=\"&3,BackendTable[T0Time],\">=\"&0)-COUNTIFS(BackendTable[T0Time],\">\"&BackendTable[[#This Row],[T0Time]]))","v":500},null,null,null,null,null,null,null,null,null,null,null,null,null,null,null,null,null,null,null,null,null,null,null,null,{"$f":"MATCH(MAX(BackendTable[[#This Row],[T1S1]:[T1S5]]),BackendTable[[#This Row],[T1S1]:[T1S5]],0)","v":{"$error":"#N/A"}},{"$f":"MATCH(MAX(BackendTable[[#This Row],[T2S1]:[T2S5]]),BackendTable[[#This Row],[T2S1]:[T2S5]],0)","v":{"$error":"#N/A"}},{"$f":"MATCH(MAX(BackendTable[[#This Row],[T3S1]:[T3S5]]),BackendTable[[#This Row],[T3S1]:[T3S5]],0)","v":{"$error":"#N/A"}}]
[null,{"$f":"ROW()-ROW(BackendTable[[#Headers],[Row'#]])","v":189},{"$f":"'Data In'!A196","v":0},{"$f":"IF(BackendTable[[#This Row],[Time]]-'Reference Cells'!$C$3<=0,NA(),'Reference Cells'!$C$4-BackendTable[[#This Row],[Time]])*86400","v":{"$error":"#N/A"}},{"$f":"IFERROR(8-BackendTable[[#This Row],[Column1]],\"\")","v":""},{"$f":"IF(ISERROR(BackendTable[[#This Row],[Column1]]),-9,(BackendTable[[#This Row],[Net Time]]-NetTimeMin)*RangeAdj)","v":-9},{"$f":"IF(AND(BackendTable[[#This Row],[Time]]>='Reference Cells'!$C$6,BackendTable[[#This Row],[Time]]<='Reference Cells'!$C$7),(BackendTable[[#This Row],[Time]]-'Reference Cells'!$C$6)*86400,NA())","v":2},{"$f":"IF(CommandCell='Reference Cells'!$C$17,NA(),ABS('Data In'!B196-INDIRECT(\"ZeroVal_\"&H$2,0)))","v":0},{"$f":"IF(CommandCell='Reference Cells'!$C$17,NA(),ABS('Data In'!C196-INDIRECT(\"ZeroVal_\"&I$2,0)))","v":0},{"$f":"IF(CommandCell='Reference Cells'!$C$17,NA(),ABS('Data In'!D196-INDIRECT(\"ZeroVal_\"&J$2,0)))","v":0},{"$f":"IF(CommandCell='Reference Cells'!$C$17,NA(),ABS('Data In'!E196-INDIRECT(\"ZeroVal_\"&K$2,0)))","v":0},{"$f":"IF(CommandCell='Reference Cells'!$C$17,NA(),ABS('Data In'!F196-INDIRECT(\"ZeroVal_\"&L$2,0)))","v":0},{"$f":"MAX(BackendTable[[#This Row],[S1]:[S5]])","v":0},{"$f":"IF(ISERROR(BackendTable[[#This Row],[T0Time]]),0,COUNTIFS(BackendTable[T0Time],\"<=\"&3,BackendTable[T0Time],\">=\"&0)-COUNTIFS(BackendTable[T0Time],\">\"&BackendTable[[#This Row],[T0Time]]))","v":500},null,null,null,null,null,null,null,null,null,null,null,null,null,null,null,null,null,null,null,null,null,null,null,null,{"$f":"MATCH(MAX(BackendTable[[#This Row],[T1S1]:[T1S5]]),BackendTable[[#This Row],[T1S1]:[T1S5]],0)","v":{"$error":"#N/A"}},{"$f":"MATCH(MAX(BackendTable[[#This Row],[T2S1]:[T2S5]]),BackendTable[[#This Row],[T2S1]:[T2S5]],0)","v":{"$error":"#N/A"}},{"$f":"MATCH(MAX(BackendTable[[#This Row],[T3S1]:[T3S5]]),BackendTable[[#This Row],[T3S1]:[T3S5]],0)","v":{"$error":"#N/A"}}]
[null,{"$f":"ROW()-ROW(BackendTable[[#Headers],[Row'#]])","v":190},{"$f":"'Data In'!A197","v":0},{"$f":"IF(BackendTable[[#This Row],[Time]]-'Reference Cells'!$C$3<=0,NA(),'Reference Cells'!$C$4-BackendTable[[#This Row],[Time]])*86400","v":{"$error":"#N/A"}},{"$f":"IFERROR(8-BackendTable[[#This Row],[Column1]],\"\")","v":""},{"$f":"IF(ISERROR(BackendTable[[#This Row],[Column1]]),-9,(BackendTable[[#This Row],[Net Time]]-NetTimeMin)*RangeAdj)","v":-9},{"$f":"IF(AND(BackendTable[[#This Row],[Time]]>='Reference Cells'!$C$6,BackendTable[[#This Row],[Time]]<='Reference Cells'!$C$7),(BackendTable[[#This Row],[Time]]-'Reference Cells'!$C$6)*86400,NA())","v":2},{"$f":"IF(CommandCell='Reference Cells'!$C$17,NA(),ABS('Data In'!B197-INDIRECT(\"ZeroVal_\"&H$2,0)))","v":0},{"$f":"IF(CommandCell='Reference Cells'!$C$17,NA(),ABS('Data In'!C197-INDIRECT(\"ZeroVal_\"&I$2,0)))","v":0},{"$f":"IF(CommandCell='Reference Cells'!$C$17,NA(),ABS('Data In'!D197-INDIRECT(\"ZeroVal_\"&J$2,0)))","v":0},{"$f":"IF(CommandCell='Reference Cells'!$C$17,NA(),ABS('Data In'!E197-INDIRECT(\"ZeroVal_\"&K$2,0)))","v":0},{"$f":"IF(CommandCell='Reference Cells'!$C$17,NA(),ABS('Data In'!F197-INDIRECT(\"ZeroVal_\"&L$2,0)))","v":0},{"$f":"MAX(BackendTable[[#This Row],[S1]:[S5]])","v":0},{"$f":"IF(ISERROR(BackendTable[[#This Row],[T0Time]]),0,COUNTIFS(BackendTable[T0Time],\"<=\"&3,BackendTable[T0Time],\">=\"&0)-COUNTIFS(BackendTable[T0Time],\">\"&BackendTable[[#This Row],[T0Time]]))","v":500},null,null,null,null,null,null,null,null,null,null,null,null,null,null,null,null,null,null,null,null,null,null,null,null,{"$f":"MATCH(MAX(BackendTable[[#This Row],[T1S1]:[T1S5]]),BackendTable[[#This Row],[T1S1]:[T1S5]],0)","v":{"$error":"#N/A"}},{"$f":"MATCH(MAX(BackendTable[[#This Row],[T2S1]:[T2S5]]),BackendTable[[#This Row],[T2S1]:[T2S5]],0)","v":{"$error":"#N/A"}},{"$f":"MATCH(MAX(BackendTable[[#This Row],[T3S1]:[T3S5]]),BackendTable[[#This Row],[T3S1]:[T3S5]],0)","v":{"$error":"#N/A"}}]
[null,{"$f":"ROW()-ROW(BackendTable[[#Headers],[Row'#]])","v":191},{"$f":"'Data In'!A198","v":0},{"$f":"IF(BackendTable[[#This Row],[Time]]-'Reference Cells'!$C$3<=0,NA(),'Reference Cells'!$C$4-BackendTable[[#This Row],[Time]])*86400","v":{"$error":"#N/A"}},{"$f":"IFERROR(8-BackendTable[[#This Row],[Column1]],\"\")","v":""},{"$f":"IF(ISERROR(BackendTable[[#This Row],[Column1]]),-9,(BackendTable[[#This Row],[Net Time]]-NetTimeMin)*RangeAdj)","v":-9},{"$f":"IF(AND(BackendTable[[#This Row],[Time]]>='Reference Cells'!$C$6,BackendTable[[#This Row],[Time]]<='Reference Cells'!$C$7),(BackendTable[[#This Row],[Time]]-'Reference Cells'!$C$6)*86400,NA())","v":2},{"$f":"IF(CommandCell='Reference Cells'!$C$17,NA(),ABS('Data In'!B198-INDIRECT(\"ZeroVal_\"&H$2,0)))","v":0},{"$f":"IF(CommandCell='Reference Cells'!$C$17,NA(),ABS('Data In'!C198-INDIRECT(\"ZeroVal_\"&I$2,0)))","v":0},{"$f":"IF(CommandCell='Reference Cells'!$C$17,NA(),ABS('Data In'!D198-INDIRECT(\"ZeroVal_\"&J$2,0)))","v":0},{"$f":"IF(CommandCell='Reference Cells'!$C$17,NA(),ABS('Data In'!E198-INDIRECT(\"ZeroVal_\"&K$2,0)))","v":0},{"$f":"IF(CommandCell='Reference Cells'!$C$17,NA(),ABS('Data In'!F198-INDIRECT(\"ZeroVal_\"&L$2,0)))","v":0},{"$f":"MAX(BackendTable[[#This Row],[S1]:[S5]])","v":0},{"$f":"IF(ISERROR(BackendTable[[#This Row],[T0Time]]),0,COUNTIFS(BackendTable[T0Time],\"<=\"&3,BackendTable[T0Time],\">=\"&0)-COUNTIFS(BackendTable[T0Time],\">\"&BackendTable[[#This Row],[T0Time]]))","v":500},null,null,null,null,null,null,null,null,null,null,null,null,null,null,null,null,null,null,null,null,null,null,null,null,{"$f":"MATCH(MAX(BackendTable[[#This Row],[T1S1]:[T1S5]]),BackendTable[[#This Row],[T1S1]:[T1S5]],0)","v":{"$error":"#N/A"}},{"$f":"MATCH(MAX(BackendTable[[#This Row],[T2S1]:[T2S5]]),BackendTable[[#This Row],[T2S1]:[T2S5]],0)","v":{"$error":"#N/A"}},{"$f":"MATCH(MAX(BackendTable[[#This Row],[T3S1]:[T3S5]]),BackendTable[[#This Row],[T3S1]:[T3S5]],0)","v":{"$error":"#N/A"}}]
[null,{"$f":"ROW()-ROW(BackendTable[[#Headers],[Row'#]])","v":192},{"$f":"'Data In'!A199","v":0},{"$f":"IF(BackendTable[[#This Row],[Time]]-'Reference Cells'!$C$3<=0,NA(),'Reference Cells'!$C$4-BackendTable[[#This Row],[Time]])*86400","v":{"$error":"#N/A"}},{"$f":"IFERROR(8-BackendTable[[#This Row],[Column1]],\"\")","v":""},{"$f":"IF(ISERROR(BackendTable[[#This Row],[Column1]]),-9,(BackendTable[[#This Row],[Net Time]]-NetTimeMin)*RangeAdj)","v":-9},{"$f":"IF(AND(BackendTable[[#This Row],[Time]]>='Reference Cells'!$C$6,BackendTable[[#This Row],[Time]]<='Reference Cells'!$C$7),(BackendTable[[#This Row],[Time]]-'Reference Cells'!$C$6)*86400,NA())","v":2},{"$f":"IF(CommandCell='Reference Cells'!$C$17,NA(),ABS('Data In'!B199-INDIRECT(\"ZeroVal_\"&H$2,0)))","v":0},{"$f":"IF(CommandCell='Reference Cells'!$C$17,NA(),ABS('Data In'!C199-INDIRECT(\"ZeroVal_\"&I$2,0)))","v":0},{"$f":"IF(CommandCell='Reference Cells'!$C$17,NA(),ABS('Data In'!D199-INDIRECT(\"ZeroVal_\"&J$2,0)))","v":0},{"$f":"IF(CommandCell='Reference Cells'!$C$17,NA(),ABS('Data In'!E199-INDIRECT(\"ZeroVal_\"&K$2,0)))","v":0},{"$f":"IF(CommandCell='Reference Cells'!$C$17,NA(),ABS('Data In'!F199-INDIRECT(\"ZeroVal_\"&L$2,0)))","v":0},{"$f":"MAX(BackendTable[[#This Row],[S1]:[S5]])","v":0},{"$f":"IF(ISERROR(BackendTable[[#This Row],[T0Time]]),0,COUNTIFS(BackendTable[T0Time],\"<=\"&3,BackendTable[T0Time],\">=\"&0)-COUNTIFS(BackendTable[T0Time],\">\"&BackendTable[[#This Row],[T0Time]]))","v":500},null,null,null,null,null,null,null,null,null,null,null,null,null,null,null,null,null,null,null,null,null,null,null,null,{"$f":"MATCH(MAX(BackendTable[[#This Row],[T1S1]:[T1S5]]),BackendTable[[#This Row],[T1S1]:[T1S5]],0)","v":{"$error":"#N/A"}},{"$f":"MATCH(MAX(BackendTable[[#This Row],[T2S1]:[T2S5]]),BackendTable[[#This Row],[T2S1]:[T2S5]],0)","v":{"$error":"#N/A"}},{"$f":"MATCH(MAX(BackendTable[[#This Row],[T3S1]:[T3S5]]),BackendTable[[#This Row],[T3S1]:[T3S5]],0)","v":{"$error":"#N/A"}}]
[null,{"$f":"ROW()-ROW(BackendTable[[#Headers],[Row'#]])","v":193},{"$f":"'Data In'!A200","v":0},{"$f":"IF(BackendTable[[#This Row],[Time]]-'Reference Cells'!$C$3<=0,NA(),'Reference Cells'!$C$4-BackendTable[[#This Row],[Time]])*86400","v":{"$error":"#N/A"}},{"$f":"IFERROR(8-BackendTable[[#This Row],[Column1]],\"\")","v":""},{"$f":"IF(ISERROR(BackendTable[[#This Row],[Column1]]),-9,(BackendTable[[#This Row],[Net Time]]-NetTimeMin)*RangeAdj)","v":-9},{"$f":"IF(AND(BackendTable[[#This Row],[Time]]>='Reference Cells'!$C$6,BackendTable[[#This Row],[Time]]<='Reference Cells'!$C$7),(BackendTable[[#This Row],[Time]]-'Reference Cells'!$C$6)*86400,NA())","v":2},{"$f":"IF(CommandCell='Reference Cells'!$C$17,NA(),ABS('Data In'!B200-INDIRECT(\"ZeroVal_\"&H$2,0)))","v":0},{"$f":"IF(CommandCell='Reference Cells'!$C$17,NA(),ABS('Data In'!C200-INDIRECT(\"ZeroVal_\"&I$2,0)))","v":0},{"$f":"IF(CommandCell='Reference Cells'!$C$17,NA(),ABS('Data In'!D200-INDIRECT(\"ZeroVal_\"&J$2,0)))","v":0},{"$f":"IF(CommandCell='Reference Cells'!$C$17,NA(),ABS('Data In'!E200-INDIRECT(\"ZeroVal_\"&K$2,0)))","v":0},{"$f":"IF(CommandCell='Reference Cells'!$C$17,NA(),ABS('Data In'!F200-INDIRECT(\"ZeroVal_\"&L$2,0)))","v":0},{"$f":"MAX(BackendTable[[#This Row],[S1]:[S5]])","v":0},{"$f":"IF(ISERROR(BackendTable[[#This Row],[T0Time]]),0,COUNTIFS(BackendTable[T0Time],\"<=\"&3,BackendTable[T0Time],\">=\"&0)-COUNTIFS(BackendTable[T0Time],\">\"&BackendTable[[#This Row],[T0Time]]))","v":500},null,null,null,null,null,null,null,null,null,null,null,null,null,null,null,null,null,null,null,null,null,null,null,null,{"$f":"MATCH(MAX(BackendTable[[#This Row],[T1S1]:[T1S5]]),BackendTable[[#This Row],[T1S1]:[T1S5]],0)","v":{"$error":"#N/A"}},{"$f":"MATCH(MAX(BackendTable[[#This Row],[T2S1]:[T2S5]]),BackendTable[[#This Row],[T2S1]:[T2S5]],0)","v":{"$error":"#N/A"}},{"$f":"MATCH(MAX(BackendTable[[#This Row],[T3S1]:[T3S5]]),BackendTable[[#This Row],[T3S1]:[T3S5]],0)","v":{"$error":"#N/A"}}]
[null,{"$f":"ROW()-ROW(BackendTable[[#Headers],[Row'#]])","v":194},{"$f":"'Data In'!A201","v":0},{"$f":"IF(BackendTable[[#This Row],[Time]]-'Reference Cells'!$C$3<=0,NA(),'Reference Cells'!$C$4-BackendTable[[#This Row],[Time]])*86400","v":{"$error":"#N/A"}},{"$f":"IFERROR(8-BackendTable[[#This Row],[Column1]],\"\")","v":""},{"$f":"IF(ISERROR(BackendTable[[#This Row],[Column1]]),-9,(BackendTable[[#This Row],[Net Time]]-NetTimeMin)*RangeAdj)","v":-9},{"$f":"IF(AND(BackendTable[[#This Row],[Time]]>='Reference Cells'!$C$6,BackendTable[[#This Row],[Time]]<='Reference Cells'!$C$7),(BackendTable[[#This Row],[Time]]-'Reference Cells'!$C$6)*86400,NA())","v":2},{"$f":"IF(CommandCell='Reference Cells'!$C$17,NA(),ABS('Data In'!B201-INDIRECT(\"ZeroVal_\"&H$2,0)))","v":0},{"$f":"IF(CommandCell='Reference Cells'!$C$17,NA(),ABS('Data In'!C201-INDIRECT(\"ZeroVal_\"&I$2,0)))","v":0},{"$f":"IF(CommandCell='Reference Cells'!$C$17,NA(),ABS('Data In'!D201-INDIRECT(\"ZeroVal_\"&J$2,0)))","v":0},{"$f":"IF(CommandCell='Reference Cells'!$C$17,NA(),ABS('Data In'!E201-INDIRECT(\"ZeroVal_\"&K$2,0)))","v":0},{"$f":"IF(CommandCell='Reference Cells'!$C$17,NA(),ABS('Data In'!F201-INDIRECT(\"ZeroVal_\"&L$2,0)))","v":0},{"$f":"MAX(BackendTable[[#This Row],[S1]:[S5]])","v":0},{"$f":"IF(ISERROR(BackendTable[[#This Row],[T0Time]]),0,COUNTIFS(BackendTable[T0Time],\"<=\"&3,BackendTable[T0Time],\">=\"&0)-COUNTIFS(BackendTable[T0Time],\">\"&BackendTable[[#This Row],[T0Time]]))","v":500},null,null,null,null,null,null,null,null,null,null,null,null,null,null,null,null,null,null,null,null,null,null,null,null,{"$f":"MATCH(MAX(BackendTable[[#This Row],[T1S1]:[T1S5]]),BackendTable[[#This Row],[T1S1]:[T1S5]],0)","v":{"$error":"#N/A"}},{"$f":"MATCH(MAX(BackendTable[[#This Row],[T2S1]:[T2S5]]),BackendTable[[#This Row],[T2S1]:[T2S5]],0)","v":{"$error":"#N/A"}},{"$f":"MATCH(MAX(BackendTable[[#This Row],[T3S1]:[T3S5]]),BackendTable[[#This Row],[T3S1]:[T3S5]],0)","v":{"$error":"#N/A"}}]
[null,{"$f":"ROW()-ROW(BackendTable[[#Headers],[Row'#]])","v":195},{"$f":"'Data In'!A202","v":0},{"$f":"IF(BackendTable[[#This Row],[Time]]-'Reference Cells'!$C$3<=0,NA(),'Reference Cells'!$C$4-BackendTable[[#This Row],[Time]])*86400","v":{"$error":"#N/A"}},{"$f":"IFERROR(8-BackendTable[[#This Row],[Column1]],\"\")","v":""},{"$f":"IF(ISERROR(BackendTable[[#This Row],[Column1]]),-9,(BackendTable[[#This Row],[Net Time]]-NetTimeMin)*RangeAdj)","v":-9},{"$f":"IF(AND(BackendTable[[#This Row],[Time]]>='Reference Cells'!$C$6,BackendTable[[#This Row],[Time]]<='Reference Cells'!$C$7),(BackendTable[[#This Row],[Time]]-'Reference Cells'!$C$6)*86400,NA())","v":2},{"$f":"IF(CommandCell='Reference Cells'!$C$17,NA(),ABS('Data In'!B202-INDIRECT(\"ZeroVal_\"&H$2,0)))","v":0},{"$f":"IF(CommandCell='Reference Cells'!$C$17,NA(),ABS('Data In'!C202-INDIRECT(\"ZeroVal_\"&I$2,0)))","v":0},{"$f":"IF(CommandCell='Reference Cells'!$C$17,NA(),ABS('Data In'!D202-INDIRECT(\"ZeroVal_\"&J$2,0)))","v":0},{"$f":"IF(CommandCell='Reference Cells'!$C$17,NA(),ABS('Data In'!E202-INDIRECT(\"ZeroVal_\"&K$2,0)))","v":0},{"$f":"IF(CommandCell='Reference Cells'!$C$17,NA(),ABS('Data In'!F202-INDIRECT(\"ZeroVal_\"&L$2,0)))","v":0},{"$f":"MAX(BackendTable[[#This Row],[S1]:[S5]])","v":0},{"$f":"IF(ISERROR(BackendTable[[#This Row],[T0Time]]),0,COUNTIFS(BackendTable[T0Time],\"<=\"&3,BackendTable[T0Time],\">=\"&0)-COUNTIFS(BackendTable[T0Time],\">\"&BackendTable[[#This Row],[T0Time]]))","v":500},null,null,null,null,null,null,null,null,null,null,null,null,null,null,null,null,null,null,null,null,null,null,null,null,{"$f":"MATCH(MAX(BackendTable[[#This Row],[T1S1]:[T1S5]]),BackendTable[[#This Row],[T1S1]:[T1S5]],0)","v":{"$error":"#N/A"}},{"$f":"MATCH(MAX(BackendTable[[#This Row],[T2S1]:[T2S5]]),BackendTable[[#This Row],[T2S1]:[T2S5]],0)","v":{"$error":"#N/A"}},{"$f":"MATCH(MAX(BackendTable[[#This Row],[T3S1]:[T3S5]]),BackendTable[[#This Row],[T3S1]:[T3S5]],0)","v":{"$error":"#N/A"}}]
[null,{"$f":"ROW()-ROW(BackendTable[[#Headers],[Row'#]])","v":196},{"$f":"'Data In'!A203","v":0},{"$f":"IF(BackendTable[[#This Row],[Time]]-'Reference Cells'!$C$3<=0,NA(),'Reference Cells'!$C$4-BackendTable[[#This Row],[Time]])*86400","v":{"$error":"#N/A"}},{"$f":"IFERROR(8-BackendTable[[#This Row],[Column1]],\"\")","v":""},{"$f":"IF(ISERROR(BackendTable[[#This Row],[Column1]]),-9,(BackendTable[[#This Row],[Net Time]]-NetTimeMin)*RangeAdj)","v":-9},{"$f":"IF(AND(BackendTable[[#This Row],[Time]]>='Reference Cells'!$C$6,BackendTable[[#This Row],[Time]]<='Reference Cells'!$C$7),(BackendTable[[#This Row],[Time]]-'Reference Cells'!$C$6)*86400,NA())","v":2},{"$f":"IF(CommandCell='Reference Cells'!$C$17,NA(),ABS('Data In'!B203-INDIRECT(\"ZeroVal_\"&H$2,0)))","v":0},{"$f":"IF(CommandCell='Reference Cells'!$C$17,NA(),ABS('Data In'!C203-INDIRECT(\"ZeroVal_\"&I$2,0)))","v":0},{"$f":"IF(CommandCell='Reference Cells'!$C$17,NA(),ABS('Data In'!D203-INDIRECT(\"ZeroVal_\"&J$2,0)))","v":0},{"$f":"IF(CommandCell='Reference Cells'!$C$17,NA(),ABS('Data In'!E203-INDIRECT(\"ZeroVal_\"&K$2,0)))","v":0},{"$f":"IF(CommandCell='Reference Cells'!$C$17,NA(),ABS('Data In'!F203-INDIRECT(\"ZeroVal_\"&L$2,0)))","v":0},{"$f":"MAX(BackendTable[[#This Row],[S1]:[S5]])","v":0},{"$f":"IF(ISERROR(BackendTable[[#This Row],[T0Time]]),0,COUNTIFS(BackendTable[T0Time],\"<=\"&3,BackendTable[T0Time],\">=\"&0)-COUNTIFS(BackendTable[T0Time],\">\"&BackendTable[[#This Row],[T0Time]]))","v":500},null,null,null,null,null,null,null,null,null,null,null,null,null,null,null,null,null,null,null,null,null,null,null,null,{"$f":"MATCH(MAX(BackendTable[[#This Row],[T1S1]:[T1S5]]),BackendTable[[#This Row],[T1S1]:[T1S5]],0)","v":{"$error":"#N/A"}},{"$f":"MATCH(MAX(BackendTable[[#This Row],[T2S1]:[T2S5]]),BackendTable[[#This Row],[T2S1]:[T2S5]],0)","v":{"$error":"#N/A"}},{"$f":"MATCH(MAX(BackendTable[[#This Row],[T3S1]:[T3S5]]),BackendTable[[#This Row],[T3S1]:[T3S5]],0)","v":{"$error":"#N/A"}}]
[null,{"$f":"ROW()-ROW(BackendTable[[#Headers],[Row'#]])","v":197},{"$f":"'Data In'!A204","v":0},{"$f":"IF(BackendTable[[#This Row],[Time]]-'Reference Cells'!$C$3<=0,NA(),'Reference Cells'!$C$4-BackendTable[[#This Row],[Time]])*86400","v":{"$error":"#N/A"}},{"$f":"IFERROR(8-BackendTable[[#This Row],[Column1]],\"\")","v":""},{"$f":"IF(ISERROR(BackendTable[[#This Row],[Column1]]),-9,(BackendTable[[#This Row],[Net Time]]-NetTimeMin)*RangeAdj)","v":-9},{"$f":"IF(AND(BackendTable[[#This Row],[Time]]>='Reference Cells'!$C$6,BackendTable[[#This Row],[Time]]<='Reference Cells'!$C$7),(BackendTable[[#This Row],[Time]]-'Reference Cells'!$C$6)*86400,NA())","v":2},{"$f":"IF(CommandCell='Reference Cells'!$C$17,NA(),ABS('Data In'!B204-INDIRECT(\"ZeroVal_\"&H$2,0)))","v":0},{"$f":"IF(CommandCell='Reference Cells'!$C$17,NA(),ABS('Data In'!C204-INDIRECT(\"ZeroVal_\"&I$2,0)))","v":0},{"$f":"IF(CommandCell='Reference Cells'!$C$17,NA(),ABS('Data In'!D204-INDIRECT(\"ZeroVal_\"&J$2,0)))","v":0},{"$f":"IF(CommandCell='Reference Cells'!$C$17,NA(),ABS('Data In'!E204-INDIRECT(\"ZeroVal_\"&K$2,0)))","v":0},{"$f":"IF(CommandCell='Reference Cells'!$C$17,NA(),ABS('Data In'!F204-INDIRECT(\"ZeroVal_\"&L$2,0)))","v":0},{"$f":"MAX(BackendTable[[#This Row],[S1]:[S5]])","v":0},{"$f":"IF(ISERROR(BackendTable[[#This Row],[T0Time]]),0,COUNTIFS(BackendTable[T0Time],\"<=\"&3,BackendTable[T0Time],\">=\"&0)-COUNTIFS(BackendTable[T0Time],\">\"&BackendTable[[#This Row],[T0Time]]))","v":500},null,null,null,null,null,null,null,null,null,null,null,null,null,null,null,null,null,null,null,null,null,null,null,null,{"$f":"MATCH(MAX(BackendTable[[#This Row],[T1S1]:[T1S5]]),BackendTable[[#This Row],[T1S1]:[T1S5]],0)","v":{"$error":"#N/A"}},{"$f":"MATCH(MAX(BackendTable[[#This Row],[T2S1]:[T2S5]]),BackendTable[[#This Row],[T2S1]:[T2S5]],0)","v":{"$error":"#N/A"}},{"$f":"MATCH(MAX(BackendTable[[#This Row],[T3S1]:[T3S5]]),BackendTable[[#This Row],[T3S1]:[T3S5]],0)","v":{"$error":"#N/A"}}]
[null,{"$f":"ROW()-ROW(BackendTable[[#Headers],[Row'#]])","v":198},{"$f":"'Data In'!A205","v":0},{"$f":"IF(BackendTable[[#This Row],[Time]]-'Reference Cells'!$C$3<=0,NA(),'Reference Cells'!$C$4-BackendTable[[#This Row],[Time]])*86400","v":{"$error":"#N/A"}},{"$f":"IFERROR(8-BackendTable[[#This Row],[Column1]],\"\")","v":""},{"$f":"IF(ISERROR(BackendTable[[#This Row],[Column1]]),-9,(BackendTable[[#This Row],[Net Time]]-NetTimeMin)*RangeAdj)","v":-9},{"$f":"IF(AND(BackendTable[[#This Row],[Time]]>='Reference Cells'!$C$6,BackendTable[[#This Row],[Time]]<='Reference Cells'!$C$7),(BackendTable[[#This Row],[Time]]-'Reference Cells'!$C$6)*86400,NA())","v":2},{"$f":"IF(CommandCell='Reference Cells'!$C$17,NA(),ABS('Data In'!B205-INDIRECT(\"ZeroVal_\"&H$2,0)))","v":0},{"$f":"IF(CommandCell='Reference Cells'!$C$17,NA(),ABS('Data In'!C205-INDIRECT(\"ZeroVal_\"&I$2,0)))","v":0},{"$f":"IF(CommandCell='Reference Cells'!$C$17,NA(),ABS('Data In'!D205-INDIRECT(\"ZeroVal_\"&J$2,0)))","v":0},{"$f":"IF(CommandCell='Reference Cells'!$C$17,NA(),ABS('Data In'!E205-INDIRECT(\"ZeroVal_\"&K$2,0)))","v":0},{"$f":"IF(CommandCell='Reference Cells'!$C$17,NA(),ABS('Data In'!F205-INDIRECT(\"ZeroVal_\"&L$2,0)))","v":0},{"$f":"MAX(BackendTable[[#This Row],[S1]:[S5]])","v":0},{"$f":"IF(ISERROR(BackendTable[[#This Row],[T0Time]]),0,COUNTIFS(BackendTable[T0Time],\"<=\"&3,BackendTable[T0Time],\">=\"&0)-COUNTIFS(BackendTable[T0Time],\">\"&BackendTable[[#This Row],[T0Time]]))","v":500},null,null,null,null,null,null,null,null,null,null,null,null,null,null,null,null,null,null,null,null,null,null,null,null,{"$f":"MATCH(MAX(BackendTable[[#This Row],[T1S1]:[T1S5]]),BackendTable[[#This Row],[T1S1]:[T1S5]],0)","v":{"$error":"#N/A"}},{"$f":"MATCH(MAX(BackendTable[[#This Row],[T2S1]:[T2S5]]),BackendTable[[#This Row],[T2S1]:[T2S5]],0)","v":{"$error":"#N/A"}},{"$f":"MATCH(MAX(BackendTable[[#This Row],[T3S1]:[T3S5]]),BackendTable[[#This Row],[T3S1]:[T3S5]],0)","v":{"$error":"#N/A"}}]
[null,{"$f":"ROW()-ROW(BackendTable[[#Headers],[Row'#]])","v":199},{"$f":"'Data In'!A206","v":0},{"$f":"IF(BackendTable[[#This Row],[Time]]-'Reference Cells'!$C$3<=0,NA(),'Reference Cells'!$C$4-BackendTable[[#This Row],[Time]])*86400","v":{"$error":"#N/A"}},{"$f":"IFERROR(8-BackendTable[[#This Row],[Column1]],\"\")","v":""},{"$f":"IF(ISERROR(BackendTable[[#This Row],[Column1]]),-9,(BackendTable[[#This Row],[Net Time]]-NetTimeMin)*RangeAdj)","v":-9},{"$f":"IF(AND(BackendTable[[#This Row],[Time]]>='Reference Cells'!$C$6,BackendTable[[#This Row],[Time]]<='Reference Cells'!$C$7),(BackendTable[[#This Row],[Time]]-'Reference Cells'!$C$6)*86400,NA())","v":2},{"$f":"IF(CommandCell='Reference Cells'!$C$17,NA(),ABS('Data In'!B206-INDIRECT(\"ZeroVal_\"&H$2,0)))","v":0},{"$f":"IF(CommandCell='Reference Cells'!$C$17,NA(),ABS('Data In'!C206-INDIRECT(\"ZeroVal_\"&I$2,0)))","v":0},{"$f":"IF(CommandCell='Reference Cells'!$C$17,NA(),ABS('Data In'!D206-INDIRECT(\"ZeroVal_\"&J$2,0)))","v":0},{"$f":"IF(CommandCell='Reference Cells'!$C$17,NA(),ABS('Data In'!E206-INDIRECT(\"ZeroVal_\"&K$2,0)))","v":0},{"$f":"IF(CommandCell='Reference Cells'!$C$17,NA(),ABS('Data In'!F206-INDIRECT(\"ZeroVal_\"&L$2,0)))","v":0},{"$f":"MAX(BackendTable[[#This Row],[S1]:[S5]])","v":0},{"$f":"IF(ISERROR(BackendTable[[#This Row],[T0Time]]),0,COUNTIFS(BackendTable[T0Time],\"<=\"&3,BackendTable[T0Time],\">=\"&0)-COUNTIFS(BackendTable[T0Time],\">\"&BackendTable[[#This Row],[T0Time]]))","v":500},null,null,null,null,null,null,null,null,null,null,null,null,null,null,null,null,null,null,null,null,null,null,null,null,{"$f":"MATCH(MAX(BackendTable[[#This Row],[T1S1]:[T1S5]]),BackendTable[[#This Row],[T1S1]:[T1S5]],0)","v":{"$error":"#N/A"}},{"$f":"MATCH(MAX(BackendTable[[#This Row],[T2S1]:[T2S5]]),BackendTable[[#This Row],[T2S1]:[T2S5]],0)","v":{"$error":"#N/A"}},{"$f":"MATCH(MAX(BackendTable[[#This Row],[T3S1]:[T3S5]]),BackendTable[[#This Row],[T3S1]:[T3S5]],0)","v":{"$error":"#N/A"}}]
[null,{"$f":"ROW()-ROW(BackendTable[[#Headers],[Row'#]])","v":200},{"$f":"'Data In'!A207","v":0},{"$f":"IF(BackendTable[[#This Row],[Time]]-'Reference Cells'!$C$3<=0,NA(),'Reference Cells'!$C$4-BackendTable[[#This Row],[Time]])*86400","v":{"$error":"#N/A"}},{"$f":"IFERROR(8-BackendTable[[#This Row],[Column1]],\"\")","v":""},{"$f":"IF(ISERROR(BackendTable[[#This Row],[Column1]]),-9,(BackendTable[[#This Row],[Net Time]]-NetTimeMin)*RangeAdj)","v":-9},{"$f":"IF(AND(BackendTable[[#This Row],[Time]]>='Reference Cells'!$C$6,BackendTable[[#This Row],[Time]]<='Reference Cells'!$C$7),(BackendTable[[#This Row],[Time]]-'Reference Cells'!$C$6)*86400,NA())","v":2},{"$f":"IF(CommandCell='Reference Cells'!$C$17,NA(),ABS('Data In'!B207-INDIRECT(\"ZeroVal_\"&H$2,0)))","v":0},{"$f":"IF(CommandCell='Reference Cells'!$C$17,NA(),ABS('Data In'!C207-INDIRECT(\"ZeroVal_\"&I$2,0)))","v":0},{"$f":"IF(CommandCell='Reference Cells'!$C$17,NA(),ABS('Data In'!D207-INDIRECT(\"ZeroVal_\"&J$2,0)))","v":0},{"$f":"IF(CommandCell='Reference Cells'!$C$17,NA(),ABS('Data In'!E207-INDIRECT(\"ZeroVal_\"&K$2,0)))","v":0},{"$f":"IF(CommandCell='Reference Cells'!$C$17,NA(),ABS('Data In'!F207-INDIRECT(\"ZeroVal_\"&L$2,0)))","v":0},{"$f":"MAX(BackendTable[[#This Row],[S1]:[S5]])","v":0},{"$f":"IF(ISERROR(BackendTable[[#This Row],[T0Time]]),0,COUNTIFS(BackendTable[T0Time],\"<=\"&3,BackendTable[T0Time],\">=\"&0)-COUNTIFS(BackendTable[T0Time],\">\"&BackendTable[[#This Row],[T0Time]]))","v":500},null,null,null,null,null,null,null,null,null,null,null,null,null,null,null,null,null,null,null,null,null,null,null,null,{"$f":"MATCH(MAX(BackendTable[[#This Row],[T1S1]:[T1S5]]),BackendTable[[#This Row],[T1S1]:[T1S5]],0)","v":{"$error":"#N/A"}},{"$f":"MATCH(MAX(BackendTable[[#This Row],[T2S1]:[T2S5]]),BackendTable[[#This Row],[T2S1]:[T2S5]],0)","v":{"$error":"#N/A"}},{"$f":"MATCH(MAX(BackendTable[[#This Row],[T3S1]:[T3S5]]),BackendTable[[#This Row],[T3S1]:[T3S5]],0)","v":{"$error":"#N/A"}}]
[null,{"$f":"ROW()-ROW(BackendTable[[#Headers],[Row'#]])","v":201},{"$f":"'Data In'!A208","v":0},{"$f":"IF(BackendTable[[#This Row],[Time]]-'Reference Cells'!$C$3<=0,NA(),'Reference Cells'!$C$4-BackendTable[[#This Row],[Time]])*86400","v":{"$error":"#N/A"}},{"$f":"IFERROR(8-BackendTable[[#This Row],[Column1]],\"\")","v":""},{"$f":"IF(ISERROR(BackendTable[[#This Row],[Column1]]),-9,(BackendTable[[#This Row],[Net Time]]-NetTimeMin)*RangeAdj)","v":-9},{"$f":"IF(AND(BackendTable[[#This Row],[Time]]>='Reference Cells'!$C$6,BackendTable[[#This Row],[Time]]<='Reference Cells'!$C$7),(BackendTable[[#This Row],[Time]]-'Reference Cells'!$C$6)*86400,NA())","v":2},{"$f":"IF(CommandCell='Reference Cells'!$C$17,NA(),ABS('Data In'!B208-INDIRECT(\"ZeroVal_\"&H$2,0)))","v":0},{"$f":"IF(CommandCell='Reference Cells'!$C$17,NA(),ABS('Data In'!C208-INDIRECT(\"ZeroVal_\"&I$2,0)))","v":0},{"$f":"IF(CommandCell='Reference Cells'!$C$17,NA(),ABS('Data In'!D208-INDIRECT(\"ZeroVal_\"&J$2,0)))","v":0},{"$f":"IF(CommandCell='Reference Cells'!$C$17,NA(),ABS('Data In'!E208-INDIRECT(\"ZeroVal_\"&K$2,0)))","v":0},{"$f":"IF(CommandCell='Reference Cells'!$C$17,NA(),ABS('Data In'!F208-INDIRECT(\"ZeroVal_\"&L$2,0)))","v":0},{"$f":"MAX(BackendTable[[#This Row],[S1]:[S5]])","v":0},{"$f":"IF(ISERROR(BackendTable[[#This Row],[T0Time]]),0,COUNTIFS(BackendTable[T0Time],\"<=\"&3,BackendTable[T0Time],\">=\"&0)-COUNTIFS(BackendTable[T0Time],\">\"&BackendTable[[#This Row],[T0Time]]))","v":500},null,null,null,null,null,null,null,null,null,null,null,null,null,null,null,null,null,null,null,null,null,null,null,null,{"$f":"MATCH(MAX(BackendTable[[#This Row],[T1S1]:[T1S5]]),BackendTable[[#This Row],[T1S1]:[T1S5]],0)","v":{"$error":"#N/A"}},{"$f":"MATCH(MAX(BackendTable[[#This Row],[T2S1]:[T2S5]]),BackendTable[[#This Row],[T2S1]:[T2S5]],0)","v":{"$error":"#N/A"}},{"$f":"MATCH(MAX(BackendTable[[#This Row],[T3S1]:[T3S5]]),BackendTable[[#This Row],[T3S1]:[T3S5]],0)","v":{"$error":"#N/A"}}]
[null,{"$f":"ROW()-ROW(BackendTable[[#Headers],[Row'#]])","v":202},{"$f":"'Data In'!A209","v":0},{"$f":"IF(BackendTable[[#This Row],[Time]]-'Reference Cells'!$C$3<=0,NA(),'Reference Cells'!$C$4-BackendTable[[#This Row],[Time]])*86400","v":{"$error":"#N/A"}},{"$f":"IFERROR(8-BackendTable[[#This Row],[Column1]],\"\")","v":""},{"$f":"IF(ISERROR(BackendTable[[#This Row],[Column1]]),-9,(BackendTable[[#This Row],[Net Time]]-NetTimeMin)*RangeAdj)","v":-9},{"$f":"IF(AND(BackendTable[[#This Row],[Time]]>='Reference Cells'!$C$6,BackendTable[[#This Row],[Time]]<='Reference Cells'!$C$7),(BackendTable[[#This Row],[Time]]-'Reference Cells'!$C$6)*86400,NA())","v":2},{"$f":"IF(CommandCell='Reference Cells'!$C$17,NA(),ABS('Data In'!B209-INDIRECT(\"ZeroVal_\"&H$2,0)))","v":0},{"$f":"IF(CommandCell='Reference Cells'!$C$17,NA(),ABS('Data In'!C209-INDIRECT(\"ZeroVal_\"&I$2,0)))","v":0},{"$f":"IF(CommandCell='Reference Cells'!$C$17,NA(),ABS('Data In'!D209-INDIRECT(\"ZeroVal_\"&J$2,0)))","v":0},{"$f":"IF(CommandCell='Reference Cells'!$C$17,NA(),ABS('Data In'!E209-INDIRECT(\"ZeroVal_\"&K$2,0)))","v":0},{"$f":"IF(CommandCell='Reference Cells'!$C$17,NA(),ABS('Data In'!F209-INDIRECT(\"ZeroVal_\"&L$2,0)))","v":0},{"$f":"MAX(BackendTable[[#This Row],[S1]:[S5]])","v":0},{"$f":"IF(ISERROR(BackendTable[[#This Row],[T0Time]]),0,COUNTIFS(BackendTable[T0Time],\"<=\"&3,BackendTable[T0Time],\">=\"&0)-COUNTIFS(BackendTable[T0Time],\">\"&BackendTable[[#This Row],[T0Time]]))","v":500},null,null,null,null,null,null,null,null,null,null,null,null,null,null,null,null,null,null,null,null,null,null,null,null,{"$f":"MATCH(MAX(BackendTable[[#This Row],[T1S1]:[T1S5]]),BackendTable[[#This Row],[T1S1]:[T1S5]],0)","v":{"$error":"#N/A"}},{"$f":"MATCH(MAX(BackendTable[[#This Row],[T2S1]:[T2S5]]),BackendTable[[#This Row],[T2S1]:[T2S5]],0)","v":{"$error":"#N/A"}},{"$f":"MATCH(MAX(BackendTable[[#This Row],[T3S1]:[T3S5]]),BackendTable[[#This Row],[T3S1]:[T3S5]],0)","v":{"$error":"#N/A"}}]
[null,{"$f":"ROW()-ROW(BackendTable[[#Headers],[Row'#]])","v":203},{"$f":"'Data In'!A210","v":0},{"$f":"IF(BackendTable[[#This Row],[Time]]-'Reference Cells'!$C$3<=0,NA(),'Reference Cells'!$C$4-BackendTable[[#This Row],[Time]])*86400","v":{"$error":"#N/A"}},{"$f":"IFERROR(8-BackendTable[[#This Row],[Column1]],\"\")","v":""},{"$f":"IF(ISERROR(BackendTable[[#This Row],[Column1]]),-9,(BackendTable[[#This Row],[Net Time]]-NetTimeMin)*RangeAdj)","v":-9},{"$f":"IF(AND(BackendTable[[#This Row],[Time]]>='Reference Cells'!$C$6,BackendTable[[#This Row],[Time]]<='Reference Cells'!$C$7),(BackendTable[[#This Row],[Time]]-'Reference Cells'!$C$6)*86400,NA())","v":2},{"$f":"IF(CommandCell='Reference Cells'!$C$17,NA(),ABS('Data In'!B210-INDIRECT(\"ZeroVal_\"&H$2,0)))","v":0},{"$f":"IF(CommandCell='Reference Cells'!$C$17,NA(),ABS('Data In'!C210-INDIRECT(\"ZeroVal_\"&I$2,0)))","v":0},{"$f":"IF(CommandCell='Reference Cells'!$C$17,NA(),ABS('Data In'!D210-INDIRECT(\"ZeroVal_\"&J$2,0)))","v":0},{"$f":"IF(CommandCell='Reference Cells'!$C$17,NA(),ABS('Data In'!E210-INDIRECT(\"ZeroVal_\"&K$2,0)))","v":0},{"$f":"IF(CommandCell='Reference Cells'!$C$17,NA(),ABS('Data In'!F210-INDIRECT(\"ZeroVal_\"&L$2,0)))","v":0},{"$f":"MAX(BackendTable[[#This Row],[S1]:[S5]])","v":0},{"$f":"IF(ISERROR(BackendTable[[#This Row],[T0Time]]),0,COUNTIFS(BackendTable[T0Time],\"<=\"&3,BackendTable[T0Time],\">=\"&0)-COUNTIFS(BackendTable[T0Time],\">\"&BackendTable[[#This Row],[T0Time]]))","v":500},null,null,null,null,null,null,null,null,null,null,null,null,null,null,null,null,null,null,null,null,null,null,null,null,{"$f":"MATCH(MAX(BackendTable[[#This Row],[T1S1]:[T1S5]]),BackendTable[[#This Row],[T1S1]:[T1S5]],0)","v":{"$error":"#N/A"}},{"$f":"MATCH(MAX(BackendTable[[#This Row],[T2S1]:[T2S5]]),BackendTable[[#This Row],[T2S1]:[T2S5]],0)","v":{"$error":"#N/A"}},{"$f":"MATCH(MAX(BackendTable[[#This Row],[T3S1]:[T3S5]]),BackendTable[[#This Row],[T3S1]:[T3S5]],0)","v":{"$error":"#N/A"}}]
[null,{"$f":"ROW()-ROW(BackendTable[[#Headers],[Row'#]])","v":204},{"$f":"'Data In'!A211","v":0},{"$f":"IF(BackendTable[[#This Row],[Time]]-'Reference Cells'!$C$3<=0,NA(),'Reference Cells'!$C$4-BackendTable[[#This Row],[Time]])*86400","v":{"$error":"#N/A"}},{"$f":"IFERROR(8-BackendTable[[#This Row],[Column1]],\"\")","v":""},{"$f":"IF(ISERROR(BackendTable[[#This Row],[Column1]]),-9,(BackendTable[[#This Row],[Net Time]]-NetTimeMin)*RangeAdj)","v":-9},{"$f":"IF(AND(BackendTable[[#This Row],[Time]]>='Reference Cells'!$C$6,BackendTable[[#This Row],[Time]]<='Reference Cells'!$C$7),(BackendTable[[#This Row],[Time]]-'Reference Cells'!$C$6)*86400,NA())","v":2},{"$f":"IF(CommandCell='Reference Cells'!$C$17,NA(),ABS('Data In'!B211-INDIRECT(\"ZeroVal_\"&H$2,0)))","v":0},{"$f":"IF(CommandCell='Reference Cells'!$C$17,NA(),ABS('Data In'!C211-INDIRECT(\"ZeroVal_\"&I$2,0)))","v":0},{"$f":"IF(CommandCell='Reference Cells'!$C$17,NA(),ABS('Data In'!D211-INDIRECT(\"ZeroVal_\"&J$2,0)))","v":0},{"$f":"IF(CommandCell='Reference Cells'!$C$17,NA(),ABS('Data In'!E211-INDIRECT(\"ZeroVal_\"&K$2,0)))","v":0},{"$f":"IF(CommandCell='Reference Cells'!$C$17,NA(),ABS('Data In'!F211-INDIRECT(\"ZeroVal_\"&L$2,0)))","v":0},{"$f":"MAX(BackendTable[[#This Row],[S1]:[S5]])","v":0},{"$f":"IF(ISERROR(BackendTable[[#This Row],[T0Time]]),0,COUNTIFS(BackendTable[T0Time],\"<=\"&3,BackendTable[T0Time],\">=\"&0)-COUNTIFS(BackendTable[T0Time],\">\"&BackendTable[[#This Row],[T0Time]]))","v":500},null,null,null,null,null,null,null,null,null,null,null,null,null,null,null,null,null,null,null,null,null,null,null,null,{"$f":"MATCH(MAX(BackendTable[[#This Row],[T1S1]:[T1S5]]),BackendTable[[#This Row],[T1S1]:[T1S5]],0)","v":{"$error":"#N/A"}},{"$f":"MATCH(MAX(BackendTable[[#This Row],[T2S1]:[T2S5]]),BackendTable[[#This Row],[T2S1]:[T2S5]],0)","v":{"$error":"#N/A"}},{"$f":"MATCH(MAX(BackendTable[[#This Row],[T3S1]:[T3S5]]),BackendTable[[#This Row],[T3S1]:[T3S5]],0)","v":{"$error":"#N/A"}}]
[null,{"$f":"ROW()-ROW(BackendTable[[#Headers],[Row'#]])","v":205},{"$f":"'Data In'!A212","v":0},{"$f":"IF(BackendTable[[#This Row],[Time]]-'Reference Cells'!$C$3<=0,NA(),'Reference Cells'!$C$4-BackendTable[[#This Row],[Time]])*86400","v":{"$error":"#N/A"}},{"$f":"IFERROR(8-BackendTable[[#This Row],[Column1]],\"\")","v":""},{"$f":"IF(ISERROR(BackendTable[[#This Row],[Column1]]),-9,(BackendTable[[#This Row],[Net Time]]-NetTimeMin)*RangeAdj)","v":-9},{"$f":"IF(AND(BackendTable[[#This Row],[Time]]>='Reference Cells'!$C$6,BackendTable[[#This Row],[Time]]<='Reference Cells'!$C$7),(BackendTable[[#This Row],[Time]]-'Reference Cells'!$C$6)*86400,NA())","v":2},{"$f":"IF(CommandCell='Reference Cells'!$C$17,NA(),ABS('Data In'!B212-INDIRECT(\"ZeroVal_\"&H$2,0)))","v":0},{"$f":"IF(CommandCell='Reference Cells'!$C$17,NA(),ABS('Data In'!C212-INDIRECT(\"ZeroVal_\"&I$2,0)))","v":0},{"$f":"IF(CommandCell='Reference Cells'!$C$17,NA(),ABS('Data In'!D212-INDIRECT(\"ZeroVal_\"&J$2,0)))","v":0},{"$f":"IF(CommandCell='Reference Cells'!$C$17,NA(),ABS('Data In'!E212-INDIRECT(\"ZeroVal_\"&K$2,0)))","v":0},{"$f":"IF(CommandCell='Reference Cells'!$C$17,NA(),ABS('Data In'!F212-INDIRECT(\"ZeroVal_\"&L$2,0)))","v":0},{"$f":"MAX(BackendTable[[#This Row],[S1]:[S5]])","v":0},{"$f":"IF(ISERROR(BackendTable[[#This Row],[T0Time]]),0,COUNTIFS(BackendTable[T0Time],\"<=\"&3,BackendTable[T0Time],\">=\"&0)-COUNTIFS(BackendTable[T0Time],\">\"&BackendTable[[#This Row],[T0Time]]))","v":500},null,null,null,null,null,null,null,null,null,null,null,null,null,null,null,null,null,null,null,null,null,null,null,null,{"$f":"MATCH(MAX(BackendTable[[#This Row],[T1S1]:[T1S5]]),BackendTable[[#This Row],[T1S1]:[T1S5]],0)","v":{"$error":"#N/A"}},{"$f":"MATCH(MAX(BackendTable[[#This Row],[T2S1]:[T2S5]]),BackendTable[[#This Row],[T2S1]:[T2S5]],0)","v":{"$error":"#N/A"}},{"$f":"MATCH(MAX(BackendTable[[#This Row],[T3S1]:[T3S5]]),BackendTable[[#This Row],[T3S1]:[T3S5]],0)","v":{"$error":"#N/A"}}]
[null,{"$f":"ROW()-ROW(BackendTable[[#Headers],[Row'#]])","v":206},{"$f":"'Data In'!A213","v":0},{"$f":"IF(BackendTable[[#This Row],[Time]]-'Reference Cells'!$C$3<=0,NA(),'Reference Cells'!$C$4-BackendTable[[#This Row],[Time]])*86400","v":{"$error":"#N/A"}},{"$f":"IFERROR(8-BackendTable[[#This Row],[Column1]],\"\")","v":""},{"$f":"IF(ISERROR(BackendTable[[#This Row],[Column1]]),-9,(BackendTable[[#This Row],[Net Time]]-NetTimeMin)*RangeAdj)","v":-9},{"$f":"IF(AND(BackendTable[[#This Row],[Time]]>='Reference Cells'!$C$6,BackendTable[[#This Row],[Time]]<='Reference Cells'!$C$7),(BackendTable[[#This Row],[Time]]-'Reference Cells'!$C$6)*86400,NA())","v":2},{"$f":"IF(CommandCell='Reference Cells'!$C$17,NA(),ABS('Data In'!B213-INDIRECT(\"ZeroVal_\"&H$2,0)))","v":0},{"$f":"IF(CommandCell='Reference Cells'!$C$17,NA(),ABS('Data In'!C213-INDIRECT(\"ZeroVal_\"&I$2,0)))","v":0},{"$f":"IF(CommandCell='Reference Cells'!$C$17,NA(),ABS('Data In'!D213-INDIRECT(\"ZeroVal_\"&J$2,0)))","v":0},{"$f":"IF(CommandCell='Reference Cells'!$C$17,NA(),ABS('Data In'!E213-INDIRECT(\"ZeroVal_\"&K$2,0)))","v":0},{"$f":"IF(CommandCell='Reference Cells'!$C$17,NA(),ABS('Data In'!F213-INDIRECT(\"ZeroVal_\"&L$2,0)))","v":0},{"$f":"MAX(BackendTable[[#This Row],[S1]:[S5]])","v":0},{"$f":"IF(ISERROR(BackendTable[[#This Row],[T0Time]]),0,COUNTIFS(BackendTable[T0Time],\"<=\"&3,BackendTable[T0Time],\">=\"&0)-COUNTIFS(BackendTable[T0Time],\">\"&BackendTable[[#This Row],[T0Time]]))","v":500},null,null,null,null,null,null,null,null,null,null,null,null,null,null,null,null,null,null,null,null,null,null,null,null,{"$f":"MATCH(MAX(BackendTable[[#This Row],[T1S1]:[T1S5]]),BackendTable[[#This Row],[T1S1]:[T1S5]],0)","v":{"$error":"#N/A"}},{"$f":"MATCH(MAX(BackendTable[[#This Row],[T2S1]:[T2S5]]),BackendTable[[#This Row],[T2S1]:[T2S5]],0)","v":{"$error":"#N/A"}},{"$f":"MATCH(MAX(BackendTable[[#This Row],[T3S1]:[T3S5]]),BackendTable[[#This Row],[T3S1]:[T3S5]],0)","v":{"$error":"#N/A"}}]
[null,{"$f":"ROW()-ROW(BackendTable[[#Headers],[Row'#]])","v":207},{"$f":"'Data In'!A214","v":0},{"$f":"IF(BackendTable[[#This Row],[Time]]-'Reference Cells'!$C$3<=0,NA(),'Reference Cells'!$C$4-BackendTable[[#This Row],[Time]])*86400","v":{"$error":"#N/A"}},{"$f":"IFERROR(8-BackendTable[[#This Row],[Column1]],\"\")","v":""},{"$f":"IF(ISERROR(BackendTable[[#This Row],[Column1]]),-9,(BackendTable[[#This Row],[Net Time]]-NetTimeMin)*RangeAdj)","v":-9},{"$f":"IF(AND(BackendTable[[#This Row],[Time]]>='Reference Cells'!$C$6,BackendTable[[#This Row],[Time]]<='Reference Cells'!$C$7),(BackendTable[[#This Row],[Time]]-'Reference Cells'!$C$6)*86400,NA())","v":2},{"$f":"IF(CommandCell='Reference Cells'!$C$17,NA(),ABS('Data In'!B214-INDIRECT(\"ZeroVal_\"&H$2,0)))","v":0},{"$f":"IF(CommandCell='Reference Cells'!$C$17,NA(),ABS('Data In'!C214-INDIRECT(\"ZeroVal_\"&I$2,0)))","v":0},{"$f":"IF(CommandCell='Reference Cells'!$C$17,NA(),ABS('Data In'!D214-INDIRECT(\"ZeroVal_\"&J$2,0)))","v":0},{"$f":"IF(CommandCell='Reference Cells'!$C$17,NA(),ABS('Data In'!E214-INDIRECT(\"ZeroVal_\"&K$2,0)))","v":0},{"$f":"IF(CommandCell='Reference Cells'!$C$17,NA(),ABS('Data In'!F214-INDIRECT(\"ZeroVal_\"&L$2,0)))","v":0},{"$f":"MAX(BackendTable[[#This Row],[S1]:[S5]])","v":0},{"$f":"IF(ISERROR(BackendTable[[#This Row],[T0Time]]),0,COUNTIFS(BackendTable[T0Time],\"<=\"&3,BackendTable[T0Time],\">=\"&0)-COUNTIFS(BackendTable[T0Time],\">\"&BackendTable[[#This Row],[T0Time]]))","v":500},null,null,null,null,null,null,null,null,null,null,null,null,null,null,null,null,null,null,null,null,null,null,null,null,{"$f":"MATCH(MAX(BackendTable[[#This Row],[T1S1]:[T1S5]]),BackendTable[[#This Row],[T1S1]:[T1S5]],0)","v":{"$error":"#N/A"}},{"$f":"MATCH(MAX(BackendTable[[#This Row],[T2S1]:[T2S5]]),BackendTable[[#This Row],[T2S1]:[T2S5]],0)","v":{"$error":"#N/A"}},{"$f":"MATCH(MAX(BackendTable[[#This Row],[T3S1]:[T3S5]]),BackendTable[[#This Row],[T3S1]:[T3S5]],0)","v":{"$error":"#N/A"}}]
[null,{"$f":"ROW()-ROW(BackendTable[[#Headers],[Row'#]])","v":208},{"$f":"'Data In'!A215","v":0},{"$f":"IF(BackendTable[[#This Row],[Time]]-'Reference Cells'!$C$3<=0,NA(),'Reference Cells'!$C$4-BackendTable[[#This Row],[Time]])*86400","v":{"$error":"#N/A"}},{"$f":"IFERROR(8-BackendTable[[#This Row],[Column1]],\"\")","v":""},{"$f":"IF(ISERROR(BackendTable[[#This Row],[Column1]]),-9,(BackendTable[[#This Row],[Net Time]]-NetTimeMin)*RangeAdj)","v":-9},{"$f":"IF(AND(BackendTable[[#This Row],[Time]]>='Reference Cells'!$C$6,BackendTable[[#This Row],[Time]]<='Reference Cells'!$C$7),(BackendTable[[#This Row],[Time]]-'Reference Cells'!$C$6)*86400,NA())","v":2},{"$f":"IF(CommandCell='Reference Cells'!$C$17,NA(),ABS('Data In'!B215-INDIRECT(\"ZeroVal_\"&H$2,0)))","v":0},{"$f":"IF(CommandCell='Reference Cells'!$C$17,NA(),ABS('Data In'!C215-INDIRECT(\"ZeroVal_\"&I$2,0)))","v":0},{"$f":"IF(CommandCell='Reference Cells'!$C$17,NA(),ABS('Data In'!D215-INDIRECT(\"ZeroVal_\"&J$2,0)))","v":0},{"$f":"IF(CommandCell='Reference Cells'!$C$17,NA(),ABS('Data In'!E215-INDIRECT(\"ZeroVal_\"&K$2,0)))","v":0},{"$f":"IF(CommandCell='Reference Cells'!$C$17,NA(),ABS('Data In'!F215-INDIRECT(\"ZeroVal_\"&L$2,0)))","v":0},{"$f":"MAX(BackendTable[[#This Row],[S1]:[S5]])","v":0},{"$f":"IF(ISERROR(BackendTable[[#This Row],[T0Time]]),0,COUNTIFS(BackendTable[T0Time],\"<=\"&3,BackendTable[T0Time],\">=\"&0)-COUNTIFS(BackendTable[T0Time],\">\"&BackendTable[[#This Row],[T0Time]]))","v":500},null,null,null,null,null,null,null,null,null,null,null,null,null,null,null,null,null,null,null,null,null,null,null,null,{"$f":"MATCH(MAX(BackendTable[[#This Row],[T1S1]:[T1S5]]),BackendTable[[#This Row],[T1S1]:[T1S5]],0)","v":{"$error":"#N/A"}},{"$f":"MATCH(MAX(BackendTable[[#This Row],[T2S1]:[T2S5]]),BackendTable[[#This Row],[T2S1]:[T2S5]],0)","v":{"$error":"#N/A"}},{"$f":"MATCH(MAX(BackendTable[[#This Row],[T3S1]:[T3S5]]),BackendTable[[#This Row],[T3S1]:[T3S5]],0)","v":{"$error":"#N/A"}}]
[null,{"$f":"ROW()-ROW(BackendTable[[#Headers],[Row'#]])","v":209},{"$f":"'Data In'!A216","v":0},{"$f":"IF(BackendTable[[#This Row],[Time]]-'Reference Cells'!$C$3<=0,NA(),'Reference Cells'!$C$4-BackendTable[[#This Row],[Time]])*86400","v":{"$error":"#N/A"}},{"$f":"IFERROR(8-BackendTable[[#This Row],[Column1]],\"\")","v":""},{"$f":"IF(ISERROR(BackendTable[[#This Row],[Column1]]),-9,(BackendTable[[#This Row],[Net Time]]-NetTimeMin)*RangeAdj)","v":-9},{"$f":"IF(AND(BackendTable[[#This Row],[Time]]>='Reference Cells'!$C$6,BackendTable[[#This Row],[Time]]<='Reference Cells'!$C$7),(BackendTable[[#This Row],[Time]]-'Reference Cells'!$C$6)*86400,NA())","v":2},{"$f":"IF(CommandCell='Reference Cells'!$C$17,NA(),ABS('Data In'!B216-INDIRECT(\"ZeroVal_\"&H$2,0)))","v":0},{"$f":"IF(CommandCell='Reference Cells'!$C$17,NA(),ABS('Data In'!C216-INDIRECT(\"ZeroVal_\"&I$2,0)))","v":0},{"$f":"IF(CommandCell='Reference Cells'!$C$17,NA(),ABS('Data In'!D216-INDIRECT(\"ZeroVal_\"&J$2,0)))","v":0},{"$f":"IF(CommandCell='Reference Cells'!$C$17,NA(),ABS('Data In'!E216-INDIRECT(\"ZeroVal_\"&K$2,0)))","v":0},{"$f":"IF(CommandCell='Reference Cells'!$C$17,NA(),ABS('Data In'!F216-INDIRECT(\"ZeroVal_\"&L$2,0)))","v":0},{"$f":"MAX(BackendTable[[#This Row],[S1]:[S5]])","v":0},{"$f":"IF(ISERROR(BackendTable[[#This Row],[T0Time]]),0,COUNTIFS(BackendTable[T0Time],\"<=\"&3,BackendTable[T0Time],\">=\"&0)-COUNTIFS(BackendTable[T0Time],\">\"&BackendTable[[#This Row],[T0Time]]))","v":500},null,null,null,null,null,null,null,null,null,null,null,null,null,null,null,null,null,null,null,null,null,null,null,null,{"$f":"MATCH(MAX(BackendTable[[#This Row],[T1S1]:[T1S5]]),BackendTable[[#This Row],[T1S1]:[T1S5]],0)","v":{"$error":"#N/A"}},{"$f":"MATCH(MAX(BackendTable[[#This Row],[T2S1]:[T2S5]]),BackendTable[[#This Row],[T2S1]:[T2S5]],0)","v":{"$error":"#N/A"}},{"$f":"MATCH(MAX(BackendTable[[#This Row],[T3S1]:[T3S5]]),BackendTable[[#This Row],[T3S1]:[T3S5]],0)","v":{"$error":"#N/A"}}]
[null,{"$f":"ROW()-ROW(BackendTable[[#Headers],[Row'#]])","v":210},{"$f":"'Data In'!A217","v":0},{"$f":"IF(BackendTable[[#This Row],[Time]]-'Reference Cells'!$C$3<=0,NA(),'Reference Cells'!$C$4-BackendTable[[#This Row],[Time]])*86400","v":{"$error":"#N/A"}},{"$f":"IFERROR(8-BackendTable[[#This Row],[Column1]],\"\")","v":""},{"$f":"IF(ISERROR(BackendTable[[#This Row],[Column1]]),-9,(BackendTable[[#This Row],[Net Time]]-NetTimeMin)*RangeAdj)","v":-9},{"$f":"IF(AND(BackendTable[[#This Row],[Time]]>='Reference Cells'!$C$6,BackendTable[[#This Row],[Time]]<='Reference Cells'!$C$7),(BackendTable[[#This Row],[Time]]-'Reference Cells'!$C$6)*86400,NA())","v":2},{"$f":"IF(CommandCell='Reference Cells'!$C$17,NA(),ABS('Data In'!B217-INDIRECT(\"ZeroVal_\"&H$2,0)))","v":0},{"$f":"IF(CommandCell='Reference Cells'!$C$17,NA(),ABS('Data In'!C217-INDIRECT(\"ZeroVal_\"&I$2,0)))","v":0},{"$f":"IF(CommandCell='Reference Cells'!$C$17,NA(),ABS('Data In'!D217-INDIRECT(\"ZeroVal_\"&J$2,0)))","v":0},{"$f":"IF(CommandCell='Reference Cells'!$C$17,NA(),ABS('Data In'!E217-INDIRECT(\"ZeroVal_\"&K$2,0)))","v":0},{"$f":"IF(CommandCell='Reference Cells'!$C$17,NA(),ABS('Data In'!F217-INDIRECT(\"ZeroVal_\"&L$2,0)))","v":0},{"$f":"MAX(BackendTable[[#This Row],[S1]:[S5]])","v":0},{"$f":"IF(ISERROR(BackendTable[[#This Row],[T0Time]]),0,COUNTIFS(BackendTable[T0Time],\"<=\"&3,BackendTable[T0Time],\">=\"&0)-COUNTIFS(BackendTable[T0Time],\">\"&BackendTable[[#This Row],[T0Time]]))","v":500},null,null,null,null,null,null,null,null,null,null,null,null,null,null,null,null,null,null,null,null,null,null,null,null,{"$f":"MATCH(MAX(BackendTable[[#This Row],[T1S1]:[T1S5]]),BackendTable[[#This Row],[T1S1]:[T1S5]],0)","v":{"$error":"#N/A"}},{"$f":"MATCH(MAX(BackendTable[[#This Row],[T2S1]:[T2S5]]),BackendTable[[#This Row],[T2S1]:[T2S5]],0)","v":{"$error":"#N/A"}},{"$f":"MATCH(MAX(BackendTable[[#This Row],[T3S1]:[T3S5]]),BackendTable[[#This Row],[T3S1]:[T3S5]],0)","v":{"$error":"#N/A"}}]
[null,{"$f":"ROW()-ROW(BackendTable[[#Headers],[Row'#]])","v":211},{"$f":"'Data In'!A218","v":0},{"$f":"IF(BackendTable[[#This Row],[Time]]-'Reference Cells'!$C$3<=0,NA(),'Reference Cells'!$C$4-BackendTable[[#This Row],[Time]])*86400","v":{"$error":"#N/A"}},{"$f":"IFERROR(8-BackendTable[[#This Row],[Column1]],\"\")","v":""},{"$f":"IF(ISERROR(BackendTable[[#This Row],[Column1]]),-9,(BackendTable[[#This Row],[Net Time]]-NetTimeMin)*RangeAdj)","v":-9},{"$f":"IF(AND(BackendTable[[#This Row],[Time]]>='Reference Cells'!$C$6,BackendTable[[#This Row],[Time]]<='Reference Cells'!$C$7),(BackendTable[[#This Row],[Time]]-'Reference Cells'!$C$6)*86400,NA())","v":2},{"$f":"IF(CommandCell='Reference Cells'!$C$17,NA(),ABS('Data In'!B218-INDIRECT(\"ZeroVal_\"&H$2,0)))","v":0},{"$f":"IF(CommandCell='Reference Cells'!$C$17,NA(),ABS('Data In'!C218-INDIRECT(\"ZeroVal_\"&I$2,0)))","v":0},{"$f":"IF(CommandCell='Reference Cells'!$C$17,NA(),ABS('Data In'!D218-INDIRECT(\"ZeroVal_\"&J$2,0)))","v":0},{"$f":"IF(CommandCell='Reference Cells'!$C$17,NA(),ABS('Data In'!E218-INDIRECT(\"ZeroVal_\"&K$2,0)))","v":0},{"$f":"IF(CommandCell='Reference Cells'!$C$17,NA(),ABS('Data In'!F218-INDIRECT(\"ZeroVal_\"&L$2,0)))","v":0},{"$f":"MAX(BackendTable[[#This Row],[S1]:[S5]])","v":0},{"$f":"IF(ISERROR(BackendTable[[#This Row],[T0Time]]),0,COUNTIFS(BackendTable[T0Time],\"<=\"&3,BackendTable[T0Time],\">=\"&0)-COUNTIFS(BackendTable[T0Time],\">\"&BackendTable[[#This Row],[T0Time]]))","v":500},null,null,null,null,null,null,null,null,null,null,null,null,null,null,null,null,null,null,null,null,null,null,null,null,{"$f":"MATCH(MAX(BackendTable[[#This Row],[T1S1]:[T1S5]]),BackendTable[[#This Row],[T1S1]:[T1S5]],0)","v":{"$error":"#N/A"}},{"$f":"MATCH(MAX(BackendTable[[#This Row],[T2S1]:[T2S5]]),BackendTable[[#This Row],[T2S1]:[T2S5]],0)","v":{"$error":"#N/A"}},{"$f":"MATCH(MAX(BackendTable[[#This Row],[T3S1]:[T3S5]]),BackendTable[[#This Row],[T3S1]:[T3S5]],0)","v":{"$error":"#N/A"}}]
[null,{"$f":"ROW()-ROW(BackendTable[[#Headers],[Row'#]])","v":212},{"$f":"'Data In'!A219","v":0},{"$f":"IF(BackendTable[[#This Row],[Time]]-'Reference Cells'!$C$3<=0,NA(),'Reference Cells'!$C$4-BackendTable[[#This Row],[Time]])*86400","v":{"$error":"#N/A"}},{"$f":"IFERROR(8-BackendTable[[#This Row],[Column1]],\"\")","v":""},{"$f":"IF(ISERROR(BackendTable[[#This Row],[Column1]]),-9,(BackendTable[[#This Row],[Net Time]]-NetTimeMin)*RangeAdj)","v":-9},{"$f":"IF(AND(BackendTable[[#This Row],[Time]]>='Reference Cells'!$C$6,BackendTable[[#This Row],[Time]]<='Reference Cells'!$C$7),(BackendTable[[#This Row],[Time]]-'Reference Cells'!$C$6)*86400,NA())","v":2},{"$f":"IF(CommandCell='Reference Cells'!$C$17,NA(),ABS('Data In'!B219-INDIRECT(\"ZeroVal_\"&H$2,0)))","v":0},{"$f":"IF(CommandCell='Reference Cells'!$C$17,NA(),ABS('Data In'!C219-INDIRECT(\"ZeroVal_\"&I$2,0)))","v":0},{"$f":"IF(CommandCell='Reference Cells'!$C$17,NA(),ABS('Data In'!D219-INDIRECT(\"ZeroVal_\"&J$2,0)))","v":0},{"$f":"IF(CommandCell='Reference Cells'!$C$17,NA(),ABS('Data In'!E219-INDIRECT(\"ZeroVal_\"&K$2,0)))","v":0},{"$f":"IF(CommandCell='Reference Cells'!$C$17,NA(),ABS('Data In'!F219-INDIRECT(\"ZeroVal_\"&L$2,0)))","v":0},{"$f":"MAX(BackendTable[[#This Row],[S1]:[S5]])","v":0},{"$f":"IF(ISERROR(BackendTable[[#This Row],[T0Time]]),0,COUNTIFS(BackendTable[T0Time],\"<=\"&3,BackendTable[T0Time],\">=\"&0)-COUNTIFS(BackendTable[T0Time],\">\"&BackendTable[[#This Row],[T0Time]]))","v":500},null,null,null,null,null,null,null,null,null,null,null,null,null,null,null,null,null,null,null,null,null,null,null,null,{"$f":"MATCH(MAX(BackendTable[[#This Row],[T1S1]:[T1S5]]),BackendTable[[#This Row],[T1S1]:[T1S5]],0)","v":{"$error":"#N/A"}},{"$f":"MATCH(MAX(BackendTable[[#This Row],[T2S1]:[T2S5]]),BackendTable[[#This Row],[T2S1]:[T2S5]],0)","v":{"$error":"#N/A"}},{"$f":"MATCH(MAX(BackendTable[[#This Row],[T3S1]:[T3S5]]),BackendTable[[#This Row],[T3S1]:[T3S5]],0)","v":{"$error":"#N/A"}}]
[null,{"$f":"ROW()-ROW(BackendTable[[#Headers],[Row'#]])","v":213},{"$f":"'Data In'!A220","v":0},{"$f":"IF(BackendTable[[#This Row],[Time]]-'Reference Cells'!$C$3<=0,NA(),'Reference Cells'!$C$4-BackendTable[[#This Row],[Time]])*86400","v":{"$error":"#N/A"}},{"$f":"IFERROR(8-BackendTable[[#This Row],[Column1]],\"\")","v":""},{"$f":"IF(ISERROR(BackendTable[[#This Row],[Column1]]),-9,(BackendTable[[#This Row],[Net Time]]-NetTimeMin)*RangeAdj)","v":-9},{"$f":"IF(AND(BackendTable[[#This Row],[Time]]>='Reference Cells'!$C$6,BackendTable[[#This Row],[Time]]<='Reference Cells'!$C$7),(BackendTable[[#This Row],[Time]]-'Reference Cells'!$C$6)*86400,NA())","v":2},{"$f":"IF(CommandCell='Reference Cells'!$C$17,NA(),ABS('Data In'!B220-INDIRECT(\"ZeroVal_\"&H$2,0)))","v":0},{"$f":"IF(CommandCell='Reference Cells'!$C$17,NA(),ABS('Data In'!C220-INDIRECT(\"ZeroVal_\"&I$2,0)))","v":0},{"$f":"IF(CommandCell='Reference Cells'!$C$17,NA(),ABS('Data In'!D220-INDIRECT(\"ZeroVal_\"&J$2,0)))","v":0},{"$f":"IF(CommandCell='Reference Cells'!$C$17,NA(),ABS('Data In'!E220-INDIRECT(\"ZeroVal_\"&K$2,0)))","v":0},{"$f":"IF(CommandCell='Reference Cells'!$C$17,NA(),ABS('Data In'!F220-INDIRECT(\"ZeroVal_\"&L$2,0)))","v":0},{"$f":"MAX(BackendTable[[#This Row],[S1]:[S5]])","v":0},{"$f":"IF(ISERROR(BackendTable[[#This Row],[T0Time]]),0,COUNTIFS(BackendTable[T0Time],\"<=\"&3,BackendTable[T0Time],\">=\"&0)-COUNTIFS(BackendTable[T0Time],\">\"&BackendTable[[#This Row],[T0Time]]))","v":500},null,null,null,null,null,null,null,null,null,null,null,null,null,null,null,null,null,null,null,null,null,null,null,null,{"$f":"MATCH(MAX(BackendTable[[#This Row],[T1S1]:[T1S5]]),BackendTable[[#This Row],[T1S1]:[T1S5]],0)","v":{"$error":"#N/A"}},{"$f":"MATCH(MAX(BackendTable[[#This Row],[T2S1]:[T2S5]]),BackendTable[[#This Row],[T2S1]:[T2S5]],0)","v":{"$error":"#N/A"}},{"$f":"MATCH(MAX(BackendTable[[#This Row],[T3S1]:[T3S5]]),BackendTable[[#This Row],[T3S1]:[T3S5]],0)","v":{"$error":"#N/A"}}]
[null,{"$f":"ROW()-ROW(BackendTable[[#Headers],[Row'#]])","v":214},{"$f":"'Data In'!A221","v":0},{"$f":"IF(BackendTable[[#This Row],[Time]]-'Reference Cells'!$C$3<=0,NA(),'Reference Cells'!$C$4-BackendTable[[#This Row],[Time]])*86400","v":{"$error":"#N/A"}},{"$f":"IFERROR(8-BackendTable[[#This Row],[Column1]],\"\")","v":""},{"$f":"IF(ISERROR(BackendTable[[#This Row],[Column1]]),-9,(BackendTable[[#This Row],[Net Time]]-NetTimeMin)*RangeAdj)","v":-9},{"$f":"IF(AND(BackendTable[[#This Row],[Time]]>='Reference Cells'!$C$6,BackendTable[[#This Row],[Time]]<='Reference Cells'!$C$7),(BackendTable[[#This Row],[Time]]-'Reference Cells'!$C$6)*86400,NA())","v":2},{"$f":"IF(CommandCell='Reference Cells'!$C$17,NA(),ABS('Data In'!B221-INDIRECT(\"ZeroVal_\"&H$2,0)))","v":0},{"$f":"IF(CommandCell='Reference Cells'!$C$17,NA(),ABS('Data In'!C221-INDIRECT(\"ZeroVal_\"&I$2,0)))","v":0},{"$f":"IF(CommandCell='Reference Cells'!$C$17,NA(),ABS('Data In'!D221-INDIRECT(\"ZeroVal_\"&J$2,0)))","v":0},{"$f":"IF(CommandCell='Reference Cells'!$C$17,NA(),ABS('Data In'!E221-INDIRECT(\"ZeroVal_\"&K$2,0)))","v":0},{"$f":"IF(CommandCell='Reference Cells'!$C$17,NA(),ABS('Data In'!F221-INDIRECT(\"ZeroVal_\"&L$2,0)))","v":0},{"$f":"MAX(BackendTable[[#This Row],[S1]:[S5]])","v":0},{"$f":"IF(ISERROR(BackendTable[[#This Row],[T0Time]]),0,COUNTIFS(BackendTable[T0Time],\"<=\"&3,BackendTable[T0Time],\">=\"&0)-COUNTIFS(BackendTable[T0Time],\">\"&BackendTable[[#This Row],[T0Time]]))","v":500},null,null,null,null,null,null,null,null,null,null,null,null,null,null,null,null,null,null,null,null,null,null,null,null,{"$f":"MATCH(MAX(BackendTable[[#This Row],[T1S1]:[T1S5]]),BackendTable[[#This Row],[T1S1]:[T1S5]],0)","v":{"$error":"#N/A"}},{"$f":"MATCH(MAX(BackendTable[[#This Row],[T2S1]:[T2S5]]),BackendTable[[#This Row],[T2S1]:[T2S5]],0)","v":{"$error":"#N/A"}},{"$f":"MATCH(MAX(BackendTable[[#This Row],[T3S1]:[T3S5]]),BackendTable[[#This Row],[T3S1]:[T3S5]],0)","v":{"$error":"#N/A"}}]
[null,{"$f":"ROW()-ROW(BackendTable[[#Headers],[Row'#]])","v":215},{"$f":"'Data In'!A222","v":0},{"$f":"IF(BackendTable[[#This Row],[Time]]-'Reference Cells'!$C$3<=0,NA(),'Reference Cells'!$C$4-BackendTable[[#This Row],[Time]])*86400","v":{"$error":"#N/A"}},{"$f":"IFERROR(8-BackendTable[[#This Row],[Column1]],\"\")","v":""},{"$f":"IF(ISERROR(BackendTable[[#This Row],[Column1]]),-9,(BackendTable[[#This Row],[Net Time]]-NetTimeMin)*RangeAdj)","v":-9},{"$f":"IF(AND(BackendTable[[#This Row],[Time]]>='Reference Cells'!$C$6,BackendTable[[#This Row],[Time]]<='Reference Cells'!$C$7),(BackendTable[[#This Row],[Time]]-'Reference Cells'!$C$6)*86400,NA())","v":2},{"$f":"IF(CommandCell='Reference Cells'!$C$17,NA(),ABS('Data In'!B222-INDIRECT(\"ZeroVal_\"&H$2,0)))","v":0},{"$f":"IF(CommandCell='Reference Cells'!$C$17,NA(),ABS('Data In'!C222-INDIRECT(\"ZeroVal_\"&I$2,0)))","v":0},{"$f":"IF(CommandCell='Reference Cells'!$C$17,NA(),ABS('Data In'!D222-INDIRECT(\"ZeroVal_\"&J$2,0)))","v":0},{"$f":"IF(CommandCell='Reference Cells'!$C$17,NA(),ABS('Data In'!E222-INDIRECT(\"ZeroVal_\"&K$2,0)))","v":0},{"$f":"IF(CommandCell='Reference Cells'!$C$17,NA(),ABS('Data In'!F222-INDIRECT(\"ZeroVal_\"&L$2,0)))","v":0},{"$f":"MAX(BackendTable[[#This Row],[S1]:[S5]])","v":0},{"$f":"IF(ISERROR(BackendTable[[#This Row],[T0Time]]),0,COUNTIFS(BackendTable[T0Time],\"<=\"&3,BackendTable[T0Time],\">=\"&0)-COUNTIFS(BackendTable[T0Time],\">\"&BackendTable[[#This Row],[T0Time]]))","v":500},null,null,null,null,null,null,null,null,null,null,null,null,null,null,null,null,null,null,null,null,null,null,null,null,{"$f":"MATCH(MAX(BackendTable[[#This Row],[T1S1]:[T1S5]]),BackendTable[[#This Row],[T1S1]:[T1S5]],0)","v":{"$error":"#N/A"}},{"$f":"MATCH(MAX(BackendTable[[#This Row],[T2S1]:[T2S5]]),BackendTable[[#This Row],[T2S1]:[T2S5]],0)","v":{"$error":"#N/A"}},{"$f":"MATCH(MAX(BackendTable[[#This Row],[T3S1]:[T3S5]]),BackendTable[[#This Row],[T3S1]:[T3S5]],0)","v":{"$error":"#N/A"}}]
[null,{"$f":"ROW()-ROW(BackendTable[[#Headers],[Row'#]])","v":216},{"$f":"'Data In'!A223","v":0},{"$f":"IF(BackendTable[[#This Row],[Time]]-'Reference Cells'!$C$3<=0,NA(),'Reference Cells'!$C$4-BackendTable[[#This Row],[Time]])*86400","v":{"$error":"#N/A"}},{"$f":"IFERROR(8-BackendTable[[#This Row],[Column1]],\"\")","v":""},{"$f":"IF(ISERROR(BackendTable[[#This Row],[Column1]]),-9,(BackendTable[[#This Row],[Net Time]]-NetTimeMin)*RangeAdj)","v":-9},{"$f":"IF(AND(BackendTable[[#This Row],[Time]]>='Reference Cells'!$C$6,BackendTable[[#This Row],[Time]]<='Reference Cells'!$C$7),(BackendTable[[#This Row],[Time]]-'Reference Cells'!$C$6)*86400,NA())","v":2},{"$f":"IF(CommandCell='Reference Cells'!$C$17,NA(),ABS('Data In'!B223-INDIRECT(\"ZeroVal_\"&H$2,0)))","v":0},{"$f":"IF(CommandCell='Reference Cells'!$C$17,NA(),ABS('Data In'!C223-INDIRECT(\"ZeroVal_\"&I$2,0)))","v":0},{"$f":"IF(CommandCell='Reference Cells'!$C$17,NA(),ABS('Data In'!D223-INDIRECT(\"ZeroVal_\"&J$2,0)))","v":0},{"$f":"IF(CommandCell='Reference Cells'!$C$17,NA(),ABS('Data In'!E223-INDIRECT(\"ZeroVal_\"&K$2,0)))","v":0},{"$f":"IF(CommandCell='Reference Cells'!$C$17,NA(),ABS('Data In'!F223-INDIRECT(\"ZeroVal_\"&L$2,0)))","v":0},{"$f":"MAX(BackendTable[[#This Row],[S1]:[S5]])","v":0},{"$f":"IF(ISERROR(BackendTable[[#This Row],[T0Time]]),0,COUNTIFS(BackendTable[T0Time],\"<=\"&3,BackendTable[T0Time],\">=\"&0)-COUNTIFS(BackendTable[T0Time],\">\"&BackendTable[[#This Row],[T0Time]]))","v":500},null,null,null,null,null,null,null,null,null,null,null,null,null,null,null,null,null,null,null,null,null,null,null,null,{"$f":"MATCH(MAX(BackendTable[[#This Row],[T1S1]:[T1S5]]),BackendTable[[#This Row],[T1S1]:[T1S5]],0)","v":{"$error":"#N/A"}},{"$f":"MATCH(MAX(BackendTable[[#This Row],[T2S1]:[T2S5]]),BackendTable[[#This Row],[T2S1]:[T2S5]],0)","v":{"$error":"#N/A"}},{"$f":"MATCH(MAX(BackendTable[[#This Row],[T3S1]:[T3S5]]),BackendTable[[#This Row],[T3S1]:[T3S5]],0)","v":{"$error":"#N/A"}}]
[null,{"$f":"ROW()-ROW(BackendTable[[#Headers],[Row'#]])","v":217},{"$f":"'Data In'!A224","v":0},{"$f":"IF(BackendTable[[#This Row],[Time]]-'Reference Cells'!$C$3<=0,NA(),'Reference Cells'!$C$4-BackendTable[[#This Row],[Time]])*86400","v":{"$error":"#N/A"}},{"$f":"IFERROR(8-BackendTable[[#This Row],[Column1]],\"\")","v":""},{"$f":"IF(ISERROR(BackendTable[[#This Row],[Column1]]),-9,(BackendTable[[#This Row],[Net Time]]-NetTimeMin)*RangeAdj)","v":-9},{"$f":"IF(AND(BackendTable[[#This Row],[Time]]>='Reference Cells'!$C$6,BackendTable[[#This Row],[Time]]<='Reference Cells'!$C$7),(BackendTable[[#This Row],[Time]]-'Reference Cells'!$C$6)*86400,NA())","v":2},{"$f":"IF(CommandCell='Reference Cells'!$C$17,NA(),ABS('Data In'!B224-INDIRECT(\"ZeroVal_\"&H$2,0)))","v":0},{"$f":"IF(CommandCell='Reference Cells'!$C$17,NA(),ABS('Data In'!C224-INDIRECT(\"ZeroVal_\"&I$2,0)))","v":0},{"$f":"IF(CommandCell='Reference Cells'!$C$17,NA(),ABS('Data In'!D224-INDIRECT(\"ZeroVal_\"&J$2,0)))","v":0},{"$f":"IF(CommandCell='Reference Cells'!$C$17,NA(),ABS('Data In'!E224-INDIRECT(\"ZeroVal_\"&K$2,0)))","v":0},{"$f":"IF(CommandCell='Reference Cells'!$C$17,NA(),ABS('Data In'!F224-INDIRECT(\"ZeroVal_\"&L$2,0)))","v":0},{"$f":"MAX(BackendTable[[#This Row],[S1]:[S5]])","v":0},{"$f":"IF(ISERROR(BackendTable[[#This Row],[T0Time]]),0,COUNTIFS(BackendTable[T0Time],\"<=\"&3,BackendTable[T0Time],\">=\"&0)-COUNTIFS(BackendTable[T0Time],\">\"&BackendTable[[#This Row],[T0Time]]))","v":500},null,null,null,null,null,null,null,null,null,null,null,null,null,null,null,null,null,null,null,null,null,null,null,null,{"$f":"MATCH(MAX(BackendTable[[#This Row],[T1S1]:[T1S5]]),BackendTable[[#This Row],[T1S1]:[T1S5]],0)","v":{"$error":"#N/A"}},{"$f":"MATCH(MAX(BackendTable[[#This Row],[T2S1]:[T2S5]]),BackendTable[[#This Row],[T2S1]:[T2S5]],0)","v":{"$error":"#N/A"}},{"$f":"MATCH(MAX(BackendTable[[#This Row],[T3S1]:[T3S5]]),BackendTable[[#This Row],[T3S1]:[T3S5]],0)","v":{"$error":"#N/A"}}]
[null,{"$f":"ROW()-ROW(BackendTable[[#Headers],[Row'#]])","v":218},{"$f":"'Data In'!A225","v":0},{"$f":"IF(BackendTable[[#This Row],[Time]]-'Reference Cells'!$C$3<=0,NA(),'Reference Cells'!$C$4-BackendTable[[#This Row],[Time]])*86400","v":{"$error":"#N/A"}},{"$f":"IFERROR(8-BackendTable[[#This Row],[Column1]],\"\")","v":""},{"$f":"IF(ISERROR(BackendTable[[#This Row],[Column1]]),-9,(BackendTable[[#This Row],[Net Time]]-NetTimeMin)*RangeAdj)","v":-9},{"$f":"IF(AND(BackendTable[[#This Row],[Time]]>='Reference Cells'!$C$6,BackendTable[[#This Row],[Time]]<='Reference Cells'!$C$7),(BackendTable[[#This Row],[Time]]-'Reference Cells'!$C$6)*86400,NA())","v":2},{"$f":"IF(CommandCell='Reference Cells'!$C$17,NA(),ABS('Data In'!B225-INDIRECT(\"ZeroVal_\"&H$2,0)))","v":0},{"$f":"IF(CommandCell='Reference Cells'!$C$17,NA(),ABS('Data In'!C225-INDIRECT(\"ZeroVal_\"&I$2,0)))","v":0},{"$f":"IF(CommandCell='Reference Cells'!$C$17,NA(),ABS('Data In'!D225-INDIRECT(\"ZeroVal_\"&J$2,0)))","v":0},{"$f":"IF(CommandCell='Reference Cells'!$C$17,NA(),ABS('Data In'!E225-INDIRECT(\"ZeroVal_\"&K$2,0)))","v":0},{"$f":"IF(CommandCell='Reference Cells'!$C$17,NA(),ABS('Data In'!F225-INDIRECT(\"ZeroVal_\"&L$2,0)))","v":0},{"$f":"MAX(BackendTable[[#This Row],[S1]:[S5]])","v":0},{"$f":"IF(ISERROR(BackendTable[[#This Row],[T0Time]]),0,COUNTIFS(BackendTable[T0Time],\"<=\"&3,BackendTable[T0Time],\">=\"&0)-COUNTIFS(BackendTable[T0Time],\">\"&BackendTable[[#This Row],[T0Time]]))","v":500},null,null,null,null,null,null,null,null,null,null,null,null,null,null,null,null,null,null,null,null,null,null,null,null,{"$f":"MATCH(MAX(BackendTable[[#This Row],[T1S1]:[T1S5]]),BackendTable[[#This Row],[T1S1]:[T1S5]],0)","v":{"$error":"#N/A"}},{"$f":"MATCH(MAX(BackendTable[[#This Row],[T2S1]:[T2S5]]),BackendTable[[#This Row],[T2S1]:[T2S5]],0)","v":{"$error":"#N/A"}},{"$f":"MATCH(MAX(BackendTable[[#This Row],[T3S1]:[T3S5]]),BackendTable[[#This Row],[T3S1]:[T3S5]],0)","v":{"$error":"#N/A"}}]
[null,{"$f":"ROW()-ROW(BackendTable[[#Headers],[Row'#]])","v":219},{"$f":"'Data In'!A226","v":0},{"$f":"IF(BackendTable[[#This Row],[Time]]-'Reference Cells'!$C$3<=0,NA(),'Reference Cells'!$C$4-BackendTable[[#This Row],[Time]])*86400","v":{"$error":"#N/A"}},{"$f":"IFERROR(8-BackendTable[[#This Row],[Column1]],\"\")","v":""},{"$f":"IF(ISERROR(BackendTable[[#This Row],[Column1]]),-9,(BackendTable[[#This Row],[Net Time]]-NetTimeMin)*RangeAdj)","v":-9},{"$f":"IF(AND(BackendTable[[#This Row],[Time]]>='Reference Cells'!$C$6,BackendTable[[#This Row],[Time]]<='Reference Cells'!$C$7),(BackendTable[[#This Row],[Time]]-'Reference Cells'!$C$6)*86400,NA())","v":2},{"$f":"IF(CommandCell='Reference Cells'!$C$17,NA(),ABS('Data In'!B226-INDIRECT(\"ZeroVal_\"&H$2,0)))","v":0},{"$f":"IF(CommandCell='Reference Cells'!$C$17,NA(),ABS('Data In'!C226-INDIRECT(\"ZeroVal_\"&I$2,0)))","v":0},{"$f":"IF(CommandCell='Reference Cells'!$C$17,NA(),ABS('Data In'!D226-INDIRECT(\"ZeroVal_\"&J$2,0)))","v":0},{"$f":"IF(CommandCell='Reference Cells'!$C$17,NA(),ABS('Data In'!E226-INDIRECT(\"ZeroVal_\"&K$2,0)))","v":0},{"$f":"IF(CommandCell='Reference Cells'!$C$17,NA(),ABS('Data In'!F226-INDIRECT(\"ZeroVal_\"&L$2,0)))","v":0},{"$f":"MAX(BackendTable[[#This Row],[S1]:[S5]])","v":0},{"$f":"IF(ISERROR(BackendTable[[#This Row],[T0Time]]),0,COUNTIFS(BackendTable[T0Time],\"<=\"&3,BackendTable[T0Time],\">=\"&0)-COUNTIFS(BackendTable[T0Time],\">\"&BackendTable[[#This Row],[T0Time]]))","v":500},null,null,null,null,null,null,null,null,null,null,null,null,null,null,null,null,null,null,null,null,null,null,null,null,{"$f":"MATCH(MAX(BackendTable[[#This Row],[T1S1]:[T1S5]]),BackendTable[[#This Row],[T1S1]:[T1S5]],0)","v":{"$error":"#N/A"}},{"$f":"MATCH(MAX(BackendTable[[#This Row],[T2S1]:[T2S5]]),BackendTable[[#This Row],[T2S1]:[T2S5]],0)","v":{"$error":"#N/A"}},{"$f":"MATCH(MAX(BackendTable[[#This Row],[T3S1]:[T3S5]]),BackendTable[[#This Row],[T3S1]:[T3S5]],0)","v":{"$error":"#N/A"}}]
[null,{"$f":"ROW()-ROW(BackendTable[[#Headers],[Row'#]])","v":220},{"$f":"'Data In'!A227","v":0},{"$f":"IF(BackendTable[[#This Row],[Time]]-'Reference Cells'!$C$3<=0,NA(),'Reference Cells'!$C$4-BackendTable[[#This Row],[Time]])*86400","v":{"$error":"#N/A"}},{"$f":"IFERROR(8-BackendTable[[#This Row],[Column1]],\"\")","v":""},{"$f":"IF(ISERROR(BackendTable[[#This Row],[Column1]]),-9,(BackendTable[[#This Row],[Net Time]]-NetTimeMin)*RangeAdj)","v":-9},{"$f":"IF(AND(BackendTable[[#This Row],[Time]]>='Reference Cells'!$C$6,BackendTable[[#This Row],[Time]]<='Reference Cells'!$C$7),(BackendTable[[#This Row],[Time]]-'Reference Cells'!$C$6)*86400,NA())","v":2},{"$f":"IF(CommandCell='Reference Cells'!$C$17,NA(),ABS('Data In'!B227-INDIRECT(\"ZeroVal_\"&H$2,0)))","v":0},{"$f":"IF(CommandCell='Reference Cells'!$C$17,NA(),ABS('Data In'!C227-INDIRECT(\"ZeroVal_\"&I$2,0)))","v":0},{"$f":"IF(CommandCell='Reference Cells'!$C$17,NA(),ABS('Data In'!D227-INDIRECT(\"ZeroVal_\"&J$2,0)))","v":0},{"$f":"IF(CommandCell='Reference Cells'!$C$17,NA(),ABS('Data In'!E227-INDIRECT(\"ZeroVal_\"&K$2,0)))","v":0},{"$f":"IF(CommandCell='Reference Cells'!$C$17,NA(),ABS('Data In'!F227-INDIRECT(\"ZeroVal_\"&L$2,0)))","v":0},{"$f":"MAX(BackendTable[[#This Row],[S1]:[S5]])","v":0},{"$f":"IF(ISERROR(BackendTable[[#This Row],[T0Time]]),0,COUNTIFS(BackendTable[T0Time],\"<=\"&3,BackendTable[T0Time],\">=\"&0)-COUNTIFS(BackendTable[T0Time],\">\"&BackendTable[[#This Row],[T0Time]]))","v":500},null,null,null,null,null,null,null,null,null,null,null,null,null,null,null,null,null,null,null,null,null,null,null,null,{"$f":"MATCH(MAX(BackendTable[[#This Row],[T1S1]:[T1S5]]),BackendTable[[#This Row],[T1S1]:[T1S5]],0)","v":{"$error":"#N/A"}},{"$f":"MATCH(MAX(BackendTable[[#This Row],[T2S1]:[T2S5]]),BackendTable[[#This Row],[T2S1]:[T2S5]],0)","v":{"$error":"#N/A"}},{"$f":"MATCH(MAX(BackendTable[[#This Row],[T3S1]:[T3S5]]),BackendTable[[#This Row],[T3S1]:[T3S5]],0)","v":{"$error":"#N/A"}}]
[null,{"$f":"ROW()-ROW(BackendTable[[#Headers],[Row'#]])","v":221},{"$f":"'Data In'!A228","v":0},{"$f":"IF(BackendTable[[#This Row],[Time]]-'Reference Cells'!$C$3<=0,NA(),'Reference Cells'!$C$4-BackendTable[[#This Row],[Time]])*86400","v":{"$error":"#N/A"}},{"$f":"IFERROR(8-BackendTable[[#This Row],[Column1]],\"\")","v":""},{"$f":"IF(ISERROR(BackendTable[[#This Row],[Column1]]),-9,(BackendTable[[#This Row],[Net Time]]-NetTimeMin)*RangeAdj)","v":-9},{"$f":"IF(AND(BackendTable[[#This Row],[Time]]>='Reference Cells'!$C$6,BackendTable[[#This Row],[Time]]<='Reference Cells'!$C$7),(BackendTable[[#This Row],[Time]]-'Reference Cells'!$C$6)*86400,NA())","v":2},{"$f":"IF(CommandCell='Reference Cells'!$C$17,NA(),ABS('Data In'!B228-INDIRECT(\"ZeroVal_\"&H$2,0)))","v":0},{"$f":"IF(CommandCell='Reference Cells'!$C$17,NA(),ABS('Data In'!C228-INDIRECT(\"ZeroVal_\"&I$2,0)))","v":0},{"$f":"IF(CommandCell='Reference Cells'!$C$17,NA(),ABS('Data In'!D228-INDIRECT(\"ZeroVal_\"&J$2,0)))","v":0},{"$f":"IF(CommandCell='Reference Cells'!$C$17,NA(),ABS('Data In'!E228-INDIRECT(\"ZeroVal_\"&K$2,0)))","v":0},{"$f":"IF(CommandCell='Reference Cells'!$C$17,NA(),ABS('Data In'!F228-INDIRECT(\"ZeroVal_\"&L$2,0)))","v":0},{"$f":"MAX(BackendTable[[#This Row],[S1]:[S5]])","v":0},{"$f":"IF(ISERROR(BackendTable[[#This Row],[T0Time]]),0,COUNTIFS(BackendTable[T0Time],\"<=\"&3,BackendTable[T0Time],\">=\"&0)-COUNTIFS(BackendTable[T0Time],\">\"&BackendTable[[#This Row],[T0Time]]))","v":500},null,null,null,null,null,null,null,null,null,null,null,null,null,null,null,null,null,null,null,null,null,null,null,null,{"$f":"MATCH(MAX(BackendTable[[#This Row],[T1S1]:[T1S5]]),BackendTable[[#This Row],[T1S1]:[T1S5]],0)","v":{"$error":"#N/A"}},{"$f":"MATCH(MAX(BackendTable[[#This Row],[T2S1]:[T2S5]]),BackendTable[[#This Row],[T2S1]:[T2S5]],0)","v":{"$error":"#N/A"}},{"$f":"MATCH(MAX(BackendTable[[#This Row],[T3S1]:[T3S5]]),BackendTable[[#This Row],[T3S1]:[T3S5]],0)","v":{"$error":"#N/A"}}]
[null,{"$f":"ROW()-ROW(BackendTable[[#Headers],[Row'#]])","v":222},{"$f":"'Data In'!A229","v":0},{"$f":"IF(BackendTable[[#This Row],[Time]]-'Reference Cells'!$C$3<=0,NA(),'Reference Cells'!$C$4-BackendTable[[#This Row],[Time]])*86400","v":{"$error":"#N/A"}},{"$f":"IFERROR(8-BackendTable[[#This Row],[Column1]],\"\")","v":""},{"$f":"IF(ISERROR(BackendTable[[#This Row],[Column1]]),-9,(BackendTable[[#This Row],[Net Time]]-NetTimeMin)*RangeAdj)","v":-9},{"$f":"IF(AND(BackendTable[[#This Row],[Time]]>='Reference Cells'!$C$6,BackendTable[[#This Row],[Time]]<='Reference Cells'!$C$7),(BackendTable[[#This Row],[Time]]-'Reference Cells'!$C$6)*86400,NA())","v":2},{"$f":"IF(CommandCell='Reference Cells'!$C$17,NA(),ABS('Data In'!B229-INDIRECT(\"ZeroVal_\"&H$2,0)))","v":0},{"$f":"IF(CommandCell='Reference Cells'!$C$17,NA(),ABS('Data In'!C229-INDIRECT(\"ZeroVal_\"&I$2,0)))","v":0},{"$f":"IF(CommandCell='Reference Cells'!$C$17,NA(),ABS('Data In'!D229-INDIRECT(\"ZeroVal_\"&J$2,0)))","v":0},{"$f":"IF(CommandCell='Reference Cells'!$C$17,NA(),ABS('Data In'!E229-INDIRECT(\"ZeroVal_\"&K$2,0)))","v":0},{"$f":"IF(CommandCell='Reference Cells'!$C$17,NA(),ABS('Data In'!F229-INDIRECT(\"ZeroVal_\"&L$2,0)))","v":0},{"$f":"MAX(BackendTable[[#This Row],[S1]:[S5]])","v":0},{"$f":"IF(ISERROR(BackendTable[[#This Row],[T0Time]]),0,COUNTIFS(BackendTable[T0Time],\"<=\"&3,BackendTable[T0Time],\">=\"&0)-COUNTIFS(BackendTable[T0Time],\">\"&BackendTable[[#This Row],[T0Time]]))","v":500},null,null,null,null,null,null,null,null,null,null,null,null,null,null,null,null,null,null,null,null,null,null,null,null,{"$f":"MATCH(MAX(BackendTable[[#This Row],[T1S1]:[T1S5]]),BackendTable[[#This Row],[T1S1]:[T1S5]],0)","v":{"$error":"#N/A"}},{"$f":"MATCH(MAX(BackendTable[[#This Row],[T2S1]:[T2S5]]),BackendTable[[#This Row],[T2S1]:[T2S5]],0)","v":{"$error":"#N/A"}},{"$f":"MATCH(MAX(BackendTable[[#This Row],[T3S1]:[T3S5]]),BackendTable[[#This Row],[T3S1]:[T3S5]],0)","v":{"$error":"#N/A"}}]
[null,{"$f":"ROW()-ROW(BackendTable[[#Headers],[Row'#]])","v":223},{"$f":"'Data In'!A230","v":0},{"$f":"IF(BackendTable[[#This Row],[Time]]-'Reference Cells'!$C$3<=0,NA(),'Reference Cells'!$C$4-BackendTable[[#This Row],[Time]])*86400","v":{"$error":"#N/A"}},{"$f":"IFERROR(8-BackendTable[[#This Row],[Column1]],\"\")","v":""},{"$f":"IF(ISERROR(BackendTable[[#This Row],[Column1]]),-9,(BackendTable[[#This Row],[Net Time]]-NetTimeMin)*RangeAdj)","v":-9},{"$f":"IF(AND(BackendTable[[#This Row],[Time]]>='Reference Cells'!$C$6,BackendTable[[#This Row],[Time]]<='Reference Cells'!$C$7),(BackendTable[[#This Row],[Time]]-'Reference Cells'!$C$6)*86400,NA())","v":2},{"$f":"IF(CommandCell='Reference Cells'!$C$17,NA(),ABS('Data In'!B230-INDIRECT(\"ZeroVal_\"&H$2,0)))","v":0},{"$f":"IF(CommandCell='Reference Cells'!$C$17,NA(),ABS('Data In'!C230-INDIRECT(\"ZeroVal_\"&I$2,0)))","v":0},{"$f":"IF(CommandCell='Reference Cells'!$C$17,NA(),ABS('Data In'!D230-INDIRECT(\"ZeroVal_\"&J$2,0)))","v":0},{"$f":"IF(CommandCell='Reference Cells'!$C$17,NA(),ABS('Data In'!E230-INDIRECT(\"ZeroVal_\"&K$2,0)))","v":0},{"$f":"IF(CommandCell='Reference Cells'!$C$17,NA(),ABS('Data In'!F230-INDIRECT(\"ZeroVal_\"&L$2,0)))","v":0},{"$f":"MAX(BackendTable[[#This Row],[S1]:[S5]])","v":0},{"$f":"IF(ISERROR(BackendTable[[#This Row],[T0Time]]),0,COUNTIFS(BackendTable[T0Time],\"<=\"&3,BackendTable[T0Time],\">=\"&0)-COUNTIFS(BackendTable[T0Time],\">\"&BackendTable[[#This Row],[T0Time]]))","v":500},null,null,null,null,null,null,null,null,null,null,null,null,null,null,null,null,null,null,null,null,null,null,null,null,{"$f":"MATCH(MAX(BackendTable[[#This Row],[T1S1]:[T1S5]]),BackendTable[[#This Row],[T1S1]:[T1S5]],0)","v":{"$error":"#N/A"}},{"$f":"MATCH(MAX(BackendTable[[#This Row],[T2S1]:[T2S5]]),BackendTable[[#This Row],[T2S1]:[T2S5]],0)","v":{"$error":"#N/A"}},{"$f":"MATCH(MAX(BackendTable[[#This Row],[T3S1]:[T3S5]]),BackendTable[[#This Row],[T3S1]:[T3S5]],0)","v":{"$error":"#N/A"}}]
[null,{"$f":"ROW()-ROW(BackendTable[[#Headers],[Row'#]])","v":224},{"$f":"'Data In'!A231","v":0},{"$f":"IF(BackendTable[[#This Row],[Time]]-'Reference Cells'!$C$3<=0,NA(),'Reference Cells'!$C$4-BackendTable[[#This Row],[Time]])*86400","v":{"$error":"#N/A"}},{"$f":"IFERROR(8-BackendTable[[#This Row],[Column1]],\"\")","v":""},{"$f":"IF(ISERROR(BackendTable[[#This Row],[Column1]]),-9,(BackendTable[[#This Row],[Net Time]]-NetTimeMin)*RangeAdj)","v":-9},{"$f":"IF(AND(BackendTable[[#This Row],[Time]]>='Reference Cells'!$C$6,BackendTable[[#This Row],[Time]]<='Reference Cells'!$C$7),(BackendTable[[#This Row],[Time]]-'Reference Cells'!$C$6)*86400,NA())","v":2},{"$f":"IF(CommandCell='Reference Cells'!$C$17,NA(),ABS('Data In'!B231-INDIRECT(\"ZeroVal_\"&H$2,0)))","v":0},{"$f":"IF(CommandCell='Reference Cells'!$C$17,NA(),ABS('Data In'!C231-INDIRECT(\"ZeroVal_\"&I$2,0)))","v":0},{"$f":"IF(CommandCell='Reference Cells'!$C$17,NA(),ABS('Data In'!D231-INDIRECT(\"ZeroVal_\"&J$2,0)))","v":0},{"$f":"IF(CommandCell='Reference Cells'!$C$17,NA(),ABS('Data In'!E231-INDIRECT(\"ZeroVal_\"&K$2,0)))","v":0},{"$f":"IF(CommandCell='Reference Cells'!$C$17,NA(),ABS('Data In'!F231-INDIRECT(\"ZeroVal_\"&L$2,0)))","v":0},{"$f":"MAX(BackendTable[[#This Row],[S1]:[S5]])","v":0},{"$f":"IF(ISERROR(BackendTable[[#This Row],[T0Time]]),0,COUNTIFS(BackendTable[T0Time],\"<=\"&3,BackendTable[T0Time],\">=\"&0)-COUNTIFS(BackendTable[T0Time],\">\"&BackendTable[[#This Row],[T0Time]]))","v":500},null,null,null,null,null,null,null,null,null,null,null,null,null,null,null,null,null,null,null,null,null,null,null,null,{"$f":"MATCH(MAX(BackendTable[[#This Row],[T1S1]:[T1S5]]),BackendTable[[#This Row],[T1S1]:[T1S5]],0)","v":{"$error":"#N/A"}},{"$f":"MATCH(MAX(BackendTable[[#This Row],[T2S1]:[T2S5]]),BackendTable[[#This Row],[T2S1]:[T2S5]],0)","v":{"$error":"#N/A"}},{"$f":"MATCH(MAX(BackendTable[[#This Row],[T3S1]:[T3S5]]),BackendTable[[#This Row],[T3S1]:[T3S5]],0)","v":{"$error":"#N/A"}}]
[null,{"$f":"ROW()-ROW(BackendTable[[#Headers],[Row'#]])","v":225},{"$f":"'Data In'!A232","v":0},{"$f":"IF(BackendTable[[#This Row],[Time]]-'Reference Cells'!$C$3<=0,NA(),'Reference Cells'!$C$4-BackendTable[[#This Row],[Time]])*86400","v":{"$error":"#N/A"}},{"$f":"IFERROR(8-BackendTable[[#This Row],[Column1]],\"\")","v":""},{"$f":"IF(ISERROR(BackendTable[[#This Row],[Column1]]),-9,(BackendTable[[#This Row],[Net Time]]-NetTimeMin)*RangeAdj)","v":-9},{"$f":"IF(AND(BackendTable[[#This Row],[Time]]>='Reference Cells'!$C$6,BackendTable[[#This Row],[Time]]<='Reference Cells'!$C$7),(BackendTable[[#This Row],[Time]]-'Reference Cells'!$C$6)*86400,NA())","v":2},{"$f":"IF(CommandCell='Reference Cells'!$C$17,NA(),ABS('Data In'!B232-INDIRECT(\"ZeroVal_\"&H$2,0)))","v":0},{"$f":"IF(CommandCell='Reference Cells'!$C$17,NA(),ABS('Data In'!C232-INDIRECT(\"ZeroVal_\"&I$2,0)))","v":0},{"$f":"IF(CommandCell='Reference Cells'!$C$17,NA(),ABS('Data In'!D232-INDIRECT(\"ZeroVal_\"&J$2,0)))","v":0},{"$f":"IF(CommandCell='Reference Cells'!$C$17,NA(),ABS('Data In'!E232-INDIRECT(\"ZeroVal_\"&K$2,0)))","v":0},{"$f":"IF(CommandCell='Reference Cells'!$C$17,NA(),ABS('Data In'!F232-INDIRECT(\"ZeroVal_\"&L$2,0)))","v":0},{"$f":"MAX(BackendTable[[#This Row],[S1]:[S5]])","v":0},{"$f":"IF(ISERROR(BackendTable[[#This Row],[T0Time]]),0,COUNTIFS(BackendTable[T0Time],\"<=\"&3,BackendTable[T0Time],\">=\"&0)-COUNTIFS(BackendTable[T0Time],\">\"&BackendTable[[#This Row],[T0Time]]))","v":500},null,null,null,null,null,null,null,null,null,null,null,null,null,null,null,null,null,null,null,null,null,null,null,null,{"$f":"MATCH(MAX(BackendTable[[#This Row],[T1S1]:[T1S5]]),BackendTable[[#This Row],[T1S1]:[T1S5]],0)","v":{"$error":"#N/A"}},{"$f":"MATCH(MAX(BackendTable[[#This Row],[T2S1]:[T2S5]]),BackendTable[[#This Row],[T2S1]:[T2S5]],0)","v":{"$error":"#N/A"}},{"$f":"MATCH(MAX(BackendTable[[#This Row],[T3S1]:[T3S5]]),BackendTable[[#This Row],[T3S1]:[T3S5]],0)","v":{"$error":"#N/A"}}]
[null,{"$f":"ROW()-ROW(BackendTable[[#Headers],[Row'#]])","v":226},{"$f":"'Data In'!A233","v":0},{"$f":"IF(BackendTable[[#This Row],[Time]]-'Reference Cells'!$C$3<=0,NA(),'Reference Cells'!$C$4-BackendTable[[#This Row],[Time]])*86400","v":{"$error":"#N/A"}},{"$f":"IFERROR(8-BackendTable[[#This Row],[Column1]],\"\")","v":""},{"$f":"IF(ISERROR(BackendTable[[#This Row],[Column1]]),-9,(BackendTable[[#This Row],[Net Time]]-NetTimeMin)*RangeAdj)","v":-9},{"$f":"IF(AND(BackendTable[[#This Row],[Time]]>='Reference Cells'!$C$6,BackendTable[[#This Row],[Time]]<='Reference Cells'!$C$7),(BackendTable[[#This Row],[Time]]-'Reference Cells'!$C$6)*86400,NA())","v":2},{"$f":"IF(CommandCell='Reference Cells'!$C$17,NA(),ABS('Data In'!B233-INDIRECT(\"ZeroVal_\"&H$2,0)))","v":0},{"$f":"IF(CommandCell='Reference Cells'!$C$17,NA(),ABS('Data In'!C233-INDIRECT(\"ZeroVal_\"&I$2,0)))","v":0},{"$f":"IF(CommandCell='Reference Cells'!$C$17,NA(),ABS('Data In'!D233-INDIRECT(\"ZeroVal_\"&J$2,0)))","v":0},{"$f":"IF(CommandCell='Reference Cells'!$C$17,NA(),ABS('Data In'!E233-INDIRECT(\"ZeroVal_\"&K$2,0)))","v":0},{"$f":"IF(CommandCell='Reference Cells'!$C$17,NA(),ABS('Data In'!F233-INDIRECT(\"ZeroVal_\"&L$2,0)))","v":0},{"$f":"MAX(BackendTable[[#This Row],[S1]:[S5]])","v":0},{"$f":"IF(ISERROR(BackendTable[[#This Row],[T0Time]]),0,COUNTIFS(BackendTable[T0Time],\"<=\"&3,BackendTable[T0Time],\">=\"&0)-COUNTIFS(BackendTable[T0Time],\">\"&BackendTable[[#This Row],[T0Time]]))","v":500},null,null,null,null,null,null,null,null,null,null,null,null,null,null,null,null,null,null,null,null,null,null,null,null,{"$f":"MATCH(MAX(BackendTable[[#This Row],[T1S1]:[T1S5]]),BackendTable[[#This Row],[T1S1]:[T1S5]],0)","v":{"$error":"#N/A"}},{"$f":"MATCH(MAX(BackendTable[[#This Row],[T2S1]:[T2S5]]),BackendTable[[#This Row],[T2S1]:[T2S5]],0)","v":{"$error":"#N/A"}},{"$f":"MATCH(MAX(BackendTable[[#This Row],[T3S1]:[T3S5]]),BackendTable[[#This Row],[T3S1]:[T3S5]],0)","v":{"$error":"#N/A"}}]
[null,{"$f":"ROW()-ROW(BackendTable[[#Headers],[Row'#]])","v":227},{"$f":"'Data In'!A234","v":0},{"$f":"IF(BackendTable[[#This Row],[Time]]-'Reference Cells'!$C$3<=0,NA(),'Reference Cells'!$C$4-BackendTable[[#This Row],[Time]])*86400","v":{"$error":"#N/A"}},{"$f":"IFERROR(8-BackendTable[[#This Row],[Column1]],\"\")","v":""},{"$f":"IF(ISERROR(BackendTable[[#This Row],[Column1]]),-9,(BackendTable[[#This Row],[Net Time]]-NetTimeMin)*RangeAdj)","v":-9},{"$f":"IF(AND(BackendTable[[#This Row],[Time]]>='Reference Cells'!$C$6,BackendTable[[#This Row],[Time]]<='Reference Cells'!$C$7),(BackendTable[[#This Row],[Time]]-'Reference Cells'!$C$6)*86400,NA())","v":2},{"$f":"IF(CommandCell='Reference Cells'!$C$17,NA(),ABS('Data In'!B234-INDIRECT(\"ZeroVal_\"&H$2,0)))","v":0},{"$f":"IF(CommandCell='Reference Cells'!$C$17,NA(),ABS('Data In'!C234-INDIRECT(\"ZeroVal_\"&I$2,0)))","v":0},{"$f":"IF(CommandCell='Reference Cells'!$C$17,NA(),ABS('Data In'!D234-INDIRECT(\"ZeroVal_\"&J$2,0)))","v":0},{"$f":"IF(CommandCell='Reference Cells'!$C$17,NA(),ABS('Data In'!E234-INDIRECT(\"ZeroVal_\"&K$2,0)))","v":0},{"$f":"IF(CommandCell='Reference Cells'!$C$17,NA(),ABS('Data In'!F234-INDIRECT(\"ZeroVal_\"&L$2,0)))","v":0},{"$f":"MAX(BackendTable[[#This Row],[S1]:[S5]])","v":0},{"$f":"IF(ISERROR(BackendTable[[#This Row],[T0Time]]),0,COUNTIFS(BackendTable[T0Time],\"<=\"&3,BackendTable[T0Time],\">=\"&0)-COUNTIFS(BackendTable[T0Time],\">\"&BackendTable[[#This Row],[T0Time]]))","v":500},null,null,null,null,null,null,null,null,null,null,null,null,null,null,null,null,null,null,null,null,null,null,null,null,{"$f":"MATCH(MAX(BackendTable[[#This Row],[T1S1]:[T1S5]]),BackendTable[[#This Row],[T1S1]:[T1S5]],0)","v":{"$error":"#N/A"}},{"$f":"MATCH(MAX(BackendTable[[#This Row],[T2S1]:[T2S5]]),BackendTable[[#This Row],[T2S1]:[T2S5]],0)","v":{"$error":"#N/A"}},{"$f":"MATCH(MAX(BackendTable[[#This Row],[T3S1]:[T3S5]]),BackendTable[[#This Row],[T3S1]:[T3S5]],0)","v":{"$error":"#N/A"}}]
[null,{"$f":"ROW()-ROW(BackendTable[[#Headers],[Row'#]])","v":228},{"$f":"'Data In'!A235","v":0},{"$f":"IF(BackendTable[[#This Row],[Time]]-'Reference Cells'!$C$3<=0,NA(),'Reference Cells'!$C$4-BackendTable[[#This Row],[Time]])*86400","v":{"$error":"#N/A"}},{"$f":"IFERROR(8-BackendTable[[#This Row],[Column1]],\"\")","v":""},{"$f":"IF(ISERROR(BackendTable[[#This Row],[Column1]]),-9,(BackendTable[[#This Row],[Net Time]]-NetTimeMin)*RangeAdj)","v":-9},{"$f":"IF(AND(BackendTable[[#This Row],[Time]]>='Reference Cells'!$C$6,BackendTable[[#This Row],[Time]]<='Reference Cells'!$C$7),(BackendTable[[#This Row],[Time]]-'Reference Cells'!$C$6)*86400,NA())","v":2},{"$f":"IF(CommandCell='Reference Cells'!$C$17,NA(),ABS('Data In'!B235-INDIRECT(\"ZeroVal_\"&H$2,0)))","v":0},{"$f":"IF(CommandCell='Reference Cells'!$C$17,NA(),ABS('Data In'!C235-INDIRECT(\"ZeroVal_\"&I$2,0)))","v":0},{"$f":"IF(CommandCell='Reference Cells'!$C$17,NA(),ABS('Data In'!D235-INDIRECT(\"ZeroVal_\"&J$2,0)))","v":0},{"$f":"IF(CommandCell='Reference Cells'!$C$17,NA(),ABS('Data In'!E235-INDIRECT(\"ZeroVal_\"&K$2,0)))","v":0},{"$f":"IF(CommandCell='Reference Cells'!$C$17,NA(),ABS('Data In'!F235-INDIRECT(\"ZeroVal_\"&L$2,0)))","v":0},{"$f":"MAX(BackendTable[[#This Row],[S1]:[S5]])","v":0},{"$f":"IF(ISERROR(BackendTable[[#This Row],[T0Time]]),0,COUNTIFS(BackendTable[T0Time],\"<=\"&3,BackendTable[T0Time],\">=\"&0)-COUNTIFS(BackendTable[T0Time],\">\"&BackendTable[[#This Row],[T0Time]]))","v":500},null,null,null,null,null,null,null,null,null,null,null,null,null,null,null,null,null,null,null,null,null,null,null,null,{"$f":"MATCH(MAX(BackendTable[[#This Row],[T1S1]:[T1S5]]),BackendTable[[#This Row],[T1S1]:[T1S5]],0)","v":{"$error":"#N/A"}},{"$f":"MATCH(MAX(BackendTable[[#This Row],[T2S1]:[T2S5]]),BackendTable[[#This Row],[T2S1]:[T2S5]],0)","v":{"$error":"#N/A"}},{"$f":"MATCH(MAX(BackendTable[[#This Row],[T3S1]:[T3S5]]),BackendTable[[#This Row],[T3S1]:[T3S5]],0)","v":{"$error":"#N/A"}}]
[null,{"$f":"ROW()-ROW(BackendTable[[#Headers],[Row'#]])","v":229},{"$f":"'Data In'!A236","v":0},{"$f":"IF(BackendTable[[#This Row],[Time]]-'Reference Cells'!$C$3<=0,NA(),'Reference Cells'!$C$4-BackendTable[[#This Row],[Time]])*86400","v":{"$error":"#N/A"}},{"$f":"IFERROR(8-BackendTable[[#This Row],[Column1]],\"\")","v":""},{"$f":"IF(ISERROR(BackendTable[[#This Row],[Column1]]),-9,(BackendTable[[#This Row],[Net Time]]-NetTimeMin)*RangeAdj)","v":-9},{"$f":"IF(AND(BackendTable[[#This Row],[Time]]>='Reference Cells'!$C$6,BackendTable[[#This Row],[Time]]<='Reference Cells'!$C$7),(BackendTable[[#This Row],[Time]]-'Reference Cells'!$C$6)*86400,NA())","v":2},{"$f":"IF(CommandCell='Reference Cells'!$C$17,NA(),ABS('Data In'!B236-INDIRECT(\"ZeroVal_\"&H$2,0)))","v":0},{"$f":"IF(CommandCell='Reference Cells'!$C$17,NA(),ABS('Data In'!C236-INDIRECT(\"ZeroVal_\"&I$2,0)))","v":0},{"$f":"IF(CommandCell='Reference Cells'!$C$17,NA(),ABS('Data In'!D236-INDIRECT(\"ZeroVal_\"&J$2,0)))","v":0},{"$f":"IF(CommandCell='Reference Cells'!$C$17,NA(),ABS('Data In'!E236-INDIRECT(\"ZeroVal_\"&K$2,0)))","v":0},{"$f":"IF(CommandCell='Reference Cells'!$C$17,NA(),ABS('Data In'!F236-INDIRECT(\"ZeroVal_\"&L$2,0)))","v":0},{"$f":"MAX(BackendTable[[#This Row],[S1]:[S5]])","v":0},{"$f":"IF(ISERROR(BackendTable[[#This Row],[T0Time]]),0,COUNTIFS(BackendTable[T0Time],\"<=\"&3,BackendTable[T0Time],\">=\"&0)-COUNTIFS(BackendTable[T0Time],\">\"&BackendTable[[#This Row],[T0Time]]))","v":500},null,null,null,null,null,null,null,null,null,null,null,null,null,null,null,null,null,null,null,null,null,null,null,null,{"$f":"MATCH(MAX(BackendTable[[#This Row],[T1S1]:[T1S5]]),BackendTable[[#This Row],[T1S1]:[T1S5]],0)","v":{"$error":"#N/A"}},{"$f":"MATCH(MAX(BackendTable[[#This Row],[T2S1]:[T2S5]]),BackendTable[[#This Row],[T2S1]:[T2S5]],0)","v":{"$error":"#N/A"}},{"$f":"MATCH(MAX(BackendTable[[#This Row],[T3S1]:[T3S5]]),BackendTable[[#This Row],[T3S1]:[T3S5]],0)","v":{"$error":"#N/A"}}]
[null,{"$f":"ROW()-ROW(BackendTable[[#Headers],[Row'#]])","v":230},{"$f":"'Data In'!A237","v":0},{"$f":"IF(BackendTable[[#This Row],[Time]]-'Reference Cells'!$C$3<=0,NA(),'Reference Cells'!$C$4-BackendTable[[#This Row],[Time]])*86400","v":{"$error":"#N/A"}},{"$f":"IFERROR(8-BackendTable[[#This Row],[Column1]],\"\")","v":""},{"$f":"IF(ISERROR(BackendTable[[#This Row],[Column1]]),-9,(BackendTable[[#This Row],[Net Time]]-NetTimeMin)*RangeAdj)","v":-9},{"$f":"IF(AND(BackendTable[[#This Row],[Time]]>='Reference Cells'!$C$6,BackendTable[[#This Row],[Time]]<='Reference Cells'!$C$7),(BackendTable[[#This Row],[Time]]-'Reference Cells'!$C$6)*86400,NA())","v":2},{"$f":"IF(CommandCell='Reference Cells'!$C$17,NA(),ABS('Data In'!B237-INDIRECT(\"ZeroVal_\"&H$2,0)))","v":0},{"$f":"IF(CommandCell='Reference Cells'!$C$17,NA(),ABS('Data In'!C237-INDIRECT(\"ZeroVal_\"&I$2,0)))","v":0},{"$f":"IF(CommandCell='Reference Cells'!$C$17,NA(),ABS('Data In'!D237-INDIRECT(\"ZeroVal_\"&J$2,0)))","v":0},{"$f":"IF(CommandCell='Reference Cells'!$C$17,NA(),ABS('Data In'!E237-INDIRECT(\"ZeroVal_\"&K$2,0)))","v":0},{"$f":"IF(CommandCell='Reference Cells'!$C$17,NA(),ABS('Data In'!F237-INDIRECT(\"ZeroVal_\"&L$2,0)))","v":0},{"$f":"MAX(BackendTable[[#This Row],[S1]:[S5]])","v":0},{"$f":"IF(ISERROR(BackendTable[[#This Row],[T0Time]]),0,COUNTIFS(BackendTable[T0Time],\"<=\"&3,BackendTable[T0Time],\">=\"&0)-COUNTIFS(BackendTable[T0Time],\">\"&BackendTable[[#This Row],[T0Time]]))","v":500},null,null,null,null,null,null,null,null,null,null,null,null,null,null,null,null,null,null,null,null,null,null,null,null,{"$f":"MATCH(MAX(BackendTable[[#This Row],[T1S1]:[T1S5]]),BackendTable[[#This Row],[T1S1]:[T1S5]],0)","v":{"$error":"#N/A"}},{"$f":"MATCH(MAX(BackendTable[[#This Row],[T2S1]:[T2S5]]),BackendTable[[#This Row],[T2S1]:[T2S5]],0)","v":{"$error":"#N/A"}},{"$f":"MATCH(MAX(BackendTable[[#This Row],[T3S1]:[T3S5]]),BackendTable[[#This Row],[T3S1]:[T3S5]],0)","v":{"$error":"#N/A"}}]
[null,{"$f":"ROW()-ROW(BackendTable[[#Headers],[Row'#]])","v":231},{"$f":"'Data In'!A238","v":0},{"$f":"IF(BackendTable[[#This Row],[Time]]-'Reference Cells'!$C$3<=0,NA(),'Reference Cells'!$C$4-BackendTable[[#This Row],[Time]])*86400","v":{"$error":"#N/A"}},{"$f":"IFERROR(8-BackendTable[[#This Row],[Column1]],\"\")","v":""},{"$f":"IF(ISERROR(BackendTable[[#This Row],[Column1]]),-9,(BackendTable[[#This Row],[Net Time]]-NetTimeMin)*RangeAdj)","v":-9},{"$f":"IF(AND(BackendTable[[#This Row],[Time]]>='Reference Cells'!$C$6,BackendTable[[#This Row],[Time]]<='Reference Cells'!$C$7),(BackendTable[[#This Row],[Time]]-'Reference Cells'!$C$6)*86400,NA())","v":2},{"$f":"IF(CommandCell='Reference Cells'!$C$17,NA(),ABS('Data In'!B238-INDIRECT(\"ZeroVal_\"&H$2,0)))","v":0},{"$f":"IF(CommandCell='Reference Cells'!$C$17,NA(),ABS('Data In'!C238-INDIRECT(\"ZeroVal_\"&I$2,0)))","v":0},{"$f":"IF(CommandCell='Reference Cells'!$C$17,NA(),ABS('Data In'!D238-INDIRECT(\"ZeroVal_\"&J$2,0)))","v":0},{"$f":"IF(CommandCell='Reference Cells'!$C$17,NA(),ABS('Data In'!E238-INDIRECT(\"ZeroVal_\"&K$2,0)))","v":0},{"$f":"IF(CommandCell='Reference Cells'!$C$17,NA(),ABS('Data In'!F238-INDIRECT(\"ZeroVal_\"&L$2,0)))","v":0},{"$f":"MAX(BackendTable[[#This Row],[S1]:[S5]])","v":0},{"$f":"IF(ISERROR(BackendTable[[#This Row],[T0Time]]),0,COUNTIFS(BackendTable[T0Time],\"<=\"&3,BackendTable[T0Time],\">=\"&0)-COUNTIFS(BackendTable[T0Time],\">\"&BackendTable[[#This Row],[T0Time]]))","v":500},null,null,null,null,null,null,null,null,null,null,null,null,null,null,null,null,null,null,null,null,null,null,null,null,{"$f":"MATCH(MAX(BackendTable[[#This Row],[T1S1]:[T1S5]]),BackendTable[[#This Row],[T1S1]:[T1S5]],0)","v":{"$error":"#N/A"}},{"$f":"MATCH(MAX(BackendTable[[#This Row],[T2S1]:[T2S5]]),BackendTable[[#This Row],[T2S1]:[T2S5]],0)","v":{"$error":"#N/A"}},{"$f":"MATCH(MAX(BackendTable[[#This Row],[T3S1]:[T3S5]]),BackendTable[[#This Row],[T3S1]:[T3S5]],0)","v":{"$error":"#N/A"}}]
[null,{"$f":"ROW()-ROW(BackendTable[[#Headers],[Row'#]])","v":232},{"$f":"'Data In'!A239","v":0},{"$f":"IF(BackendTable[[#This Row],[Time]]-'Reference Cells'!$C$3<=0,NA(),'Reference Cells'!$C$4-BackendTable[[#This Row],[Time]])*86400","v":{"$error":"#N/A"}},{"$f":"IFERROR(8-BackendTable[[#This Row],[Column1]],\"\")","v":""},{"$f":"IF(ISERROR(BackendTable[[#This Row],[Column1]]),-9,(BackendTable[[#This Row],[Net Time]]-NetTimeMin)*RangeAdj)","v":-9},{"$f":"IF(AND(BackendTable[[#This Row],[Time]]>='Reference Cells'!$C$6,BackendTable[[#This Row],[Time]]<='Reference Cells'!$C$7),(BackendTable[[#This Row],[Time]]-'Reference Cells'!$C$6)*86400,NA())","v":2},{"$f":"IF(CommandCell='Reference Cells'!$C$17,NA(),ABS('Data In'!B239-INDIRECT(\"ZeroVal_\"&H$2,0)))","v":0},{"$f":"IF(CommandCell='Reference Cells'!$C$17,NA(),ABS('Data In'!C239-INDIRECT(\"ZeroVal_\"&I$2,0)))","v":0},{"$f":"IF(CommandCell='Reference Cells'!$C$17,NA(),ABS('Data In'!D239-INDIRECT(\"ZeroVal_\"&J$2,0)))","v":0},{"$f":"IF(CommandCell='Reference Cells'!$C$17,NA(),ABS('Data In'!E239-INDIRECT(\"ZeroVal_\"&K$2,0)))","v":0},{"$f":"IF(CommandCell='Reference Cells'!$C$17,NA(),ABS('Data In'!F239-INDIRECT(\"ZeroVal_\"&L$2,0)))","v":0},{"$f":"MAX(BackendTable[[#This Row],[S1]:[S5]])","v":0},{"$f":"IF(ISERROR(BackendTable[[#This Row],[T0Time]]),0,COUNTIFS(BackendTable[T0Time],\"<=\"&3,BackendTable[T0Time],\">=\"&0)-COUNTIFS(BackendTable[T0Time],\">\"&BackendTable[[#This Row],[T0Time]]))","v":500},null,null,null,null,null,null,null,null,null,null,null,null,null,null,null,null,null,null,null,null,null,null,null,null,{"$f":"MATCH(MAX(BackendTable[[#This Row],[T1S1]:[T1S5]]),BackendTable[[#This Row],[T1S1]:[T1S5]],0)","v":{"$error":"#N/A"}},{"$f":"MATCH(MAX(BackendTable[[#This Row],[T2S1]:[T2S5]]),BackendTable[[#This Row],[T2S1]:[T2S5]],0)","v":{"$error":"#N/A"}},{"$f":"MATCH(MAX(BackendTable[[#This Row],[T3S1]:[T3S5]]),BackendTable[[#This Row],[T3S1]:[T3S5]],0)","v":{"$error":"#N/A"}}]
[null,{"$f":"ROW()-ROW(BackendTable[[#Headers],[Row'#]])","v":233},{"$f":"'Data In'!A240","v":0},{"$f":"IF(BackendTable[[#This Row],[Time]]-'Reference Cells'!$C$3<=0,NA(),'Reference Cells'!$C$4-BackendTable[[#This Row],[Time]])*86400","v":{"$error":"#N/A"}},{"$f":"IFERROR(8-BackendTable[[#This Row],[Column1]],\"\")","v":""},{"$f":"IF(ISERROR(BackendTable[[#This Row],[Column1]]),-9,(BackendTable[[#This Row],[Net Time]]-NetTimeMin)*RangeAdj)","v":-9},{"$f":"IF(AND(BackendTable[[#This Row],[Time]]>='Reference Cells'!$C$6,BackendTable[[#This Row],[Time]]<='Reference Cells'!$C$7),(BackendTable[[#This Row],[Time]]-'Reference Cells'!$C$6)*86400,NA())","v":2},{"$f":"IF(CommandCell='Reference Cells'!$C$17,NA(),ABS('Data In'!B240-INDIRECT(\"ZeroVal_\"&H$2,0)))","v":0},{"$f":"IF(CommandCell='Reference Cells'!$C$17,NA(),ABS('Data In'!C240-INDIRECT(\"ZeroVal_\"&I$2,0)))","v":0},{"$f":"IF(CommandCell='Reference Cells'!$C$17,NA(),ABS('Data In'!D240-INDIRECT(\"ZeroVal_\"&J$2,0)))","v":0},{"$f":"IF(CommandCell='Reference Cells'!$C$17,NA(),ABS('Data In'!E240-INDIRECT(\"ZeroVal_\"&K$2,0)))","v":0},{"$f":"IF(CommandCell='Reference Cells'!$C$17,NA(),ABS('Data In'!F240-INDIRECT(\"ZeroVal_\"&L$2,0)))","v":0},{"$f":"MAX(BackendTable[[#This Row],[S1]:[S5]])","v":0},{"$f":"IF(ISERROR(BackendTable[[#This Row],[T0Time]]),0,COUNTIFS(BackendTable[T0Time],\"<=\"&3,BackendTable[T0Time],\">=\"&0)-COUNTIFS(BackendTable[T0Time],\">\"&BackendTable[[#This Row],[T0Time]]))","v":500},null,null,null,null,null,null,null,null,null,null,null,null,null,null,null,null,null,null,null,null,null,null,null,null,{"$f":"MATCH(MAX(BackendTable[[#This Row],[T1S1]:[T1S5]]),BackendTable[[#This Row],[T1S1]:[T1S5]],0)","v":{"$error":"#N/A"}},{"$f":"MATCH(MAX(BackendTable[[#This Row],[T2S1]:[T2S5]]),BackendTable[[#This Row],[T2S1]:[T2S5]],0)","v":{"$error":"#N/A"}},{"$f":"MATCH(MAX(BackendTable[[#This Row],[T3S1]:[T3S5]]),BackendTable[[#This Row],[T3S1]:[T3S5]],0)","v":{"$error":"#N/A"}}]
[null,{"$f":"ROW()-ROW(BackendTable[[#Headers],[Row'#]])","v":234},{"$f":"'Data In'!A241","v":0},{"$f":"IF(BackendTable[[#This Row],[Time]]-'Reference Cells'!$C$3<=0,NA(),'Reference Cells'!$C$4-BackendTable[[#This Row],[Time]])*86400","v":{"$error":"#N/A"}},{"$f":"IFERROR(8-BackendTable[[#This Row],[Column1]],\"\")","v":""},{"$f":"IF(ISERROR(BackendTable[[#This Row],[Column1]]),-9,(BackendTable[[#This Row],[Net Time]]-NetTimeMin)*RangeAdj)","v":-9},{"$f":"IF(AND(BackendTable[[#This Row],[Time]]>='Reference Cells'!$C$6,BackendTable[[#This Row],[Time]]<='Reference Cells'!$C$7),(BackendTable[[#This Row],[Time]]-'Reference Cells'!$C$6)*86400,NA())","v":2},{"$f":"IF(CommandCell='Reference Cells'!$C$17,NA(),ABS('Data In'!B241-INDIRECT(\"ZeroVal_\"&H$2,0)))","v":0},{"$f":"IF(CommandCell='Reference Cells'!$C$17,NA(),ABS('Data In'!C241-INDIRECT(\"ZeroVal_\"&I$2,0)))","v":0},{"$f":"IF(CommandCell='Reference Cells'!$C$17,NA(),ABS('Data In'!D241-INDIRECT(\"ZeroVal_\"&J$2,0)))","v":0},{"$f":"IF(CommandCell='Reference Cells'!$C$17,NA(),ABS('Data In'!E241-INDIRECT(\"ZeroVal_\"&K$2,0)))","v":0},{"$f":"IF(CommandCell='Reference Cells'!$C$17,NA(),ABS('Data In'!F241-INDIRECT(\"ZeroVal_\"&L$2,0)))","v":0},{"$f":"MAX(BackendTable[[#This Row],[S1]:[S5]])","v":0},{"$f":"IF(ISERROR(BackendTable[[#This Row],[T0Time]]),0,COUNTIFS(BackendTable[T0Time],\"<=\"&3,BackendTable[T0Time],\">=\"&0)-COUNTIFS(BackendTable[T0Time],\">\"&BackendTable[[#This Row],[T0Time]]))","v":500},null,null,null,null,null,null,null,null,null,null,null,null,null,null,null,null,null,null,null,null,null,null,null,null,{"$f":"MATCH(MAX(BackendTable[[#This Row],[T1S1]:[T1S5]]),BackendTable[[#This Row],[T1S1]:[T1S5]],0)","v":{"$error":"#N/A"}},{"$f":"MATCH(MAX(BackendTable[[#This Row],[T2S1]:[T2S5]]),BackendTable[[#This Row],[T2S1]:[T2S5]],0)","v":{"$error":"#N/A"}},{"$f":"MATCH(MAX(BackendTable[[#This Row],[T3S1]:[T3S5]]),BackendTable[[#This Row],[T3S1]:[T3S5]],0)","v":{"$error":"#N/A"}}]
[null,{"$f":"ROW()-ROW(BackendTable[[#Headers],[Row'#]])","v":235},{"$f":"'Data In'!A242","v":0},{"$f":"IF(BackendTable[[#This Row],[Time]]-'Reference Cells'!$C$3<=0,NA(),'Reference Cells'!$C$4-BackendTable[[#This Row],[Time]])*86400","v":{"$error":"#N/A"}},{"$f":"IFERROR(8-BackendTable[[#This Row],[Column1]],\"\")","v":""},{"$f":"IF(ISERROR(BackendTable[[#This Row],[Column1]]),-9,(BackendTable[[#This Row],[Net Time]]-NetTimeMin)*RangeAdj)","v":-9},{"$f":"IF(AND(BackendTable[[#This Row],[Time]]>='Reference Cells'!$C$6,BackendTable[[#This Row],[Time]]<='Reference Cells'!$C$7),(BackendTable[[#This Row],[Time]]-'Reference Cells'!$C$6)*86400,NA())","v":2},{"$f":"IF(CommandCell='Reference Cells'!$C$17,NA(),ABS('Data In'!B242-INDIRECT(\"ZeroVal_\"&H$2,0)))","v":0},{"$f":"IF(CommandCell='Reference Cells'!$C$17,NA(),ABS('Data In'!C242-INDIRECT(\"ZeroVal_\"&I$2,0)))","v":0},{"$f":"IF(CommandCell='Reference Cells'!$C$17,NA(),ABS('Data In'!D242-INDIRECT(\"ZeroVal_\"&J$2,0)))","v":0},{"$f":"IF(CommandCell='Reference Cells'!$C$17,NA(),ABS('Data In'!E242-INDIRECT(\"ZeroVal_\"&K$2,0)))","v":0},{"$f":"IF(CommandCell='Reference Cells'!$C$17,NA(),ABS('Data In'!F242-INDIRECT(\"ZeroVal_\"&L$2,0)))","v":0},{"$f":"MAX(BackendTable[[#This Row],[S1]:[S5]])","v":0},{"$f":"IF(ISERROR(BackendTable[[#This Row],[T0Time]]),0,COUNTIFS(BackendTable[T0Time],\"<=\"&3,BackendTable[T0Time],\">=\"&0)-COUNTIFS(BackendTable[T0Time],\">\"&BackendTable[[#This Row],[T0Time]]))","v":500},null,null,null,null,null,null,null,null,null,null,null,null,null,null,null,null,null,null,null,null,null,null,null,null,{"$f":"MATCH(MAX(BackendTable[[#This Row],[T1S1]:[T1S5]]),BackendTable[[#This Row],[T1S1]:[T1S5]],0)","v":{"$error":"#N/A"}},{"$f":"MATCH(MAX(BackendTable[[#This Row],[T2S1]:[T2S5]]),BackendTable[[#This Row],[T2S1]:[T2S5]],0)","v":{"$error":"#N/A"}},{"$f":"MATCH(MAX(BackendTable[[#This Row],[T3S1]:[T3S5]]),BackendTable[[#This Row],[T3S1]:[T3S5]],0)","v":{"$error":"#N/A"}}]
[null,{"$f":"ROW()-ROW(BackendTable[[#Headers],[Row'#]])","v":236},{"$f":"'Data In'!A243","v":0},{"$f":"IF(BackendTable[[#This Row],[Time]]-'Reference Cells'!$C$3<=0,NA(),'Reference Cells'!$C$4-BackendTable[[#This Row],[Time]])*86400","v":{"$error":"#N/A"}},{"$f":"IFERROR(8-BackendTable[[#This Row],[Column1]],\"\")","v":""},{"$f":"IF(ISERROR(BackendTable[[#This Row],[Column1]]),-9,(BackendTable[[#This Row],[Net Time]]-NetTimeMin)*RangeAdj)","v":-9},{"$f":"IF(AND(BackendTable[[#This Row],[Time]]>='Reference Cells'!$C$6,BackendTable[[#This Row],[Time]]<='Reference Cells'!$C$7),(BackendTable[[#This Row],[Time]]-'Reference Cells'!$C$6)*86400,NA())","v":2},{"$f":"IF(CommandCell='Reference Cells'!$C$17,NA(),ABS('Data In'!B243-INDIRECT(\"ZeroVal_\"&H$2,0)))","v":0},{"$f":"IF(CommandCell='Reference Cells'!$C$17,NA(),ABS('Data In'!C243-INDIRECT(\"ZeroVal_\"&I$2,0)))","v":0},{"$f":"IF(CommandCell='Reference Cells'!$C$17,NA(),ABS('Data In'!D243-INDIRECT(\"ZeroVal_\"&J$2,0)))","v":0},{"$f":"IF(CommandCell='Reference Cells'!$C$17,NA(),ABS('Data In'!E243-INDIRECT(\"ZeroVal_\"&K$2,0)))","v":0},{"$f":"IF(CommandCell='Reference Cells'!$C$17,NA(),ABS('Data In'!F243-INDIRECT(\"ZeroVal_\"&L$2,0)))","v":0},{"$f":"MAX(BackendTable[[#This Row],[S1]:[S5]])","v":0},{"$f":"IF(ISERROR(BackendTable[[#This Row],[T0Time]]),0,COUNTIFS(BackendTable[T0Time],\"<=\"&3,BackendTable[T0Time],\">=\"&0)-COUNTIFS(BackendTable[T0Time],\">\"&BackendTable[[#This Row],[T0Time]]))","v":500},null,null,null,null,null,null,null,null,null,null,null,null,null,null,null,null,null,null,null,null,null,null,null,null,{"$f":"MATCH(MAX(BackendTable[[#This Row],[T1S1]:[T1S5]]),BackendTable[[#This Row],[T1S1]:[T1S5]],0)","v":{"$error":"#N/A"}},{"$f":"MATCH(MAX(BackendTable[[#This Row],[T2S1]:[T2S5]]),BackendTable[[#This Row],[T2S1]:[T2S5]],0)","v":{"$error":"#N/A"}},{"$f":"MATCH(MAX(BackendTable[[#This Row],[T3S1]:[T3S5]]),BackendTable[[#This Row],[T3S1]:[T3S5]],0)","v":{"$error":"#N/A"}}]
[null,{"$f":"ROW()-ROW(BackendTable[[#Headers],[Row'#]])","v":237},{"$f":"'Data In'!A244","v":0},{"$f":"IF(BackendTable[[#This Row],[Time]]-'Reference Cells'!$C$3<=0,NA(),'Reference Cells'!$C$4-BackendTable[[#This Row],[Time]])*86400","v":{"$error":"#N/A"}},{"$f":"IFERROR(8-BackendTable[[#This Row],[Column1]],\"\")","v":""},{"$f":"IF(ISERROR(BackendTable[[#This Row],[Column1]]),-9,(BackendTable[[#This Row],[Net Time]]-NetTimeMin)*RangeAdj)","v":-9},{"$f":"IF(AND(BackendTable[[#This Row],[Time]]>='Reference Cells'!$C$6,BackendTable[[#This Row],[Time]]<='Reference Cells'!$C$7),(BackendTable[[#This Row],[Time]]-'Reference Cells'!$C$6)*86400,NA())","v":2},{"$f":"IF(CommandCell='Reference Cells'!$C$17,NA(),ABS('Data In'!B244-INDIRECT(\"ZeroVal_\"&H$2,0)))","v":0},{"$f":"IF(CommandCell='Reference Cells'!$C$17,NA(),ABS('Data In'!C244-INDIRECT(\"ZeroVal_\"&I$2,0)))","v":0},{"$f":"IF(CommandCell='Reference Cells'!$C$17,NA(),ABS('Data In'!D244-INDIRECT(\"ZeroVal_\"&J$2,0)))","v":0},{"$f":"IF(CommandCell='Reference Cells'!$C$17,NA(),ABS('Data In'!E244-INDIRECT(\"ZeroVal_\"&K$2,0)))","v":0},{"$f":"IF(CommandCell='Reference Cells'!$C$17,NA(),ABS('Data In'!F244-INDIRECT(\"ZeroVal_\"&L$2,0)))","v":0},{"$f":"MAX(BackendTable[[#This Row],[S1]:[S5]])","v":0},{"$f":"IF(ISERROR(BackendTable[[#This Row],[T0Time]]),0,COUNTIFS(BackendTable[T0Time],\"<=\"&3,BackendTable[T0Time],\">=\"&0)-COUNTIFS(BackendTable[T0Time],\">\"&BackendTable[[#This Row],[T0Time]]))","v":500},null,null,null,null,null,null,null,null,null,null,null,null,null,null,null,null,null,null,null,null,null,null,null,null,{"$f":"MATCH(MAX(BackendTable[[#This Row],[T1S1]:[T1S5]]),BackendTable[[#This Row],[T1S1]:[T1S5]],0)","v":{"$error":"#N/A"}},{"$f":"MATCH(MAX(BackendTable[[#This Row],[T2S1]:[T2S5]]),BackendTable[[#This Row],[T2S1]:[T2S5]],0)","v":{"$error":"#N/A"}},{"$f":"MATCH(MAX(BackendTable[[#This Row],[T3S1]:[T3S5]]),BackendTable[[#This Row],[T3S1]:[T3S5]],0)","v":{"$error":"#N/A"}}]
[null,{"$f":"ROW()-ROW(BackendTable[[#Headers],[Row'#]])","v":238},{"$f":"'Data In'!A245","v":0},{"$f":"IF(BackendTable[[#This Row],[Time]]-'Reference Cells'!$C$3<=0,NA(),'Reference Cells'!$C$4-BackendTable[[#This Row],[Time]])*86400","v":{"$error":"#N/A"}},{"$f":"IFERROR(8-BackendTable[[#This Row],[Column1]],\"\")","v":""},{"$f":"IF(ISERROR(BackendTable[[#This Row],[Column1]]),-9,(BackendTable[[#This Row],[Net Time]]-NetTimeMin)*RangeAdj)","v":-9},{"$f":"IF(AND(BackendTable[[#This Row],[Time]]>='Reference Cells'!$C$6,BackendTable[[#This Row],[Time]]<='Reference Cells'!$C$7),(BackendTable[[#This Row],[Time]]-'Reference Cells'!$C$6)*86400,NA())","v":2},{"$f":"IF(CommandCell='Reference Cells'!$C$17,NA(),ABS('Data In'!B245-INDIRECT(\"ZeroVal_\"&H$2,0)))","v":0},{"$f":"IF(CommandCell='Reference Cells'!$C$17,NA(),ABS('Data In'!C245-INDIRECT(\"ZeroVal_\"&I$2,0)))","v":0},{"$f":"IF(CommandCell='Reference Cells'!$C$17,NA(),ABS('Data In'!D245-INDIRECT(\"ZeroVal_\"&J$2,0)))","v":0},{"$f":"IF(CommandCell='Reference Cells'!$C$17,NA(),ABS('Data In'!E245-INDIRECT(\"ZeroVal_\"&K$2,0)))","v":0},{"$f":"IF(CommandCell='Reference Cells'!$C$17,NA(),ABS('Data In'!F245-INDIRECT(\"ZeroVal_\"&L$2,0)))","v":0},{"$f":"MAX(BackendTable[[#This Row],[S1]:[S5]])","v":0},{"$f":"IF(ISERROR(BackendTable[[#This Row],[T0Time]]),0,COUNTIFS(BackendTable[T0Time],\"<=\"&3,BackendTable[T0Time],\">=\"&0)-COUNTIFS(BackendTable[T0Time],\">\"&BackendTable[[#This Row],[T0Time]]))","v":500},null,null,null,null,null,null,null,null,null,null,null,null,null,null,null,null,null,null,null,null,null,null,null,null,{"$f":"MATCH(MAX(BackendTable[[#This Row],[T1S1]:[T1S5]]),BackendTable[[#This Row],[T1S1]:[T1S5]],0)","v":{"$error":"#N/A"}},{"$f":"MATCH(MAX(BackendTable[[#This Row],[T2S1]:[T2S5]]),BackendTable[[#This Row],[T2S1]:[T2S5]],0)","v":{"$error":"#N/A"}},{"$f":"MATCH(MAX(BackendTable[[#This Row],[T3S1]:[T3S5]]),BackendTable[[#This Row],[T3S1]:[T3S5]],0)","v":{"$error":"#N/A"}}]
[null,{"$f":"ROW()-ROW(BackendTable[[#Headers],[Row'#]])","v":239},{"$f":"'Data In'!A246","v":0},{"$f":"IF(BackendTable[[#This Row],[Time]]-'Reference Cells'!$C$3<=0,NA(),'Reference Cells'!$C$4-BackendTable[[#This Row],[Time]])*86400","v":{"$error":"#N/A"}},{"$f":"IFERROR(8-BackendTable[[#This Row],[Column1]],\"\")","v":""},{"$f":"IF(ISERROR(BackendTable[[#This Row],[Column1]]),-9,(BackendTable[[#This Row],[Net Time]]-NetTimeMin)*RangeAdj)","v":-9},{"$f":"IF(AND(BackendTable[[#This Row],[Time]]>='Reference Cells'!$C$6,BackendTable[[#This Row],[Time]]<='Reference Cells'!$C$7),(BackendTable[[#This Row],[Time]]-'Reference Cells'!$C$6)*86400,NA())","v":2},{"$f":"IF(CommandCell='Reference Cells'!$C$17,NA(),ABS('Data In'!B246-INDIRECT(\"ZeroVal_\"&H$2,0)))","v":0},{"$f":"IF(CommandCell='Reference Cells'!$C$17,NA(),ABS('Data In'!C246-INDIRECT(\"ZeroVal_\"&I$2,0)))","v":0},{"$f":"IF(CommandCell='Reference Cells'!$C$17,NA(),ABS('Data In'!D246-INDIRECT(\"ZeroVal_\"&J$2,0)))","v":0},{"$f":"IF(CommandCell='Reference Cells'!$C$17,NA(),ABS('Data In'!E246-INDIRECT(\"ZeroVal_\"&K$2,0)))","v":0},{"$f":"IF(CommandCell='Reference Cells'!$C$17,NA(),ABS('Data In'!F246-INDIRECT(\"ZeroVal_\"&L$2,0)))","v":0},{"$f":"MAX(BackendTable[[#This Row],[S1]:[S5]])","v":0},{"$f":"IF(ISERROR(BackendTable[[#This Row],[T0Time]]),0,COUNTIFS(BackendTable[T0Time],\"<=\"&3,BackendTable[T0Time],\">=\"&0)-COUNTIFS(BackendTable[T0Time],\">\"&BackendTable[[#This Row],[T0Time]]))","v":500},null,null,null,null,null,null,null,null,null,null,null,null,null,null,null,null,null,null,null,null,null,null,null,null,{"$f":"MATCH(MAX(BackendTable[[#This Row],[T1S1]:[T1S5]]),BackendTable[[#This Row],[T1S1]:[T1S5]],0)","v":{"$error":"#N/A"}},{"$f":"MATCH(MAX(BackendTable[[#This Row],[T2S1]:[T2S5]]),BackendTable[[#This Row],[T2S1]:[T2S5]],0)","v":{"$error":"#N/A"}},{"$f":"MATCH(MAX(BackendTable[[#This Row],[T3S1]:[T3S5]]),BackendTable[[#This Row],[T3S1]:[T3S5]],0)","v":{"$error":"#N/A"}}]
[null,{"$f":"ROW()-ROW(BackendTable[[#Headers],[Row'#]])","v":240},{"$f":"'Data In'!A247","v":0},{"$f":"IF(BackendTable[[#This Row],[Time]]-'Reference Cells'!$C$3<=0,NA(),'Reference Cells'!$C$4-BackendTable[[#This Row],[Time]])*86400","v":{"$error":"#N/A"}},{"$f":"IFERROR(8-BackendTable[[#This Row],[Column1]],\"\")","v":""},{"$f":"IF(ISERROR(BackendTable[[#This Row],[Column1]]),-9,(BackendTable[[#This Row],[Net Time]]-NetTimeMin)*RangeAdj)","v":-9},{"$f":"IF(AND(BackendTable[[#This Row],[Time]]>='Reference Cells'!$C$6,BackendTable[[#This Row],[Time]]<='Reference Cells'!$C$7),(BackendTable[[#This Row],[Time]]-'Reference Cells'!$C$6)*86400,NA())","v":2},{"$f":"IF(CommandCell='Reference Cells'!$C$17,NA(),ABS('Data In'!B247-INDIRECT(\"ZeroVal_\"&H$2,0)))","v":0},{"$f":"IF(CommandCell='Reference Cells'!$C$17,NA(),ABS('Data In'!C247-INDIRECT(\"ZeroVal_\"&I$2,0)))","v":0},{"$f":"IF(CommandCell='Reference Cells'!$C$17,NA(),ABS('Data In'!D247-INDIRECT(\"ZeroVal_\"&J$2,0)))","v":0},{"$f":"IF(CommandCell='Reference Cells'!$C$17,NA(),ABS('Data In'!E247-INDIRECT(\"ZeroVal_\"&K$2,0)))","v":0},{"$f":"IF(CommandCell='Reference Cells'!$C$17,NA(),ABS('Data In'!F247-INDIRECT(\"ZeroVal_\"&L$2,0)))","v":0},{"$f":"MAX(BackendTable[[#This Row],[S1]:[S5]])","v":0},{"$f":"IF(ISERROR(BackendTable[[#This Row],[T0Time]]),0,COUNTIFS(BackendTable[T0Time],\"<=\"&3,BackendTable[T0Time],\">=\"&0)-COUNTIFS(BackendTable[T0Time],\">\"&BackendTable[[#This Row],[T0Time]]))","v":500},null,null,null,null,null,null,null,null,null,null,null,null,null,null,null,null,null,null,null,null,null,null,null,null,{"$f":"MATCH(MAX(BackendTable[[#This Row],[T1S1]:[T1S5]]),BackendTable[[#This Row],[T1S1]:[T1S5]],0)","v":{"$error":"#N/A"}},{"$f":"MATCH(MAX(BackendTable[[#This Row],[T2S1]:[T2S5]]),BackendTable[[#This Row],[T2S1]:[T2S5]],0)","v":{"$error":"#N/A"}},{"$f":"MATCH(MAX(BackendTable[[#This Row],[T3S1]:[T3S5]]),BackendTable[[#This Row],[T3S1]:[T3S5]],0)","v":{"$error":"#N/A"}}]
[null,{"$f":"ROW()-ROW(BackendTable[[#Headers],[Row'#]])","v":241},{"$f":"'Data In'!A248","v":0},{"$f":"IF(BackendTable[[#This Row],[Time]]-'Reference Cells'!$C$3<=0,NA(),'Reference Cells'!$C$4-BackendTable[[#This Row],[Time]])*86400","v":{"$error":"#N/A"}},{"$f":"IFERROR(8-BackendTable[[#This Row],[Column1]],\"\")","v":""},{"$f":"IF(ISERROR(BackendTable[[#This Row],[Column1]]),-9,(BackendTable[[#This Row],[Net Time]]-NetTimeMin)*RangeAdj)","v":-9},{"$f":"IF(AND(BackendTable[[#This Row],[Time]]>='Reference Cells'!$C$6,BackendTable[[#This Row],[Time]]<='Reference Cells'!$C$7),(BackendTable[[#This Row],[Time]]-'Reference Cells'!$C$6)*86400,NA())","v":2},{"$f":"IF(CommandCell='Reference Cells'!$C$17,NA(),ABS('Data In'!B248-INDIRECT(\"ZeroVal_\"&H$2,0)))","v":0},{"$f":"IF(CommandCell='Reference Cells'!$C$17,NA(),ABS('Data In'!C248-INDIRECT(\"ZeroVal_\"&I$2,0)))","v":0},{"$f":"IF(CommandCell='Reference Cells'!$C$17,NA(),ABS('Data In'!D248-INDIRECT(\"ZeroVal_\"&J$2,0)))","v":0},{"$f":"IF(CommandCell='Reference Cells'!$C$17,NA(),ABS('Data In'!E248-INDIRECT(\"ZeroVal_\"&K$2,0)))","v":0},{"$f":"IF(CommandCell='Reference Cells'!$C$17,NA(),ABS('Data In'!F248-INDIRECT(\"ZeroVal_\"&L$2,0)))","v":0},{"$f":"MAX(BackendTable[[#This Row],[S1]:[S5]])","v":0},{"$f":"IF(ISERROR(BackendTable[[#This Row],[T0Time]]),0,COUNTIFS(BackendTable[T0Time],\"<=\"&3,BackendTable[T0Time],\">=\"&0)-COUNTIFS(BackendTable[T0Time],\">\"&BackendTable[[#This Row],[T0Time]]))","v":500},null,null,null,null,null,null,null,null,null,null,null,null,null,null,null,null,null,null,null,null,null,null,null,null,{"$f":"MATCH(MAX(BackendTable[[#This Row],[T1S1]:[T1S5]]),BackendTable[[#This Row],[T1S1]:[T1S5]],0)","v":{"$error":"#N/A"}},{"$f":"MATCH(MAX(BackendTable[[#This Row],[T2S1]:[T2S5]]),BackendTable[[#This Row],[T2S1]:[T2S5]],0)","v":{"$error":"#N/A"}},{"$f":"MATCH(MAX(BackendTable[[#This Row],[T3S1]:[T3S5]]),BackendTable[[#This Row],[T3S1]:[T3S5]],0)","v":{"$error":"#N/A"}}]
[null,{"$f":"ROW()-ROW(BackendTable[[#Headers],[Row'#]])","v":242},{"$f":"'Data In'!A249","v":0},{"$f":"IF(BackendTable[[#This Row],[Time]]-'Reference Cells'!$C$3<=0,NA(),'Reference Cells'!$C$4-BackendTable[[#This Row],[Time]])*86400","v":{"$error":"#N/A"}},{"$f":"IFERROR(8-BackendTable[[#This Row],[Column1]],\"\")","v":""},{"$f":"IF(ISERROR(BackendTable[[#This Row],[Column1]]),-9,(BackendTable[[#This Row],[Net Time]]-NetTimeMin)*RangeAdj)","v":-9},{"$f":"IF(AND(BackendTable[[#This Row],[Time]]>='Reference Cells'!$C$6,BackendTable[[#This Row],[Time]]<='Reference Cells'!$C$7),(BackendTable[[#This Row],[Time]]-'Reference Cells'!$C$6)*86400,NA())","v":2},{"$f":"IF(CommandCell='Reference Cells'!$C$17,NA(),ABS('Data In'!B249-INDIRECT(\"ZeroVal_\"&H$2,0)))","v":0},{"$f":"IF(CommandCell='Reference Cells'!$C$17,NA(),ABS('Data In'!C249-INDIRECT(\"ZeroVal_\"&I$2,0)))","v":0},{"$f":"IF(CommandCell='Reference Cells'!$C$17,NA(),ABS('Data In'!D249-INDIRECT(\"ZeroVal_\"&J$2,0)))","v":0},{"$f":"IF(CommandCell='Reference Cells'!$C$17,NA(),ABS('Data In'!E249-INDIRECT(\"ZeroVal_\"&K$2,0)))","v":0},{"$f":"IF(CommandCell='Reference Cells'!$C$17,NA(),ABS('Data In'!F249-INDIRECT(\"ZeroVal_\"&L$2,0)))","v":0},{"$f":"MAX(BackendTable[[#This Row],[S1]:[S5]])","v":0},{"$f":"IF(ISERROR(BackendTable[[#This Row],[T0Time]]),0,COUNTIFS(BackendTable[T0Time],\"<=\"&3,BackendTable[T0Time],\">=\"&0)-COUNTIFS(BackendTable[T0Time],\">\"&BackendTable[[#This Row],[T0Time]]))","v":500},null,null,null,null,null,null,null,null,null,null,null,null,null,null,null,null,null,null,null,null,null,null,null,null,{"$f":"MATCH(MAX(BackendTable[[#This Row],[T1S1]:[T1S5]]),BackendTable[[#This Row],[T1S1]:[T1S5]],0)","v":{"$error":"#N/A"}},{"$f":"MATCH(MAX(BackendTable[[#This Row],[T2S1]:[T2S5]]),BackendTable[[#This Row],[T2S1]:[T2S5]],0)","v":{"$error":"#N/A"}},{"$f":"MATCH(MAX(BackendTable[[#This Row],[T3S1]:[T3S5]]),BackendTable[[#This Row],[T3S1]:[T3S5]],0)","v":{"$error":"#N/A"}}]
[null,{"$f":"ROW()-ROW(BackendTable[[#Headers],[Row'#]])","v":243},{"$f":"'Data In'!A250","v":0},{"$f":"IF(BackendTable[[#This Row],[Time]]-'Reference Cells'!$C$3<=0,NA(),'Reference Cells'!$C$4-BackendTable[[#This Row],[Time]])*86400","v":{"$error":"#N/A"}},{"$f":"IFERROR(8-BackendTable[[#This Row],[Column1]],\"\")","v":""},{"$f":"IF(ISERROR(BackendTable[[#This Row],[Column1]]),-9,(BackendTable[[#This Row],[Net Time]]-NetTimeMin)*RangeAdj)","v":-9},{"$f":"IF(AND(BackendTable[[#This Row],[Time]]>='Reference Cells'!$C$6,BackendTable[[#This Row],[Time]]<='Reference Cells'!$C$7),(BackendTable[[#This Row],[Time]]-'Reference Cells'!$C$6)*86400,NA())","v":2},{"$f":"IF(CommandCell='Reference Cells'!$C$17,NA(),ABS('Data In'!B250-INDIRECT(\"ZeroVal_\"&H$2,0)))","v":0},{"$f":"IF(CommandCell='Reference Cells'!$C$17,NA(),ABS('Data In'!C250-INDIRECT(\"ZeroVal_\"&I$2,0)))","v":0},{"$f":"IF(CommandCell='Reference Cells'!$C$17,NA(),ABS('Data In'!D250-INDIRECT(\"ZeroVal_\"&J$2,0)))","v":0},{"$f":"IF(CommandCell='Reference Cells'!$C$17,NA(),ABS('Data In'!E250-INDIRECT(\"ZeroVal_\"&K$2,0)))","v":0},{"$f":"IF(CommandCell='Reference Cells'!$C$17,NA(),ABS('Data In'!F250-INDIRECT(\"ZeroVal_\"&L$2,0)))","v":0},{"$f":"MAX(BackendTable[[#This Row],[S1]:[S5]])","v":0},{"$f":"IF(ISERROR(BackendTable[[#This Row],[T0Time]]),0,COUNTIFS(BackendTable[T0Time],\"<=\"&3,BackendTable[T0Time],\">=\"&0)-COUNTIFS(BackendTable[T0Time],\">\"&BackendTable[[#This Row],[T0Time]]))","v":500},null,null,null,null,null,null,null,null,null,null,null,null,null,null,null,null,null,null,null,null,null,null,null,null,{"$f":"MATCH(MAX(BackendTable[[#This Row],[T1S1]:[T1S5]]),BackendTable[[#This Row],[T1S1]:[T1S5]],0)","v":{"$error":"#N/A"}},{"$f":"MATCH(MAX(BackendTable[[#This Row],[T2S1]:[T2S5]]),BackendTable[[#This Row],[T2S1]:[T2S5]],0)","v":{"$error":"#N/A"}},{"$f":"MATCH(MAX(BackendTable[[#This Row],[T3S1]:[T3S5]]),BackendTable[[#This Row],[T3S1]:[T3S5]],0)","v":{"$error":"#N/A"}}]
[null,{"$f":"ROW()-ROW(BackendTable[[#Headers],[Row'#]])","v":244},{"$f":"'Data In'!A251","v":0},{"$f":"IF(BackendTable[[#This Row],[Time]]-'Reference Cells'!$C$3<=0,NA(),'Reference Cells'!$C$4-BackendTable[[#This Row],[Time]])*86400","v":{"$error":"#N/A"}},{"$f":"IFERROR(8-BackendTable[[#This Row],[Column1]],\"\")","v":""},{"$f":"IF(ISERROR(BackendTable[[#This Row],[Column1]]),-9,(BackendTable[[#This Row],[Net Time]]-NetTimeMin)*RangeAdj)","v":-9},{"$f":"IF(AND(BackendTable[[#This Row],[Time]]>='Reference Cells'!$C$6,BackendTable[[#This Row],[Time]]<='Reference Cells'!$C$7),(BackendTable[[#This Row],[Time]]-'Reference Cells'!$C$6)*86400,NA())","v":2},{"$f":"IF(CommandCell='Reference Cells'!$C$17,NA(),ABS('Data In'!B251-INDIRECT(\"ZeroVal_\"&H$2,0)))","v":0},{"$f":"IF(CommandCell='Reference Cells'!$C$17,NA(),ABS('Data In'!C251-INDIRECT(\"ZeroVal_\"&I$2,0)))","v":0},{"$f":"IF(CommandCell='Reference Cells'!$C$17,NA(),ABS('Data In'!D251-INDIRECT(\"ZeroVal_\"&J$2,0)))","v":0},{"$f":"IF(CommandCell='Reference Cells'!$C$17,NA(),ABS('Data In'!E251-INDIRECT(\"ZeroVal_\"&K$2,0)))","v":0},{"$f":"IF(CommandCell='Reference Cells'!$C$17,NA(),ABS('Data In'!F251-INDIRECT(\"ZeroVal_\"&L$2,0)))","v":0},{"$f":"MAX(BackendTable[[#This Row],[S1]:[S5]])","v":0},{"$f":"IF(ISERROR(BackendTable[[#This Row],[T0Time]]),0,COUNTIFS(BackendTable[T0Time],\"<=\"&3,BackendTable[T0Time],\">=\"&0)-COUNTIFS(BackendTable[T0Time],\">\"&BackendTable[[#This Row],[T0Time]]))","v":500},null,null,null,null,null,null,null,null,null,null,null,null,null,null,null,null,null,null,null,null,null,null,null,null,{"$f":"MATCH(MAX(BackendTable[[#This Row],[T1S1]:[T1S5]]),BackendTable[[#This Row],[T1S1]:[T1S5]],0)","v":{"$error":"#N/A"}},{"$f":"MATCH(MAX(BackendTable[[#This Row],[T2S1]:[T2S5]]),BackendTable[[#This Row],[T2S1]:[T2S5]],0)","v":{"$error":"#N/A"}},{"$f":"MATCH(MAX(BackendTable[[#This Row],[T3S1]:[T3S5]]),BackendTable[[#This Row],[T3S1]:[T3S5]],0)","v":{"$error":"#N/A"}}]
[null,{"$f":"ROW()-ROW(BackendTable[[#Headers],[Row'#]])","v":245},{"$f":"'Data In'!A252","v":0},{"$f":"IF(BackendTable[[#This Row],[Time]]-'Reference Cells'!$C$3<=0,NA(),'Reference Cells'!$C$4-BackendTable[[#This Row],[Time]])*86400","v":{"$error":"#N/A"}},{"$f":"IFERROR(8-BackendTable[[#This Row],[Column1]],\"\")","v":""},{"$f":"IF(ISERROR(BackendTable[[#This Row],[Column1]]),-9,(BackendTable[[#This Row],[Net Time]]-NetTimeMin)*RangeAdj)","v":-9},{"$f":"IF(AND(BackendTable[[#This Row],[Time]]>='Reference Cells'!$C$6,BackendTable[[#This Row],[Time]]<='Reference Cells'!$C$7),(BackendTable[[#This Row],[Time]]-'Reference Cells'!$C$6)*86400,NA())","v":2},{"$f":"IF(CommandCell='Reference Cells'!$C$17,NA(),ABS('Data In'!B252-INDIRECT(\"ZeroVal_\"&H$2,0)))","v":0},{"$f":"IF(CommandCell='Reference Cells'!$C$17,NA(),ABS('Data In'!C252-INDIRECT(\"ZeroVal_\"&I$2,0)))","v":0},{"$f":"IF(CommandCell='Reference Cells'!$C$17,NA(),ABS('Data In'!D252-INDIRECT(\"ZeroVal_\"&J$2,0)))","v":0},{"$f":"IF(CommandCell='Reference Cells'!$C$17,NA(),ABS('Data In'!E252-INDIRECT(\"ZeroVal_\"&K$2,0)))","v":0},{"$f":"IF(CommandCell='Reference Cells'!$C$17,NA(),ABS('Data In'!F252-INDIRECT(\"ZeroVal_\"&L$2,0)))","v":0},{"$f":"MAX(BackendTable[[#This Row],[S1]:[S5]])","v":0},{"$f":"IF(ISERROR(BackendTable[[#This Row],[T0Time]]),0,COUNTIFS(BackendTable[T0Time],\"<=\"&3,BackendTable[T0Time],\">=\"&0)-COUNTIFS(BackendTable[T0Time],\">\"&BackendTable[[#This Row],[T0Time]]))","v":500},null,null,null,null,null,null,null,null,null,null,null,null,null,null,null,null,null,null,null,null,null,null,null,null,{"$f":"MATCH(MAX(BackendTable[[#This Row],[T1S1]:[T1S5]]),BackendTable[[#This Row],[T1S1]:[T1S5]],0)","v":{"$error":"#N/A"}},{"$f":"MATCH(MAX(BackendTable[[#This Row],[T2S1]:[T2S5]]),BackendTable[[#This Row],[T2S1]:[T2S5]],0)","v":{"$error":"#N/A"}},{"$f":"MATCH(MAX(BackendTable[[#This Row],[T3S1]:[T3S5]]),BackendTable[[#This Row],[T3S1]:[T3S5]],0)","v":{"$error":"#N/A"}}]
[null,{"$f":"ROW()-ROW(BackendTable[[#Headers],[Row'#]])","v":246},{"$f":"'Data In'!A253","v":0},{"$f":"IF(BackendTable[[#This Row],[Time]]-'Reference Cells'!$C$3<=0,NA(),'Reference Cells'!$C$4-BackendTable[[#This Row],[Time]])*86400","v":{"$error":"#N/A"}},{"$f":"IFERROR(8-BackendTable[[#This Row],[Column1]],\"\")","v":""},{"$f":"IF(ISERROR(BackendTable[[#This Row],[Column1]]),-9,(BackendTable[[#This Row],[Net Time]]-NetTimeMin)*RangeAdj)","v":-9},{"$f":"IF(AND(BackendTable[[#This Row],[Time]]>='Reference Cells'!$C$6,BackendTable[[#This Row],[Time]]<='Reference Cells'!$C$7),(BackendTable[[#This Row],[Time]]-'Reference Cells'!$C$6)*86400,NA())","v":2},{"$f":"IF(CommandCell='Reference Cells'!$C$17,NA(),ABS('Data In'!B253-INDIRECT(\"ZeroVal_\"&H$2,0)))","v":0},{"$f":"IF(CommandCell='Reference Cells'!$C$17,NA(),ABS('Data In'!C253-INDIRECT(\"ZeroVal_\"&I$2,0)))","v":0},{"$f":"IF(CommandCell='Reference Cells'!$C$17,NA(),ABS('Data In'!D253-INDIRECT(\"ZeroVal_\"&J$2,0)))","v":0},{"$f":"IF(CommandCell='Reference Cells'!$C$17,NA(),ABS('Data In'!E253-INDIRECT(\"ZeroVal_\"&K$2,0)))","v":0},{"$f":"IF(CommandCell='Reference Cells'!$C$17,NA(),ABS('Data In'!F253-INDIRECT(\"ZeroVal_\"&L$2,0)))","v":0},{"$f":"MAX(BackendTable[[#This Row],[S1]:[S5]])","v":0},{"$f":"IF(ISERROR(BackendTable[[#This Row],[T0Time]]),0,COUNTIFS(BackendTable[T0Time],\"<=\"&3,BackendTable[T0Time],\">=\"&0)-COUNTIFS(BackendTable[T0Time],\">\"&BackendTable[[#This Row],[T0Time]]))","v":500},null,null,null,null,null,null,null,null,null,null,null,null,null,null,null,null,null,null,null,null,null,null,null,null,{"$f":"MATCH(MAX(BackendTable[[#This Row],[T1S1]:[T1S5]]),BackendTable[[#This Row],[T1S1]:[T1S5]],0)","v":{"$error":"#N/A"}},{"$f":"MATCH(MAX(BackendTable[[#This Row],[T2S1]:[T2S5]]),BackendTable[[#This Row],[T2S1]:[T2S5]],0)","v":{"$error":"#N/A"}},{"$f":"MATCH(MAX(BackendTable[[#This Row],[T3S1]:[T3S5]]),BackendTable[[#This Row],[T3S1]:[T3S5]],0)","v":{"$error":"#N/A"}}]
[null,{"$f":"ROW()-ROW(BackendTable[[#Headers],[Row'#]])","v":247},{"$f":"'Data In'!A254","v":0},{"$f":"IF(BackendTable[[#This Row],[Time]]-'Reference Cells'!$C$3<=0,NA(),'Reference Cells'!$C$4-BackendTable[[#This Row],[Time]])*86400","v":{"$error":"#N/A"}},{"$f":"IFERROR(8-BackendTable[[#This Row],[Column1]],\"\")","v":""},{"$f":"IF(ISERROR(BackendTable[[#This Row],[Column1]]),-9,(BackendTable[[#This Row],[Net Time]]-NetTimeMin)*RangeAdj)","v":-9},{"$f":"IF(AND(BackendTable[[#This Row],[Time]]>='Reference Cells'!$C$6,BackendTable[[#This Row],[Time]]<='Reference Cells'!$C$7),(BackendTable[[#This Row],[Time]]-'Reference Cells'!$C$6)*86400,NA())","v":2},{"$f":"IF(CommandCell='Reference Cells'!$C$17,NA(),ABS('Data In'!B254-INDIRECT(\"ZeroVal_\"&H$2,0)))","v":0},{"$f":"IF(CommandCell='Reference Cells'!$C$17,NA(),ABS('Data In'!C254-INDIRECT(\"ZeroVal_\"&I$2,0)))","v":0},{"$f":"IF(CommandCell='Reference Cells'!$C$17,NA(),ABS('Data In'!D254-INDIRECT(\"ZeroVal_\"&J$2,0)))","v":0},{"$f":"IF(CommandCell='Reference Cells'!$C$17,NA(),ABS('Data In'!E254-INDIRECT(\"ZeroVal_\"&K$2,0)))","v":0},{"$f":"IF(CommandCell='Reference Cells'!$C$17,NA(),ABS('Data In'!F254-INDIRECT(\"ZeroVal_\"&L$2,0)))","v":0},{"$f":"MAX(BackendTable[[#This Row],[S1]:[S5]])","v":0},{"$f":"IF(ISERROR(BackendTable[[#This Row],[T0Time]]),0,COUNTIFS(BackendTable[T0Time],\"<=\"&3,BackendTable[T0Time],\">=\"&0)-COUNTIFS(BackendTable[T0Time],\">\"&BackendTable[[#This Row],[T0Time]]))","v":500},null,null,null,null,null,null,null,null,null,null,null,null,null,null,null,null,null,null,null,null,null,null,null,null,{"$f":"MATCH(MAX(BackendTable[[#This Row],[T1S1]:[T1S5]]),BackendTable[[#This Row],[T1S1]:[T1S5]],0)","v":{"$error":"#N/A"}},{"$f":"MATCH(MAX(BackendTable[[#This Row],[T2S1]:[T2S5]]),BackendTable[[#This Row],[T2S1]:[T2S5]],0)","v":{"$error":"#N/A"}},{"$f":"MATCH(MAX(BackendTable[[#This Row],[T3S1]:[T3S5]]),BackendTable[[#This Row],[T3S1]:[T3S5]],0)","v":{"$error":"#N/A"}}]
[null,{"$f":"ROW()-ROW(BackendTable[[#Headers],[Row'#]])","v":248},{"$f":"'Data In'!A255","v":0},{"$f":"IF(BackendTable[[#This Row],[Time]]-'Reference Cells'!$C$3<=0,NA(),'Reference Cells'!$C$4-BackendTable[[#This Row],[Time]])*86400","v":{"$error":"#N/A"}},{"$f":"IFERROR(8-BackendTable[[#This Row],[Column1]],\"\")","v":""},{"$f":"IF(ISERROR(BackendTable[[#This Row],[Column1]]),-9,(BackendTable[[#This Row],[Net Time]]-NetTimeMin)*RangeAdj)","v":-9},{"$f":"IF(AND(BackendTable[[#This Row],[Time]]>='Reference Cells'!$C$6,BackendTable[[#This Row],[Time]]<='Reference Cells'!$C$7),(BackendTable[[#This Row],[Time]]-'Reference Cells'!$C$6)*86400,NA())","v":2},{"$f":"IF(CommandCell='Reference Cells'!$C$17,NA(),ABS('Data In'!B255-INDIRECT(\"ZeroVal_\"&H$2,0)))","v":0},{"$f":"IF(CommandCell='Reference Cells'!$C$17,NA(),ABS('Data In'!C255-INDIRECT(\"ZeroVal_\"&I$2,0)))","v":0},{"$f":"IF(CommandCell='Reference Cells'!$C$17,NA(),ABS('Data In'!D255-INDIRECT(\"ZeroVal_\"&J$2,0)))","v":0},{"$f":"IF(CommandCell='Reference Cells'!$C$17,NA(),ABS('Data In'!E255-INDIRECT(\"ZeroVal_\"&K$2,0)))","v":0},{"$f":"IF(CommandCell='Reference Cells'!$C$17,NA(),ABS('Data In'!F255-INDIRECT(\"ZeroVal_\"&L$2,0)))","v":0},{"$f":"MAX(BackendTable[[#This Row],[S1]:[S5]])","v":0},{"$f":"IF(ISERROR(BackendTable[[#This Row],[T0Time]]),0,COUNTIFS(BackendTable[T0Time],\"<=\"&3,BackendTable[T0Time],\">=\"&0)-COUNTIFS(BackendTable[T0Time],\">\"&BackendTable[[#This Row],[T0Time]]))","v":500},null,null,null,null,null,null,null,null,null,null,null,null,null,null,null,null,null,null,null,null,null,null,null,null,{"$f":"MATCH(MAX(BackendTable[[#This Row],[T1S1]:[T1S5]]),BackendTable[[#This Row],[T1S1]:[T1S5]],0)","v":{"$error":"#N/A"}},{"$f":"MATCH(MAX(BackendTable[[#This Row],[T2S1]:[T2S5]]),BackendTable[[#This Row],[T2S1]:[T2S5]],0)","v":{"$error":"#N/A"}},{"$f":"MATCH(MAX(BackendTable[[#This Row],[T3S1]:[T3S5]]),BackendTable[[#This Row],[T3S1]:[T3S5]],0)","v":{"$error":"#N/A"}}]
[null,{"$f":"ROW()-ROW(BackendTable[[#Headers],[Row'#]])","v":249},{"$f":"'Data In'!A256","v":0},{"$f":"IF(BackendTable[[#This Row],[Time]]-'Reference Cells'!$C$3<=0,NA(),'Reference Cells'!$C$4-BackendTable[[#This Row],[Time]])*86400","v":{"$error":"#N/A"}},{"$f":"IFERROR(8-BackendTable[[#This Row],[Column1]],\"\")","v":""},{"$f":"IF(ISERROR(BackendTable[[#This Row],[Column1]]),-9,(BackendTable[[#This Row],[Net Time]]-NetTimeMin)*RangeAdj)","v":-9},{"$f":"IF(AND(BackendTable[[#This Row],[Time]]>='Reference Cells'!$C$6,BackendTable[[#This Row],[Time]]<='Reference Cells'!$C$7),(BackendTable[[#This Row],[Time]]-'Reference Cells'!$C$6)*86400,NA())","v":2},{"$f":"IF(CommandCell='Reference Cells'!$C$17,NA(),ABS('Data In'!B256-INDIRECT(\"ZeroVal_\"&H$2,0)))","v":0},{"$f":"IF(CommandCell='Reference Cells'!$C$17,NA(),ABS('Data In'!C256-INDIRECT(\"ZeroVal_\"&I$2,0)))","v":0},{"$f":"IF(CommandCell='Reference Cells'!$C$17,NA(),ABS('Data In'!D256-INDIRECT(\"ZeroVal_\"&J$2,0)))","v":0},{"$f":"IF(CommandCell='Reference Cells'!$C$17,NA(),ABS('Data In'!E256-INDIRECT(\"ZeroVal_\"&K$2,0)))","v":0},{"$f":"IF(CommandCell='Reference Cells'!$C$17,NA(),ABS('Data In'!F256-INDIRECT(\"ZeroVal_\"&L$2,0)))","v":0},{"$f":"MAX(BackendTable[[#This Row],[S1]:[S5]])","v":0},{"$f":"IF(ISERROR(BackendTable[[#This Row],[T0Time]]),0,COUNTIFS(BackendTable[T0Time],\"<=\"&3,BackendTable[T0Time],\">=\"&0)-COUNTIFS(BackendTable[T0Time],\">\"&BackendTable[[#This Row],[T0Time]]))","v":500},null,null,null,null,null,null,null,null,null,null,null,null,null,null,null,null,null,null,null,null,null,null,null,null,{"$f":"MATCH(MAX(BackendTable[[#This Row],[T1S1]:[T1S5]]),BackendTable[[#This Row],[T1S1]:[T1S5]],0)","v":{"$error":"#N/A"}},{"$f":"MATCH(MAX(BackendTable[[#This Row],[T2S1]:[T2S5]]),BackendTable[[#This Row],[T2S1]:[T2S5]],0)","v":{"$error":"#N/A"}},{"$f":"MATCH(MAX(BackendTable[[#This Row],[T3S1]:[T3S5]]),BackendTable[[#This Row],[T3S1]:[T3S5]],0)","v":{"$error":"#N/A"}}]
[null,{"$f":"ROW()-ROW(BackendTable[[#Headers],[Row'#]])","v":250},{"$f":"'Data In'!A257","v":0},{"$f":"IF(BackendTable[[#This Row],[Time]]-'Reference Cells'!$C$3<=0,NA(),'Reference Cells'!$C$4-BackendTable[[#This Row],[Time]])*86400","v":{"$error":"#N/A"}},{"$f":"IFERROR(8-BackendTable[[#This Row],[Column1]],\"\")","v":""},{"$f":"IF(ISERROR(BackendTable[[#This Row],[Column1]]),-9,(BackendTable[[#This Row],[Net Time]]-NetTimeMin)*RangeAdj)","v":-9},{"$f":"IF(AND(BackendTable[[#This Row],[Time]]>='Reference Cells'!$C$6,BackendTable[[#This Row],[Time]]<='Reference Cells'!$C$7),(BackendTable[[#This Row],[Time]]-'Reference Cells'!$C$6)*86400,NA())","v":2},{"$f":"IF(CommandCell='Reference Cells'!$C$17,NA(),ABS('Data In'!B257-INDIRECT(\"ZeroVal_\"&H$2,0)))","v":0},{"$f":"IF(CommandCell='Reference Cells'!$C$17,NA(),ABS('Data In'!C257-INDIRECT(\"ZeroVal_\"&I$2,0)))","v":0},{"$f":"IF(CommandCell='Reference Cells'!$C$17,NA(),ABS('Data In'!D257-INDIRECT(\"ZeroVal_\"&J$2,0)))","v":0},{"$f":"IF(CommandCell='Reference Cells'!$C$17,NA(),ABS('Data In'!E257-INDIRECT(\"ZeroVal_\"&K$2,0)))","v":0},{"$f":"IF(CommandCell='Reference Cells'!$C$17,NA(),ABS('Data In'!F257-INDIRECT(\"ZeroVal_\"&L$2,0)))","v":0},{"$f":"MAX(BackendTable[[#This Row],[S1]:[S5]])","v":0},{"$f":"IF(ISERROR(BackendTable[[#This Row],[T0Time]]),0,COUNTIFS(BackendTable[T0Time],\"<=\"&3,BackendTable[T0Time],\">=\"&0)-COUNTIFS(BackendTable[T0Time],\">\"&BackendTable[[#This Row],[T0Time]]))","v":500},null,null,null,null,null,null,null,null,null,null,null,null,null,null,null,null,null,null,null,null,null,null,null,null,{"$f":"MATCH(MAX(BackendTable[[#This Row],[T1S1]:[T1S5]]),BackendTable[[#This Row],[T1S1]:[T1S5]],0)","v":{"$error":"#N/A"}},{"$f":"MATCH(MAX(BackendTable[[#This Row],[T2S1]:[T2S5]]),BackendTable[[#This Row],[T2S1]:[T2S5]],0)","v":{"$error":"#N/A"}},{"$f":"MATCH(MAX(BackendTable[[#This Row],[T3S1]:[T3S5]]),BackendTable[[#This Row],[T3S1]:[T3S5]],0)","v":{"$error":"#N/A"}}]
[null,{"$f":"ROW()-ROW(BackendTable[[#Headers],[Row'#]])","v":251},{"$f":"'Data In'!A258","v":0},{"$f":"IF(BackendTable[[#This Row],[Time]]-'Reference Cells'!$C$3<=0,NA(),'Reference Cells'!$C$4-BackendTable[[#This Row],[Time]])*86400","v":{"$error":"#N/A"}},{"$f":"IFERROR(8-BackendTable[[#This Row],[Column1]],\"\")","v":""},{"$f":"IF(ISERROR(BackendTable[[#This Row],[Column1]]),-9,(BackendTable[[#This Row],[Net Time]]-NetTimeMin)*RangeAdj)","v":-9},{"$f":"IF(AND(BackendTable[[#This Row],[Time]]>='Reference Cells'!$C$6,BackendTable[[#This Row],[Time]]<='Reference Cells'!$C$7),(BackendTable[[#This Row],[Time]]-'Reference Cells'!$C$6)*86400,NA())","v":2},{"$f":"IF(CommandCell='Reference Cells'!$C$17,NA(),ABS('Data In'!B258-INDIRECT(\"ZeroVal_\"&H$2,0)))","v":0},{"$f":"IF(CommandCell='Reference Cells'!$C$17,NA(),ABS('Data In'!C258-INDIRECT(\"ZeroVal_\"&I$2,0)))","v":0},{"$f":"IF(CommandCell='Reference Cells'!$C$17,NA(),ABS('Data In'!D258-INDIRECT(\"ZeroVal_\"&J$2,0)))","v":0},{"$f":"IF(CommandCell='Reference Cells'!$C$17,NA(),ABS('Data In'!E258-INDIRECT(\"ZeroVal_\"&K$2,0)))","v":0},{"$f":"IF(CommandCell='Reference Cells'!$C$17,NA(),ABS('Data In'!F258-INDIRECT(\"ZeroVal_\"&L$2,0)))","v":0},{"$f":"MAX(BackendTable[[#This Row],[S1]:[S5]])","v":0},{"$f":"IF(ISERROR(BackendTable[[#This Row],[T0Time]]),0,COUNTIFS(BackendTable[T0Time],\"<=\"&3,BackendTable[T0Time],\">=\"&0)-COUNTIFS(BackendTable[T0Time],\">\"&BackendTable[[#This Row],[T0Time]]))","v":500},null,null,null,null,null,null,null,null,null,null,null,null,null,null,null,null,null,null,null,null,null,null,null,null,{"$f":"MATCH(MAX(BackendTable[[#This Row],[T1S1]:[T1S5]]),BackendTable[[#This Row],[T1S1]:[T1S5]],0)","v":{"$error":"#N/A"}},{"$f":"MATCH(MAX(BackendTable[[#This Row],[T2S1]:[T2S5]]),BackendTable[[#This Row],[T2S1]:[T2S5]],0)","v":{"$error":"#N/A"}},{"$f":"MATCH(MAX(BackendTable[[#This Row],[T3S1]:[T3S5]]),BackendTable[[#This Row],[T3S1]:[T3S5]],0)","v":{"$error":"#N/A"}}]
[null,{"$f":"ROW()-ROW(BackendTable[[#Headers],[Row'#]])","v":252},{"$f":"'Data In'!A259","v":0},{"$f":"IF(BackendTable[[#This Row],[Time]]-'Reference Cells'!$C$3<=0,NA(),'Reference Cells'!$C$4-BackendTable[[#This Row],[Time]])*86400","v":{"$error":"#N/A"}},{"$f":"IFERROR(8-BackendTable[[#This Row],[Column1]],\"\")","v":""},{"$f":"IF(ISERROR(BackendTable[[#This Row],[Column1]]),-9,(BackendTable[[#This Row],[Net Time]]-NetTimeMin)*RangeAdj)","v":-9},{"$f":"IF(AND(BackendTable[[#This Row],[Time]]>='Reference Cells'!$C$6,BackendTable[[#This Row],[Time]]<='Reference Cells'!$C$7),(BackendTable[[#This Row],[Time]]-'Reference Cells'!$C$6)*86400,NA())","v":2},{"$f":"IF(CommandCell='Reference Cells'!$C$17,NA(),ABS('Data In'!B259-INDIRECT(\"ZeroVal_\"&H$2,0)))","v":0},{"$f":"IF(CommandCell='Reference Cells'!$C$17,NA(),ABS('Data In'!C259-INDIRECT(\"ZeroVal_\"&I$2,0)))","v":0},{"$f":"IF(CommandCell='Reference Cells'!$C$17,NA(),ABS('Data In'!D259-INDIRECT(\"ZeroVal_\"&J$2,0)))","v":0},{"$f":"IF(CommandCell='Reference Cells'!$C$17,NA(),ABS('Data In'!E259-INDIRECT(\"ZeroVal_\"&K$2,0)))","v":0},{"$f":"IF(CommandCell='Reference Cells'!$C$17,NA(),ABS('Data In'!F259-INDIRECT(\"ZeroVal_\"&L$2,0)))","v":0},{"$f":"MAX(BackendTable[[#This Row],[S1]:[S5]])","v":0},{"$f":"IF(ISERROR(BackendTable[[#This Row],[T0Time]]),0,COUNTIFS(BackendTable[T0Time],\"<=\"&3,BackendTable[T0Time],\">=\"&0)-COUNTIFS(BackendTable[T0Time],\">\"&BackendTable[[#This Row],[T0Time]]))","v":500},null,null,null,null,null,null,null,null,null,null,null,null,null,null,null,null,null,null,null,null,null,null,null,null,{"$f":"MATCH(MAX(BackendTable[[#This Row],[T1S1]:[T1S5]]),BackendTable[[#This Row],[T1S1]:[T1S5]],0)","v":{"$error":"#N/A"}},{"$f":"MATCH(MAX(BackendTable[[#This Row],[T2S1]:[T2S5]]),BackendTable[[#This Row],[T2S1]:[T2S5]],0)","v":{"$error":"#N/A"}},{"$f":"MATCH(MAX(BackendTable[[#This Row],[T3S1]:[T3S5]]),BackendTable[[#This Row],[T3S1]:[T3S5]],0)","v":{"$error":"#N/A"}}]
[null,{"$f":"ROW()-ROW(BackendTable[[#Headers],[Row'#]])","v":253},{"$f":"'Data In'!A260","v":0},{"$f":"IF(BackendTable[[#This Row],[Time]]-'Reference Cells'!$C$3<=0,NA(),'Reference Cells'!$C$4-BackendTable[[#This Row],[Time]])*86400","v":{"$error":"#N/A"}},{"$f":"IFERROR(8-BackendTable[[#This Row],[Column1]],\"\")","v":""},{"$f":"IF(ISERROR(BackendTable[[#This Row],[Column1]]),-9,(BackendTable[[#This Row],[Net Time]]-NetTimeMin)*RangeAdj)","v":-9},{"$f":"IF(AND(BackendTable[[#This Row],[Time]]>='Reference Cells'!$C$6,BackendTable[[#This Row],[Time]]<='Reference Cells'!$C$7),(BackendTable[[#This Row],[Time]]-'Reference Cells'!$C$6)*86400,NA())","v":2},{"$f":"IF(CommandCell='Reference Cells'!$C$17,NA(),ABS('Data In'!B260-INDIRECT(\"ZeroVal_\"&H$2,0)))","v":0},{"$f":"IF(CommandCell='Reference Cells'!$C$17,NA(),ABS('Data In'!C260-INDIRECT(\"ZeroVal_\"&I$2,0)))","v":0},{"$f":"IF(CommandCell='Reference Cells'!$C$17,NA(),ABS('Data In'!D260-INDIRECT(\"ZeroVal_\"&J$2,0)))","v":0},{"$f":"IF(CommandCell='Reference Cells'!$C$17,NA(),ABS('Data In'!E260-INDIRECT(\"ZeroVal_\"&K$2,0)))","v":0},{"$f":"IF(CommandCell='Reference Cells'!$C$17,NA(),ABS('Data In'!F260-INDIRECT(\"ZeroVal_\"&L$2,0)))","v":0},{"$f":"MAX(BackendTable[[#This Row],[S1]:[S5]])","v":0},{"$f":"IF(ISERROR(BackendTable[[#This Row],[T0Time]]),0,COUNTIFS(BackendTable[T0Time],\"<=\"&3,BackendTable[T0Time],\">=\"&0)-COUNTIFS(BackendTable[T0Time],\">\"&BackendTable[[#This Row],[T0Time]]))","v":500},null,null,null,null,null,null,null,null,null,null,null,null,null,null,null,null,null,null,null,null,null,null,null,null,{"$f":"MATCH(MAX(BackendTable[[#This Row],[T1S1]:[T1S5]]),BackendTable[[#This Row],[T1S1]:[T1S5]],0)","v":{"$error":"#N/A"}},{"$f":"MATCH(MAX(BackendTable[[#This Row],[T2S1]:[T2S5]]),BackendTable[[#This Row],[T2S1]:[T2S5]],0)","v":{"$error":"#N/A"}},{"$f":"MATCH(MAX(BackendTable[[#This Row],[T3S1]:[T3S5]]),BackendTable[[#This Row],[T3S1]:[T3S5]],0)","v":{"$error":"#N/A"}}]
[null,{"$f":"ROW()-ROW(BackendTable[[#Headers],[Row'#]])","v":254},{"$f":"'Data In'!A261","v":0},{"$f":"IF(BackendTable[[#This Row],[Time]]-'Reference Cells'!$C$3<=0,NA(),'Reference Cells'!$C$4-BackendTable[[#This Row],[Time]])*86400","v":{"$error":"#N/A"}},{"$f":"IFERROR(8-BackendTable[[#This Row],[Column1]],\"\")","v":""},{"$f":"IF(ISERROR(BackendTable[[#This Row],[Column1]]),-9,(BackendTable[[#This Row],[Net Time]]-NetTimeMin)*RangeAdj)","v":-9},{"$f":"IF(AND(BackendTable[[#This Row],[Time]]>='Reference Cells'!$C$6,BackendTable[[#This Row],[Time]]<='Reference Cells'!$C$7),(BackendTable[[#This Row],[Time]]-'Reference Cells'!$C$6)*86400,NA())","v":2},{"$f":"IF(CommandCell='Reference Cells'!$C$17,NA(),ABS('Data In'!B261-INDIRECT(\"ZeroVal_\"&H$2,0)))","v":0},{"$f":"IF(CommandCell='Reference Cells'!$C$17,NA(),ABS('Data In'!C261-INDIRECT(\"ZeroVal_\"&I$2,0)))","v":0},{"$f":"IF(CommandCell='Reference Cells'!$C$17,NA(),ABS('Data In'!D261-INDIRECT(\"ZeroVal_\"&J$2,0)))","v":0},{"$f":"IF(CommandCell='Reference Cells'!$C$17,NA(),ABS('Data In'!E261-INDIRECT(\"ZeroVal_\"&K$2,0)))","v":0},{"$f":"IF(CommandCell='Reference Cells'!$C$17,NA(),ABS('Data In'!F261-INDIRECT(\"ZeroVal_\"&L$2,0)))","v":0},{"$f":"MAX(BackendTable[[#This Row],[S1]:[S5]])","v":0},{"$f":"IF(ISERROR(BackendTable[[#This Row],[T0Time]]),0,COUNTIFS(BackendTable[T0Time],\"<=\"&3,BackendTable[T0Time],\">=\"&0)-COUNTIFS(BackendTable[T0Time],\">\"&BackendTable[[#This Row],[T0Time]]))","v":500},null,null,null,null,null,null,null,null,null,null,null,null,null,null,null,null,null,null,null,null,null,null,null,null,{"$f":"MATCH(MAX(BackendTable[[#This Row],[T1S1]:[T1S5]]),BackendTable[[#This Row],[T1S1]:[T1S5]],0)","v":{"$error":"#N/A"}},{"$f":"MATCH(MAX(BackendTable[[#This Row],[T2S1]:[T2S5]]),BackendTable[[#This Row],[T2S1]:[T2S5]],0)","v":{"$error":"#N/A"}},{"$f":"MATCH(MAX(BackendTable[[#This Row],[T3S1]:[T3S5]]),BackendTable[[#This Row],[T3S1]:[T3S5]],0)","v":{"$error":"#N/A"}}]
[null,{"$f":"ROW()-ROW(BackendTable[[#Headers],[Row'#]])","v":255},{"$f":"'Data In'!A262","v":0},{"$f":"IF(BackendTable[[#This Row],[Time]]-'Reference Cells'!$C$3<=0,NA(),'Reference Cells'!$C$4-BackendTable[[#This Row],[Time]])*86400","v":{"$error":"#N/A"}},{"$f":"IFERROR(8-BackendTable[[#This Row],[Column1]],\"\")","v":""},{"$f":"IF(ISERROR(BackendTable[[#This Row],[Column1]]),-9,(BackendTable[[#This Row],[Net Time]]-NetTimeMin)*RangeAdj)","v":-9},{"$f":"IF(AND(BackendTable[[#This Row],[Time]]>='Reference Cells'!$C$6,BackendTable[[#This Row],[Time]]<='Reference Cells'!$C$7),(BackendTable[[#This Row],[Time]]-'Reference Cells'!$C$6)*86400,NA())","v":2},{"$f":"IF(CommandCell='Reference Cells'!$C$17,NA(),ABS('Data In'!B262-INDIRECT(\"ZeroVal_\"&H$2,0)))","v":0},{"$f":"IF(CommandCell='Reference Cells'!$C$17,NA(),ABS('Data In'!C262-INDIRECT(\"ZeroVal_\"&I$2,0)))","v":0},{"$f":"IF(CommandCell='Reference Cells'!$C$17,NA(),ABS('Data In'!D262-INDIRECT(\"ZeroVal_\"&J$2,0)))","v":0},{"$f":"IF(CommandCell='Reference Cells'!$C$17,NA(),ABS('Data In'!E262-INDIRECT(\"ZeroVal_\"&K$2,0)))","v":0},{"$f":"IF(CommandCell='Reference Cells'!$C$17,NA(),ABS('Data In'!F262-INDIRECT(\"ZeroVal_\"&L$2,0)))","v":0},{"$f":"MAX(BackendTable[[#This Row],[S1]:[S5]])","v":0},{"$f":"IF(ISERROR(BackendTable[[#This Row],[T0Time]]),0,COUNTIFS(BackendTable[T0Time],\"<=\"&3,BackendTable[T0Time],\">=\"&0)-COUNTIFS(BackendTable[T0Time],\">\"&BackendTable[[#This Row],[T0Time]]))","v":500},null,null,null,null,null,null,null,null,null,null,null,null,null,null,null,null,null,null,null,null,null,null,null,null,{"$f":"MATCH(MAX(BackendTable[[#This Row],[T1S1]:[T1S5]]),BackendTable[[#This Row],[T1S1]:[T1S5]],0)","v":{"$error":"#N/A"}},{"$f":"MATCH(MAX(BackendTable[[#This Row],[T2S1]:[T2S5]]),BackendTable[[#This Row],[T2S1]:[T2S5]],0)","v":{"$error":"#N/A"}},{"$f":"MATCH(MAX(BackendTable[[#This Row],[T3S1]:[T3S5]]),BackendTable[[#This Row],[T3S1]:[T3S5]],0)","v":{"$error":"#N/A"}}]
[null,{"$f":"ROW()-ROW(BackendTable[[#Headers],[Row'#]])","v":256},{"$f":"'Data In'!A263","v":0},{"$f":"IF(BackendTable[[#This Row],[Time]]-'Reference Cells'!$C$3<=0,NA(),'Reference Cells'!$C$4-BackendTable[[#This Row],[Time]])*86400","v":{"$error":"#N/A"}},{"$f":"IFERROR(8-BackendTable[[#This Row],[Column1]],\"\")","v":""},{"$f":"IF(ISERROR(BackendTable[[#This Row],[Column1]]),-9,(BackendTable[[#This Row],[Net Time]]-NetTimeMin)*RangeAdj)","v":-9},{"$f":"IF(AND(BackendTable[[#This Row],[Time]]>='Reference Cells'!$C$6,BackendTable[[#This Row],[Time]]<='Reference Cells'!$C$7),(BackendTable[[#This Row],[Time]]-'Reference Cells'!$C$6)*86400,NA())","v":2},{"$f":"IF(CommandCell='Reference Cells'!$C$17,NA(),ABS('Data In'!B263-INDIRECT(\"ZeroVal_\"&H$2,0)))","v":0},{"$f":"IF(CommandCell='Reference Cells'!$C$17,NA(),ABS('Data In'!C263-INDIRECT(\"ZeroVal_\"&I$2,0)))","v":0},{"$f":"IF(CommandCell='Reference Cells'!$C$17,NA(),ABS('Data In'!D263-INDIRECT(\"ZeroVal_\"&J$2,0)))","v":0},{"$f":"IF(CommandCell='Reference Cells'!$C$17,NA(),ABS('Data In'!E263-INDIRECT(\"ZeroVal_\"&K$2,0)))","v":0},{"$f":"IF(CommandCell='Reference Cells'!$C$17,NA(),ABS('Data In'!F263-INDIRECT(\"ZeroVal_\"&L$2,0)))","v":0},{"$f":"MAX(BackendTable[[#This Row],[S1]:[S5]])","v":0},{"$f":"IF(ISERROR(BackendTable[[#This Row],[T0Time]]),0,COUNTIFS(BackendTable[T0Time],\"<=\"&3,BackendTable[T0Time],\">=\"&0)-COUNTIFS(BackendTable[T0Time],\">\"&BackendTable[[#This Row],[T0Time]]))","v":500},null,null,null,null,null,null,null,null,null,null,null,null,null,null,null,null,null,null,null,null,null,null,null,null,{"$f":"MATCH(MAX(BackendTable[[#This Row],[T1S1]:[T1S5]]),BackendTable[[#This Row],[T1S1]:[T1S5]],0)","v":{"$error":"#N/A"}},{"$f":"MATCH(MAX(BackendTable[[#This Row],[T2S1]:[T2S5]]),BackendTable[[#This Row],[T2S1]:[T2S5]],0)","v":{"$error":"#N/A"}},{"$f":"MATCH(MAX(BackendTable[[#This Row],[T3S1]:[T3S5]]),BackendTable[[#This Row],[T3S1]:[T3S5]],0)","v":{"$error":"#N/A"}}]
[null,{"$f":"ROW()-ROW(BackendTable[[#Headers],[Row'#]])","v":257},{"$f":"'Data In'!A264","v":0},{"$f":"IF(BackendTable[[#This Row],[Time]]-'Reference Cells'!$C$3<=0,NA(),'Reference Cells'!$C$4-BackendTable[[#This Row],[Time]])*86400","v":{"$error":"#N/A"}},{"$f":"IFERROR(8-BackendTable[[#This Row],[Column1]],\"\")","v":""},{"$f":"IF(ISERROR(BackendTable[[#This Row],[Column1]]),-9,(BackendTable[[#This Row],[Net Time]]-NetTimeMin)*RangeAdj)","v":-9},{"$f":"IF(AND(BackendTable[[#This Row],[Time]]>='Reference Cells'!$C$6,BackendTable[[#This Row],[Time]]<='Reference Cells'!$C$7),(BackendTable[[#This Row],[Time]]-'Reference Cells'!$C$6)*86400,NA())","v":2},{"$f":"IF(CommandCell='Reference Cells'!$C$17,NA(),ABS('Data In'!B264-INDIRECT(\"ZeroVal_\"&H$2,0)))","v":0},{"$f":"IF(CommandCell='Reference Cells'!$C$17,NA(),ABS('Data In'!C264-INDIRECT(\"ZeroVal_\"&I$2,0)))","v":0},{"$f":"IF(CommandCell='Reference Cells'!$C$17,NA(),ABS('Data In'!D264-INDIRECT(\"ZeroVal_\"&J$2,0)))","v":0},{"$f":"IF(CommandCell='Reference Cells'!$C$17,NA(),ABS('Data In'!E264-INDIRECT(\"ZeroVal_\"&K$2,0)))","v":0},{"$f":"IF(CommandCell='Reference Cells'!$C$17,NA(),ABS('Data In'!F264-INDIRECT(\"ZeroVal_\"&L$2,0)))","v":0},{"$f":"MAX(BackendTable[[#This Row],[S1]:[S5]])","v":0},{"$f":"IF(ISERROR(BackendTable[[#This Row],[T0Time]]),0,COUNTIFS(BackendTable[T0Time],\"<=\"&3,BackendTable[T0Time],\">=\"&0)-COUNTIFS(BackendTable[T0Time],\">\"&BackendTable[[#This Row],[T0Time]]))","v":500},null,null,null,null,null,null,null,null,null,null,null,null,null,null,null,null,null,null,null,null,null,null,null,null,{"$f":"MATCH(MAX(BackendTable[[#This Row],[T1S1]:[T1S5]]),BackendTable[[#This Row],[T1S1]:[T1S5]],0)","v":{"$error":"#N/A"}},{"$f":"MATCH(MAX(BackendTable[[#This Row],[T2S1]:[T2S5]]),BackendTable[[#This Row],[T2S1]:[T2S5]],0)","v":{"$error":"#N/A"}},{"$f":"MATCH(MAX(BackendTable[[#This Row],[T3S1]:[T3S5]]),BackendTable[[#This Row],[T3S1]:[T3S5]],0)","v":{"$error":"#N/A"}}]
[null,{"$f":"ROW()-ROW(BackendTable[[#Headers],[Row'#]])","v":258},{"$f":"'Data In'!A265","v":0},{"$f":"IF(BackendTable[[#This Row],[Time]]-'Reference Cells'!$C$3<=0,NA(),'Reference Cells'!$C$4-BackendTable[[#This Row],[Time]])*86400","v":{"$error":"#N/A"}},{"$f":"IFERROR(8-BackendTable[[#This Row],[Column1]],\"\")","v":""},{"$f":"IF(ISERROR(BackendTable[[#This Row],[Column1]]),-9,(BackendTable[[#This Row],[Net Time]]-NetTimeMin)*RangeAdj)","v":-9},{"$f":"IF(AND(BackendTable[[#This Row],[Time]]>='Reference Cells'!$C$6,BackendTable[[#This Row],[Time]]<='Reference Cells'!$C$7),(BackendTable[[#This Row],[Time]]-'Reference Cells'!$C$6)*86400,NA())","v":2},{"$f":"IF(CommandCell='Reference Cells'!$C$17,NA(),ABS('Data In'!B265-INDIRECT(\"ZeroVal_\"&H$2,0)))","v":0},{"$f":"IF(CommandCell='Reference Cells'!$C$17,NA(),ABS('Data In'!C265-INDIRECT(\"ZeroVal_\"&I$2,0)))","v":0},{"$f":"IF(CommandCell='Reference Cells'!$C$17,NA(),ABS('Data In'!D265-INDIRECT(\"ZeroVal_\"&J$2,0)))","v":0},{"$f":"IF(CommandCell='Reference Cells'!$C$17,NA(),ABS('Data In'!E265-INDIRECT(\"ZeroVal_\"&K$2,0)))","v":0},{"$f":"IF(CommandCell='Reference Cells'!$C$17,NA(),ABS('Data In'!F265-INDIRECT(\"ZeroVal_\"&L$2,0)))","v":0},{"$f":"MAX(BackendTable[[#This Row],[S1]:[S5]])","v":0},{"$f":"IF(ISERROR(BackendTable[[#This Row],[T0Time]]),0,COUNTIFS(BackendTable[T0Time],\"<=\"&3,BackendTable[T0Time],\">=\"&0)-COUNTIFS(BackendTable[T0Time],\">\"&BackendTable[[#This Row],[T0Time]]))","v":500},null,null,null,null,null,null,null,null,null,null,null,null,null,null,null,null,null,null,null,null,null,null,null,null,{"$f":"MATCH(MAX(BackendTable[[#This Row],[T1S1]:[T1S5]]),BackendTable[[#This Row],[T1S1]:[T1S5]],0)","v":{"$error":"#N/A"}},{"$f":"MATCH(MAX(BackendTable[[#This Row],[T2S1]:[T2S5]]),BackendTable[[#This Row],[T2S1]:[T2S5]],0)","v":{"$error":"#N/A"}},{"$f":"MATCH(MAX(BackendTable[[#This Row],[T3S1]:[T3S5]]),BackendTable[[#This Row],[T3S1]:[T3S5]],0)","v":{"$error":"#N/A"}}]
[null,{"$f":"ROW()-ROW(BackendTable[[#Headers],[Row'#]])","v":259},{"$f":"'Data In'!A266","v":0},{"$f":"IF(BackendTable[[#This Row],[Time]]-'Reference Cells'!$C$3<=0,NA(),'Reference Cells'!$C$4-BackendTable[[#This Row],[Time]])*86400","v":{"$error":"#N/A"}},{"$f":"IFERROR(8-BackendTable[[#This Row],[Column1]],\"\")","v":""},{"$f":"IF(ISERROR(BackendTable[[#This Row],[Column1]]),-9,(BackendTable[[#This Row],[Net Time]]-NetTimeMin)*RangeAdj)","v":-9},{"$f":"IF(AND(BackendTable[[#This Row],[Time]]>='Reference Cells'!$C$6,BackendTable[[#This Row],[Time]]<='Reference Cells'!$C$7),(BackendTable[[#This Row],[Time]]-'Reference Cells'!$C$6)*86400,NA())","v":2},{"$f":"IF(CommandCell='Reference Cells'!$C$17,NA(),ABS('Data In'!B266-INDIRECT(\"ZeroVal_\"&H$2,0)))","v":0},{"$f":"IF(CommandCell='Reference Cells'!$C$17,NA(),ABS('Data In'!C266-INDIRECT(\"ZeroVal_\"&I$2,0)))","v":0},{"$f":"IF(CommandCell='Reference Cells'!$C$17,NA(),ABS('Data In'!D266-INDIRECT(\"ZeroVal_\"&J$2,0)))","v":0},{"$f":"IF(CommandCell='Reference Cells'!$C$17,NA(),ABS('Data In'!E266-INDIRECT(\"ZeroVal_\"&K$2,0)))","v":0},{"$f":"IF(CommandCell='Reference Cells'!$C$17,NA(),ABS('Data In'!F266-INDIRECT(\"ZeroVal_\"&L$2,0)))","v":0},{"$f":"MAX(BackendTable[[#This Row],[S1]:[S5]])","v":0},{"$f":"IF(ISERROR(BackendTable[[#This Row],[T0Time]]),0,COUNTIFS(BackendTable[T0Time],\"<=\"&3,BackendTable[T0Time],\">=\"&0)-COUNTIFS(BackendTable[T0Time],\">\"&BackendTable[[#This Row],[T0Time]]))","v":500},null,null,null,null,null,null,null,null,null,null,null,null,null,null,null,null,null,null,null,null,null,null,null,null,{"$f":"MATCH(MAX(BackendTable[[#This Row],[T1S1]:[T1S5]]),BackendTable[[#This Row],[T1S1]:[T1S5]],0)","v":{"$error":"#N/A"}},{"$f":"MATCH(MAX(BackendTable[[#This Row],[T2S1]:[T2S5]]),BackendTable[[#This Row],[T2S1]:[T2S5]],0)","v":{"$error":"#N/A"}},{"$f":"MATCH(MAX(BackendTable[[#This Row],[T3S1]:[T3S5]]),BackendTable[[#This Row],[T3S1]:[T3S5]],0)","v":{"$error":"#N/A"}}]
[null,{"$f":"ROW()-ROW(BackendTable[[#Headers],[Row'#]])","v":260},{"$f":"'Data In'!A267","v":0},{"$f":"IF(BackendTable[[#This Row],[Time]]-'Reference Cells'!$C$3<=0,NA(),'Reference Cells'!$C$4-BackendTable[[#This Row],[Time]])*86400","v":{"$error":"#N/A"}},{"$f":"IFERROR(8-BackendTable[[#This Row],[Column1]],\"\")","v":""},{"$f":"IF(ISERROR(BackendTable[[#This Row],[Column1]]),-9,(BackendTable[[#This Row],[Net Time]]-NetTimeMin)*RangeAdj)","v":-9},{"$f":"IF(AND(BackendTable[[#This Row],[Time]]>='Reference Cells'!$C$6,BackendTable[[#This Row],[Time]]<='Reference Cells'!$C$7),(BackendTable[[#This Row],[Time]]-'Reference Cells'!$C$6)*86400,NA())","v":2},{"$f":"IF(CommandCell='Reference Cells'!$C$17,NA(),ABS('Data In'!B267-INDIRECT(\"ZeroVal_\"&H$2,0)))","v":0},{"$f":"IF(CommandCell='Reference Cells'!$C$17,NA(),ABS('Data In'!C267-INDIRECT(\"ZeroVal_\"&I$2,0)))","v":0},{"$f":"IF(CommandCell='Reference Cells'!$C$17,NA(),ABS('Data In'!D267-INDIRECT(\"ZeroVal_\"&J$2,0)))","v":0},{"$f":"IF(CommandCell='Reference Cells'!$C$17,NA(),ABS('Data In'!E267-INDIRECT(\"ZeroVal_\"&K$2,0)))","v":0},{"$f":"IF(CommandCell='Reference Cells'!$C$17,NA(),ABS('Data In'!F267-INDIRECT(\"ZeroVal_\"&L$2,0)))","v":0},{"$f":"MAX(BackendTable[[#This Row],[S1]:[S5]])","v":0},{"$f":"IF(ISERROR(BackendTable[[#This Row],[T0Time]]),0,COUNTIFS(BackendTable[T0Time],\"<=\"&3,BackendTable[T0Time],\">=\"&0)-COUNTIFS(BackendTable[T0Time],\">\"&BackendTable[[#This Row],[T0Time]]))","v":500},null,null,null,null,null,null,null,null,null,null,null,null,null,null,null,null,null,null,null,null,null,null,null,null,{"$f":"MATCH(MAX(BackendTable[[#This Row],[T1S1]:[T1S5]]),BackendTable[[#This Row],[T1S1]:[T1S5]],0)","v":{"$error":"#N/A"}},{"$f":"MATCH(MAX(BackendTable[[#This Row],[T2S1]:[T2S5]]),BackendTable[[#This Row],[T2S1]:[T2S5]],0)","v":{"$error":"#N/A"}},{"$f":"MATCH(MAX(BackendTable[[#This Row],[T3S1]:[T3S5]]),BackendTable[[#This Row],[T3S1]:[T3S5]],0)","v":{"$error":"#N/A"}}]
[null,{"$f":"ROW()-ROW(BackendTable[[#Headers],[Row'#]])","v":261},{"$f":"'Data In'!A268","v":0},{"$f":"IF(BackendTable[[#This Row],[Time]]-'Reference Cells'!$C$3<=0,NA(),'Reference Cells'!$C$4-BackendTable[[#This Row],[Time]])*86400","v":{"$error":"#N/A"}},{"$f":"IFERROR(8-BackendTable[[#This Row],[Column1]],\"\")","v":""},{"$f":"IF(ISERROR(BackendTable[[#This Row],[Column1]]),-9,(BackendTable[[#This Row],[Net Time]]-NetTimeMin)*RangeAdj)","v":-9},{"$f":"IF(AND(BackendTable[[#This Row],[Time]]>='Reference Cells'!$C$6,BackendTable[[#This Row],[Time]]<='Reference Cells'!$C$7),(BackendTable[[#This Row],[Time]]-'Reference Cells'!$C$6)*86400,NA())","v":2},{"$f":"IF(CommandCell='Reference Cells'!$C$17,NA(),ABS('Data In'!B268-INDIRECT(\"ZeroVal_\"&H$2,0)))","v":0},{"$f":"IF(CommandCell='Reference Cells'!$C$17,NA(),ABS('Data In'!C268-INDIRECT(\"ZeroVal_\"&I$2,0)))","v":0},{"$f":"IF(CommandCell='Reference Cells'!$C$17,NA(),ABS('Data In'!D268-INDIRECT(\"ZeroVal_\"&J$2,0)))","v":0},{"$f":"IF(CommandCell='Reference Cells'!$C$17,NA(),ABS('Data In'!E268-INDIRECT(\"ZeroVal_\"&K$2,0)))","v":0},{"$f":"IF(CommandCell='Reference Cells'!$C$17,NA(),ABS('Data In'!F268-INDIRECT(\"ZeroVal_\"&L$2,0)))","v":0},{"$f":"MAX(BackendTable[[#This Row],[S1]:[S5]])","v":0},{"$f":"IF(ISERROR(BackendTable[[#This Row],[T0Time]]),0,COUNTIFS(BackendTable[T0Time],\"<=\"&3,BackendTable[T0Time],\">=\"&0)-COUNTIFS(BackendTable[T0Time],\">\"&BackendTable[[#This Row],[T0Time]]))","v":500},null,null,null,null,null,null,null,null,null,null,null,null,null,null,null,null,null,null,null,null,null,null,null,null,{"$f":"MATCH(MAX(BackendTable[[#This Row],[T1S1]:[T1S5]]),BackendTable[[#This Row],[T1S1]:[T1S5]],0)","v":{"$error":"#N/A"}},{"$f":"MATCH(MAX(BackendTable[[#This Row],[T2S1]:[T2S5]]),BackendTable[[#This Row],[T2S1]:[T2S5]],0)","v":{"$error":"#N/A"}},{"$f":"MATCH(MAX(BackendTable[[#This Row],[T3S1]:[T3S5]]),BackendTable[[#This Row],[T3S1]:[T3S5]],0)","v":{"$error":"#N/A"}}]
[null,{"$f":"ROW()-ROW(BackendTable[[#Headers],[Row'#]])","v":262},{"$f":"'Data In'!A269","v":0},{"$f":"IF(BackendTable[[#This Row],[Time]]-'Reference Cells'!$C$3<=0,NA(),'Reference Cells'!$C$4-BackendTable[[#This Row],[Time]])*86400","v":{"$error":"#N/A"}},{"$f":"IFERROR(8-BackendTable[[#This Row],[Column1]],\"\")","v":""},{"$f":"IF(ISERROR(BackendTable[[#This Row],[Column1]]),-9,(BackendTable[[#This Row],[Net Time]]-NetTimeMin)*RangeAdj)","v":-9},{"$f":"IF(AND(BackendTable[[#This Row],[Time]]>='Reference Cells'!$C$6,BackendTable[[#This Row],[Time]]<='Reference Cells'!$C$7),(BackendTable[[#This Row],[Time]]-'Reference Cells'!$C$6)*86400,NA())","v":2},{"$f":"IF(CommandCell='Reference Cells'!$C$17,NA(),ABS('Data In'!B269-INDIRECT(\"ZeroVal_\"&H$2,0)))","v":0},{"$f":"IF(CommandCell='Reference Cells'!$C$17,NA(),ABS('Data In'!C269-INDIRECT(\"ZeroVal_\"&I$2,0)))","v":0},{"$f":"IF(CommandCell='Reference Cells'!$C$17,NA(),ABS('Data In'!D269-INDIRECT(\"ZeroVal_\"&J$2,0)))","v":0},{"$f":"IF(CommandCell='Reference Cells'!$C$17,NA(),ABS('Data In'!E269-INDIRECT(\"ZeroVal_\"&K$2,0)))","v":0},{"$f":"IF(CommandCell='Reference Cells'!$C$17,NA(),ABS('Data In'!F269-INDIRECT(\"ZeroVal_\"&L$2,0)))","v":0},{"$f":"MAX(BackendTable[[#This Row],[S1]:[S5]])","v":0},{"$f":"IF(ISERROR(BackendTable[[#This Row],[T0Time]]),0,COUNTIFS(BackendTable[T0Time],\"<=\"&3,BackendTable[T0Time],\">=\"&0)-COUNTIFS(BackendTable[T0Time],\">\"&BackendTable[[#This Row],[T0Time]]))","v":500},null,null,null,null,null,null,null,null,null,null,null,null,null,null,null,null,null,null,null,null,null,null,null,null,{"$f":"MATCH(MAX(BackendTable[[#This Row],[T1S1]:[T1S5]]),BackendTable[[#This Row],[T1S1]:[T1S5]],0)","v":{"$error":"#N/A"}},{"$f":"MATCH(MAX(BackendTable[[#This Row],[T2S1]:[T2S5]]),BackendTable[[#This Row],[T2S1]:[T2S5]],0)","v":{"$error":"#N/A"}},{"$f":"MATCH(MAX(BackendTable[[#This Row],[T3S1]:[T3S5]]),BackendTable[[#This Row],[T3S1]:[T3S5]],0)","v":{"$error":"#N/A"}}]
[null,{"$f":"ROW()-ROW(BackendTable[[#Headers],[Row'#]])","v":263},{"$f":"'Data In'!A270","v":0},{"$f":"IF(BackendTable[[#This Row],[Time]]-'Reference Cells'!$C$3<=0,NA(),'Reference Cells'!$C$4-BackendTable[[#This Row],[Time]])*86400","v":{"$error":"#N/A"}},{"$f":"IFERROR(8-BackendTable[[#This Row],[Column1]],\"\")","v":""},{"$f":"IF(ISERROR(BackendTable[[#This Row],[Column1]]),-9,(BackendTable[[#This Row],[Net Time]]-NetTimeMin)*RangeAdj)","v":-9},{"$f":"IF(AND(BackendTable[[#This Row],[Time]]>='Reference Cells'!$C$6,BackendTable[[#This Row],[Time]]<='Reference Cells'!$C$7),(BackendTable[[#This Row],[Time]]-'Reference Cells'!$C$6)*86400,NA())","v":2},{"$f":"IF(CommandCell='Reference Cells'!$C$17,NA(),ABS('Data In'!B270-INDIRECT(\"ZeroVal_\"&H$2,0)))","v":0},{"$f":"IF(CommandCell='Reference Cells'!$C$17,NA(),ABS('Data In'!C270-INDIRECT(\"ZeroVal_\"&I$2,0)))","v":0},{"$f":"IF(CommandCell='Reference Cells'!$C$17,NA(),ABS('Data In'!D270-INDIRECT(\"ZeroVal_\"&J$2,0)))","v":0},{"$f":"IF(CommandCell='Reference Cells'!$C$17,NA(),ABS('Data In'!E270-INDIRECT(\"ZeroVal_\"&K$2,0)))","v":0},{"$f":"IF(CommandCell='Reference Cells'!$C$17,NA(),ABS('Data In'!F270-INDIRECT(\"ZeroVal_\"&L$2,0)))","v":0},{"$f":"MAX(BackendTable[[#This Row],[S1]:[S5]])","v":0},{"$f":"IF(ISERROR(BackendTable[[#This Row],[T0Time]]),0,COUNTIFS(BackendTable[T0Time],\"<=\"&3,BackendTable[T0Time],\">=\"&0)-COUNTIFS(BackendTable[T0Time],\">\"&BackendTable[[#This Row],[T0Time]]))","v":500},null,null,null,null,null,null,null,null,null,null,null,null,null,null,null,null,null,null,null,null,null,null,null,null,{"$f":"MATCH(MAX(BackendTable[[#This Row],[T1S1]:[T1S5]]),BackendTable[[#This Row],[T1S1]:[T1S5]],0)","v":{"$error":"#N/A"}},{"$f":"MATCH(MAX(BackendTable[[#This Row],[T2S1]:[T2S5]]),BackendTable[[#This Row],[T2S1]:[T2S5]],0)","v":{"$error":"#N/A"}},{"$f":"MATCH(MAX(BackendTable[[#This Row],[T3S1]:[T3S5]]),BackendTable[[#This Row],[T3S1]:[T3S5]],0)","v":{"$error":"#N/A"}}]
[null,{"$f":"ROW()-ROW(BackendTable[[#Headers],[Row'#]])","v":264},{"$f":"'Data In'!A271","v":0},{"$f":"IF(BackendTable[[#This Row],[Time]]-'Reference Cells'!$C$3<=0,NA(),'Reference Cells'!$C$4-BackendTable[[#This Row],[Time]])*86400","v":{"$error":"#N/A"}},{"$f":"IFERROR(8-BackendTable[[#This Row],[Column1]],\"\")","v":""},{"$f":"IF(ISERROR(BackendTable[[#This Row],[Column1]]),-9,(BackendTable[[#This Row],[Net Time]]-NetTimeMin)*RangeAdj)","v":-9},{"$f":"IF(AND(BackendTable[[#This Row],[Time]]>='Reference Cells'!$C$6,BackendTable[[#This Row],[Time]]<='Reference Cells'!$C$7),(BackendTable[[#This Row],[Time]]-'Reference Cells'!$C$6)*86400,NA())","v":2},{"$f":"IF(CommandCell='Reference Cells'!$C$17,NA(),ABS('Data In'!B271-INDIRECT(\"ZeroVal_\"&H$2,0)))","v":0},{"$f":"IF(CommandCell='Reference Cells'!$C$17,NA(),ABS('Data In'!C271-INDIRECT(\"ZeroVal_\"&I$2,0)))","v":0},{"$f":"IF(CommandCell='Reference Cells'!$C$17,NA(),ABS('Data In'!D271-INDIRECT(\"ZeroVal_\"&J$2,0)))","v":0},{"$f":"IF(CommandCell='Reference Cells'!$C$17,NA(),ABS('Data In'!E271-INDIRECT(\"ZeroVal_\"&K$2,0)))","v":0},{"$f":"IF(CommandCell='Reference Cells'!$C$17,NA(),ABS('Data In'!F271-INDIRECT(\"ZeroVal_\"&L$2,0)))","v":0},{"$f":"MAX(BackendTable[[#This Row],[S1]:[S5]])","v":0},{"$f":"IF(ISERROR(BackendTable[[#This Row],[T0Time]]),0,COUNTIFS(BackendTable[T0Time],\"<=\"&3,BackendTable[T0Time],\">=\"&0)-COUNTIFS(BackendTable[T0Time],\">\"&BackendTable[[#This Row],[T0Time]]))","v":500},null,null,null,null,null,null,null,null,null,null,null,null,null,null,null,null,null,null,null,null,null,null,null,null,{"$f":"MATCH(MAX(BackendTable[[#This Row],[T1S1]:[T1S5]]),BackendTable[[#This Row],[T1S1]:[T1S5]],0)","v":{"$error":"#N/A"}},{"$f":"MATCH(MAX(BackendTable[[#This Row],[T2S1]:[T2S5]]),BackendTable[[#This Row],[T2S1]:[T2S5]],0)","v":{"$error":"#N/A"}},{"$f":"MATCH(MAX(BackendTable[[#This Row],[T3S1]:[T3S5]]),BackendTable[[#This Row],[T3S1]:[T3S5]],0)","v":{"$error":"#N/A"}}]
[null,{"$f":"ROW()-ROW(BackendTable[[#Headers],[Row'#]])","v":265},{"$f":"'Data In'!A272","v":0},{"$f":"IF(BackendTable[[#This Row],[Time]]-'Reference Cells'!$C$3<=0,NA(),'Reference Cells'!$C$4-BackendTable[[#This Row],[Time]])*86400","v":{"$error":"#N/A"}},{"$f":"IFERROR(8-BackendTable[[#This Row],[Column1]],\"\")","v":""},{"$f":"IF(ISERROR(BackendTable[[#This Row],[Column1]]),-9,(BackendTable[[#This Row],[Net Time]]-NetTimeMin)*RangeAdj)","v":-9},{"$f":"IF(AND(BackendTable[[#This Row],[Time]]>='Reference Cells'!$C$6,BackendTable[[#This Row],[Time]]<='Reference Cells'!$C$7),(BackendTable[[#This Row],[Time]]-'Reference Cells'!$C$6)*86400,NA())","v":2},{"$f":"IF(CommandCell='Reference Cells'!$C$17,NA(),ABS('Data In'!B272-INDIRECT(\"ZeroVal_\"&H$2,0)))","v":0},{"$f":"IF(CommandCell='Reference Cells'!$C$17,NA(),ABS('Data In'!C272-INDIRECT(\"ZeroVal_\"&I$2,0)))","v":0},{"$f":"IF(CommandCell='Reference Cells'!$C$17,NA(),ABS('Data In'!D272-INDIRECT(\"ZeroVal_\"&J$2,0)))","v":0},{"$f":"IF(CommandCell='Reference Cells'!$C$17,NA(),ABS('Data In'!E272-INDIRECT(\"ZeroVal_\"&K$2,0)))","v":0},{"$f":"IF(CommandCell='Reference Cells'!$C$17,NA(),ABS('Data In'!F272-INDIRECT(\"ZeroVal_\"&L$2,0)))","v":0},{"$f":"MAX(BackendTable[[#This Row],[S1]:[S5]])","v":0},{"$f":"IF(ISERROR(BackendTable[[#This Row],[T0Time]]),0,COUNTIFS(BackendTable[T0Time],\"<=\"&3,BackendTable[T0Time],\">=\"&0)-COUNTIFS(BackendTable[T0Time],\">\"&BackendTable[[#This Row],[T0Time]]))","v":500},null,null,null,null,null,null,null,null,null,null,null,null,null,null,null,null,null,null,null,null,null,null,null,null,{"$f":"MATCH(MAX(BackendTable[[#This Row],[T1S1]:[T1S5]]),BackendTable[[#This Row],[T1S1]:[T1S5]],0)","v":{"$error":"#N/A"}},{"$f":"MATCH(MAX(BackendTable[[#This Row],[T2S1]:[T2S5]]),BackendTable[[#This Row],[T2S1]:[T2S5]],0)","v":{"$error":"#N/A"}},{"$f":"MATCH(MAX(BackendTable[[#This Row],[T3S1]:[T3S5]]),BackendTable[[#This Row],[T3S1]:[T3S5]],0)","v":{"$error":"#N/A"}}]
[null,{"$f":"ROW()-ROW(BackendTable[[#Headers],[Row'#]])","v":266},{"$f":"'Data In'!A273","v":0},{"$f":"IF(BackendTable[[#This Row],[Time]]-'Reference Cells'!$C$3<=0,NA(),'Reference Cells'!$C$4-BackendTable[[#This Row],[Time]])*86400","v":{"$error":"#N/A"}},{"$f":"IFERROR(8-BackendTable[[#This Row],[Column1]],\"\")","v":""},{"$f":"IF(ISERROR(BackendTable[[#This Row],[Column1]]),-9,(BackendTable[[#This Row],[Net Time]]-NetTimeMin)*RangeAdj)","v":-9},{"$f":"IF(AND(BackendTable[[#This Row],[Time]]>='Reference Cells'!$C$6,BackendTable[[#This Row],[Time]]<='Reference Cells'!$C$7),(BackendTable[[#This Row],[Time]]-'Reference Cells'!$C$6)*86400,NA())","v":2},{"$f":"IF(CommandCell='Reference Cells'!$C$17,NA(),ABS('Data In'!B273-INDIRECT(\"ZeroVal_\"&H$2,0)))","v":0},{"$f":"IF(CommandCell='Reference Cells'!$C$17,NA(),ABS('Data In'!C273-INDIRECT(\"ZeroVal_\"&I$2,0)))","v":0},{"$f":"IF(CommandCell='Reference Cells'!$C$17,NA(),ABS('Data In'!D273-INDIRECT(\"ZeroVal_\"&J$2,0)))","v":0},{"$f":"IF(CommandCell='Reference Cells'!$C$17,NA(),ABS('Data In'!E273-INDIRECT(\"ZeroVal_\"&K$2,0)))","v":0},{"$f":"IF(CommandCell='Reference Cells'!$C$17,NA(),ABS('Data In'!F273-INDIRECT(\"ZeroVal_\"&L$2,0)))","v":0},{"$f":"MAX(BackendTable[[#This Row],[S1]:[S5]])","v":0},{"$f":"IF(ISERROR(BackendTable[[#This Row],[T0Time]]),0,COUNTIFS(BackendTable[T0Time],\"<=\"&3,BackendTable[T0Time],\">=\"&0)-COUNTIFS(BackendTable[T0Time],\">\"&BackendTable[[#This Row],[T0Time]]))","v":500},null,null,null,null,null,null,null,null,null,null,null,null,null,null,null,null,null,null,null,null,null,null,null,null,{"$f":"MATCH(MAX(BackendTable[[#This Row],[T1S1]:[T1S5]]),BackendTable[[#This Row],[T1S1]:[T1S5]],0)","v":{"$error":"#N/A"}},{"$f":"MATCH(MAX(BackendTable[[#This Row],[T2S1]:[T2S5]]),BackendTable[[#This Row],[T2S1]:[T2S5]],0)","v":{"$error":"#N/A"}},{"$f":"MATCH(MAX(BackendTable[[#This Row],[T3S1]:[T3S5]]),BackendTable[[#This Row],[T3S1]:[T3S5]],0)","v":{"$error":"#N/A"}}]
[null,{"$f":"ROW()-ROW(BackendTable[[#Headers],[Row'#]])","v":267},{"$f":"'Data In'!A274","v":0},{"$f":"IF(BackendTable[[#This Row],[Time]]-'Reference Cells'!$C$3<=0,NA(),'Reference Cells'!$C$4-BackendTable[[#This Row],[Time]])*86400","v":{"$error":"#N/A"}},{"$f":"IFERROR(8-BackendTable[[#This Row],[Column1]],\"\")","v":""},{"$f":"IF(ISERROR(BackendTable[[#This Row],[Column1]]),-9,(BackendTable[[#This Row],[Net Time]]-NetTimeMin)*RangeAdj)","v":-9},{"$f":"IF(AND(BackendTable[[#This Row],[Time]]>='Reference Cells'!$C$6,BackendTable[[#This Row],[Time]]<='Reference Cells'!$C$7),(BackendTable[[#This Row],[Time]]-'Reference Cells'!$C$6)*86400,NA())","v":2},{"$f":"IF(CommandCell='Reference Cells'!$C$17,NA(),ABS('Data In'!B274-INDIRECT(\"ZeroVal_\"&H$2,0)))","v":0},{"$f":"IF(CommandCell='Reference Cells'!$C$17,NA(),ABS('Data In'!C274-INDIRECT(\"ZeroVal_\"&I$2,0)))","v":0},{"$f":"IF(CommandCell='Reference Cells'!$C$17,NA(),ABS('Data In'!D274-INDIRECT(\"ZeroVal_\"&J$2,0)))","v":0},{"$f":"IF(CommandCell='Reference Cells'!$C$17,NA(),ABS('Data In'!E274-INDIRECT(\"ZeroVal_\"&K$2,0)))","v":0},{"$f":"IF(CommandCell='Reference Cells'!$C$17,NA(),ABS('Data In'!F274-INDIRECT(\"ZeroVal_\"&L$2,0)))","v":0},{"$f":"MAX(BackendTable[[#This Row],[S1]:[S5]])","v":0},{"$f":"IF(ISERROR(BackendTable[[#This Row],[T0Time]]),0,COUNTIFS(BackendTable[T0Time],\"<=\"&3,BackendTable[T0Time],\">=\"&0)-COUNTIFS(BackendTable[T0Time],\">\"&BackendTable[[#This Row],[T0Time]]))","v":500},null,null,null,null,null,null,null,null,null,null,null,null,null,null,null,null,null,null,null,null,null,null,null,null,{"$f":"MATCH(MAX(BackendTable[[#This Row],[T1S1]:[T1S5]]),BackendTable[[#This Row],[T1S1]:[T1S5]],0)","v":{"$error":"#N/A"}},{"$f":"MATCH(MAX(BackendTable[[#This Row],[T2S1]:[T2S5]]),BackendTable[[#This Row],[T2S1]:[T2S5]],0)","v":{"$error":"#N/A"}},{"$f":"MATCH(MAX(BackendTable[[#This Row],[T3S1]:[T3S5]]),BackendTable[[#This Row],[T3S1]:[T3S5]],0)","v":{"$error":"#N/A"}}]
[null,{"$f":"ROW()-ROW(BackendTable[[#Headers],[Row'#]])","v":268},{"$f":"'Data In'!A275","v":0},{"$f":"IF(BackendTable[[#This Row],[Time]]-'Reference Cells'!$C$3<=0,NA(),'Reference Cells'!$C$4-BackendTable[[#This Row],[Time]])*86400","v":{"$error":"#N/A"}},{"$f":"IFERROR(8-BackendTable[[#This Row],[Column1]],\"\")","v":""},{"$f":"IF(ISERROR(BackendTable[[#This Row],[Column1]]),-9,(BackendTable[[#This Row],[Net Time]]-NetTimeMin)*RangeAdj)","v":-9},{"$f":"IF(AND(BackendTable[[#This Row],[Time]]>='Reference Cells'!$C$6,BackendTable[[#This Row],[Time]]<='Reference Cells'!$C$7),(BackendTable[[#This Row],[Time]]-'Reference Cells'!$C$6)*86400,NA())","v":2},{"$f":"IF(CommandCell='Reference Cells'!$C$17,NA(),ABS('Data In'!B275-INDIRECT(\"ZeroVal_\"&H$2,0)))","v":0},{"$f":"IF(CommandCell='Reference Cells'!$C$17,NA(),ABS('Data In'!C275-INDIRECT(\"ZeroVal_\"&I$2,0)))","v":0},{"$f":"IF(CommandCell='Reference Cells'!$C$17,NA(),ABS('Data In'!D275-INDIRECT(\"ZeroVal_\"&J$2,0)))","v":0},{"$f":"IF(CommandCell='Reference Cells'!$C$17,NA(),ABS('Data In'!E275-INDIRECT(\"ZeroVal_\"&K$2,0)))","v":0},{"$f":"IF(CommandCell='Reference Cells'!$C$17,NA(),ABS('Data In'!F275-INDIRECT(\"ZeroVal_\"&L$2,0)))","v":0},{"$f":"MAX(BackendTable[[#This Row],[S1]:[S5]])","v":0},{"$f":"IF(ISERROR(BackendTable[[#This Row],[T0Time]]),0,COUNTIFS(BackendTable[T0Time],\"<=\"&3,BackendTable[T0Time],\">=\"&0)-COUNTIFS(BackendTable[T0Time],\">\"&BackendTable[[#This Row],[T0Time]]))","v":500},null,null,null,null,null,null,null,null,null,null,null,null,null,null,null,null,null,null,null,null,null,null,null,null,{"$f":"MATCH(MAX(BackendTable[[#This Row],[T1S1]:[T1S5]]),BackendTable[[#This Row],[T1S1]:[T1S5]],0)","v":{"$error":"#N/A"}},{"$f":"MATCH(MAX(BackendTable[[#This Row],[T2S1]:[T2S5]]),BackendTable[[#This Row],[T2S1]:[T2S5]],0)","v":{"$error":"#N/A"}},{"$f":"MATCH(MAX(BackendTable[[#This Row],[T3S1]:[T3S5]]),BackendTable[[#This Row],[T3S1]:[T3S5]],0)","v":{"$error":"#N/A"}}]
[null,{"$f":"ROW()-ROW(BackendTable[[#Headers],[Row'#]])","v":269},{"$f":"'Data In'!A276","v":0},{"$f":"IF(BackendTable[[#This Row],[Time]]-'Reference Cells'!$C$3<=0,NA(),'Reference Cells'!$C$4-BackendTable[[#This Row],[Time]])*86400","v":{"$error":"#N/A"}},{"$f":"IFERROR(8-BackendTable[[#This Row],[Column1]],\"\")","v":""},{"$f":"IF(ISERROR(BackendTable[[#This Row],[Column1]]),-9,(BackendTable[[#This Row],[Net Time]]-NetTimeMin)*RangeAdj)","v":-9},{"$f":"IF(AND(BackendTable[[#This Row],[Time]]>='Reference Cells'!$C$6,BackendTable[[#This Row],[Time]]<='Reference Cells'!$C$7),(BackendTable[[#This Row],[Time]]-'Reference Cells'!$C$6)*86400,NA())","v":2},{"$f":"IF(CommandCell='Reference Cells'!$C$17,NA(),ABS('Data In'!B276-INDIRECT(\"ZeroVal_\"&H$2,0)))","v":0},{"$f":"IF(CommandCell='Reference Cells'!$C$17,NA(),ABS('Data In'!C276-INDIRECT(\"ZeroVal_\"&I$2,0)))","v":0},{"$f":"IF(CommandCell='Reference Cells'!$C$17,NA(),ABS('Data In'!D276-INDIRECT(\"ZeroVal_\"&J$2,0)))","v":0},{"$f":"IF(CommandCell='Reference Cells'!$C$17,NA(),ABS('Data In'!E276-INDIRECT(\"ZeroVal_\"&K$2,0)))","v":0},{"$f":"IF(CommandCell='Reference Cells'!$C$17,NA(),ABS('Data In'!F276-INDIRECT(\"ZeroVal_\"&L$2,0)))","v":0},{"$f":"MAX(BackendTable[[#This Row],[S1]:[S5]])","v":0},{"$f":"IF(ISERROR(BackendTable[[#This Row],[T0Time]]),0,COUNTIFS(BackendTable[T0Time],\"<=\"&3,BackendTable[T0Time],\">=\"&0)-COUNTIFS(BackendTable[T0Time],\">\"&BackendTable[[#This Row],[T0Time]]))","v":500},null,null,null,null,null,null,null,null,null,null,null,null,null,null,null,null,null,null,null,null,null,null,null,null,{"$f":"MATCH(MAX(BackendTable[[#This Row],[T1S1]:[T1S5]]),BackendTable[[#This Row],[T1S1]:[T1S5]],0)","v":{"$error":"#N/A"}},{"$f":"MATCH(MAX(BackendTable[[#This Row],[T2S1]:[T2S5]]),BackendTable[[#This Row],[T2S1]:[T2S5]],0)","v":{"$error":"#N/A"}},{"$f":"MATCH(MAX(BackendTable[[#This Row],[T3S1]:[T3S5]]),BackendTable[[#This Row],[T3S1]:[T3S5]],0)","v":{"$error":"#N/A"}}]
[null,{"$f":"ROW()-ROW(BackendTable[[#Headers],[Row'#]])","v":270},{"$f":"'Data In'!A277","v":0},{"$f":"IF(BackendTable[[#This Row],[Time]]-'Reference Cells'!$C$3<=0,NA(),'Reference Cells'!$C$4-BackendTable[[#This Row],[Time]])*86400","v":{"$error":"#N/A"}},{"$f":"IFERROR(8-BackendTable[[#This Row],[Column1]],\"\")","v":""},{"$f":"IF(ISERROR(BackendTable[[#This Row],[Column1]]),-9,(BackendTable[[#This Row],[Net Time]]-NetTimeMin)*RangeAdj)","v":-9},{"$f":"IF(AND(BackendTable[[#This Row],[Time]]>='Reference Cells'!$C$6,BackendTable[[#This Row],[Time]]<='Reference Cells'!$C$7),(BackendTable[[#This Row],[Time]]-'Reference Cells'!$C$6)*86400,NA())","v":2},{"$f":"IF(CommandCell='Reference Cells'!$C$17,NA(),ABS('Data In'!B277-INDIRECT(\"ZeroVal_\"&H$2,0)))","v":0},{"$f":"IF(CommandCell='Reference Cells'!$C$17,NA(),ABS('Data In'!C277-INDIRECT(\"ZeroVal_\"&I$2,0)))","v":0},{"$f":"IF(CommandCell='Reference Cells'!$C$17,NA(),ABS('Data In'!D277-INDIRECT(\"ZeroVal_\"&J$2,0)))","v":0},{"$f":"IF(CommandCell='Reference Cells'!$C$17,NA(),ABS('Data In'!E277-INDIRECT(\"ZeroVal_\"&K$2,0)))","v":0},{"$f":"IF(CommandCell='Reference Cells'!$C$17,NA(),ABS('Data In'!F277-INDIRECT(\"ZeroVal_\"&L$2,0)))","v":0},{"$f":"MAX(BackendTable[[#This Row],[S1]:[S5]])","v":0},{"$f":"IF(ISERROR(BackendTable[[#This Row],[T0Time]]),0,COUNTIFS(BackendTable[T0Time],\"<=\"&3,BackendTable[T0Time],\">=\"&0)-COUNTIFS(BackendTable[T0Time],\">\"&BackendTable[[#This Row],[T0Time]]))","v":500},null,null,null,null,null,null,null,null,null,null,null,null,null,null,null,null,null,null,null,null,null,null,null,null,{"$f":"MATCH(MAX(BackendTable[[#This Row],[T1S1]:[T1S5]]),BackendTable[[#This Row],[T1S1]:[T1S5]],0)","v":{"$error":"#N/A"}},{"$f":"MATCH(MAX(BackendTable[[#This Row],[T2S1]:[T2S5]]),BackendTable[[#This Row],[T2S1]:[T2S5]],0)","v":{"$error":"#N/A"}},{"$f":"MATCH(MAX(BackendTable[[#This Row],[T3S1]:[T3S5]]),BackendTable[[#This Row],[T3S1]:[T3S5]],0)","v":{"$error":"#N/A"}}]
[null,{"$f":"ROW()-ROW(BackendTable[[#Headers],[Row'#]])","v":271},{"$f":"'Data In'!A278","v":0},{"$f":"IF(BackendTable[[#This Row],[Time]]-'Reference Cells'!$C$3<=0,NA(),'Reference Cells'!$C$4-BackendTable[[#This Row],[Time]])*86400","v":{"$error":"#N/A"}},{"$f":"IFERROR(8-BackendTable[[#This Row],[Column1]],\"\")","v":""},{"$f":"IF(ISERROR(BackendTable[[#This Row],[Column1]]),-9,(BackendTable[[#This Row],[Net Time]]-NetTimeMin)*RangeAdj)","v":-9},{"$f":"IF(AND(BackendTable[[#This Row],[Time]]>='Reference Cells'!$C$6,BackendTable[[#This Row],[Time]]<='Reference Cells'!$C$7),(BackendTable[[#This Row],[Time]]-'Reference Cells'!$C$6)*86400,NA())","v":2},{"$f":"IF(CommandCell='Reference Cells'!$C$17,NA(),ABS('Data In'!B278-INDIRECT(\"ZeroVal_\"&H$2,0)))","v":0},{"$f":"IF(CommandCell='Reference Cells'!$C$17,NA(),ABS('Data In'!C278-INDIRECT(\"ZeroVal_\"&I$2,0)))","v":0},{"$f":"IF(CommandCell='Reference Cells'!$C$17,NA(),ABS('Data In'!D278-INDIRECT(\"ZeroVal_\"&J$2,0)))","v":0},{"$f":"IF(CommandCell='Reference Cells'!$C$17,NA(),ABS('Data In'!E278-INDIRECT(\"ZeroVal_\"&K$2,0)))","v":0},{"$f":"IF(CommandCell='Reference Cells'!$C$17,NA(),ABS('Data In'!F278-INDIRECT(\"ZeroVal_\"&L$2,0)))","v":0},{"$f":"MAX(BackendTable[[#This Row],[S1]:[S5]])","v":0},{"$f":"IF(ISERROR(BackendTable[[#This Row],[T0Time]]),0,COUNTIFS(BackendTable[T0Time],\"<=\"&3,BackendTable[T0Time],\">=\"&0)-COUNTIFS(BackendTable[T0Time],\">\"&BackendTable[[#This Row],[T0Time]]))","v":500},null,null,null,null,null,null,null,null,null,null,null,null,null,null,null,null,null,null,null,null,null,null,null,null,{"$f":"MATCH(MAX(BackendTable[[#This Row],[T1S1]:[T1S5]]),BackendTable[[#This Row],[T1S1]:[T1S5]],0)","v":{"$error":"#N/A"}},{"$f":"MATCH(MAX(BackendTable[[#This Row],[T2S1]:[T2S5]]),BackendTable[[#This Row],[T2S1]:[T2S5]],0)","v":{"$error":"#N/A"}},{"$f":"MATCH(MAX(BackendTable[[#This Row],[T3S1]:[T3S5]]),BackendTable[[#This Row],[T3S1]:[T3S5]],0)","v":{"$error":"#N/A"}}]
[null,{"$f":"ROW()-ROW(BackendTable[[#Headers],[Row'#]])","v":272},{"$f":"'Data In'!A279","v":0},{"$f":"IF(BackendTable[[#This Row],[Time]]-'Reference Cells'!$C$3<=0,NA(),'Reference Cells'!$C$4-BackendTable[[#This Row],[Time]])*86400","v":{"$error":"#N/A"}},{"$f":"IFERROR(8-BackendTable[[#This Row],[Column1]],\"\")","v":""},{"$f":"IF(ISERROR(BackendTable[[#This Row],[Column1]]),-9,(BackendTable[[#This Row],[Net Time]]-NetTimeMin)*RangeAdj)","v":-9},{"$f":"IF(AND(BackendTable[[#This Row],[Time]]>='Reference Cells'!$C$6,BackendTable[[#This Row],[Time]]<='Reference Cells'!$C$7),(BackendTable[[#This Row],[Time]]-'Reference Cells'!$C$6)*86400,NA())","v":2},{"$f":"IF(CommandCell='Reference Cells'!$C$17,NA(),ABS('Data In'!B279-INDIRECT(\"ZeroVal_\"&H$2,0)))","v":0},{"$f":"IF(CommandCell='Reference Cells'!$C$17,NA(),ABS('Data In'!C279-INDIRECT(\"ZeroVal_\"&I$2,0)))","v":0},{"$f":"IF(CommandCell='Reference Cells'!$C$17,NA(),ABS('Data In'!D279-INDIRECT(\"ZeroVal_\"&J$2,0)))","v":0},{"$f":"IF(CommandCell='Reference Cells'!$C$17,NA(),ABS('Data In'!E279-INDIRECT(\"ZeroVal_\"&K$2,0)))","v":0},{"$f":"IF(CommandCell='Reference Cells'!$C$17,NA(),ABS('Data In'!F279-INDIRECT(\"ZeroVal_\"&L$2,0)))","v":0},{"$f":"MAX(BackendTable[[#This Row],[S1]:[S5]])","v":0},{"$f":"IF(ISERROR(BackendTable[[#This Row],[T0Time]]),0,COUNTIFS(BackendTable[T0Time],\"<=\"&3,BackendTable[T0Time],\">=\"&0)-COUNTIFS(BackendTable[T0Time],\">\"&BackendTable[[#This Row],[T0Time]]))","v":500},null,null,null,null,null,null,null,null,null,null,null,null,null,null,null,null,null,null,null,null,null,null,null,null,{"$f":"MATCH(MAX(BackendTable[[#This Row],[T1S1]:[T1S5]]),BackendTable[[#This Row],[T1S1]:[T1S5]],0)","v":{"$error":"#N/A"}},{"$f":"MATCH(MAX(BackendTable[[#This Row],[T2S1]:[T2S5]]),BackendTable[[#This Row],[T2S1]:[T2S5]],0)","v":{"$error":"#N/A"}},{"$f":"MATCH(MAX(BackendTable[[#This Row],[T3S1]:[T3S5]]),BackendTable[[#This Row],[T3S1]:[T3S5]],0)","v":{"$error":"#N/A"}}]
[null,{"$f":"ROW()-ROW(BackendTable[[#Headers],[Row'#]])","v":273},{"$f":"'Data In'!A280","v":0},{"$f":"IF(BackendTable[[#This Row],[Time]]-'Reference Cells'!$C$3<=0,NA(),'Reference Cells'!$C$4-BackendTable[[#This Row],[Time]])*86400","v":{"$error":"#N/A"}},{"$f":"IFERROR(8-BackendTable[[#This Row],[Column1]],\"\")","v":""},{"$f":"IF(ISERROR(BackendTable[[#This Row],[Column1]]),-9,(BackendTable[[#This Row],[Net Time]]-NetTimeMin)*RangeAdj)","v":-9},{"$f":"IF(AND(BackendTable[[#This Row],[Time]]>='Reference Cells'!$C$6,BackendTable[[#This Row],[Time]]<='Reference Cells'!$C$7),(BackendTable[[#This Row],[Time]]-'Reference Cells'!$C$6)*86400,NA())","v":2},{"$f":"IF(CommandCell='Reference Cells'!$C$17,NA(),ABS('Data In'!B280-INDIRECT(\"ZeroVal_\"&H$2,0)))","v":0},{"$f":"IF(CommandCell='Reference Cells'!$C$17,NA(),ABS('Data In'!C280-INDIRECT(\"ZeroVal_\"&I$2,0)))","v":0},{"$f":"IF(CommandCell='Reference Cells'!$C$17,NA(),ABS('Data In'!D280-INDIRECT(\"ZeroVal_\"&J$2,0)))","v":0},{"$f":"IF(CommandCell='Reference Cells'!$C$17,NA(),ABS('Data In'!E280-INDIRECT(\"ZeroVal_\"&K$2,0)))","v":0},{"$f":"IF(CommandCell='Reference Cells'!$C$17,NA(),ABS('Data In'!F280-INDIRECT(\"ZeroVal_\"&L$2,0)))","v":0},{"$f":"MAX(BackendTable[[#This Row],[S1]:[S5]])","v":0},{"$f":"IF(ISERROR(BackendTable[[#This Row],[T0Time]]),0,COUNTIFS(BackendTable[T0Time],\"<=\"&3,BackendTable[T0Time],\">=\"&0)-COUNTIFS(BackendTable[T0Time],\">\"&BackendTable[[#This Row],[T0Time]]))","v":500},null,null,null,null,null,null,null,null,null,null,null,null,null,null,null,null,null,null,null,null,null,null,null,null,{"$f":"MATCH(MAX(BackendTable[[#This Row],[T1S1]:[T1S5]]),BackendTable[[#This Row],[T1S1]:[T1S5]],0)","v":{"$error":"#N/A"}},{"$f":"MATCH(MAX(BackendTable[[#This Row],[T2S1]:[T2S5]]),BackendTable[[#This Row],[T2S1]:[T2S5]],0)","v":{"$error":"#N/A"}},{"$f":"MATCH(MAX(BackendTable[[#This Row],[T3S1]:[T3S5]]),BackendTable[[#This Row],[T3S1]:[T3S5]],0)","v":{"$error":"#N/A"}}]
[null,{"$f":"ROW()-ROW(BackendTable[[#Headers],[Row'#]])","v":274},{"$f":"'Data In'!A281","v":0},{"$f":"IF(BackendTable[[#This Row],[Time]]-'Reference Cells'!$C$3<=0,NA(),'Reference Cells'!$C$4-BackendTable[[#This Row],[Time]])*86400","v":{"$error":"#N/A"}},{"$f":"IFERROR(8-BackendTable[[#This Row],[Column1]],\"\")","v":""},{"$f":"IF(ISERROR(BackendTable[[#This Row],[Column1]]),-9,(BackendTable[[#This Row],[Net Time]]-NetTimeMin)*RangeAdj)","v":-9},{"$f":"IF(AND(BackendTable[[#This Row],[Time]]>='Reference Cells'!$C$6,BackendTable[[#This Row],[Time]]<='Reference Cells'!$C$7),(BackendTable[[#This Row],[Time]]-'Reference Cells'!$C$6)*86400,NA())","v":2},{"$f":"IF(CommandCell='Reference Cells'!$C$17,NA(),ABS('Data In'!B281-INDIRECT(\"ZeroVal_\"&H$2,0)))","v":0},{"$f":"IF(CommandCell='Reference Cells'!$C$17,NA(),ABS('Data In'!C281-INDIRECT(\"ZeroVal_\"&I$2,0)))","v":0},{"$f":"IF(CommandCell='Reference Cells'!$C$17,NA(),ABS('Data In'!D281-INDIRECT(\"ZeroVal_\"&J$2,0)))","v":0},{"$f":"IF(CommandCell='Reference Cells'!$C$17,NA(),ABS('Data In'!E281-INDIRECT(\"ZeroVal_\"&K$2,0)))","v":0},{"$f":"IF(CommandCell='Reference Cells'!$C$17,NA(),ABS('Data In'!F281-INDIRECT(\"ZeroVal_\"&L$2,0)))","v":0},{"$f":"MAX(BackendTable[[#This Row],[S1]:[S5]])","v":0},{"$f":"IF(ISERROR(BackendTable[[#This Row],[T0Time]]),0,COUNTIFS(BackendTable[T0Time],\"<=\"&3,BackendTable[T0Time],\">=\"&0)-COUNTIFS(BackendTable[T0Time],\">\"&BackendTable[[#This Row],[T0Time]]))","v":500},null,null,null,null,null,null,null,null,null,null,null,null,null,null,null,null,null,null,null,null,null,null,null,null,{"$f":"MATCH(MAX(BackendTable[[#This Row],[T1S1]:[T1S5]]),BackendTable[[#This Row],[T1S1]:[T1S5]],0)","v":{"$error":"#N/A"}},{"$f":"MATCH(MAX(BackendTable[[#This Row],[T2S1]:[T2S5]]),BackendTable[[#This Row],[T2S1]:[T2S5]],0)","v":{"$error":"#N/A"}},{"$f":"MATCH(MAX(BackendTable[[#This Row],[T3S1]:[T3S5]]),BackendTable[[#This Row],[T3S1]:[T3S5]],0)","v":{"$error":"#N/A"}}]
[null,{"$f":"ROW()-ROW(BackendTable[[#Headers],[Row'#]])","v":275},{"$f":"'Data In'!A282","v":0},{"$f":"IF(BackendTable[[#This Row],[Time]]-'Reference Cells'!$C$3<=0,NA(),'Reference Cells'!$C$4-BackendTable[[#This Row],[Time]])*86400","v":{"$error":"#N/A"}},{"$f":"IFERROR(8-BackendTable[[#This Row],[Column1]],\"\")","v":""},{"$f":"IF(ISERROR(BackendTable[[#This Row],[Column1]]),-9,(BackendTable[[#This Row],[Net Time]]-NetTimeMin)*RangeAdj)","v":-9},{"$f":"IF(AND(BackendTable[[#This Row],[Time]]>='Reference Cells'!$C$6,BackendTable[[#This Row],[Time]]<='Reference Cells'!$C$7),(BackendTable[[#This Row],[Time]]-'Reference Cells'!$C$6)*86400,NA())","v":2},{"$f":"IF(CommandCell='Reference Cells'!$C$17,NA(),ABS('Data In'!B282-INDIRECT(\"ZeroVal_\"&H$2,0)))","v":0},{"$f":"IF(CommandCell='Reference Cells'!$C$17,NA(),ABS('Data In'!C282-INDIRECT(\"ZeroVal_\"&I$2,0)))","v":0},{"$f":"IF(CommandCell='Reference Cells'!$C$17,NA(),ABS('Data In'!D282-INDIRECT(\"ZeroVal_\"&J$2,0)))","v":0},{"$f":"IF(CommandCell='Reference Cells'!$C$17,NA(),ABS('Data In'!E282-INDIRECT(\"ZeroVal_\"&K$2,0)))","v":0},{"$f":"IF(CommandCell='Reference Cells'!$C$17,NA(),ABS('Data In'!F282-INDIRECT(\"ZeroVal_\"&L$2,0)))","v":0},{"$f":"MAX(BackendTable[[#This Row],[S1]:[S5]])","v":0},{"$f":"IF(ISERROR(BackendTable[[#This Row],[T0Time]]),0,COUNTIFS(BackendTable[T0Time],\"<=\"&3,BackendTable[T0Time],\">=\"&0)-COUNTIFS(BackendTable[T0Time],\">\"&BackendTable[[#This Row],[T0Time]]))","v":500},null,null,null,null,null,null,null,null,null,null,null,null,null,null,null,null,null,null,null,null,null,null,null,null,{"$f":"MATCH(MAX(BackendTable[[#This Row],[T1S1]:[T1S5]]),BackendTable[[#This Row],[T1S1]:[T1S5]],0)","v":{"$error":"#N/A"}},{"$f":"MATCH(MAX(BackendTable[[#This Row],[T2S1]:[T2S5]]),BackendTable[[#This Row],[T2S1]:[T2S5]],0)","v":{"$error":"#N/A"}},{"$f":"MATCH(MAX(BackendTable[[#This Row],[T3S1]:[T3S5]]),BackendTable[[#This Row],[T3S1]:[T3S5]],0)","v":{"$error":"#N/A"}}]
[null,{"$f":"ROW()-ROW(BackendTable[[#Headers],[Row'#]])","v":276},{"$f":"'Data In'!A283","v":0},{"$f":"IF(BackendTable[[#This Row],[Time]]-'Reference Cells'!$C$3<=0,NA(),'Reference Cells'!$C$4-BackendTable[[#This Row],[Time]])*86400","v":{"$error":"#N/A"}},{"$f":"IFERROR(8-BackendTable[[#This Row],[Column1]],\"\")","v":""},{"$f":"IF(ISERROR(BackendTable[[#This Row],[Column1]]),-9,(BackendTable[[#This Row],[Net Time]]-NetTimeMin)*RangeAdj)","v":-9},{"$f":"IF(AND(BackendTable[[#This Row],[Time]]>='Reference Cells'!$C$6,BackendTable[[#This Row],[Time]]<='Reference Cells'!$C$7),(BackendTable[[#This Row],[Time]]-'Reference Cells'!$C$6)*86400,NA())","v":2},{"$f":"IF(CommandCell='Reference Cells'!$C$17,NA(),ABS('Data In'!B283-INDIRECT(\"ZeroVal_\"&H$2,0)))","v":0},{"$f":"IF(CommandCell='Reference Cells'!$C$17,NA(),ABS('Data In'!C283-INDIRECT(\"ZeroVal_\"&I$2,0)))","v":0},{"$f":"IF(CommandCell='Reference Cells'!$C$17,NA(),ABS('Data In'!D283-INDIRECT(\"ZeroVal_\"&J$2,0)))","v":0},{"$f":"IF(CommandCell='Reference Cells'!$C$17,NA(),ABS('Data In'!E283-INDIRECT(\"ZeroVal_\"&K$2,0)))","v":0},{"$f":"IF(CommandCell='Reference Cells'!$C$17,NA(),ABS('Data In'!F283-INDIRECT(\"ZeroVal_\"&L$2,0)))","v":0},{"$f":"MAX(BackendTable[[#This Row],[S1]:[S5]])","v":0},{"$f":"IF(ISERROR(BackendTable[[#This Row],[T0Time]]),0,COUNTIFS(BackendTable[T0Time],\"<=\"&3,BackendTable[T0Time],\">=\"&0)-COUNTIFS(BackendTable[T0Time],\">\"&BackendTable[[#This Row],[T0Time]]))","v":500},null,null,null,null,null,null,null,null,null,null,null,null,null,null,null,null,null,null,null,null,null,null,null,null,{"$f":"MATCH(MAX(BackendTable[[#This Row],[T1S1]:[T1S5]]),BackendTable[[#This Row],[T1S1]:[T1S5]],0)","v":{"$error":"#N/A"}},{"$f":"MATCH(MAX(BackendTable[[#This Row],[T2S1]:[T2S5]]),BackendTable[[#This Row],[T2S1]:[T2S5]],0)","v":{"$error":"#N/A"}},{"$f":"MATCH(MAX(BackendTable[[#This Row],[T3S1]:[T3S5]]),BackendTable[[#This Row],[T3S1]:[T3S5]],0)","v":{"$error":"#N/A"}}]
[null,{"$f":"ROW()-ROW(BackendTable[[#Headers],[Row'#]])","v":277},{"$f":"'Data In'!A284","v":0},{"$f":"IF(BackendTable[[#This Row],[Time]]-'Reference Cells'!$C$3<=0,NA(),'Reference Cells'!$C$4-BackendTable[[#This Row],[Time]])*86400","v":{"$error":"#N/A"}},{"$f":"IFERROR(8-BackendTable[[#This Row],[Column1]],\"\")","v":""},{"$f":"IF(ISERROR(BackendTable[[#This Row],[Column1]]),-9,(BackendTable[[#This Row],[Net Time]]-NetTimeMin)*RangeAdj)","v":-9},{"$f":"IF(AND(BackendTable[[#This Row],[Time]]>='Reference Cells'!$C$6,BackendTable[[#This Row],[Time]]<='Reference Cells'!$C$7),(BackendTable[[#This Row],[Time]]-'Reference Cells'!$C$6)*86400,NA())","v":2},{"$f":"IF(CommandCell='Reference Cells'!$C$17,NA(),ABS('Data In'!B284-INDIRECT(\"ZeroVal_\"&H$2,0)))","v":0},{"$f":"IF(CommandCell='Reference Cells'!$C$17,NA(),ABS('Data In'!C284-INDIRECT(\"ZeroVal_\"&I$2,0)))","v":0},{"$f":"IF(CommandCell='Reference Cells'!$C$17,NA(),ABS('Data In'!D284-INDIRECT(\"ZeroVal_\"&J$2,0)))","v":0},{"$f":"IF(CommandCell='Reference Cells'!$C$17,NA(),ABS('Data In'!E284-INDIRECT(\"ZeroVal_\"&K$2,0)))","v":0},{"$f":"IF(CommandCell='Reference Cells'!$C$17,NA(),ABS('Data In'!F284-INDIRECT(\"ZeroVal_\"&L$2,0)))","v":0},{"$f":"MAX(BackendTable[[#This Row],[S1]:[S5]])","v":0},{"$f":"IF(ISERROR(BackendTable[[#This Row],[T0Time]]),0,COUNTIFS(BackendTable[T0Time],\"<=\"&3,BackendTable[T0Time],\">=\"&0)-COUNTIFS(BackendTable[T0Time],\">\"&BackendTable[[#This Row],[T0Time]]))","v":500},null,null,null,null,null,null,null,null,null,null,null,null,null,null,null,null,null,null,null,null,null,null,null,null,{"$f":"MATCH(MAX(BackendTable[[#This Row],[T1S1]:[T1S5]]),BackendTable[[#This Row],[T1S1]:[T1S5]],0)","v":{"$error":"#N/A"}},{"$f":"MATCH(MAX(BackendTable[[#This Row],[T2S1]:[T2S5]]),BackendTable[[#This Row],[T2S1]:[T2S5]],0)","v":{"$error":"#N/A"}},{"$f":"MATCH(MAX(BackendTable[[#This Row],[T3S1]:[T3S5]]),BackendTable[[#This Row],[T3S1]:[T3S5]],0)","v":{"$error":"#N/A"}}]
[null,{"$f":"ROW()-ROW(BackendTable[[#Headers],[Row'#]])","v":278},{"$f":"'Data In'!A285","v":0},{"$f":"IF(BackendTable[[#This Row],[Time]]-'Reference Cells'!$C$3<=0,NA(),'Reference Cells'!$C$4-BackendTable[[#This Row],[Time]])*86400","v":{"$error":"#N/A"}},{"$f":"IFERROR(8-BackendTable[[#This Row],[Column1]],\"\")","v":""},{"$f":"IF(ISERROR(BackendTable[[#This Row],[Column1]]),-9,(BackendTable[[#This Row],[Net Time]]-NetTimeMin)*RangeAdj)","v":-9},{"$f":"IF(AND(BackendTable[[#This Row],[Time]]>='Reference Cells'!$C$6,BackendTable[[#This Row],[Time]]<='Reference Cells'!$C$7),(BackendTable[[#This Row],[Time]]-'Reference Cells'!$C$6)*86400,NA())","v":2},{"$f":"IF(CommandCell='Reference Cells'!$C$17,NA(),ABS('Data In'!B285-INDIRECT(\"ZeroVal_\"&H$2,0)))","v":0},{"$f":"IF(CommandCell='Reference Cells'!$C$17,NA(),ABS('Data In'!C285-INDIRECT(\"ZeroVal_\"&I$2,0)))","v":0},{"$f":"IF(CommandCell='Reference Cells'!$C$17,NA(),ABS('Data In'!D285-INDIRECT(\"ZeroVal_\"&J$2,0)))","v":0},{"$f":"IF(CommandCell='Reference Cells'!$C$17,NA(),ABS('Data In'!E285-INDIRECT(\"ZeroVal_\"&K$2,0)))","v":0},{"$f":"IF(CommandCell='Reference Cells'!$C$17,NA(),ABS('Data In'!F285-INDIRECT(\"ZeroVal_\"&L$2,0)))","v":0},{"$f":"MAX(BackendTable[[#This Row],[S1]:[S5]])","v":0},{"$f":"IF(ISERROR(BackendTable[[#This Row],[T0Time]]),0,COUNTIFS(BackendTable[T0Time],\"<=\"&3,BackendTable[T0Time],\">=\"&0)-COUNTIFS(BackendTable[T0Time],\">\"&BackendTable[[#This Row],[T0Time]]))","v":500},null,null,null,null,null,null,null,null,null,null,null,null,null,null,null,null,null,null,null,null,null,null,null,null,{"$f":"MATCH(MAX(BackendTable[[#This Row],[T1S1]:[T1S5]]),BackendTable[[#This Row],[T1S1]:[T1S5]],0)","v":{"$error":"#N/A"}},{"$f":"MATCH(MAX(BackendTable[[#This Row],[T2S1]:[T2S5]]),BackendTable[[#This Row],[T2S1]:[T2S5]],0)","v":{"$error":"#N/A"}},{"$f":"MATCH(MAX(BackendTable[[#This Row],[T3S1]:[T3S5]]),BackendTable[[#This Row],[T3S1]:[T3S5]],0)","v":{"$error":"#N/A"}}]
[null,{"$f":"ROW()-ROW(BackendTable[[#Headers],[Row'#]])","v":279},{"$f":"'Data In'!A286","v":0},{"$f":"IF(BackendTable[[#This Row],[Time]]-'Reference Cells'!$C$3<=0,NA(),'Reference Cells'!$C$4-BackendTable[[#This Row],[Time]])*86400","v":{"$error":"#N/A"}},{"$f":"IFERROR(8-BackendTable[[#This Row],[Column1]],\"\")","v":""},{"$f":"IF(ISERROR(BackendTable[[#This Row],[Column1]]),-9,(BackendTable[[#This Row],[Net Time]]-NetTimeMin)*RangeAdj)","v":-9},{"$f":"IF(AND(BackendTable[[#This Row],[Time]]>='Reference Cells'!$C$6,BackendTable[[#This Row],[Time]]<='Reference Cells'!$C$7),(BackendTable[[#This Row],[Time]]-'Reference Cells'!$C$6)*86400,NA())","v":2},{"$f":"IF(CommandCell='Reference Cells'!$C$17,NA(),ABS('Data In'!B286-INDIRECT(\"ZeroVal_\"&H$2,0)))","v":0},{"$f":"IF(CommandCell='Reference Cells'!$C$17,NA(),ABS('Data In'!C286-INDIRECT(\"ZeroVal_\"&I$2,0)))","v":0},{"$f":"IF(CommandCell='Reference Cells'!$C$17,NA(),ABS('Data In'!D286-INDIRECT(\"ZeroVal_\"&J$2,0)))","v":0},{"$f":"IF(CommandCell='Reference Cells'!$C$17,NA(),ABS('Data In'!E286-INDIRECT(\"ZeroVal_\"&K$2,0)))","v":0},{"$f":"IF(CommandCell='Reference Cells'!$C$17,NA(),ABS('Data In'!F286-INDIRECT(\"ZeroVal_\"&L$2,0)))","v":0},{"$f":"MAX(BackendTable[[#This Row],[S1]:[S5]])","v":0},{"$f":"IF(ISERROR(BackendTable[[#This Row],[T0Time]]),0,COUNTIFS(BackendTable[T0Time],\"<=\"&3,BackendTable[T0Time],\">=\"&0)-COUNTIFS(BackendTable[T0Time],\">\"&BackendTable[[#This Row],[T0Time]]))","v":500},null,null,null,null,null,null,null,null,null,null,null,null,null,null,null,null,null,null,null,null,null,null,null,null,{"$f":"MATCH(MAX(BackendTable[[#This Row],[T1S1]:[T1S5]]),BackendTable[[#This Row],[T1S1]:[T1S5]],0)","v":{"$error":"#N/A"}},{"$f":"MATCH(MAX(BackendTable[[#This Row],[T2S1]:[T2S5]]),BackendTable[[#This Row],[T2S1]:[T2S5]],0)","v":{"$error":"#N/A"}},{"$f":"MATCH(MAX(BackendTable[[#This Row],[T3S1]:[T3S5]]),BackendTable[[#This Row],[T3S1]:[T3S5]],0)","v":{"$error":"#N/A"}}]
[null,{"$f":"ROW()-ROW(BackendTable[[#Headers],[Row'#]])","v":280},{"$f":"'Data In'!A287","v":0},{"$f":"IF(BackendTable[[#This Row],[Time]]-'Reference Cells'!$C$3<=0,NA(),'Reference Cells'!$C$4-BackendTable[[#This Row],[Time]])*86400","v":{"$error":"#N/A"}},{"$f":"IFERROR(8-BackendTable[[#This Row],[Column1]],\"\")","v":""},{"$f":"IF(ISERROR(BackendTable[[#This Row],[Column1]]),-9,(BackendTable[[#This Row],[Net Time]]-NetTimeMin)*RangeAdj)","v":-9},{"$f":"IF(AND(BackendTable[[#This Row],[Time]]>='Reference Cells'!$C$6,BackendTable[[#This Row],[Time]]<='Reference Cells'!$C$7),(BackendTable[[#This Row],[Time]]-'Reference Cells'!$C$6)*86400,NA())","v":2},{"$f":"IF(CommandCell='Reference Cells'!$C$17,NA(),ABS('Data In'!B287-INDIRECT(\"ZeroVal_\"&H$2,0)))","v":0},{"$f":"IF(CommandCell='Reference Cells'!$C$17,NA(),ABS('Data In'!C287-INDIRECT(\"ZeroVal_\"&I$2,0)))","v":0},{"$f":"IF(CommandCell='Reference Cells'!$C$17,NA(),ABS('Data In'!D287-INDIRECT(\"ZeroVal_\"&J$2,0)))","v":0},{"$f":"IF(CommandCell='Reference Cells'!$C$17,NA(),ABS('Data In'!E287-INDIRECT(\"ZeroVal_\"&K$2,0)))","v":0},{"$f":"IF(CommandCell='Reference Cells'!$C$17,NA(),ABS('Data In'!F287-INDIRECT(\"ZeroVal_\"&L$2,0)))","v":0},{"$f":"MAX(BackendTable[[#This Row],[S1]:[S5]])","v":0},{"$f":"IF(ISERROR(BackendTable[[#This Row],[T0Time]]),0,COUNTIFS(BackendTable[T0Time],\"<=\"&3,BackendTable[T0Time],\">=\"&0)-COUNTIFS(BackendTable[T0Time],\">\"&BackendTable[[#This Row],[T0Time]]))","v":500},null,null,null,null,null,null,null,null,null,null,null,null,null,null,null,null,null,null,null,null,null,null,null,null,{"$f":"MATCH(MAX(BackendTable[[#This Row],[T1S1]:[T1S5]]),BackendTable[[#This Row],[T1S1]:[T1S5]],0)","v":{"$error":"#N/A"}},{"$f":"MATCH(MAX(BackendTable[[#This Row],[T2S1]:[T2S5]]),BackendTable[[#This Row],[T2S1]:[T2S5]],0)","v":{"$error":"#N/A"}},{"$f":"MATCH(MAX(BackendTable[[#This Row],[T3S1]:[T3S5]]),BackendTable[[#This Row],[T3S1]:[T3S5]],0)","v":{"$error":"#N/A"}}]
[null,{"$f":"ROW()-ROW(BackendTable[[#Headers],[Row'#]])","v":281},{"$f":"'Data In'!A288","v":0},{"$f":"IF(BackendTable[[#This Row],[Time]]-'Reference Cells'!$C$3<=0,NA(),'Reference Cells'!$C$4-BackendTable[[#This Row],[Time]])*86400","v":{"$error":"#N/A"}},{"$f":"IFERROR(8-BackendTable[[#This Row],[Column1]],\"\")","v":""},{"$f":"IF(ISERROR(BackendTable[[#This Row],[Column1]]),-9,(BackendTable[[#This Row],[Net Time]]-NetTimeMin)*RangeAdj)","v":-9},{"$f":"IF(AND(BackendTable[[#This Row],[Time]]>='Reference Cells'!$C$6,BackendTable[[#This Row],[Time]]<='Reference Cells'!$C$7),(BackendTable[[#This Row],[Time]]-'Reference Cells'!$C$6)*86400,NA())","v":2},{"$f":"IF(CommandCell='Reference Cells'!$C$17,NA(),ABS('Data In'!B288-INDIRECT(\"ZeroVal_\"&H$2,0)))","v":0},{"$f":"IF(CommandCell='Reference Cells'!$C$17,NA(),ABS('Data In'!C288-INDIRECT(\"ZeroVal_\"&I$2,0)))","v":0},{"$f":"IF(CommandCell='Reference Cells'!$C$17,NA(),ABS('Data In'!D288-INDIRECT(\"ZeroVal_\"&J$2,0)))","v":0},{"$f":"IF(CommandCell='Reference Cells'!$C$17,NA(),ABS('Data In'!E288-INDIRECT(\"ZeroVal_\"&K$2,0)))","v":0},{"$f":"IF(CommandCell='Reference Cells'!$C$17,NA(),ABS('Data In'!F288-INDIRECT(\"ZeroVal_\"&L$2,0)))","v":0},{"$f":"MAX(BackendTable[[#This Row],[S1]:[S5]])","v":0},{"$f":"IF(ISERROR(BackendTable[[#This Row],[T0Time]]),0,COUNTIFS(BackendTable[T0Time],\"<=\"&3,BackendTable[T0Time],\">=\"&0)-COUNTIFS(BackendTable[T0Time],\">\"&BackendTable[[#This Row],[T0Time]]))","v":500},null,null,null,null,null,null,null,null,null,null,null,null,null,null,null,null,null,null,null,null,null,null,null,null,{"$f":"MATCH(MAX(BackendTable[[#This Row],[T1S1]:[T1S5]]),BackendTable[[#This Row],[T1S1]:[T1S5]],0)","v":{"$error":"#N/A"}},{"$f":"MATCH(MAX(BackendTable[[#This Row],[T2S1]:[T2S5]]),BackendTable[[#This Row],[T2S1]:[T2S5]],0)","v":{"$error":"#N/A"}},{"$f":"MATCH(MAX(BackendTable[[#This Row],[T3S1]:[T3S5]]),BackendTable[[#This Row],[T3S1]:[T3S5]],0)","v":{"$error":"#N/A"}}]
[null,{"$f":"ROW()-ROW(BackendTable[[#Headers],[Row'#]])","v":282},{"$f":"'Data In'!A289","v":0},{"$f":"IF(BackendTable[[#This Row],[Time]]-'Reference Cells'!$C$3<=0,NA(),'Reference Cells'!$C$4-BackendTable[[#This Row],[Time]])*86400","v":{"$error":"#N/A"}},{"$f":"IFERROR(8-BackendTable[[#This Row],[Column1]],\"\")","v":""},{"$f":"IF(ISERROR(BackendTable[[#This Row],[Column1]]),-9,(BackendTable[[#This Row],[Net Time]]-NetTimeMin)*RangeAdj)","v":-9},{"$f":"IF(AND(BackendTable[[#This Row],[Time]]>='Reference Cells'!$C$6,BackendTable[[#This Row],[Time]]<='Reference Cells'!$C$7),(BackendTable[[#This Row],[Time]]-'Reference Cells'!$C$6)*86400,NA())","v":2},{"$f":"IF(CommandCell='Reference Cells'!$C$17,NA(),ABS('Data In'!B289-INDIRECT(\"ZeroVal_\"&H$2,0)))","v":0},{"$f":"IF(CommandCell='Reference Cells'!$C$17,NA(),ABS('Data In'!C289-INDIRECT(\"ZeroVal_\"&I$2,0)))","v":0},{"$f":"IF(CommandCell='Reference Cells'!$C$17,NA(),ABS('Data In'!D289-INDIRECT(\"ZeroVal_\"&J$2,0)))","v":0},{"$f":"IF(CommandCell='Reference Cells'!$C$17,NA(),ABS('Data In'!E289-INDIRECT(\"ZeroVal_\"&K$2,0)))","v":0},{"$f":"IF(CommandCell='Reference Cells'!$C$17,NA(),ABS('Data In'!F289-INDIRECT(\"ZeroVal_\"&L$2,0)))","v":0},{"$f":"MAX(BackendTable[[#This Row],[S1]:[S5]])","v":0},{"$f":"IF(ISERROR(BackendTable[[#This Row],[T0Time]]),0,COUNTIFS(BackendTable[T0Time],\"<=\"&3,BackendTable[T0Time],\">=\"&0)-COUNTIFS(BackendTable[T0Time],\">\"&BackendTable[[#This Row],[T0Time]]))","v":500},null,null,null,null,null,null,null,null,null,null,null,null,null,null,null,null,null,null,null,null,null,null,null,null,{"$f":"MATCH(MAX(BackendTable[[#This Row],[T1S1]:[T1S5]]),BackendTable[[#This Row],[T1S1]:[T1S5]],0)","v":{"$error":"#N/A"}},{"$f":"MATCH(MAX(BackendTable[[#This Row],[T2S1]:[T2S5]]),BackendTable[[#This Row],[T2S1]:[T2S5]],0)","v":{"$error":"#N/A"}},{"$f":"MATCH(MAX(BackendTable[[#This Row],[T3S1]:[T3S5]]),BackendTable[[#This Row],[T3S1]:[T3S5]],0)","v":{"$error":"#N/A"}}]
[null,{"$f":"ROW()-ROW(BackendTable[[#Headers],[Row'#]])","v":283},{"$f":"'Data In'!A290","v":0},{"$f":"IF(BackendTable[[#This Row],[Time]]-'Reference Cells'!$C$3<=0,NA(),'Reference Cells'!$C$4-BackendTable[[#This Row],[Time]])*86400","v":{"$error":"#N/A"}},{"$f":"IFERROR(8-BackendTable[[#This Row],[Column1]],\"\")","v":""},{"$f":"IF(ISERROR(BackendTable[[#This Row],[Column1]]),-9,(BackendTable[[#This Row],[Net Time]]-NetTimeMin)*RangeAdj)","v":-9},{"$f":"IF(AND(BackendTable[[#This Row],[Time]]>='Reference Cells'!$C$6,BackendTable[[#This Row],[Time]]<='Reference Cells'!$C$7),(BackendTable[[#This Row],[Time]]-'Reference Cells'!$C$6)*86400,NA())","v":2},{"$f":"IF(CommandCell='Reference Cells'!$C$17,NA(),ABS('Data In'!B290-INDIRECT(\"ZeroVal_\"&H$2,0)))","v":0},{"$f":"IF(CommandCell='Reference Cells'!$C$17,NA(),ABS('Data In'!C290-INDIRECT(\"ZeroVal_\"&I$2,0)))","v":0},{"$f":"IF(CommandCell='Reference Cells'!$C$17,NA(),ABS('Data In'!D290-INDIRECT(\"ZeroVal_\"&J$2,0)))","v":0},{"$f":"IF(CommandCell='Reference Cells'!$C$17,NA(),ABS('Data In'!E290-INDIRECT(\"ZeroVal_\"&K$2,0)))","v":0},{"$f":"IF(CommandCell='Reference Cells'!$C$17,NA(),ABS('Data In'!F290-INDIRECT(\"ZeroVal_\"&L$2,0)))","v":0},{"$f":"MAX(BackendTable[[#This Row],[S1]:[S5]])","v":0},{"$f":"IF(ISERROR(BackendTable[[#This Row],[T0Time]]),0,COUNTIFS(BackendTable[T0Time],\"<=\"&3,BackendTable[T0Time],\">=\"&0)-COUNTIFS(BackendTable[T0Time],\">\"&BackendTable[[#This Row],[T0Time]]))","v":500},null,null,null,null,null,null,null,null,null,null,null,null,null,null,null,null,null,null,null,null,null,null,null,null,{"$f":"MATCH(MAX(BackendTable[[#This Row],[T1S1]:[T1S5]]),BackendTable[[#This Row],[T1S1]:[T1S5]],0)","v":{"$error":"#N/A"}},{"$f":"MATCH(MAX(BackendTable[[#This Row],[T2S1]:[T2S5]]),BackendTable[[#This Row],[T2S1]:[T2S5]],0)","v":{"$error":"#N/A"}},{"$f":"MATCH(MAX(BackendTable[[#This Row],[T3S1]:[T3S5]]),BackendTable[[#This Row],[T3S1]:[T3S5]],0)","v":{"$error":"#N/A"}}]
[null,{"$f":"ROW()-ROW(BackendTable[[#Headers],[Row'#]])","v":284},{"$f":"'Data In'!A291","v":0},{"$f":"IF(BackendTable[[#This Row],[Time]]-'Reference Cells'!$C$3<=0,NA(),'Reference Cells'!$C$4-BackendTable[[#This Row],[Time]])*86400","v":{"$error":"#N/A"}},{"$f":"IFERROR(8-BackendTable[[#This Row],[Column1]],\"\")","v":""},{"$f":"IF(ISERROR(BackendTable[[#This Row],[Column1]]),-9,(BackendTable[[#This Row],[Net Time]]-NetTimeMin)*RangeAdj)","v":-9},{"$f":"IF(AND(BackendTable[[#This Row],[Time]]>='Reference Cells'!$C$6,BackendTable[[#This Row],[Time]]<='Reference Cells'!$C$7),(BackendTable[[#This Row],[Time]]-'Reference Cells'!$C$6)*86400,NA())","v":2},{"$f":"IF(CommandCell='Reference Cells'!$C$17,NA(),ABS('Data In'!B291-INDIRECT(\"ZeroVal_\"&H$2,0)))","v":0},{"$f":"IF(CommandCell='Reference Cells'!$C$17,NA(),ABS('Data In'!C291-INDIRECT(\"ZeroVal_\"&I$2,0)))","v":0},{"$f":"IF(CommandCell='Reference Cells'!$C$17,NA(),ABS('Data In'!D291-INDIRECT(\"ZeroVal_\"&J$2,0)))","v":0},{"$f":"IF(CommandCell='Reference Cells'!$C$17,NA(),ABS('Data In'!E291-INDIRECT(\"ZeroVal_\"&K$2,0)))","v":0},{"$f":"IF(CommandCell='Reference Cells'!$C$17,NA(),ABS('Data In'!F291-INDIRECT(\"ZeroVal_\"&L$2,0)))","v":0},{"$f":"MAX(BackendTable[[#This Row],[S1]:[S5]])","v":0},{"$f":"IF(ISERROR(BackendTable[[#This Row],[T0Time]]),0,COUNTIFS(BackendTable[T0Time],\"<=\"&3,BackendTable[T0Time],\">=\"&0)-COUNTIFS(BackendTable[T0Time],\">\"&BackendTable[[#This Row],[T0Time]]))","v":500},null,null,null,null,null,null,null,null,null,null,null,null,null,null,null,null,null,null,null,null,null,null,null,null,{"$f":"MATCH(MAX(BackendTable[[#This Row],[T1S1]:[T1S5]]),BackendTable[[#This Row],[T1S1]:[T1S5]],0)","v":{"$error":"#N/A"}},{"$f":"MATCH(MAX(BackendTable[[#This Row],[T2S1]:[T2S5]]),BackendTable[[#This Row],[T2S1]:[T2S5]],0)","v":{"$error":"#N/A"}},{"$f":"MATCH(MAX(BackendTable[[#This Row],[T3S1]:[T3S5]]),BackendTable[[#This Row],[T3S1]:[T3S5]],0)","v":{"$error":"#N/A"}}]
[null,{"$f":"ROW()-ROW(BackendTable[[#Headers],[Row'#]])","v":285},{"$f":"'Data In'!A292","v":0},{"$f":"IF(BackendTable[[#This Row],[Time]]-'Reference Cells'!$C$3<=0,NA(),'Reference Cells'!$C$4-BackendTable[[#This Row],[Time]])*86400","v":{"$error":"#N/A"}},{"$f":"IFERROR(8-BackendTable[[#This Row],[Column1]],\"\")","v":""},{"$f":"IF(ISERROR(BackendTable[[#This Row],[Column1]]),-9,(BackendTable[[#This Row],[Net Time]]-NetTimeMin)*RangeAdj)","v":-9},{"$f":"IF(AND(BackendTable[[#This Row],[Time]]>='Reference Cells'!$C$6,BackendTable[[#This Row],[Time]]<='Reference Cells'!$C$7),(BackendTable[[#This Row],[Time]]-'Reference Cells'!$C$6)*86400,NA())","v":2},{"$f":"IF(CommandCell='Reference Cells'!$C$17,NA(),ABS('Data In'!B292-INDIRECT(\"ZeroVal_\"&H$2,0)))","v":0},{"$f":"IF(CommandCell='Reference Cells'!$C$17,NA(),ABS('Data In'!C292-INDIRECT(\"ZeroVal_\"&I$2,0)))","v":0},{"$f":"IF(CommandCell='Reference Cells'!$C$17,NA(),ABS('Data In'!D292-INDIRECT(\"ZeroVal_\"&J$2,0)))","v":0},{"$f":"IF(CommandCell='Reference Cells'!$C$17,NA(),ABS('Data In'!E292-INDIRECT(\"ZeroVal_\"&K$2,0)))","v":0},{"$f":"IF(CommandCell='Reference Cells'!$C$17,NA(),ABS('Data In'!F292-INDIRECT(\"ZeroVal_\"&L$2,0)))","v":0},{"$f":"MAX(BackendTable[[#This Row],[S1]:[S5]])","v":0},{"$f":"IF(ISERROR(BackendTable[[#This Row],[T0Time]]),0,COUNTIFS(BackendTable[T0Time],\"<=\"&3,BackendTable[T0Time],\">=\"&0)-COUNTIFS(BackendTable[T0Time],\">\"&BackendTable[[#This Row],[T0Time]]))","v":500},null,null,null,null,null,null,null,null,null,null,null,null,null,null,null,null,null,null,null,null,null,null,null,null,{"$f":"MATCH(MAX(BackendTable[[#This Row],[T1S1]:[T1S5]]),BackendTable[[#This Row],[T1S1]:[T1S5]],0)","v":{"$error":"#N/A"}},{"$f":"MATCH(MAX(BackendTable[[#This Row],[T2S1]:[T2S5]]),BackendTable[[#This Row],[T2S1]:[T2S5]],0)","v":{"$error":"#N/A"}},{"$f":"MATCH(MAX(BackendTable[[#This Row],[T3S1]:[T3S5]]),BackendTable[[#This Row],[T3S1]:[T3S5]],0)","v":{"$error":"#N/A"}}]
[null,{"$f":"ROW()-ROW(BackendTable[[#Headers],[Row'#]])","v":286},{"$f":"'Data In'!A293","v":0},{"$f":"IF(BackendTable[[#This Row],[Time]]-'Reference Cells'!$C$3<=0,NA(),'Reference Cells'!$C$4-BackendTable[[#This Row],[Time]])*86400","v":{"$error":"#N/A"}},{"$f":"IFERROR(8-BackendTable[[#This Row],[Column1]],\"\")","v":""},{"$f":"IF(ISERROR(BackendTable[[#This Row],[Column1]]),-9,(BackendTable[[#This Row],[Net Time]]-NetTimeMin)*RangeAdj)","v":-9},{"$f":"IF(AND(BackendTable[[#This Row],[Time]]>='Reference Cells'!$C$6,BackendTable[[#This Row],[Time]]<='Reference Cells'!$C$7),(BackendTable[[#This Row],[Time]]-'Reference Cells'!$C$6)*86400,NA())","v":2},{"$f":"IF(CommandCell='Reference Cells'!$C$17,NA(),ABS('Data In'!B293-INDIRECT(\"ZeroVal_\"&H$2,0)))","v":0},{"$f":"IF(CommandCell='Reference Cells'!$C$17,NA(),ABS('Data In'!C293-INDIRECT(\"ZeroVal_\"&I$2,0)))","v":0},{"$f":"IF(CommandCell='Reference Cells'!$C$17,NA(),ABS('Data In'!D293-INDIRECT(\"ZeroVal_\"&J$2,0)))","v":0},{"$f":"IF(CommandCell='Reference Cells'!$C$17,NA(),ABS('Data In'!E293-INDIRECT(\"ZeroVal_\"&K$2,0)))","v":0},{"$f":"IF(CommandCell='Reference Cells'!$C$17,NA(),ABS('Data In'!F293-INDIRECT(\"ZeroVal_\"&L$2,0)))","v":0},{"$f":"MAX(BackendTable[[#This Row],[S1]:[S5]])","v":0},{"$f":"IF(ISERROR(BackendTable[[#This Row],[T0Time]]),0,COUNTIFS(BackendTable[T0Time],\"<=\"&3,BackendTable[T0Time],\">=\"&0)-COUNTIFS(BackendTable[T0Time],\">\"&BackendTable[[#This Row],[T0Time]]))","v":500},null,null,null,null,null,null,null,null,null,null,null,null,null,null,null,null,null,null,null,null,null,null,null,null,{"$f":"MATCH(MAX(BackendTable[[#This Row],[T1S1]:[T1S5]]),BackendTable[[#This Row],[T1S1]:[T1S5]],0)","v":{"$error":"#N/A"}},{"$f":"MATCH(MAX(BackendTable[[#This Row],[T2S1]:[T2S5]]),BackendTable[[#This Row],[T2S1]:[T2S5]],0)","v":{"$error":"#N/A"}},{"$f":"MATCH(MAX(BackendTable[[#This Row],[T3S1]:[T3S5]]),BackendTable[[#This Row],[T3S1]:[T3S5]],0)","v":{"$error":"#N/A"}}]
[null,{"$f":"ROW()-ROW(BackendTable[[#Headers],[Row'#]])","v":287},{"$f":"'Data In'!A294","v":0},{"$f":"IF(BackendTable[[#This Row],[Time]]-'Reference Cells'!$C$3<=0,NA(),'Reference Cells'!$C$4-BackendTable[[#This Row],[Time]])*86400","v":{"$error":"#N/A"}},{"$f":"IFERROR(8-BackendTable[[#This Row],[Column1]],\"\")","v":""},{"$f":"IF(ISERROR(BackendTable[[#This Row],[Column1]]),-9,(BackendTable[[#This Row],[Net Time]]-NetTimeMin)*RangeAdj)","v":-9},{"$f":"IF(AND(BackendTable[[#This Row],[Time]]>='Reference Cells'!$C$6,BackendTable[[#This Row],[Time]]<='Reference Cells'!$C$7),(BackendTable[[#This Row],[Time]]-'Reference Cells'!$C$6)*86400,NA())","v":2},{"$f":"IF(CommandCell='Reference Cells'!$C$17,NA(),ABS('Data In'!B294-INDIRECT(\"ZeroVal_\"&H$2,0)))","v":0},{"$f":"IF(CommandCell='Reference Cells'!$C$17,NA(),ABS('Data In'!C294-INDIRECT(\"ZeroVal_\"&I$2,0)))","v":0},{"$f":"IF(CommandCell='Reference Cells'!$C$17,NA(),ABS('Data In'!D294-INDIRECT(\"ZeroVal_\"&J$2,0)))","v":0},{"$f":"IF(CommandCell='Reference Cells'!$C$17,NA(),ABS('Data In'!E294-INDIRECT(\"ZeroVal_\"&K$2,0)))","v":0},{"$f":"IF(CommandCell='Reference Cells'!$C$17,NA(),ABS('Data In'!F294-INDIRECT(\"ZeroVal_\"&L$2,0)))","v":0},{"$f":"MAX(BackendTable[[#This Row],[S1]:[S5]])","v":0},{"$f":"IF(ISERROR(BackendTable[[#This Row],[T0Time]]),0,COUNTIFS(BackendTable[T0Time],\"<=\"&3,BackendTable[T0Time],\">=\"&0)-COUNTIFS(BackendTable[T0Time],\">\"&BackendTable[[#This Row],[T0Time]]))","v":500},null,null,null,null,null,null,null,null,null,null,null,null,null,null,null,null,null,null,null,null,null,null,null,null,{"$f":"MATCH(MAX(BackendTable[[#This Row],[T1S1]:[T1S5]]),BackendTable[[#This Row],[T1S1]:[T1S5]],0)","v":{"$error":"#N/A"}},{"$f":"MATCH(MAX(BackendTable[[#This Row],[T2S1]:[T2S5]]),BackendTable[[#This Row],[T2S1]:[T2S5]],0)","v":{"$error":"#N/A"}},{"$f":"MATCH(MAX(BackendTable[[#This Row],[T3S1]:[T3S5]]),BackendTable[[#This Row],[T3S1]:[T3S5]],0)","v":{"$error":"#N/A"}}]
[null,{"$f":"ROW()-ROW(BackendTable[[#Headers],[Row'#]])","v":288},{"$f":"'Data In'!A295","v":0},{"$f":"IF(BackendTable[[#This Row],[Time]]-'Reference Cells'!$C$3<=0,NA(),'Reference Cells'!$C$4-BackendTable[[#This Row],[Time]])*86400","v":{"$error":"#N/A"}},{"$f":"IFERROR(8-BackendTable[[#This Row],[Column1]],\"\")","v":""},{"$f":"IF(ISERROR(BackendTable[[#This Row],[Column1]]),-9,(BackendTable[[#This Row],[Net Time]]-NetTimeMin)*RangeAdj)","v":-9},{"$f":"IF(AND(BackendTable[[#This Row],[Time]]>='Reference Cells'!$C$6,BackendTable[[#This Row],[Time]]<='Reference Cells'!$C$7),(BackendTable[[#This Row],[Time]]-'Reference Cells'!$C$6)*86400,NA())","v":2},{"$f":"IF(CommandCell='Reference Cells'!$C$17,NA(),ABS('Data In'!B295-INDIRECT(\"ZeroVal_\"&H$2,0)))","v":0},{"$f":"IF(CommandCell='Reference Cells'!$C$17,NA(),ABS('Data In'!C295-INDIRECT(\"ZeroVal_\"&I$2,0)))","v":0},{"$f":"IF(CommandCell='Reference Cells'!$C$17,NA(),ABS('Data In'!D295-INDIRECT(\"ZeroVal_\"&J$2,0)))","v":0},{"$f":"IF(CommandCell='Reference Cells'!$C$17,NA(),ABS('Data In'!E295-INDIRECT(\"ZeroVal_\"&K$2,0)))","v":0},{"$f":"IF(CommandCell='Reference Cells'!$C$17,NA(),ABS('Data In'!F295-INDIRECT(\"ZeroVal_\"&L$2,0)))","v":0},{"$f":"MAX(BackendTable[[#This Row],[S1]:[S5]])","v":0},{"$f":"IF(ISERROR(BackendTable[[#This Row],[T0Time]]),0,COUNTIFS(BackendTable[T0Time],\"<=\"&3,BackendTable[T0Time],\">=\"&0)-COUNTIFS(BackendTable[T0Time],\">\"&BackendTable[[#This Row],[T0Time]]))","v":500},null,null,null,null,null,null,null,null,null,null,null,null,null,null,null,null,null,null,null,null,null,null,null,null,{"$f":"MATCH(MAX(BackendTable[[#This Row],[T1S1]:[T1S5]]),BackendTable[[#This Row],[T1S1]:[T1S5]],0)","v":{"$error":"#N/A"}},{"$f":"MATCH(MAX(BackendTable[[#This Row],[T2S1]:[T2S5]]),BackendTable[[#This Row],[T2S1]:[T2S5]],0)","v":{"$error":"#N/A"}},{"$f":"MATCH(MAX(BackendTable[[#This Row],[T3S1]:[T3S5]]),BackendTable[[#This Row],[T3S1]:[T3S5]],0)","v":{"$error":"#N/A"}}]
[null,{"$f":"ROW()-ROW(BackendTable[[#Headers],[Row'#]])","v":289},{"$f":"'Data In'!A296","v":0},{"$f":"IF(BackendTable[[#This Row],[Time]]-'Reference Cells'!$C$3<=0,NA(),'Reference Cells'!$C$4-BackendTable[[#This Row],[Time]])*86400","v":{"$error":"#N/A"}},{"$f":"IFERROR(8-BackendTable[[#This Row],[Column1]],\"\")","v":""},{"$f":"IF(ISERROR(BackendTable[[#This Row],[Column1]]),-9,(BackendTable[[#This Row],[Net Time]]-NetTimeMin)*RangeAdj)","v":-9},{"$f":"IF(AND(BackendTable[[#This Row],[Time]]>='Reference Cells'!$C$6,BackendTable[[#This Row],[Time]]<='Reference Cells'!$C$7),(BackendTable[[#This Row],[Time]]-'Reference Cells'!$C$6)*86400,NA())","v":2},{"$f":"IF(CommandCell='Reference Cells'!$C$17,NA(),ABS('Data In'!B296-INDIRECT(\"ZeroVal_\"&H$2,0)))","v":0},{"$f":"IF(CommandCell='Reference Cells'!$C$17,NA(),ABS('Data In'!C296-INDIRECT(\"ZeroVal_\"&I$2,0)))","v":0},{"$f":"IF(CommandCell='Reference Cells'!$C$17,NA(),ABS('Data In'!D296-INDIRECT(\"ZeroVal_\"&J$2,0)))","v":0},{"$f":"IF(CommandCell='Reference Cells'!$C$17,NA(),ABS('Data In'!E296-INDIRECT(\"ZeroVal_\"&K$2,0)))","v":0},{"$f":"IF(CommandCell='Reference Cells'!$C$17,NA(),ABS('Data In'!F296-INDIRECT(\"ZeroVal_\"&L$2,0)))","v":0},{"$f":"MAX(BackendTable[[#This Row],[S1]:[S5]])","v":0},{"$f":"IF(ISERROR(BackendTable[[#This Row],[T0Time]]),0,COUNTIFS(BackendTable[T0Time],\"<=\"&3,BackendTable[T0Time],\">=\"&0)-COUNTIFS(BackendTable[T0Time],\">\"&BackendTable[[#This Row],[T0Time]]))","v":500},null,null,null,null,null,null,null,null,null,null,null,null,null,null,null,null,null,null,null,null,null,null,null,null,{"$f":"MATCH(MAX(BackendTable[[#This Row],[T1S1]:[T1S5]]),BackendTable[[#This Row],[T1S1]:[T1S5]],0)","v":{"$error":"#N/A"}},{"$f":"MATCH(MAX(BackendTable[[#This Row],[T2S1]:[T2S5]]),BackendTable[[#This Row],[T2S1]:[T2S5]],0)","v":{"$error":"#N/A"}},{"$f":"MATCH(MAX(BackendTable[[#This Row],[T3S1]:[T3S5]]),BackendTable[[#This Row],[T3S1]:[T3S5]],0)","v":{"$error":"#N/A"}}]
[null,{"$f":"ROW()-ROW(BackendTable[[#Headers],[Row'#]])","v":290},{"$f":"'Data In'!A297","v":0},{"$f":"IF(BackendTable[[#This Row],[Time]]-'Reference Cells'!$C$3<=0,NA(),'Reference Cells'!$C$4-BackendTable[[#This Row],[Time]])*86400","v":{"$error":"#N/A"}},{"$f":"IFERROR(8-BackendTable[[#This Row],[Column1]],\"\")","v":""},{"$f":"IF(ISERROR(BackendTable[[#This Row],[Column1]]),-9,(BackendTable[[#This Row],[Net Time]]-NetTimeMin)*RangeAdj)","v":-9},{"$f":"IF(AND(BackendTable[[#This Row],[Time]]>='Reference Cells'!$C$6,BackendTable[[#This Row],[Time]]<='Reference Cells'!$C$7),(BackendTable[[#This Row],[Time]]-'Reference Cells'!$C$6)*86400,NA())","v":2},{"$f":"IF(CommandCell='Reference Cells'!$C$17,NA(),ABS('Data In'!B297-INDIRECT(\"ZeroVal_\"&H$2,0)))","v":0},{"$f":"IF(CommandCell='Reference Cells'!$C$17,NA(),ABS('Data In'!C297-INDIRECT(\"ZeroVal_\"&I$2,0)))","v":0},{"$f":"IF(CommandCell='Reference Cells'!$C$17,NA(),ABS('Data In'!D297-INDIRECT(\"ZeroVal_\"&J$2,0)))","v":0},{"$f":"IF(CommandCell='Reference Cells'!$C$17,NA(),ABS('Data In'!E297-INDIRECT(\"ZeroVal_\"&K$2,0)))","v":0},{"$f":"IF(CommandCell='Reference Cells'!$C$17,NA(),ABS('Data In'!F297-INDIRECT(\"ZeroVal_\"&L$2,0)))","v":0},{"$f":"MAX(BackendTable[[#This Row],[S1]:[S5]])","v":0},{"$f":"IF(ISERROR(BackendTable[[#This Row],[T0Time]]),0,COUNTIFS(BackendTable[T0Time],\"<=\"&3,BackendTable[T0Time],\">=\"&0)-COUNTIFS(BackendTable[T0Time],\">\"&BackendTable[[#This Row],[T0Time]]))","v":500},null,null,null,null,null,null,null,null,null,null,null,null,null,null,null,null,null,null,null,null,null,null,null,null,{"$f":"MATCH(MAX(BackendTable[[#This Row],[T1S1]:[T1S5]]),BackendTable[[#This Row],[T1S1]:[T1S5]],0)","v":{"$error":"#N/A"}},{"$f":"MATCH(MAX(BackendTable[[#This Row],[T2S1]:[T2S5]]),BackendTable[[#This Row],[T2S1]:[T2S5]],0)","v":{"$error":"#N/A"}},{"$f":"MATCH(MAX(BackendTable[[#This Row],[T3S1]:[T3S5]]),BackendTable[[#This Row],[T3S1]:[T3S5]],0)","v":{"$error":"#N/A"}}]
[null,{"$f":"ROW()-ROW(BackendTable[[#Headers],[Row'#]])","v":291},{"$f":"'Data In'!A298","v":0},{"$f":"IF(BackendTable[[#This Row],[Time]]-'Reference Cells'!$C$3<=0,NA(),'Reference Cells'!$C$4-BackendTable[[#This Row],[Time]])*86400","v":{"$error":"#N/A"}},{"$f":"IFERROR(8-BackendTable[[#This Row],[Column1]],\"\")","v":""},{"$f":"IF(ISERROR(BackendTable[[#This Row],[Column1]]),-9,(BackendTable[[#This Row],[Net Time]]-NetTimeMin)*RangeAdj)","v":-9},{"$f":"IF(AND(BackendTable[[#This Row],[Time]]>='Reference Cells'!$C$6,BackendTable[[#This Row],[Time]]<='Reference Cells'!$C$7),(BackendTable[[#This Row],[Time]]-'Reference Cells'!$C$6)*86400,NA())","v":2},{"$f":"IF(CommandCell='Reference Cells'!$C$17,NA(),ABS('Data In'!B298-INDIRECT(\"ZeroVal_\"&H$2,0)))","v":0},{"$f":"IF(CommandCell='Reference Cells'!$C$17,NA(),ABS('Data In'!C298-INDIRECT(\"ZeroVal_\"&I$2,0)))","v":0},{"$f":"IF(CommandCell='Reference Cells'!$C$17,NA(),ABS('Data In'!D298-INDIRECT(\"ZeroVal_\"&J$2,0)))","v":0},{"$f":"IF(CommandCell='Reference Cells'!$C$17,NA(),ABS('Data In'!E298-INDIRECT(\"ZeroVal_\"&K$2,0)))","v":0},{"$f":"IF(CommandCell='Reference Cells'!$C$17,NA(),ABS('Data In'!F298-INDIRECT(\"ZeroVal_\"&L$2,0)))","v":0},{"$f":"MAX(BackendTable[[#This Row],[S1]:[S5]])","v":0},{"$f":"IF(ISERROR(BackendTable[[#This Row],[T0Time]]),0,COUNTIFS(BackendTable[T0Time],\"<=\"&3,BackendTable[T0Time],\">=\"&0)-COUNTIFS(BackendTable[T0Time],\">\"&BackendTable[[#This Row],[T0Time]]))","v":500},null,null,null,null,null,null,null,null,null,null,null,null,null,null,null,null,null,null,null,null,null,null,null,null,{"$f":"MATCH(MAX(BackendTable[[#This Row],[T1S1]:[T1S5]]),BackendTable[[#This Row],[T1S1]:[T1S5]],0)","v":{"$error":"#N/A"}},{"$f":"MATCH(MAX(BackendTable[[#This Row],[T2S1]:[T2S5]]),BackendTable[[#This Row],[T2S1]:[T2S5]],0)","v":{"$error":"#N/A"}},{"$f":"MATCH(MAX(BackendTable[[#This Row],[T3S1]:[T3S5]]),BackendTable[[#This Row],[T3S1]:[T3S5]],0)","v":{"$error":"#N/A"}}]
[null,{"$f":"ROW()-ROW(BackendTable[[#Headers],[Row'#]])","v":292},{"$f":"'Data In'!A299","v":0},{"$f":"IF(BackendTable[[#This Row],[Time]]-'Reference Cells'!$C$3<=0,NA(),'Reference Cells'!$C$4-BackendTable[[#This Row],[Time]])*86400","v":{"$error":"#N/A"}},{"$f":"IFERROR(8-BackendTable[[#This Row],[Column1]],\"\")","v":""},{"$f":"IF(ISERROR(BackendTable[[#This Row],[Column1]]),-9,(BackendTable[[#This Row],[Net Time]]-NetTimeMin)*RangeAdj)","v":-9},{"$f":"IF(AND(BackendTable[[#This Row],[Time]]>='Reference Cells'!$C$6,BackendTable[[#This Row],[Time]]<='Reference Cells'!$C$7),(BackendTable[[#This Row],[Time]]-'Reference Cells'!$C$6)*86400,NA())","v":2},{"$f":"IF(CommandCell='Reference Cells'!$C$17,NA(),ABS('Data In'!B299-INDIRECT(\"ZeroVal_\"&H$2,0)))","v":0},{"$f":"IF(CommandCell='Reference Cells'!$C$17,NA(),ABS('Data In'!C299-INDIRECT(\"ZeroVal_\"&I$2,0)))","v":0},{"$f":"IF(CommandCell='Reference Cells'!$C$17,NA(),ABS('Data In'!D299-INDIRECT(\"ZeroVal_\"&J$2,0)))","v":0},{"$f":"IF(CommandCell='Reference Cells'!$C$17,NA(),ABS('Data In'!E299-INDIRECT(\"ZeroVal_\"&K$2,0)))","v":0},{"$f":"IF(CommandCell='Reference Cells'!$C$17,NA(),ABS('Data In'!F299-INDIRECT(\"ZeroVal_\"&L$2,0)))","v":0},{"$f":"MAX(BackendTable[[#This Row],[S1]:[S5]])","v":0},{"$f":"IF(ISERROR(BackendTable[[#This Row],[T0Time]]),0,COUNTIFS(BackendTable[T0Time],\"<=\"&3,BackendTable[T0Time],\">=\"&0)-COUNTIFS(BackendTable[T0Time],\">\"&BackendTable[[#This Row],[T0Time]]))","v":500},null,null,null,null,null,null,null,null,null,null,null,null,null,null,null,null,null,null,null,null,null,null,null,null,{"$f":"MATCH(MAX(BackendTable[[#This Row],[T1S1]:[T1S5]]),BackendTable[[#This Row],[T1S1]:[T1S5]],0)","v":{"$error":"#N/A"}},{"$f":"MATCH(MAX(BackendTable[[#This Row],[T2S1]:[T2S5]]),BackendTable[[#This Row],[T2S1]:[T2S5]],0)","v":{"$error":"#N/A"}},{"$f":"MATCH(MAX(BackendTable[[#This Row],[T3S1]:[T3S5]]),BackendTable[[#This Row],[T3S1]:[T3S5]],0)","v":{"$error":"#N/A"}}]
[null,{"$f":"ROW()-ROW(BackendTable[[#Headers],[Row'#]])","v":293},{"$f":"'Data In'!A300","v":0},{"$f":"IF(BackendTable[[#This Row],[Time]]-'Reference Cells'!$C$3<=0,NA(),'Reference Cells'!$C$4-BackendTable[[#This Row],[Time]])*86400","v":{"$error":"#N/A"}},{"$f":"IFERROR(8-BackendTable[[#This Row],[Column1]],\"\")","v":""},{"$f":"IF(ISERROR(BackendTable[[#This Row],[Column1]]),-9,(BackendTable[[#This Row],[Net Time]]-NetTimeMin)*RangeAdj)","v":-9},{"$f":"IF(AND(BackendTable[[#This Row],[Time]]>='Reference Cells'!$C$6,BackendTable[[#This Row],[Time]]<='Reference Cells'!$C$7),(BackendTable[[#This Row],[Time]]-'Reference Cells'!$C$6)*86400,NA())","v":2},{"$f":"IF(CommandCell='Reference Cells'!$C$17,NA(),ABS('Data In'!B300-INDIRECT(\"ZeroVal_\"&H$2,0)))","v":0},{"$f":"IF(CommandCell='Reference Cells'!$C$17,NA(),ABS('Data In'!C300-INDIRECT(\"ZeroVal_\"&I$2,0)))","v":0},{"$f":"IF(CommandCell='Reference Cells'!$C$17,NA(),ABS('Data In'!D300-INDIRECT(\"ZeroVal_\"&J$2,0)))","v":0},{"$f":"IF(CommandCell='Reference Cells'!$C$17,NA(),ABS('Data In'!E300-INDIRECT(\"ZeroVal_\"&K$2,0)))","v":0},{"$f":"IF(CommandCell='Reference Cells'!$C$17,NA(),ABS('Data In'!F300-INDIRECT(\"ZeroVal_\"&L$2,0)))","v":0},{"$f":"MAX(BackendTable[[#This Row],[S1]:[S5]])","v":0},{"$f":"IF(ISERROR(BackendTable[[#This Row],[T0Time]]),0,COUNTIFS(BackendTable[T0Time],\"<=\"&3,BackendTable[T0Time],\">=\"&0)-COUNTIFS(BackendTable[T0Time],\">\"&BackendTable[[#This Row],[T0Time]]))","v":500},null,null,null,null,null,null,null,null,null,null,null,null,null,null,null,null,null,null,null,null,null,null,null,null,{"$f":"MATCH(MAX(BackendTable[[#This Row],[T1S1]:[T1S5]]),BackendTable[[#This Row],[T1S1]:[T1S5]],0)","v":{"$error":"#N/A"}},{"$f":"MATCH(MAX(BackendTable[[#This Row],[T2S1]:[T2S5]]),BackendTable[[#This Row],[T2S1]:[T2S5]],0)","v":{"$error":"#N/A"}},{"$f":"MATCH(MAX(BackendTable[[#This Row],[T3S1]:[T3S5]]),BackendTable[[#This Row],[T3S1]:[T3S5]],0)","v":{"$error":"#N/A"}}]
[null,{"$f":"ROW()-ROW(BackendTable[[#Headers],[Row'#]])","v":294},{"$f":"'Data In'!A301","v":0},{"$f":"IF(BackendTable[[#This Row],[Time]]-'Reference Cells'!$C$3<=0,NA(),'Reference Cells'!$C$4-BackendTable[[#This Row],[Time]])*86400","v":{"$error":"#N/A"}},{"$f":"IFERROR(8-BackendTable[[#This Row],[Column1]],\"\")","v":""},{"$f":"IF(ISERROR(BackendTable[[#This Row],[Column1]]),-9,(BackendTable[[#This Row],[Net Time]]-NetTimeMin)*RangeAdj)","v":-9},{"$f":"IF(AND(BackendTable[[#This Row],[Time]]>='Reference Cells'!$C$6,BackendTable[[#This Row],[Time]]<='Reference Cells'!$C$7),(BackendTable[[#This Row],[Time]]-'Reference Cells'!$C$6)*86400,NA())","v":2},{"$f":"IF(CommandCell='Reference Cells'!$C$17,NA(),ABS('Data In'!B301-INDIRECT(\"ZeroVal_\"&H$2,0)))","v":0},{"$f":"IF(CommandCell='Reference Cells'!$C$17,NA(),ABS('Data In'!C301-INDIRECT(\"ZeroVal_\"&I$2,0)))","v":0},{"$f":"IF(CommandCell='Reference Cells'!$C$17,NA(),ABS('Data In'!D301-INDIRECT(\"ZeroVal_\"&J$2,0)))","v":0},{"$f":"IF(CommandCell='Reference Cells'!$C$17,NA(),ABS('Data In'!E301-INDIRECT(\"ZeroVal_\"&K$2,0)))","v":0},{"$f":"IF(CommandCell='Reference Cells'!$C$17,NA(),ABS('Data In'!F301-INDIRECT(\"ZeroVal_\"&L$2,0)))","v":0},{"$f":"MAX(BackendTable[[#This Row],[S1]:[S5]])","v":0},{"$f":"IF(ISERROR(BackendTable[[#This Row],[T0Time]]),0,COUNTIFS(BackendTable[T0Time],\"<=\"&3,BackendTable[T0Time],\">=\"&0)-COUNTIFS(BackendTable[T0Time],\">\"&BackendTable[[#This Row],[T0Time]]))","v":500},null,null,null,null,null,null,null,null,null,null,null,null,null,null,null,null,null,null,null,null,null,null,null,null,{"$f":"MATCH(MAX(BackendTable[[#This Row],[T1S1]:[T1S5]]),BackendTable[[#This Row],[T1S1]:[T1S5]],0)","v":{"$error":"#N/A"}},{"$f":"MATCH(MAX(BackendTable[[#This Row],[T2S1]:[T2S5]]),BackendTable[[#This Row],[T2S1]:[T2S5]],0)","v":{"$error":"#N/A"}},{"$f":"MATCH(MAX(BackendTable[[#This Row],[T3S1]:[T3S5]]),BackendTable[[#This Row],[T3S1]:[T3S5]],0)","v":{"$error":"#N/A"}}]
[null,{"$f":"ROW()-ROW(BackendTable[[#Headers],[Row'#]])","v":295},{"$f":"'Data In'!A302","v":0},{"$f":"IF(BackendTable[[#This Row],[Time]]-'Reference Cells'!$C$3<=0,NA(),'Reference Cells'!$C$4-BackendTable[[#This Row],[Time]])*86400","v":{"$error":"#N/A"}},{"$f":"IFERROR(8-BackendTable[[#This Row],[Column1]],\"\")","v":""},{"$f":"IF(ISERROR(BackendTable[[#This Row],[Column1]]),-9,(BackendTable[[#This Row],[Net Time]]-NetTimeMin)*RangeAdj)","v":-9},{"$f":"IF(AND(BackendTable[[#This Row],[Time]]>='Reference Cells'!$C$6,BackendTable[[#This Row],[Time]]<='Reference Cells'!$C$7),(BackendTable[[#This Row],[Time]]-'Reference Cells'!$C$6)*86400,NA())","v":2},{"$f":"IF(CommandCell='Reference Cells'!$C$17,NA(),ABS('Data In'!B302-INDIRECT(\"ZeroVal_\"&H$2,0)))","v":0},{"$f":"IF(CommandCell='Reference Cells'!$C$17,NA(),ABS('Data In'!C302-INDIRECT(\"ZeroVal_\"&I$2,0)))","v":0},{"$f":"IF(CommandCell='Reference Cells'!$C$17,NA(),ABS('Data In'!D302-INDIRECT(\"ZeroVal_\"&J$2,0)))","v":0},{"$f":"IF(CommandCell='Reference Cells'!$C$17,NA(),ABS('Data In'!E302-INDIRECT(\"ZeroVal_\"&K$2,0)))","v":0},{"$f":"IF(CommandCell='Reference Cells'!$C$17,NA(),ABS('Data In'!F302-INDIRECT(\"ZeroVal_\"&L$2,0)))","v":0},{"$f":"MAX(BackendTable[[#This Row],[S1]:[S5]])","v":0},{"$f":"IF(ISERROR(BackendTable[[#This Row],[T0Time]]),0,COUNTIFS(BackendTable[T0Time],\"<=\"&3,BackendTable[T0Time],\">=\"&0)-COUNTIFS(BackendTable[T0Time],\">\"&BackendTable[[#This Row],[T0Time]]))","v":500},null,null,null,null,null,null,null,null,null,null,null,null,null,null,null,null,null,null,null,null,null,null,null,null,{"$f":"MATCH(MAX(BackendTable[[#This Row],[T1S1]:[T1S5]]),BackendTable[[#This Row],[T1S1]:[T1S5]],0)","v":{"$error":"#N/A"}},{"$f":"MATCH(MAX(BackendTable[[#This Row],[T2S1]:[T2S5]]),BackendTable[[#This Row],[T2S1]:[T2S5]],0)","v":{"$error":"#N/A"}},{"$f":"MATCH(MAX(BackendTable[[#This Row],[T3S1]:[T3S5]]),BackendTable[[#This Row],[T3S1]:[T3S5]],0)","v":{"$error":"#N/A"}}]
[null,{"$f":"ROW()-ROW(BackendTable[[#Headers],[Row'#]])","v":296},{"$f":"'Data In'!A303","v":0},{"$f":"IF(BackendTable[[#This Row],[Time]]-'Reference Cells'!$C$3<=0,NA(),'Reference Cells'!$C$4-BackendTable[[#This Row],[Time]])*86400","v":{"$error":"#N/A"}},{"$f":"IFERROR(8-BackendTable[[#This Row],[Column1]],\"\")","v":""},{"$f":"IF(ISERROR(BackendTable[[#This Row],[Column1]]),-9,(BackendTable[[#This Row],[Net Time]]-NetTimeMin)*RangeAdj)","v":-9},{"$f":"IF(AND(BackendTable[[#This Row],[Time]]>='Reference Cells'!$C$6,BackendTable[[#This Row],[Time]]<='Reference Cells'!$C$7),(BackendTable[[#This Row],[Time]]-'Reference Cells'!$C$6)*86400,NA())","v":2},{"$f":"IF(CommandCell='Reference Cells'!$C$17,NA(),ABS('Data In'!B303-INDIRECT(\"ZeroVal_\"&H$2,0)))","v":0},{"$f":"IF(CommandCell='Reference Cells'!$C$17,NA(),ABS('Data In'!C303-INDIRECT(\"ZeroVal_\"&I$2,0)))","v":0},{"$f":"IF(CommandCell='Reference Cells'!$C$17,NA(),ABS('Data In'!D303-INDIRECT(\"ZeroVal_\"&J$2,0)))","v":0},{"$f":"IF(CommandCell='Reference Cells'!$C$17,NA(),ABS('Data In'!E303-INDIRECT(\"ZeroVal_\"&K$2,0)))","v":0},{"$f":"IF(CommandCell='Reference Cells'!$C$17,NA(),ABS('Data In'!F303-INDIRECT(\"ZeroVal_\"&L$2,0)))","v":0},{"$f":"MAX(BackendTable[[#This Row],[S1]:[S5]])","v":0},{"$f":"IF(ISERROR(BackendTable[[#This Row],[T0Time]]),0,COUNTIFS(BackendTable[T0Time],\"<=\"&3,BackendTable[T0Time],\">=\"&0)-COUNTIFS(BackendTable[T0Time],\">\"&BackendTable[[#This Row],[T0Time]]))","v":500},null,null,null,null,null,null,null,null,null,null,null,null,null,null,null,null,null,null,null,null,null,null,null,null,{"$f":"MATCH(MAX(BackendTable[[#This Row],[T1S1]:[T1S5]]),BackendTable[[#This Row],[T1S1]:[T1S5]],0)","v":{"$error":"#N/A"}},{"$f":"MATCH(MAX(BackendTable[[#This Row],[T2S1]:[T2S5]]),BackendTable[[#This Row],[T2S1]:[T2S5]],0)","v":{"$error":"#N/A"}},{"$f":"MATCH(MAX(BackendTable[[#This Row],[T3S1]:[T3S5]]),BackendTable[[#This Row],[T3S1]:[T3S5]],0)","v":{"$error":"#N/A"}}]
[null,{"$f":"ROW()-ROW(BackendTable[[#Headers],[Row'#]])","v":297},{"$f":"'Data In'!A304","v":0},{"$f":"IF(BackendTable[[#This Row],[Time]]-'Reference Cells'!$C$3<=0,NA(),'Reference Cells'!$C$4-BackendTable[[#This Row],[Time]])*86400","v":{"$error":"#N/A"}},{"$f":"IFERROR(8-BackendTable[[#This Row],[Column1]],\"\")","v":""},{"$f":"IF(ISERROR(BackendTable[[#This Row],[Column1]]),-9,(BackendTable[[#This Row],[Net Time]]-NetTimeMin)*RangeAdj)","v":-9},{"$f":"IF(AND(BackendTable[[#This Row],[Time]]>='Reference Cells'!$C$6,BackendTable[[#This Row],[Time]]<='Reference Cells'!$C$7),(BackendTable[[#This Row],[Time]]-'Reference Cells'!$C$6)*86400,NA())","v":2},{"$f":"IF(CommandCell='Reference Cells'!$C$17,NA(),ABS('Data In'!B304-INDIRECT(\"ZeroVal_\"&H$2,0)))","v":0},{"$f":"IF(CommandCell='Reference Cells'!$C$17,NA(),ABS('Data In'!C304-INDIRECT(\"ZeroVal_\"&I$2,0)))","v":0},{"$f":"IF(CommandCell='Reference Cells'!$C$17,NA(),ABS('Data In'!D304-INDIRECT(\"ZeroVal_\"&J$2,0)))","v":0},{"$f":"IF(CommandCell='Reference Cells'!$C$17,NA(),ABS('Data In'!E304-INDIRECT(\"ZeroVal_\"&K$2,0)))","v":0},{"$f":"IF(CommandCell='Reference Cells'!$C$17,NA(),ABS('Data In'!F304-INDIRECT(\"ZeroVal_\"&L$2,0)))","v":0},{"$f":"MAX(BackendTable[[#This Row],[S1]:[S5]])","v":0},{"$f":"IF(ISERROR(BackendTable[[#This Row],[T0Time]]),0,COUNTIFS(BackendTable[T0Time],\"<=\"&3,BackendTable[T0Time],\">=\"&0)-COUNTIFS(BackendTable[T0Time],\">\"&BackendTable[[#This Row],[T0Time]]))","v":500},null,null,null,null,null,null,null,null,null,null,null,null,null,null,null,null,null,null,null,null,null,null,null,null,{"$f":"MATCH(MAX(BackendTable[[#This Row],[T1S1]:[T1S5]]),BackendTable[[#This Row],[T1S1]:[T1S5]],0)","v":{"$error":"#N/A"}},{"$f":"MATCH(MAX(BackendTable[[#This Row],[T2S1]:[T2S5]]),BackendTable[[#This Row],[T2S1]:[T2S5]],0)","v":{"$error":"#N/A"}},{"$f":"MATCH(MAX(BackendTable[[#This Row],[T3S1]:[T3S5]]),BackendTable[[#This Row],[T3S1]:[T3S5]],0)","v":{"$error":"#N/A"}}]
[null,{"$f":"ROW()-ROW(BackendTable[[#Headers],[Row'#]])","v":298},{"$f":"'Data In'!A305","v":0},{"$f":"IF(BackendTable[[#This Row],[Time]]-'Reference Cells'!$C$3<=0,NA(),'Reference Cells'!$C$4-BackendTable[[#This Row],[Time]])*86400","v":{"$error":"#N/A"}},{"$f":"IFERROR(8-BackendTable[[#This Row],[Column1]],\"\")","v":""},{"$f":"IF(ISERROR(BackendTable[[#This Row],[Column1]]),-9,(BackendTable[[#This Row],[Net Time]]-NetTimeMin)*RangeAdj)","v":-9},{"$f":"IF(AND(BackendTable[[#This Row],[Time]]>='Reference Cells'!$C$6,BackendTable[[#This Row],[Time]]<='Reference Cells'!$C$7),(BackendTable[[#This Row],[Time]]-'Reference Cells'!$C$6)*86400,NA())","v":2},{"$f":"IF(CommandCell='Reference Cells'!$C$17,NA(),ABS('Data In'!B305-INDIRECT(\"ZeroVal_\"&H$2,0)))","v":0},{"$f":"IF(CommandCell='Reference Cells'!$C$17,NA(),ABS('Data In'!C305-INDIRECT(\"ZeroVal_\"&I$2,0)))","v":0},{"$f":"IF(CommandCell='Reference Cells'!$C$17,NA(),ABS('Data In'!D305-INDIRECT(\"ZeroVal_\"&J$2,0)))","v":0},{"$f":"IF(CommandCell='Reference Cells'!$C$17,NA(),ABS('Data In'!E305-INDIRECT(\"ZeroVal_\"&K$2,0)))","v":0},{"$f":"IF(CommandCell='Reference Cells'!$C$17,NA(),ABS('Data In'!F305-INDIRECT(\"ZeroVal_\"&L$2,0)))","v":0},{"$f":"MAX(BackendTable[[#This Row],[S1]:[S5]])","v":0},{"$f":"IF(ISERROR(BackendTable[[#This Row],[T0Time]]),0,COUNTIFS(BackendTable[T0Time],\"<=\"&3,BackendTable[T0Time],\">=\"&0)-COUNTIFS(BackendTable[T0Time],\">\"&BackendTable[[#This Row],[T0Time]]))","v":500},null,null,null,null,null,null,null,null,null,null,null,null,null,null,null,null,null,null,null,null,null,null,null,null,{"$f":"MATCH(MAX(BackendTable[[#This Row],[T1S1]:[T1S5]]),BackendTable[[#This Row],[T1S1]:[T1S5]],0)","v":{"$error":"#N/A"}},{"$f":"MATCH(MAX(BackendTable[[#This Row],[T2S1]:[T2S5]]),BackendTable[[#This Row],[T2S1]:[T2S5]],0)","v":{"$error":"#N/A"}},{"$f":"MATCH(MAX(BackendTable[[#This Row],[T3S1]:[T3S5]]),BackendTable[[#This Row],[T3S1]:[T3S5]],0)","v":{"$error":"#N/A"}}]
[null,{"$f":"ROW()-ROW(BackendTable[[#Headers],[Row'#]])","v":299},{"$f":"'Data In'!A306","v":0},{"$f":"IF(BackendTable[[#This Row],[Time]]-'Reference Cells'!$C$3<=0,NA(),'Reference Cells'!$C$4-BackendTable[[#This Row],[Time]])*86400","v":{"$error":"#N/A"}},{"$f":"IFERROR(8-BackendTable[[#This Row],[Column1]],\"\")","v":""},{"$f":"IF(ISERROR(BackendTable[[#This Row],[Column1]]),-9,(BackendTable[[#This Row],[Net Time]]-NetTimeMin)*RangeAdj)","v":-9},{"$f":"IF(AND(BackendTable[[#This Row],[Time]]>='Reference Cells'!$C$6,BackendTable[[#This Row],[Time]]<='Reference Cells'!$C$7),(BackendTable[[#This Row],[Time]]-'Reference Cells'!$C$6)*86400,NA())","v":2},{"$f":"IF(CommandCell='Reference Cells'!$C$17,NA(),ABS('Data In'!B306-INDIRECT(\"ZeroVal_\"&H$2,0)))","v":0},{"$f":"IF(CommandCell='Reference Cells'!$C$17,NA(),ABS('Data In'!C306-INDIRECT(\"ZeroVal_\"&I$2,0)))","v":0},{"$f":"IF(CommandCell='Reference Cells'!$C$17,NA(),ABS('Data In'!D306-INDIRECT(\"ZeroVal_\"&J$2,0)))","v":0},{"$f":"IF(CommandCell='Reference Cells'!$C$17,NA(),ABS('Data In'!E306-INDIRECT(\"ZeroVal_\"&K$2,0)))","v":0},{"$f":"IF(CommandCell='Reference Cells'!$C$17,NA(),ABS('Data In'!F306-INDIRECT(\"ZeroVal_\"&L$2,0)))","v":0},{"$f":"MAX(BackendTable[[#This Row],[S1]:[S5]])","v":0},{"$f":"IF(ISERROR(BackendTable[[#This Row],[T0Time]]),0,COUNTIFS(BackendTable[T0Time],\"<=\"&3,BackendTable[T0Time],\">=\"&0)-COUNTIFS(BackendTable[T0Time],\">\"&BackendTable[[#This Row],[T0Time]]))","v":500},null,null,null,null,null,null,null,null,null,null,null,null,null,null,null,null,null,null,null,null,null,null,null,null,{"$f":"MATCH(MAX(BackendTable[[#This Row],[T1S1]:[T1S5]]),BackendTable[[#This Row],[T1S1]:[T1S5]],0)","v":{"$error":"#N/A"}},{"$f":"MATCH(MAX(BackendTable[[#This Row],[T2S1]:[T2S5]]),BackendTable[[#This Row],[T2S1]:[T2S5]],0)","v":{"$error":"#N/A"}},{"$f":"MATCH(MAX(BackendTable[[#This Row],[T3S1]:[T3S5]]),BackendTable[[#This Row],[T3S1]:[T3S5]],0)","v":{"$error":"#N/A"}}]
[null,{"$f":"ROW()-ROW(BackendTable[[#Headers],[Row'#]])","v":300},{"$f":"'Data In'!A307","v":0},{"$f":"IF(BackendTable[[#This Row],[Time]]-'Reference Cells'!$C$3<=0,NA(),'Reference Cells'!$C$4-BackendTable[[#This Row],[Time]])*86400","v":{"$error":"#N/A"}},{"$f":"IFERROR(8-BackendTable[[#This Row],[Column1]],\"\")","v":""},{"$f":"IF(ISERROR(BackendTable[[#This Row],[Column1]]),-9,(BackendTable[[#This Row],[Net Time]]-NetTimeMin)*RangeAdj)","v":-9},{"$f":"IF(AND(BackendTable[[#This Row],[Time]]>='Reference Cells'!$C$6,BackendTable[[#This Row],[Time]]<='Reference Cells'!$C$7),(BackendTable[[#This Row],[Time]]-'Reference Cells'!$C$6)*86400,NA())","v":2},{"$f":"IF(CommandCell='Reference Cells'!$C$17,NA(),ABS('Data In'!B307-INDIRECT(\"ZeroVal_\"&H$2,0)))","v":0},{"$f":"IF(CommandCell='Reference Cells'!$C$17,NA(),ABS('Data In'!C307-INDIRECT(\"ZeroVal_\"&I$2,0)))","v":0},{"$f":"IF(CommandCell='Reference Cells'!$C$17,NA(),ABS('Data In'!D307-INDIRECT(\"ZeroVal_\"&J$2,0)))","v":0},{"$f":"IF(CommandCell='Reference Cells'!$C$17,NA(),ABS('Data In'!E307-INDIRECT(\"ZeroVal_\"&K$2,0)))","v":0},{"$f":"IF(CommandCell='Reference Cells'!$C$17,NA(),ABS('Data In'!F307-INDIRECT(\"ZeroVal_\"&L$2,0)))","v":0},{"$f":"MAX(BackendTable[[#This Row],[S1]:[S5]])","v":0},{"$f":"IF(ISERROR(BackendTable[[#This Row],[T0Time]]),0,COUNTIFS(BackendTable[T0Time],\"<=\"&3,BackendTable[T0Time],\">=\"&0)-COUNTIFS(BackendTable[T0Time],\">\"&BackendTable[[#This Row],[T0Time]]))","v":500},null,null,null,null,null,null,null,null,null,null,null,null,null,null,null,null,null,null,null,null,null,null,null,null,{"$f":"MATCH(MAX(BackendTable[[#This Row],[T1S1]:[T1S5]]),BackendTable[[#This Row],[T1S1]:[T1S5]],0)","v":{"$error":"#N/A"}},{"$f":"MATCH(MAX(BackendTable[[#This Row],[T2S1]:[T2S5]]),BackendTable[[#This Row],[T2S1]:[T2S5]],0)","v":{"$error":"#N/A"}},{"$f":"MATCH(MAX(BackendTable[[#This Row],[T3S1]:[T3S5]]),BackendTable[[#This Row],[T3S1]:[T3S5]],0)","v":{"$error":"#N/A"}}]
[null,{"$f":"ROW()-ROW(BackendTable[[#Headers],[Row'#]])","v":301},{"$f":"'Data In'!A308","v":0},{"$f":"IF(BackendTable[[#This Row],[Time]]-'Reference Cells'!$C$3<=0,NA(),'Reference Cells'!$C$4-BackendTable[[#This Row],[Time]])*86400","v":{"$error":"#N/A"}},{"$f":"IFERROR(8-BackendTable[[#This Row],[Column1]],\"\")","v":""},{"$f":"IF(ISERROR(BackendTable[[#This Row],[Column1]]),-9,(BackendTable[[#This Row],[Net Time]]-NetTimeMin)*RangeAdj)","v":-9},{"$f":"IF(AND(BackendTable[[#This Row],[Time]]>='Reference Cells'!$C$6,BackendTable[[#This Row],[Time]]<='Reference Cells'!$C$7),(BackendTable[[#This Row],[Time]]-'Reference Cells'!$C$6)*86400,NA())","v":2},{"$f":"IF(CommandCell='Reference Cells'!$C$17,NA(),ABS('Data In'!B308-INDIRECT(\"ZeroVal_\"&H$2,0)))","v":0},{"$f":"IF(CommandCell='Reference Cells'!$C$17,NA(),ABS('Data In'!C308-INDIRECT(\"ZeroVal_\"&I$2,0)))","v":0},{"$f":"IF(CommandCell='Reference Cells'!$C$17,NA(),ABS('Data In'!D308-INDIRECT(\"ZeroVal_\"&J$2,0)))","v":0},{"$f":"IF(CommandCell='Reference Cells'!$C$17,NA(),ABS('Data In'!E308-INDIRECT(\"ZeroVal_\"&K$2,0)))","v":0},{"$f":"IF(CommandCell='Reference Cells'!$C$17,NA(),ABS('Data In'!F308-INDIRECT(\"ZeroVal_\"&L$2,0)))","v":0},{"$f":"MAX(BackendTable[[#This Row],[S1]:[S5]])","v":0},{"$f":"IF(ISERROR(BackendTable[[#This Row],[T0Time]]),0,COUNTIFS(BackendTable[T0Time],\"<=\"&3,BackendTable[T0Time],\">=\"&0)-COUNTIFS(BackendTable[T0Time],\">\"&BackendTable[[#This Row],[T0Time]]))","v":500},null,null,null,null,null,null,null,null,null,null,null,null,null,null,null,null,null,null,null,null,null,null,null,null,{"$f":"MATCH(MAX(BackendTable[[#This Row],[T1S1]:[T1S5]]),BackendTable[[#This Row],[T1S1]:[T1S5]],0)","v":{"$error":"#N/A"}},{"$f":"MATCH(MAX(BackendTable[[#This Row],[T2S1]:[T2S5]]),BackendTable[[#This Row],[T2S1]:[T2S5]],0)","v":{"$error":"#N/A"}},{"$f":"MATCH(MAX(BackendTable[[#This Row],[T3S1]:[T3S5]]),BackendTable[[#This Row],[T3S1]:[T3S5]],0)","v":{"$error":"#N/A"}}]
[null,{"$f":"ROW()-ROW(BackendTable[[#Headers],[Row'#]])","v":302},{"$f":"'Data In'!A309","v":0},{"$f":"IF(BackendTable[[#This Row],[Time]]-'Reference Cells'!$C$3<=0,NA(),'Reference Cells'!$C$4-BackendTable[[#This Row],[Time]])*86400","v":{"$error":"#N/A"}},{"$f":"IFERROR(8-BackendTable[[#This Row],[Column1]],\"\")","v":""},{"$f":"IF(ISERROR(BackendTable[[#This Row],[Column1]]),-9,(BackendTable[[#This Row],[Net Time]]-NetTimeMin)*RangeAdj)","v":-9},{"$f":"IF(AND(BackendTable[[#This Row],[Time]]>='Reference Cells'!$C$6,BackendTable[[#This Row],[Time]]<='Reference Cells'!$C$7),(BackendTable[[#This Row],[Time]]-'Reference Cells'!$C$6)*86400,NA())","v":2},{"$f":"IF(CommandCell='Reference Cells'!$C$17,NA(),ABS('Data In'!B309-INDIRECT(\"ZeroVal_\"&H$2,0)))","v":0},{"$f":"IF(CommandCell='Reference Cells'!$C$17,NA(),ABS('Data In'!C309-INDIRECT(\"ZeroVal_\"&I$2,0)))","v":0},{"$f":"IF(CommandCell='Reference Cells'!$C$17,NA(),ABS('Data In'!D309-INDIRECT(\"ZeroVal_\"&J$2,0)))","v":0},{"$f":"IF(CommandCell='Reference Cells'!$C$17,NA(),ABS('Data In'!E309-INDIRECT(\"ZeroVal_\"&K$2,0)))","v":0},{"$f":"IF(CommandCell='Reference Cells'!$C$17,NA(),ABS('Data In'!F309-INDIRECT(\"ZeroVal_\"&L$2,0)))","v":0},{"$f":"MAX(BackendTable[[#This Row],[S1]:[S5]])","v":0},{"$f":"IF(ISERROR(BackendTable[[#This Row],[T0Time]]),0,COUNTIFS(BackendTable[T0Time],\"<=\"&3,BackendTable[T0Time],\">=\"&0)-COUNTIFS(BackendTable[T0Time],\">\"&BackendTable[[#This Row],[T0Time]]))","v":500},null,null,null,null,null,null,null,null,null,null,null,null,null,null,null,null,null,null,null,null,null,null,null,null,{"$f":"MATCH(MAX(BackendTable[[#This Row],[T1S1]:[T1S5]]),BackendTable[[#This Row],[T1S1]:[T1S5]],0)","v":{"$error":"#N/A"}},{"$f":"MATCH(MAX(BackendTable[[#This Row],[T2S1]:[T2S5]]),BackendTable[[#This Row],[T2S1]:[T2S5]],0)","v":{"$error":"#N/A"}},{"$f":"MATCH(MAX(BackendTable[[#This Row],[T3S1]:[T3S5]]),BackendTable[[#This Row],[T3S1]:[T3S5]],0)","v":{"$error":"#N/A"}}]
[null,{"$f":"ROW()-ROW(BackendTable[[#Headers],[Row'#]])","v":303},{"$f":"'Data In'!A310","v":0},{"$f":"IF(BackendTable[[#This Row],[Time]]-'Reference Cells'!$C$3<=0,NA(),'Reference Cells'!$C$4-BackendTable[[#This Row],[Time]])*86400","v":{"$error":"#N/A"}},{"$f":"IFERROR(8-BackendTable[[#This Row],[Column1]],\"\")","v":""},{"$f":"IF(ISERROR(BackendTable[[#This Row],[Column1]]),-9,(BackendTable[[#This Row],[Net Time]]-NetTimeMin)*RangeAdj)","v":-9},{"$f":"IF(AND(BackendTable[[#This Row],[Time]]>='Reference Cells'!$C$6,BackendTable[[#This Row],[Time]]<='Reference Cells'!$C$7),(BackendTable[[#This Row],[Time]]-'Reference Cells'!$C$6)*86400,NA())","v":2},{"$f":"IF(CommandCell='Reference Cells'!$C$17,NA(),ABS('Data In'!B310-INDIRECT(\"ZeroVal_\"&H$2,0)))","v":0},{"$f":"IF(CommandCell='Reference Cells'!$C$17,NA(),ABS('Data In'!C310-INDIRECT(\"ZeroVal_\"&I$2,0)))","v":0},{"$f":"IF(CommandCell='Reference Cells'!$C$17,NA(),ABS('Data In'!D310-INDIRECT(\"ZeroVal_\"&J$2,0)))","v":0},{"$f":"IF(CommandCell='Reference Cells'!$C$17,NA(),ABS('Data In'!E310-INDIRECT(\"ZeroVal_\"&K$2,0)))","v":0},{"$f":"IF(CommandCell='Reference Cells'!$C$17,NA(),ABS('Data In'!F310-INDIRECT(\"ZeroVal_\"&L$2,0)))","v":0},{"$f":"MAX(BackendTable[[#This Row],[S1]:[S5]])","v":0},{"$f":"IF(ISERROR(BackendTable[[#This Row],[T0Time]]),0,COUNTIFS(BackendTable[T0Time],\"<=\"&3,BackendTable[T0Time],\">=\"&0)-COUNTIFS(BackendTable[T0Time],\">\"&BackendTable[[#This Row],[T0Time]]))","v":500},null,null,null,null,null,null,null,null,null,null,null,null,null,null,null,null,null,null,null,null,null,null,null,null,{"$f":"MATCH(MAX(BackendTable[[#This Row],[T1S1]:[T1S5]]),BackendTable[[#This Row],[T1S1]:[T1S5]],0)","v":{"$error":"#N/A"}},{"$f":"MATCH(MAX(BackendTable[[#This Row],[T2S1]:[T2S5]]),BackendTable[[#This Row],[T2S1]:[T2S5]],0)","v":{"$error":"#N/A"}},{"$f":"MATCH(MAX(BackendTable[[#This Row],[T3S1]:[T3S5]]),BackendTable[[#This Row],[T3S1]:[T3S5]],0)","v":{"$error":"#N/A"}}]
[null,{"$f":"ROW()-ROW(BackendTable[[#Headers],[Row'#]])","v":304},{"$f":"'Data In'!A311","v":0},{"$f":"IF(BackendTable[[#This Row],[Time]]-'Reference Cells'!$C$3<=0,NA(),'Reference Cells'!$C$4-BackendTable[[#This Row],[Time]])*86400","v":{"$error":"#N/A"}},{"$f":"IFERROR(8-BackendTable[[#This Row],[Column1]],\"\")","v":""},{"$f":"IF(ISERROR(BackendTable[[#This Row],[Column1]]),-9,(BackendTable[[#This Row],[Net Time]]-NetTimeMin)*RangeAdj)","v":-9},{"$f":"IF(AND(BackendTable[[#This Row],[Time]]>='Reference Cells'!$C$6,BackendTable[[#This Row],[Time]]<='Reference Cells'!$C$7),(BackendTable[[#This Row],[Time]]-'Reference Cells'!$C$6)*86400,NA())","v":2},{"$f":"IF(CommandCell='Reference Cells'!$C$17,NA(),ABS('Data In'!B311-INDIRECT(\"ZeroVal_\"&H$2,0)))","v":0},{"$f":"IF(CommandCell='Reference Cells'!$C$17,NA(),ABS('Data In'!C311-INDIRECT(\"ZeroVal_\"&I$2,0)))","v":0},{"$f":"IF(CommandCell='Reference Cells'!$C$17,NA(),ABS('Data In'!D311-INDIRECT(\"ZeroVal_\"&J$2,0)))","v":0},{"$f":"IF(CommandCell='Reference Cells'!$C$17,NA(),ABS('Data In'!E311-INDIRECT(\"ZeroVal_\"&K$2,0)))","v":0},{"$f":"IF(CommandCell='Reference Cells'!$C$17,NA(),ABS('Data In'!F311-INDIRECT(\"ZeroVal_\"&L$2,0)))","v":0},{"$f":"MAX(BackendTable[[#This Row],[S1]:[S5]])","v":0},{"$f":"IF(ISERROR(BackendTable[[#This Row],[T0Time]]),0,COUNTIFS(BackendTable[T0Time],\"<=\"&3,BackendTable[T0Time],\">=\"&0)-COUNTIFS(BackendTable[T0Time],\">\"&BackendTable[[#This Row],[T0Time]]))","v":500},null,null,null,null,null,null,null,null,null,null,null,null,null,null,null,null,null,null,null,null,null,null,null,null,{"$f":"MATCH(MAX(BackendTable[[#This Row],[T1S1]:[T1S5]]),BackendTable[[#This Row],[T1S1]:[T1S5]],0)","v":{"$error":"#N/A"}},{"$f":"MATCH(MAX(BackendTable[[#This Row],[T2S1]:[T2S5]]),BackendTable[[#This Row],[T2S1]:[T2S5]],0)","v":{"$error":"#N/A"}},{"$f":"MATCH(MAX(BackendTable[[#This Row],[T3S1]:[T3S5]]),BackendTable[[#This Row],[T3S1]:[T3S5]],0)","v":{"$error":"#N/A"}}]
[null,{"$f":"ROW()-ROW(BackendTable[[#Headers],[Row'#]])","v":305},{"$f":"'Data In'!A312","v":0},{"$f":"IF(BackendTable[[#This Row],[Time]]-'Reference Cells'!$C$3<=0,NA(),'Reference Cells'!$C$4-BackendTable[[#This Row],[Time]])*86400","v":{"$error":"#N/A"}},{"$f":"IFERROR(8-BackendTable[[#This Row],[Column1]],\"\")","v":""},{"$f":"IF(ISERROR(BackendTable[[#This Row],[Column1]]),-9,(BackendTable[[#This Row],[Net Time]]-NetTimeMin)*RangeAdj)","v":-9},{"$f":"IF(AND(BackendTable[[#This Row],[Time]]>='Reference Cells'!$C$6,BackendTable[[#This Row],[Time]]<='Reference Cells'!$C$7),(BackendTable[[#This Row],[Time]]-'Reference Cells'!$C$6)*86400,NA())","v":2},{"$f":"IF(CommandCell='Reference Cells'!$C$17,NA(),ABS('Data In'!B312-INDIRECT(\"ZeroVal_\"&H$2,0)))","v":0},{"$f":"IF(CommandCell='Reference Cells'!$C$17,NA(),ABS('Data In'!C312-INDIRECT(\"ZeroVal_\"&I$2,0)))","v":0},{"$f":"IF(CommandCell='Reference Cells'!$C$17,NA(),ABS('Data In'!D312-INDIRECT(\"ZeroVal_\"&J$2,0)))","v":0},{"$f":"IF(CommandCell='Reference Cells'!$C$17,NA(),ABS('Data In'!E312-INDIRECT(\"ZeroVal_\"&K$2,0)))","v":0},{"$f":"IF(CommandCell='Reference Cells'!$C$17,NA(),ABS('Data In'!F312-INDIRECT(\"ZeroVal_\"&L$2,0)))","v":0},{"$f":"MAX(BackendTable[[#This Row],[S1]:[S5]])","v":0},{"$f":"IF(ISERROR(BackendTable[[#This Row],[T0Time]]),0,COUNTIFS(BackendTable[T0Time],\"<=\"&3,BackendTable[T0Time],\">=\"&0)-COUNTIFS(BackendTable[T0Time],\">\"&BackendTable[[#This Row],[T0Time]]))","v":500},null,null,null,null,null,null,null,null,null,null,null,null,null,null,null,null,null,null,null,null,null,null,null,null,{"$f":"MATCH(MAX(BackendTable[[#This Row],[T1S1]:[T1S5]]),BackendTable[[#This Row],[T1S1]:[T1S5]],0)","v":{"$error":"#N/A"}},{"$f":"MATCH(MAX(BackendTable[[#This Row],[T2S1]:[T2S5]]),BackendTable[[#This Row],[T2S1]:[T2S5]],0)","v":{"$error":"#N/A"}},{"$f":"MATCH(MAX(BackendTable[[#This Row],[T3S1]:[T3S5]]),BackendTable[[#This Row],[T3S1]:[T3S5]],0)","v":{"$error":"#N/A"}}]
[null,{"$f":"ROW()-ROW(BackendTable[[#Headers],[Row'#]])","v":306},{"$f":"'Data In'!A313","v":0},{"$f":"IF(BackendTable[[#This Row],[Time]]-'Reference Cells'!$C$3<=0,NA(),'Reference Cells'!$C$4-BackendTable[[#This Row],[Time]])*86400","v":{"$error":"#N/A"}},{"$f":"IFERROR(8-BackendTable[[#This Row],[Column1]],\"\")","v":""},{"$f":"IF(ISERROR(BackendTable[[#This Row],[Column1]]),-9,(BackendTable[[#This Row],[Net Time]]-NetTimeMin)*RangeAdj)","v":-9},{"$f":"IF(AND(BackendTable[[#This Row],[Time]]>='Reference Cells'!$C$6,BackendTable[[#This Row],[Time]]<='Reference Cells'!$C$7),(BackendTable[[#This Row],[Time]]-'Reference Cells'!$C$6)*86400,NA())","v":2},{"$f":"IF(CommandCell='Reference Cells'!$C$17,NA(),ABS('Data In'!B313-INDIRECT(\"ZeroVal_\"&H$2,0)))","v":0},{"$f":"IF(CommandCell='Reference Cells'!$C$17,NA(),ABS('Data In'!C313-INDIRECT(\"ZeroVal_\"&I$2,0)))","v":0},{"$f":"IF(CommandCell='Reference Cells'!$C$17,NA(),ABS('Data In'!D313-INDIRECT(\"ZeroVal_\"&J$2,0)))","v":0},{"$f":"IF(CommandCell='Reference Cells'!$C$17,NA(),ABS('Data In'!E313-INDIRECT(\"ZeroVal_\"&K$2,0)))","v":0},{"$f":"IF(CommandCell='Reference Cells'!$C$17,NA(),ABS('Data In'!F313-INDIRECT(\"ZeroVal_\"&L$2,0)))","v":0},{"$f":"MAX(BackendTable[[#This Row],[S1]:[S5]])","v":0},{"$f":"IF(ISERROR(BackendTable[[#This Row],[T0Time]]),0,COUNTIFS(BackendTable[T0Time],\"<=\"&3,BackendTable[T0Time],\">=\"&0)-COUNTIFS(BackendTable[T0Time],\">\"&BackendTable[[#This Row],[T0Time]]))","v":500},null,null,null,null,null,null,null,null,null,null,null,null,null,null,null,null,null,null,null,null,null,null,null,null,{"$f":"MATCH(MAX(BackendTable[[#This Row],[T1S1]:[T1S5]]),BackendTable[[#This Row],[T1S1]:[T1S5]],0)","v":{"$error":"#N/A"}},{"$f":"MATCH(MAX(BackendTable[[#This Row],[T2S1]:[T2S5]]),BackendTable[[#This Row],[T2S1]:[T2S5]],0)","v":{"$error":"#N/A"}},{"$f":"MATCH(MAX(BackendTable[[#This Row],[T3S1]:[T3S5]]),BackendTable[[#This Row],[T3S1]:[T3S5]],0)","v":{"$error":"#N/A"}}]
[null,{"$f":"ROW()-ROW(BackendTable[[#Headers],[Row'#]])","v":307},{"$f":"'Data In'!A314","v":0},{"$f":"IF(BackendTable[[#This Row],[Time]]-'Reference Cells'!$C$3<=0,NA(),'Reference Cells'!$C$4-BackendTable[[#This Row],[Time]])*86400","v":{"$error":"#N/A"}},{"$f":"IFERROR(8-BackendTable[[#This Row],[Column1]],\"\")","v":""},{"$f":"IF(ISERROR(BackendTable[[#This Row],[Column1]]),-9,(BackendTable[[#This Row],[Net Time]]-NetTimeMin)*RangeAdj)","v":-9},{"$f":"IF(AND(BackendTable[[#This Row],[Time]]>='Reference Cells'!$C$6,BackendTable[[#This Row],[Time]]<='Reference Cells'!$C$7),(BackendTable[[#This Row],[Time]]-'Reference Cells'!$C$6)*86400,NA())","v":2},{"$f":"IF(CommandCell='Reference Cells'!$C$17,NA(),ABS('Data In'!B314-INDIRECT(\"ZeroVal_\"&H$2,0)))","v":0},{"$f":"IF(CommandCell='Reference Cells'!$C$17,NA(),ABS('Data In'!C314-INDIRECT(\"ZeroVal_\"&I$2,0)))","v":0},{"$f":"IF(CommandCell='Reference Cells'!$C$17,NA(),ABS('Data In'!D314-INDIRECT(\"ZeroVal_\"&J$2,0)))","v":0},{"$f":"IF(CommandCell='Reference Cells'!$C$17,NA(),ABS('Data In'!E314-INDIRECT(\"ZeroVal_\"&K$2,0)))","v":0},{"$f":"IF(CommandCell='Reference Cells'!$C$17,NA(),ABS('Data In'!F314-INDIRECT(\"ZeroVal_\"&L$2,0)))","v":0},{"$f":"MAX(BackendTable[[#This Row],[S1]:[S5]])","v":0},{"$f":"IF(ISERROR(BackendTable[[#This Row],[T0Time]]),0,COUNTIFS(BackendTable[T0Time],\"<=\"&3,BackendTable[T0Time],\">=\"&0)-COUNTIFS(BackendTable[T0Time],\">\"&BackendTable[[#This Row],[T0Time]]))","v":500},null,null,null,null,null,null,null,null,null,null,null,null,null,null,null,null,null,null,null,null,null,null,null,null,{"$f":"MATCH(MAX(BackendTable[[#This Row],[T1S1]:[T1S5]]),BackendTable[[#This Row],[T1S1]:[T1S5]],0)","v":{"$error":"#N/A"}},{"$f":"MATCH(MAX(BackendTable[[#This Row],[T2S1]:[T2S5]]),BackendTable[[#This Row],[T2S1]:[T2S5]],0)","v":{"$error":"#N/A"}},{"$f":"MATCH(MAX(BackendTable[[#This Row],[T3S1]:[T3S5]]),BackendTable[[#This Row],[T3S1]:[T3S5]],0)","v":{"$error":"#N/A"}}]
[null,{"$f":"ROW()-ROW(BackendTable[[#Headers],[Row'#]])","v":308},{"$f":"'Data In'!A315","v":0},{"$f":"IF(BackendTable[[#This Row],[Time]]-'Reference Cells'!$C$3<=0,NA(),'Reference Cells'!$C$4-BackendTable[[#This Row],[Time]])*86400","v":{"$error":"#N/A"}},{"$f":"IFERROR(8-BackendTable[[#This Row],[Column1]],\"\")","v":""},{"$f":"IF(ISERROR(BackendTable[[#This Row],[Column1]]),-9,(BackendTable[[#This Row],[Net Time]]-NetTimeMin)*RangeAdj)","v":-9},{"$f":"IF(AND(BackendTable[[#This Row],[Time]]>='Reference Cells'!$C$6,BackendTable[[#This Row],[Time]]<='Reference Cells'!$C$7),(BackendTable[[#This Row],[Time]]-'Reference Cells'!$C$6)*86400,NA())","v":2},{"$f":"IF(CommandCell='Reference Cells'!$C$17,NA(),ABS('Data In'!B315-INDIRECT(\"ZeroVal_\"&H$2,0)))","v":0},{"$f":"IF(CommandCell='Reference Cells'!$C$17,NA(),ABS('Data In'!C315-INDIRECT(\"ZeroVal_\"&I$2,0)))","v":0},{"$f":"IF(CommandCell='Reference Cells'!$C$17,NA(),ABS('Data In'!D315-INDIRECT(\"ZeroVal_\"&J$2,0)))","v":0},{"$f":"IF(CommandCell='Reference Cells'!$C$17,NA(),ABS('Data In'!E315-INDIRECT(\"ZeroVal_\"&K$2,0)))","v":0},{"$f":"IF(CommandCell='Reference Cells'!$C$17,NA(),ABS('Data In'!F315-INDIRECT(\"ZeroVal_\"&L$2,0)))","v":0},{"$f":"MAX(BackendTable[[#This Row],[S1]:[S5]])","v":0},{"$f":"IF(ISERROR(BackendTable[[#This Row],[T0Time]]),0,COUNTIFS(BackendTable[T0Time],\"<=\"&3,BackendTable[T0Time],\">=\"&0)-COUNTIFS(BackendTable[T0Time],\">\"&BackendTable[[#This Row],[T0Time]]))","v":500},null,null,null,null,null,null,null,null,null,null,null,null,null,null,null,null,null,null,null,null,null,null,null,null,{"$f":"MATCH(MAX(BackendTable[[#This Row],[T1S1]:[T1S5]]),BackendTable[[#This Row],[T1S1]:[T1S5]],0)","v":{"$error":"#N/A"}},{"$f":"MATCH(MAX(BackendTable[[#This Row],[T2S1]:[T2S5]]),BackendTable[[#This Row],[T2S1]:[T2S5]],0)","v":{"$error":"#N/A"}},{"$f":"MATCH(MAX(BackendTable[[#This Row],[T3S1]:[T3S5]]),BackendTable[[#This Row],[T3S1]:[T3S5]],0)","v":{"$error":"#N/A"}}]
[null,{"$f":"ROW()-ROW(BackendTable[[#Headers],[Row'#]])","v":309},{"$f":"'Data In'!A316","v":0},{"$f":"IF(BackendTable[[#This Row],[Time]]-'Reference Cells'!$C$3<=0,NA(),'Reference Cells'!$C$4-BackendTable[[#This Row],[Time]])*86400","v":{"$error":"#N/A"}},{"$f":"IFERROR(8-BackendTable[[#This Row],[Column1]],\"\")","v":""},{"$f":"IF(ISERROR(BackendTable[[#This Row],[Column1]]),-9,(BackendTable[[#This Row],[Net Time]]-NetTimeMin)*RangeAdj)","v":-9},{"$f":"IF(AND(BackendTable[[#This Row],[Time]]>='Reference Cells'!$C$6,BackendTable[[#This Row],[Time]]<='Reference Cells'!$C$7),(BackendTable[[#This Row],[Time]]-'Reference Cells'!$C$6)*86400,NA())","v":2},{"$f":"IF(CommandCell='Reference Cells'!$C$17,NA(),ABS('Data In'!B316-INDIRECT(\"ZeroVal_\"&H$2,0)))","v":0},{"$f":"IF(CommandCell='Reference Cells'!$C$17,NA(),ABS('Data In'!C316-INDIRECT(\"ZeroVal_\"&I$2,0)))","v":0},{"$f":"IF(CommandCell='Reference Cells'!$C$17,NA(),ABS('Data In'!D316-INDIRECT(\"ZeroVal_\"&J$2,0)))","v":0},{"$f":"IF(CommandCell='Reference Cells'!$C$17,NA(),ABS('Data In'!E316-INDIRECT(\"ZeroVal_\"&K$2,0)))","v":0},{"$f":"IF(CommandCell='Reference Cells'!$C$17,NA(),ABS('Data In'!F316-INDIRECT(\"ZeroVal_\"&L$2,0)))","v":0},{"$f":"MAX(BackendTable[[#This Row],[S1]:[S5]])","v":0},{"$f":"IF(ISERROR(BackendTable[[#This Row],[T0Time]]),0,COUNTIFS(BackendTable[T0Time],\"<=\"&3,BackendTable[T0Time],\">=\"&0)-COUNTIFS(BackendTable[T0Time],\">\"&BackendTable[[#This Row],[T0Time]]))","v":500},null,null,null,null,null,null,null,null,null,null,null,null,null,null,null,null,null,null,null,null,null,null,null,null,{"$f":"MATCH(MAX(BackendTable[[#This Row],[T1S1]:[T1S5]]),BackendTable[[#This Row],[T1S1]:[T1S5]],0)","v":{"$error":"#N/A"}},{"$f":"MATCH(MAX(BackendTable[[#This Row],[T2S1]:[T2S5]]),BackendTable[[#This Row],[T2S1]:[T2S5]],0)","v":{"$error":"#N/A"}},{"$f":"MATCH(MAX(BackendTable[[#This Row],[T3S1]:[T3S5]]),BackendTable[[#This Row],[T3S1]:[T3S5]],0)","v":{"$error":"#N/A"}}]
[null,{"$f":"ROW()-ROW(BackendTable[[#Headers],[Row'#]])","v":310},{"$f":"'Data In'!A317","v":0},{"$f":"IF(BackendTable[[#This Row],[Time]]-'Reference Cells'!$C$3<=0,NA(),'Reference Cells'!$C$4-BackendTable[[#This Row],[Time]])*86400","v":{"$error":"#N/A"}},{"$f":"IFERROR(8-BackendTable[[#This Row],[Column1]],\"\")","v":""},{"$f":"IF(ISERROR(BackendTable[[#This Row],[Column1]]),-9,(BackendTable[[#This Row],[Net Time]]-NetTimeMin)*RangeAdj)","v":-9},{"$f":"IF(AND(BackendTable[[#This Row],[Time]]>='Reference Cells'!$C$6,BackendTable[[#This Row],[Time]]<='Reference Cells'!$C$7),(BackendTable[[#This Row],[Time]]-'Reference Cells'!$C$6)*86400,NA())","v":2},{"$f":"IF(CommandCell='Reference Cells'!$C$17,NA(),ABS('Data In'!B317-INDIRECT(\"ZeroVal_\"&H$2,0)))","v":0},{"$f":"IF(CommandCell='Reference Cells'!$C$17,NA(),ABS('Data In'!C317-INDIRECT(\"ZeroVal_\"&I$2,0)))","v":0},{"$f":"IF(CommandCell='Reference Cells'!$C$17,NA(),ABS('Data In'!D317-INDIRECT(\"ZeroVal_\"&J$2,0)))","v":0},{"$f":"IF(CommandCell='Reference Cells'!$C$17,NA(),ABS('Data In'!E317-INDIRECT(\"ZeroVal_\"&K$2,0)))","v":0},{"$f":"IF(CommandCell='Reference Cells'!$C$17,NA(),ABS('Data In'!F317-INDIRECT(\"ZeroVal_\"&L$2,0)))","v":0},{"$f":"MAX(BackendTable[[#This Row],[S1]:[S5]])","v":0},{"$f":"IF(ISERROR(BackendTable[[#This Row],[T0Time]]),0,COUNTIFS(BackendTable[T0Time],\"<=\"&3,BackendTable[T0Time],\">=\"&0)-COUNTIFS(BackendTable[T0Time],\">\"&BackendTable[[#This Row],[T0Time]]))","v":500},null,null,null,null,null,null,null,null,null,null,null,null,null,null,null,null,null,null,null,null,null,null,null,null,{"$f":"MATCH(MAX(BackendTable[[#This Row],[T1S1]:[T1S5]]),BackendTable[[#This Row],[T1S1]:[T1S5]],0)","v":{"$error":"#N/A"}},{"$f":"MATCH(MAX(BackendTable[[#This Row],[T2S1]:[T2S5]]),BackendTable[[#This Row],[T2S1]:[T2S5]],0)","v":{"$error":"#N/A"}},{"$f":"MATCH(MAX(BackendTable[[#This Row],[T3S1]:[T3S5]]),BackendTable[[#This Row],[T3S1]:[T3S5]],0)","v":{"$error":"#N/A"}}]
[null,{"$f":"ROW()-ROW(BackendTable[[#Headers],[Row'#]])","v":311},{"$f":"'Data In'!A318","v":0},{"$f":"IF(BackendTable[[#This Row],[Time]]-'Reference Cells'!$C$3<=0,NA(),'Reference Cells'!$C$4-BackendTable[[#This Row],[Time]])*86400","v":{"$error":"#N/A"}},{"$f":"IFERROR(8-BackendTable[[#This Row],[Column1]],\"\")","v":""},{"$f":"IF(ISERROR(BackendTable[[#This Row],[Column1]]),-9,(BackendTable[[#This Row],[Net Time]]-NetTimeMin)*RangeAdj)","v":-9},{"$f":"IF(AND(BackendTable[[#This Row],[Time]]>='Reference Cells'!$C$6,BackendTable[[#This Row],[Time]]<='Reference Cells'!$C$7),(BackendTable[[#This Row],[Time]]-'Reference Cells'!$C$6)*86400,NA())","v":2},{"$f":"IF(CommandCell='Reference Cells'!$C$17,NA(),ABS('Data In'!B318-INDIRECT(\"ZeroVal_\"&H$2,0)))","v":0},{"$f":"IF(CommandCell='Reference Cells'!$C$17,NA(),ABS('Data In'!C318-INDIRECT(\"ZeroVal_\"&I$2,0)))","v":0},{"$f":"IF(CommandCell='Reference Cells'!$C$17,NA(),ABS('Data In'!D318-INDIRECT(\"ZeroVal_\"&J$2,0)))","v":0},{"$f":"IF(CommandCell='Reference Cells'!$C$17,NA(),ABS('Data In'!E318-INDIRECT(\"ZeroVal_\"&K$2,0)))","v":0},{"$f":"IF(CommandCell='Reference Cells'!$C$17,NA(),ABS('Data In'!F318-INDIRECT(\"ZeroVal_\"&L$2,0)))","v":0},{"$f":"MAX(BackendTable[[#This Row],[S1]:[S5]])","v":0},{"$f":"IF(ISERROR(BackendTable[[#This Row],[T0Time]]),0,COUNTIFS(BackendTable[T0Time],\"<=\"&3,BackendTable[T0Time],\">=\"&0)-COUNTIFS(BackendTable[T0Time],\">\"&BackendTable[[#This Row],[T0Time]]))","v":500},null,null,null,null,null,null,null,null,null,null,null,null,null,null,null,null,null,null,null,null,null,null,null,null,{"$f":"MATCH(MAX(BackendTable[[#This Row],[T1S1]:[T1S5]]),BackendTable[[#This Row],[T1S1]:[T1S5]],0)","v":{"$error":"#N/A"}},{"$f":"MATCH(MAX(BackendTable[[#This Row],[T2S1]:[T2S5]]),BackendTable[[#This Row],[T2S1]:[T2S5]],0)","v":{"$error":"#N/A"}},{"$f":"MATCH(MAX(BackendTable[[#This Row],[T3S1]:[T3S5]]),BackendTable[[#This Row],[T3S1]:[T3S5]],0)","v":{"$error":"#N/A"}}]
[null,{"$f":"ROW()-ROW(BackendTable[[#Headers],[Row'#]])","v":312},{"$f":"'Data In'!A319","v":0},{"$f":"IF(BackendTable[[#This Row],[Time]]-'Reference Cells'!$C$3<=0,NA(),'Reference Cells'!$C$4-BackendTable[[#This Row],[Time]])*86400","v":{"$error":"#N/A"}},{"$f":"IFERROR(8-BackendTable[[#This Row],[Column1]],\"\")","v":""},{"$f":"IF(ISERROR(BackendTable[[#This Row],[Column1]]),-9,(BackendTable[[#This Row],[Net Time]]-NetTimeMin)*RangeAdj)","v":-9},{"$f":"IF(AND(BackendTable[[#This Row],[Time]]>='Reference Cells'!$C$6,BackendTable[[#This Row],[Time]]<='Reference Cells'!$C$7),(BackendTable[[#This Row],[Time]]-'Reference Cells'!$C$6)*86400,NA())","v":2},{"$f":"IF(CommandCell='Reference Cells'!$C$17,NA(),ABS('Data In'!B319-INDIRECT(\"ZeroVal_\"&H$2,0)))","v":0},{"$f":"IF(CommandCell='Reference Cells'!$C$17,NA(),ABS('Data In'!C319-INDIRECT(\"ZeroVal_\"&I$2,0)))","v":0},{"$f":"IF(CommandCell='Reference Cells'!$C$17,NA(),ABS('Data In'!D319-INDIRECT(\"ZeroVal_\"&J$2,0)))","v":0},{"$f":"IF(CommandCell='Reference Cells'!$C$17,NA(),ABS('Data In'!E319-INDIRECT(\"ZeroVal_\"&K$2,0)))","v":0},{"$f":"IF(CommandCell='Reference Cells'!$C$17,NA(),ABS('Data In'!F319-INDIRECT(\"ZeroVal_\"&L$2,0)))","v":0},{"$f":"MAX(BackendTable[[#This Row],[S1]:[S5]])","v":0},{"$f":"IF(ISERROR(BackendTable[[#This Row],[T0Time]]),0,COUNTIFS(BackendTable[T0Time],\"<=\"&3,BackendTable[T0Time],\">=\"&0)-COUNTIFS(BackendTable[T0Time],\">\"&BackendTable[[#This Row],[T0Time]]))","v":500},null,null,null,null,null,null,null,null,null,null,null,null,null,null,null,null,null,null,null,null,null,null,null,null,{"$f":"MATCH(MAX(BackendTable[[#This Row],[T1S1]:[T1S5]]),BackendTable[[#This Row],[T1S1]:[T1S5]],0)","v":{"$error":"#N/A"}},{"$f":"MATCH(MAX(BackendTable[[#This Row],[T2S1]:[T2S5]]),BackendTable[[#This Row],[T2S1]:[T2S5]],0)","v":{"$error":"#N/A"}},{"$f":"MATCH(MAX(BackendTable[[#This Row],[T3S1]:[T3S5]]),BackendTable[[#This Row],[T3S1]:[T3S5]],0)","v":{"$error":"#N/A"}}]
[null,{"$f":"ROW()-ROW(BackendTable[[#Headers],[Row'#]])","v":313},{"$f":"'Data In'!A320","v":0},{"$f":"IF(BackendTable[[#This Row],[Time]]-'Reference Cells'!$C$3<=0,NA(),'Reference Cells'!$C$4-BackendTable[[#This Row],[Time]])*86400","v":{"$error":"#N/A"}},{"$f":"IFERROR(8-BackendTable[[#This Row],[Column1]],\"\")","v":""},{"$f":"IF(ISERROR(BackendTable[[#This Row],[Column1]]),-9,(BackendTable[[#This Row],[Net Time]]-NetTimeMin)*RangeAdj)","v":-9},{"$f":"IF(AND(BackendTable[[#This Row],[Time]]>='Reference Cells'!$C$6,BackendTable[[#This Row],[Time]]<='Reference Cells'!$C$7),(BackendTable[[#This Row],[Time]]-'Reference Cells'!$C$6)*86400,NA())","v":2},{"$f":"IF(CommandCell='Reference Cells'!$C$17,NA(),ABS('Data In'!B320-INDIRECT(\"ZeroVal_\"&H$2,0)))","v":0},{"$f":"IF(CommandCell='Reference Cells'!$C$17,NA(),ABS('Data In'!C320-INDIRECT(\"ZeroVal_\"&I$2,0)))","v":0},{"$f":"IF(CommandCell='Reference Cells'!$C$17,NA(),ABS('Data In'!D320-INDIRECT(\"ZeroVal_\"&J$2,0)))","v":0},{"$f":"IF(CommandCell='Reference Cells'!$C$17,NA(),ABS('Data In'!E320-INDIRECT(\"ZeroVal_\"&K$2,0)))","v":0},{"$f":"IF(CommandCell='Reference Cells'!$C$17,NA(),ABS('Data In'!F320-INDIRECT(\"ZeroVal_\"&L$2,0)))","v":0},{"$f":"MAX(BackendTable[[#This Row],[S1]:[S5]])","v":0},{"$f":"IF(ISERROR(BackendTable[[#This Row],[T0Time]]),0,COUNTIFS(BackendTable[T0Time],\"<=\"&3,BackendTable[T0Time],\">=\"&0)-COUNTIFS(BackendTable[T0Time],\">\"&BackendTable[[#This Row],[T0Time]]))","v":500},null,null,null,null,null,null,null,null,null,null,null,null,null,null,null,null,null,null,null,null,null,null,null,null,{"$f":"MATCH(MAX(BackendTable[[#This Row],[T1S1]:[T1S5]]),BackendTable[[#This Row],[T1S1]:[T1S5]],0)","v":{"$error":"#N/A"}},{"$f":"MATCH(MAX(BackendTable[[#This Row],[T2S1]:[T2S5]]),BackendTable[[#This Row],[T2S1]:[T2S5]],0)","v":{"$error":"#N/A"}},{"$f":"MATCH(MAX(BackendTable[[#This Row],[T3S1]:[T3S5]]),BackendTable[[#This Row],[T3S1]:[T3S5]],0)","v":{"$error":"#N/A"}}]
[null,{"$f":"ROW()-ROW(BackendTable[[#Headers],[Row'#]])","v":314},{"$f":"'Data In'!A321","v":0},{"$f":"IF(BackendTable[[#This Row],[Time]]-'Reference Cells'!$C$3<=0,NA(),'Reference Cells'!$C$4-BackendTable[[#This Row],[Time]])*86400","v":{"$error":"#N/A"}},{"$f":"IFERROR(8-BackendTable[[#This Row],[Column1]],\"\")","v":""},{"$f":"IF(ISERROR(BackendTable[[#This Row],[Column1]]),-9,(BackendTable[[#This Row],[Net Time]]-NetTimeMin)*RangeAdj)","v":-9},{"$f":"IF(AND(BackendTable[[#This Row],[Time]]>='Reference Cells'!$C$6,BackendTable[[#This Row],[Time]]<='Reference Cells'!$C$7),(BackendTable[[#This Row],[Time]]-'Reference Cells'!$C$6)*86400,NA())","v":2},{"$f":"IF(CommandCell='Reference Cells'!$C$17,NA(),ABS('Data In'!B321-INDIRECT(\"ZeroVal_\"&H$2,0)))","v":0},{"$f":"IF(CommandCell='Reference Cells'!$C$17,NA(),ABS('Data In'!C321-INDIRECT(\"ZeroVal_\"&I$2,0)))","v":0},{"$f":"IF(CommandCell='Reference Cells'!$C$17,NA(),ABS('Data In'!D321-INDIRECT(\"ZeroVal_\"&J$2,0)))","v":0},{"$f":"IF(CommandCell='Reference Cells'!$C$17,NA(),ABS('Data In'!E321-INDIRECT(\"ZeroVal_\"&K$2,0)))","v":0},{"$f":"IF(CommandCell='Reference Cells'!$C$17,NA(),ABS('Data In'!F321-INDIRECT(\"ZeroVal_\"&L$2,0)))","v":0},{"$f":"MAX(BackendTable[[#This Row],[S1]:[S5]])","v":0},{"$f":"IF(ISERROR(BackendTable[[#This Row],[T0Time]]),0,COUNTIFS(BackendTable[T0Time],\"<=\"&3,BackendTable[T0Time],\">=\"&0)-COUNTIFS(BackendTable[T0Time],\">\"&BackendTable[[#This Row],[T0Time]]))","v":500},null,null,null,null,null,null,null,null,null,null,null,null,null,null,null,null,null,null,null,null,null,null,null,null,{"$f":"MATCH(MAX(BackendTable[[#This Row],[T1S1]:[T1S5]]),BackendTable[[#This Row],[T1S1]:[T1S5]],0)","v":{"$error":"#N/A"}},{"$f":"MATCH(MAX(BackendTable[[#This Row],[T2S1]:[T2S5]]),BackendTable[[#This Row],[T2S1]:[T2S5]],0)","v":{"$error":"#N/A"}},{"$f":"MATCH(MAX(BackendTable[[#This Row],[T3S1]:[T3S5]]),BackendTable[[#This Row],[T3S1]:[T3S5]],0)","v":{"$error":"#N/A"}}]
[null,{"$f":"ROW()-ROW(BackendTable[[#Headers],[Row'#]])","v":315},{"$f":"'Data In'!A322","v":0},{"$f":"IF(BackendTable[[#This Row],[Time]]-'Reference Cells'!$C$3<=0,NA(),'Reference Cells'!$C$4-BackendTable[[#This Row],[Time]])*86400","v":{"$error":"#N/A"}},{"$f":"IFERROR(8-BackendTable[[#This Row],[Column1]],\"\")","v":""},{"$f":"IF(ISERROR(BackendTable[[#This Row],[Column1]]),-9,(BackendTable[[#This Row],[Net Time]]-NetTimeMin)*RangeAdj)","v":-9},{"$f":"IF(AND(BackendTable[[#This Row],[Time]]>='Reference Cells'!$C$6,BackendTable[[#This Row],[Time]]<='Reference Cells'!$C$7),(BackendTable[[#This Row],[Time]]-'Reference Cells'!$C$6)*86400,NA())","v":2},{"$f":"IF(CommandCell='Reference Cells'!$C$17,NA(),ABS('Data In'!B322-INDIRECT(\"ZeroVal_\"&H$2,0)))","v":0},{"$f":"IF(CommandCell='Reference Cells'!$C$17,NA(),ABS('Data In'!C322-INDIRECT(\"ZeroVal_\"&I$2,0)))","v":0},{"$f":"IF(CommandCell='Reference Cells'!$C$17,NA(),ABS('Data In'!D322-INDIRECT(\"ZeroVal_\"&J$2,0)))","v":0},{"$f":"IF(CommandCell='Reference Cells'!$C$17,NA(),ABS('Data In'!E322-INDIRECT(\"ZeroVal_\"&K$2,0)))","v":0},{"$f":"IF(CommandCell='Reference Cells'!$C$17,NA(),ABS('Data In'!F322-INDIRECT(\"ZeroVal_\"&L$2,0)))","v":0},{"$f":"MAX(BackendTable[[#This Row],[S1]:[S5]])","v":0},{"$f":"IF(ISERROR(BackendTable[[#This Row],[T0Time]]),0,COUNTIFS(BackendTable[T0Time],\"<=\"&3,BackendTable[T0Time],\">=\"&0)-COUNTIFS(BackendTable[T0Time],\">\"&BackendTable[[#This Row],[T0Time]]))","v":500},null,null,null,null,null,null,null,null,null,null,null,null,null,null,null,null,null,null,null,null,null,null,null,null,{"$f":"MATCH(MAX(BackendTable[[#This Row],[T1S1]:[T1S5]]),BackendTable[[#This Row],[T1S1]:[T1S5]],0)","v":{"$error":"#N/A"}},{"$f":"MATCH(MAX(BackendTable[[#This Row],[T2S1]:[T2S5]]),BackendTable[[#This Row],[T2S1]:[T2S5]],0)","v":{"$error":"#N/A"}},{"$f":"MATCH(MAX(BackendTable[[#This Row],[T3S1]:[T3S5]]),BackendTable[[#This Row],[T3S1]:[T3S5]],0)","v":{"$error":"#N/A"}}]
[null,{"$f":"ROW()-ROW(BackendTable[[#Headers],[Row'#]])","v":316},{"$f":"'Data In'!A323","v":0},{"$f":"IF(BackendTable[[#This Row],[Time]]-'Reference Cells'!$C$3<=0,NA(),'Reference Cells'!$C$4-BackendTable[[#This Row],[Time]])*86400","v":{"$error":"#N/A"}},{"$f":"IFERROR(8-BackendTable[[#This Row],[Column1]],\"\")","v":""},{"$f":"IF(ISERROR(BackendTable[[#This Row],[Column1]]),-9,(BackendTable[[#This Row],[Net Time]]-NetTimeMin)*RangeAdj)","v":-9},{"$f":"IF(AND(BackendTable[[#This Row],[Time]]>='Reference Cells'!$C$6,BackendTable[[#This Row],[Time]]<='Reference Cells'!$C$7),(BackendTable[[#This Row],[Time]]-'Reference Cells'!$C$6)*86400,NA())","v":2},{"$f":"IF(CommandCell='Reference Cells'!$C$17,NA(),ABS('Data In'!B323-INDIRECT(\"ZeroVal_\"&H$2,0)))","v":0},{"$f":"IF(CommandCell='Reference Cells'!$C$17,NA(),ABS('Data In'!C323-INDIRECT(\"ZeroVal_\"&I$2,0)))","v":0},{"$f":"IF(CommandCell='Reference Cells'!$C$17,NA(),ABS('Data In'!D323-INDIRECT(\"ZeroVal_\"&J$2,0)))","v":0},{"$f":"IF(CommandCell='Reference Cells'!$C$17,NA(),ABS('Data In'!E323-INDIRECT(\"ZeroVal_\"&K$2,0)))","v":0},{"$f":"IF(CommandCell='Reference Cells'!$C$17,NA(),ABS('Data In'!F323-INDIRECT(\"ZeroVal_\"&L$2,0)))","v":0},{"$f":"MAX(BackendTable[[#This Row],[S1]:[S5]])","v":0},{"$f":"IF(ISERROR(BackendTable[[#This Row],[T0Time]]),0,COUNTIFS(BackendTable[T0Time],\"<=\"&3,BackendTable[T0Time],\">=\"&0)-COUNTIFS(BackendTable[T0Time],\">\"&BackendTable[[#This Row],[T0Time]]))","v":500},null,null,null,null,null,null,null,null,null,null,null,null,null,null,null,null,null,null,null,null,null,null,null,null,{"$f":"MATCH(MAX(BackendTable[[#This Row],[T1S1]:[T1S5]]),BackendTable[[#This Row],[T1S1]:[T1S5]],0)","v":{"$error":"#N/A"}},{"$f":"MATCH(MAX(BackendTable[[#This Row],[T2S1]:[T2S5]]),BackendTable[[#This Row],[T2S1]:[T2S5]],0)","v":{"$error":"#N/A"}},{"$f":"MATCH(MAX(BackendTable[[#This Row],[T3S1]:[T3S5]]),BackendTable[[#This Row],[T3S1]:[T3S5]],0)","v":{"$error":"#N/A"}}]
[null,{"$f":"ROW()-ROW(BackendTable[[#Headers],[Row'#]])","v":317},{"$f":"'Data In'!A324","v":0},{"$f":"IF(BackendTable[[#This Row],[Time]]-'Reference Cells'!$C$3<=0,NA(),'Reference Cells'!$C$4-BackendTable[[#This Row],[Time]])*86400","v":{"$error":"#N/A"}},{"$f":"IFERROR(8-BackendTable[[#This Row],[Column1]],\"\")","v":""},{"$f":"IF(ISERROR(BackendTable[[#This Row],[Column1]]),-9,(BackendTable[[#This Row],[Net Time]]-NetTimeMin)*RangeAdj)","v":-9},{"$f":"IF(AND(BackendTable[[#This Row],[Time]]>='Reference Cells'!$C$6,BackendTable[[#This Row],[Time]]<='Reference Cells'!$C$7),(BackendTable[[#This Row],[Time]]-'Reference Cells'!$C$6)*86400,NA())","v":2},{"$f":"IF(CommandCell='Reference Cells'!$C$17,NA(),ABS('Data In'!B324-INDIRECT(\"ZeroVal_\"&H$2,0)))","v":0},{"$f":"IF(CommandCell='Reference Cells'!$C$17,NA(),ABS('Data In'!C324-INDIRECT(\"ZeroVal_\"&I$2,0)))","v":0},{"$f":"IF(CommandCell='Reference Cells'!$C$17,NA(),ABS('Data In'!D324-INDIRECT(\"ZeroVal_\"&J$2,0)))","v":0},{"$f":"IF(CommandCell='Reference Cells'!$C$17,NA(),ABS('Data In'!E324-INDIRECT(\"ZeroVal_\"&K$2,0)))","v":0},{"$f":"IF(CommandCell='Reference Cells'!$C$17,NA(),ABS('Data In'!F324-INDIRECT(\"ZeroVal_\"&L$2,0)))","v":0},{"$f":"MAX(BackendTable[[#This Row],[S1]:[S5]])","v":0},{"$f":"IF(ISERROR(BackendTable[[#This Row],[T0Time]]),0,COUNTIFS(BackendTable[T0Time],\"<=\"&3,BackendTable[T0Time],\">=\"&0)-COUNTIFS(BackendTable[T0Time],\">\"&BackendTable[[#This Row],[T0Time]]))","v":500},null,null,null,null,null,null,null,null,null,null,null,null,null,null,null,null,null,null,null,null,null,null,null,null,{"$f":"MATCH(MAX(BackendTable[[#This Row],[T1S1]:[T1S5]]),BackendTable[[#This Row],[T1S1]:[T1S5]],0)","v":{"$error":"#N/A"}},{"$f":"MATCH(MAX(BackendTable[[#This Row],[T2S1]:[T2S5]]),BackendTable[[#This Row],[T2S1]:[T2S5]],0)","v":{"$error":"#N/A"}},{"$f":"MATCH(MAX(BackendTable[[#This Row],[T3S1]:[T3S5]]),BackendTable[[#This Row],[T3S1]:[T3S5]],0)","v":{"$error":"#N/A"}}]
[null,{"$f":"ROW()-ROW(BackendTable[[#Headers],[Row'#]])","v":318},{"$f":"'Data In'!A325","v":0},{"$f":"IF(BackendTable[[#This Row],[Time]]-'Reference Cells'!$C$3<=0,NA(),'Reference Cells'!$C$4-BackendTable[[#This Row],[Time]])*86400","v":{"$error":"#N/A"}},{"$f":"IFERROR(8-BackendTable[[#This Row],[Column1]],\"\")","v":""},{"$f":"IF(ISERROR(BackendTable[[#This Row],[Column1]]),-9,(BackendTable[[#This Row],[Net Time]]-NetTimeMin)*RangeAdj)","v":-9},{"$f":"IF(AND(BackendTable[[#This Row],[Time]]>='Reference Cells'!$C$6,BackendTable[[#This Row],[Time]]<='Reference Cells'!$C$7),(BackendTable[[#This Row],[Time]]-'Reference Cells'!$C$6)*86400,NA())","v":2},{"$f":"IF(CommandCell='Reference Cells'!$C$17,NA(),ABS('Data In'!B325-INDIRECT(\"ZeroVal_\"&H$2,0)))","v":0},{"$f":"IF(CommandCell='Reference Cells'!$C$17,NA(),ABS('Data In'!C325-INDIRECT(\"ZeroVal_\"&I$2,0)))","v":0},{"$f":"IF(CommandCell='Reference Cells'!$C$17,NA(),ABS('Data In'!D325-INDIRECT(\"ZeroVal_\"&J$2,0)))","v":0},{"$f":"IF(CommandCell='Reference Cells'!$C$17,NA(),ABS('Data In'!E325-INDIRECT(\"ZeroVal_\"&K$2,0)))","v":0},{"$f":"IF(CommandCell='Reference Cells'!$C$17,NA(),ABS('Data In'!F325-INDIRECT(\"ZeroVal_\"&L$2,0)))","v":0},{"$f":"MAX(BackendTable[[#This Row],[S1]:[S5]])","v":0},{"$f":"IF(ISERROR(BackendTable[[#This Row],[T0Time]]),0,COUNTIFS(BackendTable[T0Time],\"<=\"&3,BackendTable[T0Time],\">=\"&0)-COUNTIFS(BackendTable[T0Time],\">\"&BackendTable[[#This Row],[T0Time]]))","v":500},null,null,null,null,null,null,null,null,null,null,null,null,null,null,null,null,null,null,null,null,null,null,null,null,{"$f":"MATCH(MAX(BackendTable[[#This Row],[T1S1]:[T1S5]]),BackendTable[[#This Row],[T1S1]:[T1S5]],0)","v":{"$error":"#N/A"}},{"$f":"MATCH(MAX(BackendTable[[#This Row],[T2S1]:[T2S5]]),BackendTable[[#This Row],[T2S1]:[T2S5]],0)","v":{"$error":"#N/A"}},{"$f":"MATCH(MAX(BackendTable[[#This Row],[T3S1]:[T3S5]]),BackendTable[[#This Row],[T3S1]:[T3S5]],0)","v":{"$error":"#N/A"}}]
[null,{"$f":"ROW()-ROW(BackendTable[[#Headers],[Row'#]])","v":319},{"$f":"'Data In'!A326","v":0},{"$f":"IF(BackendTable[[#This Row],[Time]]-'Reference Cells'!$C$3<=0,NA(),'Reference Cells'!$C$4-BackendTable[[#This Row],[Time]])*86400","v":{"$error":"#N/A"}},{"$f":"IFERROR(8-BackendTable[[#This Row],[Column1]],\"\")","v":""},{"$f":"IF(ISERROR(BackendTable[[#This Row],[Column1]]),-9,(BackendTable[[#This Row],[Net Time]]-NetTimeMin)*RangeAdj)","v":-9},{"$f":"IF(AND(BackendTable[[#This Row],[Time]]>='Reference Cells'!$C$6,BackendTable[[#This Row],[Time]]<='Reference Cells'!$C$7),(BackendTable[[#This Row],[Time]]-'Reference Cells'!$C$6)*86400,NA())","v":2},{"$f":"IF(CommandCell='Reference Cells'!$C$17,NA(),ABS('Data In'!B326-INDIRECT(\"ZeroVal_\"&H$2,0)))","v":0},{"$f":"IF(CommandCell='Reference Cells'!$C$17,NA(),ABS('Data In'!C326-INDIRECT(\"ZeroVal_\"&I$2,0)))","v":0},{"$f":"IF(CommandCell='Reference Cells'!$C$17,NA(),ABS('Data In'!D326-INDIRECT(\"ZeroVal_\"&J$2,0)))","v":0},{"$f":"IF(CommandCell='Reference Cells'!$C$17,NA(),ABS('Data In'!E326-INDIRECT(\"ZeroVal_\"&K$2,0)))","v":0},{"$f":"IF(CommandCell='Reference Cells'!$C$17,NA(),ABS('Data In'!F326-INDIRECT(\"ZeroVal_\"&L$2,0)))","v":0},{"$f":"MAX(BackendTable[[#This Row],[S1]:[S5]])","v":0},{"$f":"IF(ISERROR(BackendTable[[#This Row],[T0Time]]),0,COUNTIFS(BackendTable[T0Time],\"<=\"&3,BackendTable[T0Time],\">=\"&0)-COUNTIFS(BackendTable[T0Time],\">\"&BackendTable[[#This Row],[T0Time]]))","v":500},null,null,null,null,null,null,null,null,null,null,null,null,null,null,null,null,null,null,null,null,null,null,null,null,{"$f":"MATCH(MAX(BackendTable[[#This Row],[T1S1]:[T1S5]]),BackendTable[[#This Row],[T1S1]:[T1S5]],0)","v":{"$error":"#N/A"}},{"$f":"MATCH(MAX(BackendTable[[#This Row],[T2S1]:[T2S5]]),BackendTable[[#This Row],[T2S1]:[T2S5]],0)","v":{"$error":"#N/A"}},{"$f":"MATCH(MAX(BackendTable[[#This Row],[T3S1]:[T3S5]]),BackendTable[[#This Row],[T3S1]:[T3S5]],0)","v":{"$error":"#N/A"}}]
[null,{"$f":"ROW()-ROW(BackendTable[[#Headers],[Row'#]])","v":320},{"$f":"'Data In'!A327","v":0},{"$f":"IF(BackendTable[[#This Row],[Time]]-'Reference Cells'!$C$3<=0,NA(),'Reference Cells'!$C$4-BackendTable[[#This Row],[Time]])*86400","v":{"$error":"#N/A"}},{"$f":"IFERROR(8-BackendTable[[#This Row],[Column1]],\"\")","v":""},{"$f":"IF(ISERROR(BackendTable[[#This Row],[Column1]]),-9,(BackendTable[[#This Row],[Net Time]]-NetTimeMin)*RangeAdj)","v":-9},{"$f":"IF(AND(BackendTable[[#This Row],[Time]]>='Reference Cells'!$C$6,BackendTable[[#This Row],[Time]]<='Reference Cells'!$C$7),(BackendTable[[#This Row],[Time]]-'Reference Cells'!$C$6)*86400,NA())","v":2},{"$f":"IF(CommandCell='Reference Cells'!$C$17,NA(),ABS('Data In'!B327-INDIRECT(\"ZeroVal_\"&H$2,0)))","v":0},{"$f":"IF(CommandCell='Reference Cells'!$C$17,NA(),ABS('Data In'!C327-INDIRECT(\"ZeroVal_\"&I$2,0)))","v":0},{"$f":"IF(CommandCell='Reference Cells'!$C$17,NA(),ABS('Data In'!D327-INDIRECT(\"ZeroVal_\"&J$2,0)))","v":0},{"$f":"IF(CommandCell='Reference Cells'!$C$17,NA(),ABS('Data In'!E327-INDIRECT(\"ZeroVal_\"&K$2,0)))","v":0},{"$f":"IF(CommandCell='Reference Cells'!$C$17,NA(),ABS('Data In'!F327-INDIRECT(\"ZeroVal_\"&L$2,0)))","v":0},{"$f":"MAX(BackendTable[[#This Row],[S1]:[S5]])","v":0},{"$f":"IF(ISERROR(BackendTable[[#This Row],[T0Time]]),0,COUNTIFS(BackendTable[T0Time],\"<=\"&3,BackendTable[T0Time],\">=\"&0)-COUNTIFS(BackendTable[T0Time],\">\"&BackendTable[[#This Row],[T0Time]]))","v":500},null,null,null,null,null,null,null,null,null,null,null,null,null,null,null,null,null,null,null,null,null,null,null,null,{"$f":"MATCH(MAX(BackendTable[[#This Row],[T1S1]:[T1S5]]),BackendTable[[#This Row],[T1S1]:[T1S5]],0)","v":{"$error":"#N/A"}},{"$f":"MATCH(MAX(BackendTable[[#This Row],[T2S1]:[T2S5]]),BackendTable[[#This Row],[T2S1]:[T2S5]],0)","v":{"$error":"#N/A"}},{"$f":"MATCH(MAX(BackendTable[[#This Row],[T3S1]:[T3S5]]),BackendTable[[#This Row],[T3S1]:[T3S5]],0)","v":{"$error":"#N/A"}}]
[null,{"$f":"ROW()-ROW(BackendTable[[#Headers],[Row'#]])","v":321},{"$f":"'Data In'!A328","v":0},{"$f":"IF(BackendTable[[#This Row],[Time]]-'Reference Cells'!$C$3<=0,NA(),'Reference Cells'!$C$4-BackendTable[[#This Row],[Time]])*86400","v":{"$error":"#N/A"}},{"$f":"IFERROR(8-BackendTable[[#This Row],[Column1]],\"\")","v":""},{"$f":"IF(ISERROR(BackendTable[[#This Row],[Column1]]),-9,(BackendTable[[#This Row],[Net Time]]-NetTimeMin)*RangeAdj)","v":-9},{"$f":"IF(AND(BackendTable[[#This Row],[Time]]>='Reference Cells'!$C$6,BackendTable[[#This Row],[Time]]<='Reference Cells'!$C$7),(BackendTable[[#This Row],[Time]]-'Reference Cells'!$C$6)*86400,NA())","v":2},{"$f":"IF(CommandCell='Reference Cells'!$C$17,NA(),ABS('Data In'!B328-INDIRECT(\"ZeroVal_\"&H$2,0)))","v":0},{"$f":"IF(CommandCell='Reference Cells'!$C$17,NA(),ABS('Data In'!C328-INDIRECT(\"ZeroVal_\"&I$2,0)))","v":0},{"$f":"IF(CommandCell='Reference Cells'!$C$17,NA(),ABS('Data In'!D328-INDIRECT(\"ZeroVal_\"&J$2,0)))","v":0},{"$f":"IF(CommandCell='Reference Cells'!$C$17,NA(),ABS('Data In'!E328-INDIRECT(\"ZeroVal_\"&K$2,0)))","v":0},{"$f":"IF(CommandCell='Reference Cells'!$C$17,NA(),ABS('Data In'!F328-INDIRECT(\"ZeroVal_\"&L$2,0)))","v":0},{"$f":"MAX(BackendTable[[#This Row],[S1]:[S5]])","v":0},{"$f":"IF(ISERROR(BackendTable[[#This Row],[T0Time]]),0,COUNTIFS(BackendTable[T0Time],\"<=\"&3,BackendTable[T0Time],\">=\"&0)-COUNTIFS(BackendTable[T0Time],\">\"&BackendTable[[#This Row],[T0Time]]))","v":500},null,null,null,null,null,null,null,null,null,null,null,null,null,null,null,null,null,null,null,null,null,null,null,null,{"$f":"MATCH(MAX(BackendTable[[#This Row],[T1S1]:[T1S5]]),BackendTable[[#This Row],[T1S1]:[T1S5]],0)","v":{"$error":"#N/A"}},{"$f":"MATCH(MAX(BackendTable[[#This Row],[T2S1]:[T2S5]]),BackendTable[[#This Row],[T2S1]:[T2S5]],0)","v":{"$error":"#N/A"}},{"$f":"MATCH(MAX(BackendTable[[#This Row],[T3S1]:[T3S5]]),BackendTable[[#This Row],[T3S1]:[T3S5]],0)","v":{"$error":"#N/A"}}]
[null,{"$f":"ROW()-ROW(BackendTable[[#Headers],[Row'#]])","v":322},{"$f":"'Data In'!A329","v":0},{"$f":"IF(BackendTable[[#This Row],[Time]]-'Reference Cells'!$C$3<=0,NA(),'Reference Cells'!$C$4-BackendTable[[#This Row],[Time]])*86400","v":{"$error":"#N/A"}},{"$f":"IFERROR(8-BackendTable[[#This Row],[Column1]],\"\")","v":""},{"$f":"IF(ISERROR(BackendTable[[#This Row],[Column1]]),-9,(BackendTable[[#This Row],[Net Time]]-NetTimeMin)*RangeAdj)","v":-9},{"$f":"IF(AND(BackendTable[[#This Row],[Time]]>='Reference Cells'!$C$6,BackendTable[[#This Row],[Time]]<='Reference Cells'!$C$7),(BackendTable[[#This Row],[Time]]-'Reference Cells'!$C$6)*86400,NA())","v":2},{"$f":"IF(CommandCell='Reference Cells'!$C$17,NA(),ABS('Data In'!B329-INDIRECT(\"ZeroVal_\"&H$2,0)))","v":0},{"$f":"IF(CommandCell='Reference Cells'!$C$17,NA(),ABS('Data In'!C329-INDIRECT(\"ZeroVal_\"&I$2,0)))","v":0},{"$f":"IF(CommandCell='Reference Cells'!$C$17,NA(),ABS('Data In'!D329-INDIRECT(\"ZeroVal_\"&J$2,0)))","v":0},{"$f":"IF(CommandCell='Reference Cells'!$C$17,NA(),ABS('Data In'!E329-INDIRECT(\"ZeroVal_\"&K$2,0)))","v":0},{"$f":"IF(CommandCell='Reference Cells'!$C$17,NA(),ABS('Data In'!F329-INDIRECT(\"ZeroVal_\"&L$2,0)))","v":0},{"$f":"MAX(BackendTable[[#This Row],[S1]:[S5]])","v":0},{"$f":"IF(ISERROR(BackendTable[[#This Row],[T0Time]]),0,COUNTIFS(BackendTable[T0Time],\"<=\"&3,BackendTable[T0Time],\">=\"&0)-COUNTIFS(BackendTable[T0Time],\">\"&BackendTable[[#This Row],[T0Time]]))","v":500},null,null,null,null,null,null,null,null,null,null,null,null,null,null,null,null,null,null,null,null,null,null,null,null,{"$f":"MATCH(MAX(BackendTable[[#This Row],[T1S1]:[T1S5]]),BackendTable[[#This Row],[T1S1]:[T1S5]],0)","v":{"$error":"#N/A"}},{"$f":"MATCH(MAX(BackendTable[[#This Row],[T2S1]:[T2S5]]),BackendTable[[#This Row],[T2S1]:[T2S5]],0)","v":{"$error":"#N/A"}},{"$f":"MATCH(MAX(BackendTable[[#This Row],[T3S1]:[T3S5]]),BackendTable[[#This Row],[T3S1]:[T3S5]],0)","v":{"$error":"#N/A"}}]
[null,{"$f":"ROW()-ROW(BackendTable[[#Headers],[Row'#]])","v":323},{"$f":"'Data In'!A330","v":0},{"$f":"IF(BackendTable[[#This Row],[Time]]-'Reference Cells'!$C$3<=0,NA(),'Reference Cells'!$C$4-BackendTable[[#This Row],[Time]])*86400","v":{"$error":"#N/A"}},{"$f":"IFERROR(8-BackendTable[[#This Row],[Column1]],\"\")","v":""},{"$f":"IF(ISERROR(BackendTable[[#This Row],[Column1]]),-9,(BackendTable[[#This Row],[Net Time]]-NetTimeMin)*RangeAdj)","v":-9},{"$f":"IF(AND(BackendTable[[#This Row],[Time]]>='Reference Cells'!$C$6,BackendTable[[#This Row],[Time]]<='Reference Cells'!$C$7),(BackendTable[[#This Row],[Time]]-'Reference Cells'!$C$6)*86400,NA())","v":2},{"$f":"IF(CommandCell='Reference Cells'!$C$17,NA(),ABS('Data In'!B330-INDIRECT(\"ZeroVal_\"&H$2,0)))","v":0},{"$f":"IF(CommandCell='Reference Cells'!$C$17,NA(),ABS('Data In'!C330-INDIRECT(\"ZeroVal_\"&I$2,0)))","v":0},{"$f":"IF(CommandCell='Reference Cells'!$C$17,NA(),ABS('Data In'!D330-INDIRECT(\"ZeroVal_\"&J$2,0)))","v":0},{"$f":"IF(CommandCell='Reference Cells'!$C$17,NA(),ABS('Data In'!E330-INDIRECT(\"ZeroVal_\"&K$2,0)))","v":0},{"$f":"IF(CommandCell='Reference Cells'!$C$17,NA(),ABS('Data In'!F330-INDIRECT(\"ZeroVal_\"&L$2,0)))","v":0},{"$f":"MAX(BackendTable[[#This Row],[S1]:[S5]])","v":0},{"$f":"IF(ISERROR(BackendTable[[#This Row],[T0Time]]),0,COUNTIFS(BackendTable[T0Time],\"<=\"&3,BackendTable[T0Time],\">=\"&0)-COUNTIFS(BackendTable[T0Time],\">\"&BackendTable[[#This Row],[T0Time]]))","v":500},null,null,null,null,null,null,null,null,null,null,null,null,null,null,null,null,null,null,null,null,null,null,null,null,{"$f":"MATCH(MAX(BackendTable[[#This Row],[T1S1]:[T1S5]]),BackendTable[[#This Row],[T1S1]:[T1S5]],0)","v":{"$error":"#N/A"}},{"$f":"MATCH(MAX(BackendTable[[#This Row],[T2S1]:[T2S5]]),BackendTable[[#This Row],[T2S1]:[T2S5]],0)","v":{"$error":"#N/A"}},{"$f":"MATCH(MAX(BackendTable[[#This Row],[T3S1]:[T3S5]]),BackendTable[[#This Row],[T3S1]:[T3S5]],0)","v":{"$error":"#N/A"}}]
[null,{"$f":"ROW()-ROW(BackendTable[[#Headers],[Row'#]])","v":324},{"$f":"'Data In'!A331","v":0},{"$f":"IF(BackendTable[[#This Row],[Time]]-'Reference Cells'!$C$3<=0,NA(),'Reference Cells'!$C$4-BackendTable[[#This Row],[Time]])*86400","v":{"$error":"#N/A"}},{"$f":"IFERROR(8-BackendTable[[#This Row],[Column1]],\"\")","v":""},{"$f":"IF(ISERROR(BackendTable[[#This Row],[Column1]]),-9,(BackendTable[[#This Row],[Net Time]]-NetTimeMin)*RangeAdj)","v":-9},{"$f":"IF(AND(BackendTable[[#This Row],[Time]]>='Reference Cells'!$C$6,BackendTable[[#This Row],[Time]]<='Reference Cells'!$C$7),(BackendTable[[#This Row],[Time]]-'Reference Cells'!$C$6)*86400,NA())","v":2},{"$f":"IF(CommandCell='Reference Cells'!$C$17,NA(),ABS('Data In'!B331-INDIRECT(\"ZeroVal_\"&H$2,0)))","v":0},{"$f":"IF(CommandCell='Reference Cells'!$C$17,NA(),ABS('Data In'!C331-INDIRECT(\"ZeroVal_\"&I$2,0)))","v":0},{"$f":"IF(CommandCell='Reference Cells'!$C$17,NA(),ABS('Data In'!D331-INDIRECT(\"ZeroVal_\"&J$2,0)))","v":0},{"$f":"IF(CommandCell='Reference Cells'!$C$17,NA(),ABS('Data In'!E331-INDIRECT(\"ZeroVal_\"&K$2,0)))","v":0},{"$f":"IF(CommandCell='Reference Cells'!$C$17,NA(),ABS('Data In'!F331-INDIRECT(\"ZeroVal_\"&L$2,0)))","v":0},{"$f":"MAX(BackendTable[[#This Row],[S1]:[S5]])","v":0},{"$f":"IF(ISERROR(BackendTable[[#This Row],[T0Time]]),0,COUNTIFS(BackendTable[T0Time],\"<=\"&3,BackendTable[T0Time],\">=\"&0)-COUNTIFS(BackendTable[T0Time],\">\"&BackendTable[[#This Row],[T0Time]]))","v":500},null,null,null,null,null,null,null,null,null,null,null,null,null,null,null,null,null,null,null,null,null,null,null,null,{"$f":"MATCH(MAX(BackendTable[[#This Row],[T1S1]:[T1S5]]),BackendTable[[#This Row],[T1S1]:[T1S5]],0)","v":{"$error":"#N/A"}},{"$f":"MATCH(MAX(BackendTable[[#This Row],[T2S1]:[T2S5]]),BackendTable[[#This Row],[T2S1]:[T2S5]],0)","v":{"$error":"#N/A"}},{"$f":"MATCH(MAX(BackendTable[[#This Row],[T3S1]:[T3S5]]),BackendTable[[#This Row],[T3S1]:[T3S5]],0)","v":{"$error":"#N/A"}}]
[null,{"$f":"ROW()-ROW(BackendTable[[#Headers],[Row'#]])","v":325},{"$f":"'Data In'!A332","v":0},{"$f":"IF(BackendTable[[#This Row],[Time]]-'Reference Cells'!$C$3<=0,NA(),'Reference Cells'!$C$4-BackendTable[[#This Row],[Time]])*86400","v":{"$error":"#N/A"}},{"$f":"IFERROR(8-BackendTable[[#This Row],[Column1]],\"\")","v":""},{"$f":"IF(ISERROR(BackendTable[[#This Row],[Column1]]),-9,(BackendTable[[#This Row],[Net Time]]-NetTimeMin)*RangeAdj)","v":-9},{"$f":"IF(AND(BackendTable[[#This Row],[Time]]>='Reference Cells'!$C$6,BackendTable[[#This Row],[Time]]<='Reference Cells'!$C$7),(BackendTable[[#This Row],[Time]]-'Reference Cells'!$C$6)*86400,NA())","v":2},{"$f":"IF(CommandCell='Reference Cells'!$C$17,NA(),ABS('Data In'!B332-INDIRECT(\"ZeroVal_\"&H$2,0)))","v":0},{"$f":"IF(CommandCell='Reference Cells'!$C$17,NA(),ABS('Data In'!C332-INDIRECT(\"ZeroVal_\"&I$2,0)))","v":0},{"$f":"IF(CommandCell='Reference Cells'!$C$17,NA(),ABS('Data In'!D332-INDIRECT(\"ZeroVal_\"&J$2,0)))","v":0},{"$f":"IF(CommandCell='Reference Cells'!$C$17,NA(),ABS('Data In'!E332-INDIRECT(\"ZeroVal_\"&K$2,0)))","v":0},{"$f":"IF(CommandCell='Reference Cells'!$C$17,NA(),ABS('Data In'!F332-INDIRECT(\"ZeroVal_\"&L$2,0)))","v":0},{"$f":"MAX(BackendTable[[#This Row],[S1]:[S5]])","v":0},{"$f":"IF(ISERROR(BackendTable[[#This Row],[T0Time]]),0,COUNTIFS(BackendTable[T0Time],\"<=\"&3,BackendTable[T0Time],\">=\"&0)-COUNTIFS(BackendTable[T0Time],\">\"&BackendTable[[#This Row],[T0Time]]))","v":500},null,null,null,null,null,null,null,null,null,null,null,null,null,null,null,null,null,null,null,null,null,null,null,null,{"$f":"MATCH(MAX(BackendTable[[#This Row],[T1S1]:[T1S5]]),BackendTable[[#This Row],[T1S1]:[T1S5]],0)","v":{"$error":"#N/A"}},{"$f":"MATCH(MAX(BackendTable[[#This Row],[T2S1]:[T2S5]]),BackendTable[[#This Row],[T2S1]:[T2S5]],0)","v":{"$error":"#N/A"}},{"$f":"MATCH(MAX(BackendTable[[#This Row],[T3S1]:[T3S5]]),BackendTable[[#This Row],[T3S1]:[T3S5]],0)","v":{"$error":"#N/A"}}]
[null,{"$f":"ROW()-ROW(BackendTable[[#Headers],[Row'#]])","v":326},{"$f":"'Data In'!A333","v":0},{"$f":"IF(BackendTable[[#This Row],[Time]]-'Reference Cells'!$C$3<=0,NA(),'Reference Cells'!$C$4-BackendTable[[#This Row],[Time]])*86400","v":{"$error":"#N/A"}},{"$f":"IFERROR(8-BackendTable[[#This Row],[Column1]],\"\")","v":""},{"$f":"IF(ISERROR(BackendTable[[#This Row],[Column1]]),-9,(BackendTable[[#This Row],[Net Time]]-NetTimeMin)*RangeAdj)","v":-9},{"$f":"IF(AND(BackendTable[[#This Row],[Time]]>='Reference Cells'!$C$6,BackendTable[[#This Row],[Time]]<='Reference Cells'!$C$7),(BackendTable[[#This Row],[Time]]-'Reference Cells'!$C$6)*86400,NA())","v":2},{"$f":"IF(CommandCell='Reference Cells'!$C$17,NA(),ABS('Data In'!B333-INDIRECT(\"ZeroVal_\"&H$2,0)))","v":0},{"$f":"IF(CommandCell='Reference Cells'!$C$17,NA(),ABS('Data In'!C333-INDIRECT(\"ZeroVal_\"&I$2,0)))","v":0},{"$f":"IF(CommandCell='Reference Cells'!$C$17,NA(),ABS('Data In'!D333-INDIRECT(\"ZeroVal_\"&J$2,0)))","v":0},{"$f":"IF(CommandCell='Reference Cells'!$C$17,NA(),ABS('Data In'!E333-INDIRECT(\"ZeroVal_\"&K$2,0)))","v":0},{"$f":"IF(CommandCell='Reference Cells'!$C$17,NA(),ABS('Data In'!F333-INDIRECT(\"ZeroVal_\"&L$2,0)))","v":0},{"$f":"MAX(BackendTable[[#This Row],[S1]:[S5]])","v":0},{"$f":"IF(ISERROR(BackendTable[[#This Row],[T0Time]]),0,COUNTIFS(BackendTable[T0Time],\"<=\"&3,BackendTable[T0Time],\">=\"&0)-COUNTIFS(BackendTable[T0Time],\">\"&BackendTable[[#This Row],[T0Time]]))","v":500},null,null,null,null,null,null,null,null,null,null,null,null,null,null,null,null,null,null,null,null,null,null,null,null,{"$f":"MATCH(MAX(BackendTable[[#This Row],[T1S1]:[T1S5]]),BackendTable[[#This Row],[T1S1]:[T1S5]],0)","v":{"$error":"#N/A"}},{"$f":"MATCH(MAX(BackendTable[[#This Row],[T2S1]:[T2S5]]),BackendTable[[#This Row],[T2S1]:[T2S5]],0)","v":{"$error":"#N/A"}},{"$f":"MATCH(MAX(BackendTable[[#This Row],[T3S1]:[T3S5]]),BackendTable[[#This Row],[T3S1]:[T3S5]],0)","v":{"$error":"#N/A"}}]
[null,{"$f":"ROW()-ROW(BackendTable[[#Headers],[Row'#]])","v":327},{"$f":"'Data In'!A334","v":0},{"$f":"IF(BackendTable[[#This Row],[Time]]-'Reference Cells'!$C$3<=0,NA(),'Reference Cells'!$C$4-BackendTable[[#This Row],[Time]])*86400","v":{"$error":"#N/A"}},{"$f":"IFERROR(8-BackendTable[[#This Row],[Column1]],\"\")","v":""},{"$f":"IF(ISERROR(BackendTable[[#This Row],[Column1]]),-9,(BackendTable[[#This Row],[Net Time]]-NetTimeMin)*RangeAdj)","v":-9},{"$f":"IF(AND(BackendTable[[#This Row],[Time]]>='Reference Cells'!$C$6,BackendTable[[#This Row],[Time]]<='Reference Cells'!$C$7),(BackendTable[[#This Row],[Time]]-'Reference Cells'!$C$6)*86400,NA())","v":2},{"$f":"IF(CommandCell='Reference Cells'!$C$17,NA(),ABS('Data In'!B334-INDIRECT(\"ZeroVal_\"&H$2,0)))","v":0},{"$f":"IF(CommandCell='Reference Cells'!$C$17,NA(),ABS('Data In'!C334-INDIRECT(\"ZeroVal_\"&I$2,0)))","v":0},{"$f":"IF(CommandCell='Reference Cells'!$C$17,NA(),ABS('Data In'!D334-INDIRECT(\"ZeroVal_\"&J$2,0)))","v":0},{"$f":"IF(CommandCell='Reference Cells'!$C$17,NA(),ABS('Data In'!E334-INDIRECT(\"ZeroVal_\"&K$2,0)))","v":0},{"$f":"IF(CommandCell='Reference Cells'!$C$17,NA(),ABS('Data In'!F334-INDIRECT(\"ZeroVal_\"&L$2,0)))","v":0},{"$f":"MAX(BackendTable[[#This Row],[S1]:[S5]])","v":0},{"$f":"IF(ISERROR(BackendTable[[#This Row],[T0Time]]),0,COUNTIFS(BackendTable[T0Time],\"<=\"&3,BackendTable[T0Time],\">=\"&0)-COUNTIFS(BackendTable[T0Time],\">\"&BackendTable[[#This Row],[T0Time]]))","v":500},null,null,null,null,null,null,null,null,null,null,null,null,null,null,null,null,null,null,null,null,null,null,null,null,{"$f":"MATCH(MAX(BackendTable[[#This Row],[T1S1]:[T1S5]]),BackendTable[[#This Row],[T1S1]:[T1S5]],0)","v":{"$error":"#N/A"}},{"$f":"MATCH(MAX(BackendTable[[#This Row],[T2S1]:[T2S5]]),BackendTable[[#This Row],[T2S1]:[T2S5]],0)","v":{"$error":"#N/A"}},{"$f":"MATCH(MAX(BackendTable[[#This Row],[T3S1]:[T3S5]]),BackendTable[[#This Row],[T3S1]:[T3S5]],0)","v":{"$error":"#N/A"}}]
[null,{"$f":"ROW()-ROW(BackendTable[[#Headers],[Row'#]])","v":328},{"$f":"'Data In'!A335","v":0},{"$f":"IF(BackendTable[[#This Row],[Time]]-'Reference Cells'!$C$3<=0,NA(),'Reference Cells'!$C$4-BackendTable[[#This Row],[Time]])*86400","v":{"$error":"#N/A"}},{"$f":"IFERROR(8-BackendTable[[#This Row],[Column1]],\"\")","v":""},{"$f":"IF(ISERROR(BackendTable[[#This Row],[Column1]]),-9,(BackendTable[[#This Row],[Net Time]]-NetTimeMin)*RangeAdj)","v":-9},{"$f":"IF(AND(BackendTable[[#This Row],[Time]]>='Reference Cells'!$C$6,BackendTable[[#This Row],[Time]]<='Reference Cells'!$C$7),(BackendTable[[#This Row],[Time]]-'Reference Cells'!$C$6)*86400,NA())","v":2},{"$f":"IF(CommandCell='Reference Cells'!$C$17,NA(),ABS('Data In'!B335-INDIRECT(\"ZeroVal_\"&H$2,0)))","v":0},{"$f":"IF(CommandCell='Reference Cells'!$C$17,NA(),ABS('Data In'!C335-INDIRECT(\"ZeroVal_\"&I$2,0)))","v":0},{"$f":"IF(CommandCell='Reference Cells'!$C$17,NA(),ABS('Data In'!D335-INDIRECT(\"ZeroVal_\"&J$2,0)))","v":0},{"$f":"IF(CommandCell='Reference Cells'!$C$17,NA(),ABS('Data In'!E335-INDIRECT(\"ZeroVal_\"&K$2,0)))","v":0},{"$f":"IF(CommandCell='Reference Cells'!$C$17,NA(),ABS('Data In'!F335-INDIRECT(\"ZeroVal_\"&L$2,0)))","v":0},{"$f":"MAX(BackendTable[[#This Row],[S1]:[S5]])","v":0},{"$f":"IF(ISERROR(BackendTable[[#This Row],[T0Time]]),0,COUNTIFS(BackendTable[T0Time],\"<=\"&3,BackendTable[T0Time],\">=\"&0)-COUNTIFS(BackendTable[T0Time],\">\"&BackendTable[[#This Row],[T0Time]]))","v":500},null,null,null,null,null,null,null,null,null,null,null,null,null,null,null,null,null,null,null,null,null,null,null,null,{"$f":"MATCH(MAX(BackendTable[[#This Row],[T1S1]:[T1S5]]),BackendTable[[#This Row],[T1S1]:[T1S5]],0)","v":{"$error":"#N/A"}},{"$f":"MATCH(MAX(BackendTable[[#This Row],[T2S1]:[T2S5]]),BackendTable[[#This Row],[T2S1]:[T2S5]],0)","v":{"$error":"#N/A"}},{"$f":"MATCH(MAX(BackendTable[[#This Row],[T3S1]:[T3S5]]),BackendTable[[#This Row],[T3S1]:[T3S5]],0)","v":{"$error":"#N/A"}}]
[null,{"$f":"ROW()-ROW(BackendTable[[#Headers],[Row'#]])","v":329},{"$f":"'Data In'!A336","v":0},{"$f":"IF(BackendTable[[#This Row],[Time]]-'Reference Cells'!$C$3<=0,NA(),'Reference Cells'!$C$4-BackendTable[[#This Row],[Time]])*86400","v":{"$error":"#N/A"}},{"$f":"IFERROR(8-BackendTable[[#This Row],[Column1]],\"\")","v":""},{"$f":"IF(ISERROR(BackendTable[[#This Row],[Column1]]),-9,(BackendTable[[#This Row],[Net Time]]-NetTimeMin)*RangeAdj)","v":-9},{"$f":"IF(AND(BackendTable[[#This Row],[Time]]>='Reference Cells'!$C$6,BackendTable[[#This Row],[Time]]<='Reference Cells'!$C$7),(BackendTable[[#This Row],[Time]]-'Reference Cells'!$C$6)*86400,NA())","v":2},{"$f":"IF(CommandCell='Reference Cells'!$C$17,NA(),ABS('Data In'!B336-INDIRECT(\"ZeroVal_\"&H$2,0)))","v":0},{"$f":"IF(CommandCell='Reference Cells'!$C$17,NA(),ABS('Data In'!C336-INDIRECT(\"ZeroVal_\"&I$2,0)))","v":0},{"$f":"IF(CommandCell='Reference Cells'!$C$17,NA(),ABS('Data In'!D336-INDIRECT(\"ZeroVal_\"&J$2,0)))","v":0},{"$f":"IF(CommandCell='Reference Cells'!$C$17,NA(),ABS('Data In'!E336-INDIRECT(\"ZeroVal_\"&K$2,0)))","v":0},{"$f":"IF(CommandCell='Reference Cells'!$C$17,NA(),ABS('Data In'!F336-INDIRECT(\"ZeroVal_\"&L$2,0)))","v":0},{"$f":"MAX(BackendTable[[#This Row],[S1]:[S5]])","v":0},{"$f":"IF(ISERROR(BackendTable[[#This Row],[T0Time]]),0,COUNTIFS(BackendTable[T0Time],\"<=\"&3,BackendTable[T0Time],\">=\"&0)-COUNTIFS(BackendTable[T0Time],\">\"&BackendTable[[#This Row],[T0Time]]))","v":500},null,null,null,null,null,null,null,null,null,null,null,null,null,null,null,null,null,null,null,null,null,null,null,null,{"$f":"MATCH(MAX(BackendTable[[#This Row],[T1S1]:[T1S5]]),BackendTable[[#This Row],[T1S1]:[T1S5]],0)","v":{"$error":"#N/A"}},{"$f":"MATCH(MAX(BackendTable[[#This Row],[T2S1]:[T2S5]]),BackendTable[[#This Row],[T2S1]:[T2S5]],0)","v":{"$error":"#N/A"}},{"$f":"MATCH(MAX(BackendTable[[#This Row],[T3S1]:[T3S5]]),BackendTable[[#This Row],[T3S1]:[T3S5]],0)","v":{"$error":"#N/A"}}]
[null,{"$f":"ROW()-ROW(BackendTable[[#Headers],[Row'#]])","v":330},{"$f":"'Data In'!A337","v":0},{"$f":"IF(BackendTable[[#This Row],[Time]]-'Reference Cells'!$C$3<=0,NA(),'Reference Cells'!$C$4-BackendTable[[#This Row],[Time]])*86400","v":{"$error":"#N/A"}},{"$f":"IFERROR(8-BackendTable[[#This Row],[Column1]],\"\")","v":""},{"$f":"IF(ISERROR(BackendTable[[#This Row],[Column1]]),-9,(BackendTable[[#This Row],[Net Time]]-NetTimeMin)*RangeAdj)","v":-9},{"$f":"IF(AND(BackendTable[[#This Row],[Time]]>='Reference Cells'!$C$6,BackendTable[[#This Row],[Time]]<='Reference Cells'!$C$7),(BackendTable[[#This Row],[Time]]-'Reference Cells'!$C$6)*86400,NA())","v":2},{"$f":"IF(CommandCell='Reference Cells'!$C$17,NA(),ABS('Data In'!B337-INDIRECT(\"ZeroVal_\"&H$2,0)))","v":0},{"$f":"IF(CommandCell='Reference Cells'!$C$17,NA(),ABS('Data In'!C337-INDIRECT(\"ZeroVal_\"&I$2,0)))","v":0},{"$f":"IF(CommandCell='Reference Cells'!$C$17,NA(),ABS('Data In'!D337-INDIRECT(\"ZeroVal_\"&J$2,0)))","v":0},{"$f":"IF(CommandCell='Reference Cells'!$C$17,NA(),ABS('Data In'!E337-INDIRECT(\"ZeroVal_\"&K$2,0)))","v":0},{"$f":"IF(CommandCell='Reference Cells'!$C$17,NA(),ABS('Data In'!F337-INDIRECT(\"ZeroVal_\"&L$2,0)))","v":0},{"$f":"MAX(BackendTable[[#This Row],[S1]:[S5]])","v":0},{"$f":"IF(ISERROR(BackendTable[[#This Row],[T0Time]]),0,COUNTIFS(BackendTable[T0Time],\"<=\"&3,BackendTable[T0Time],\">=\"&0)-COUNTIFS(BackendTable[T0Time],\">\"&BackendTable[[#This Row],[T0Time]]))","v":500},null,null,null,null,null,null,null,null,null,null,null,null,null,null,null,null,null,null,null,null,null,null,null,null,{"$f":"MATCH(MAX(BackendTable[[#This Row],[T1S1]:[T1S5]]),BackendTable[[#This Row],[T1S1]:[T1S5]],0)","v":{"$error":"#N/A"}},{"$f":"MATCH(MAX(BackendTable[[#This Row],[T2S1]:[T2S5]]),BackendTable[[#This Row],[T2S1]:[T2S5]],0)","v":{"$error":"#N/A"}},{"$f":"MATCH(MAX(BackendTable[[#This Row],[T3S1]:[T3S5]]),BackendTable[[#This Row],[T3S1]:[T3S5]],0)","v":{"$error":"#N/A"}}]
[null,{"$f":"ROW()-ROW(BackendTable[[#Headers],[Row'#]])","v":331},{"$f":"'Data In'!A338","v":0},{"$f":"IF(BackendTable[[#This Row],[Time]]-'Reference Cells'!$C$3<=0,NA(),'Reference Cells'!$C$4-BackendTable[[#This Row],[Time]])*86400","v":{"$error":"#N/A"}},{"$f":"IFERROR(8-BackendTable[[#This Row],[Column1]],\"\")","v":""},{"$f":"IF(ISERROR(BackendTable[[#This Row],[Column1]]),-9,(BackendTable[[#This Row],[Net Time]]-NetTimeMin)*RangeAdj)","v":-9},{"$f":"IF(AND(BackendTable[[#This Row],[Time]]>='Reference Cells'!$C$6,BackendTable[[#This Row],[Time]]<='Reference Cells'!$C$7),(BackendTable[[#This Row],[Time]]-'Reference Cells'!$C$6)*86400,NA())","v":2},{"$f":"IF(CommandCell='Reference Cells'!$C$17,NA(),ABS('Data In'!B338-INDIRECT(\"ZeroVal_\"&H$2,0)))","v":0},{"$f":"IF(CommandCell='Reference Cells'!$C$17,NA(),ABS('Data In'!C338-INDIRECT(\"ZeroVal_\"&I$2,0)))","v":0},{"$f":"IF(CommandCell='Reference Cells'!$C$17,NA(),ABS('Data In'!D338-INDIRECT(\"ZeroVal_\"&J$2,0)))","v":0},{"$f":"IF(CommandCell='Reference Cells'!$C$17,NA(),ABS('Data In'!E338-INDIRECT(\"ZeroVal_\"&K$2,0)))","v":0},{"$f":"IF(CommandCell='Reference Cells'!$C$17,NA(),ABS('Data In'!F338-INDIRECT(\"ZeroVal_\"&L$2,0)))","v":0},{"$f":"MAX(BackendTable[[#This Row],[S1]:[S5]])","v":0},{"$f":"IF(ISERROR(BackendTable[[#This Row],[T0Time]]),0,COUNTIFS(BackendTable[T0Time],\"<=\"&3,BackendTable[T0Time],\">=\"&0)-COUNTIFS(BackendTable[T0Time],\">\"&BackendTable[[#This Row],[T0Time]]))","v":500},null,null,null,null,null,null,null,null,null,null,null,null,null,null,null,null,null,null,null,null,null,null,null,null,{"$f":"MATCH(MAX(BackendTable[[#This Row],[T1S1]:[T1S5]]),BackendTable[[#This Row],[T1S1]:[T1S5]],0)","v":{"$error":"#N/A"}},{"$f":"MATCH(MAX(BackendTable[[#This Row],[T2S1]:[T2S5]]),BackendTable[[#This Row],[T2S1]:[T2S5]],0)","v":{"$error":"#N/A"}},{"$f":"MATCH(MAX(BackendTable[[#This Row],[T3S1]:[T3S5]]),BackendTable[[#This Row],[T3S1]:[T3S5]],0)","v":{"$error":"#N/A"}}]
[null,{"$f":"ROW()-ROW(BackendTable[[#Headers],[Row'#]])","v":332},{"$f":"'Data In'!A339","v":0},{"$f":"IF(BackendTable[[#This Row],[Time]]-'Reference Cells'!$C$3<=0,NA(),'Reference Cells'!$C$4-BackendTable[[#This Row],[Time]])*86400","v":{"$error":"#N/A"}},{"$f":"IFERROR(8-BackendTable[[#This Row],[Column1]],\"\")","v":""},{"$f":"IF(ISERROR(BackendTable[[#This Row],[Column1]]),-9,(BackendTable[[#This Row],[Net Time]]-NetTimeMin)*RangeAdj)","v":-9},{"$f":"IF(AND(BackendTable[[#This Row],[Time]]>='Reference Cells'!$C$6,BackendTable[[#This Row],[Time]]<='Reference Cells'!$C$7),(BackendTable[[#This Row],[Time]]-'Reference Cells'!$C$6)*86400,NA())","v":2},{"$f":"IF(CommandCell='Reference Cells'!$C$17,NA(),ABS('Data In'!B339-INDIRECT(\"ZeroVal_\"&H$2,0)))","v":0},{"$f":"IF(CommandCell='Reference Cells'!$C$17,NA(),ABS('Data In'!C339-INDIRECT(\"ZeroVal_\"&I$2,0)))","v":0},{"$f":"IF(CommandCell='Reference Cells'!$C$17,NA(),ABS('Data In'!D339-INDIRECT(\"ZeroVal_\"&J$2,0)))","v":0},{"$f":"IF(CommandCell='Reference Cells'!$C$17,NA(),ABS('Data In'!E339-INDIRECT(\"ZeroVal_\"&K$2,0)))","v":0},{"$f":"IF(CommandCell='Reference Cells'!$C$17,NA(),ABS('Data In'!F339-INDIRECT(\"ZeroVal_\"&L$2,0)))","v":0},{"$f":"MAX(BackendTable[[#This Row],[S1]:[S5]])","v":0},{"$f":"IF(ISERROR(BackendTable[[#This Row],[T0Time]]),0,COUNTIFS(BackendTable[T0Time],\"<=\"&3,BackendTable[T0Time],\">=\"&0)-COUNTIFS(BackendTable[T0Time],\">\"&BackendTable[[#This Row],[T0Time]]))","v":500},null,null,null,null,null,null,null,null,null,null,null,null,null,null,null,null,null,null,null,null,null,null,null,null,{"$f":"MATCH(MAX(BackendTable[[#This Row],[T1S1]:[T1S5]]),BackendTable[[#This Row],[T1S1]:[T1S5]],0)","v":{"$error":"#N/A"}},{"$f":"MATCH(MAX(BackendTable[[#This Row],[T2S1]:[T2S5]]),BackendTable[[#This Row],[T2S1]:[T2S5]],0)","v":{"$error":"#N/A"}},{"$f":"MATCH(MAX(BackendTable[[#This Row],[T3S1]:[T3S5]]),BackendTable[[#This Row],[T3S1]:[T3S5]],0)","v":{"$error":"#N/A"}}]
[null,{"$f":"ROW()-ROW(BackendTable[[#Headers],[Row'#]])","v":333},{"$f":"'Data In'!A340","v":0},{"$f":"IF(BackendTable[[#This Row],[Time]]-'Reference Cells'!$C$3<=0,NA(),'Reference Cells'!$C$4-BackendTable[[#This Row],[Time]])*86400","v":{"$error":"#N/A"}},{"$f":"IFERROR(8-BackendTable[[#This Row],[Column1]],\"\")","v":""},{"$f":"IF(ISERROR(BackendTable[[#This Row],[Column1]]),-9,(BackendTable[[#This Row],[Net Time]]-NetTimeMin)*RangeAdj)","v":-9},{"$f":"IF(AND(BackendTable[[#This Row],[Time]]>='Reference Cells'!$C$6,BackendTable[[#This Row],[Time]]<='Reference Cells'!$C$7),(BackendTable[[#This Row],[Time]]-'Reference Cells'!$C$6)*86400,NA())","v":2},{"$f":"IF(CommandCell='Reference Cells'!$C$17,NA(),ABS('Data In'!B340-INDIRECT(\"ZeroVal_\"&H$2,0)))","v":0},{"$f":"IF(CommandCell='Reference Cells'!$C$17,NA(),ABS('Data In'!C340-INDIRECT(\"ZeroVal_\"&I$2,0)))","v":0},{"$f":"IF(CommandCell='Reference Cells'!$C$17,NA(),ABS('Data In'!D340-INDIRECT(\"ZeroVal_\"&J$2,0)))","v":0},{"$f":"IF(CommandCell='Reference Cells'!$C$17,NA(),ABS('Data In'!E340-INDIRECT(\"ZeroVal_\"&K$2,0)))","v":0},{"$f":"IF(CommandCell='Reference Cells'!$C$17,NA(),ABS('Data In'!F340-INDIRECT(\"ZeroVal_\"&L$2,0)))","v":0},{"$f":"MAX(BackendTable[[#This Row],[S1]:[S5]])","v":0},{"$f":"IF(ISERROR(BackendTable[[#This Row],[T0Time]]),0,COUNTIFS(BackendTable[T0Time],\"<=\"&3,BackendTable[T0Time],\">=\"&0)-COUNTIFS(BackendTable[T0Time],\">\"&BackendTable[[#This Row],[T0Time]]))","v":500},null,null,null,null,null,null,null,null,null,null,null,null,null,null,null,null,null,null,null,null,null,null,null,null,{"$f":"MATCH(MAX(BackendTable[[#This Row],[T1S1]:[T1S5]]),BackendTable[[#This Row],[T1S1]:[T1S5]],0)","v":{"$error":"#N/A"}},{"$f":"MATCH(MAX(BackendTable[[#This Row],[T2S1]:[T2S5]]),BackendTable[[#This Row],[T2S1]:[T2S5]],0)","v":{"$error":"#N/A"}},{"$f":"MATCH(MAX(BackendTable[[#This Row],[T3S1]:[T3S5]]),BackendTable[[#This Row],[T3S1]:[T3S5]],0)","v":{"$error":"#N/A"}}]
[null,{"$f":"ROW()-ROW(BackendTable[[#Headers],[Row'#]])","v":334},{"$f":"'Data In'!A341","v":0},{"$f":"IF(BackendTable[[#This Row],[Time]]-'Reference Cells'!$C$3<=0,NA(),'Reference Cells'!$C$4-BackendTable[[#This Row],[Time]])*86400","v":{"$error":"#N/A"}},{"$f":"IFERROR(8-BackendTable[[#This Row],[Column1]],\"\")","v":""},{"$f":"IF(ISERROR(BackendTable[[#This Row],[Column1]]),-9,(BackendTable[[#This Row],[Net Time]]-NetTimeMin)*RangeAdj)","v":-9},{"$f":"IF(AND(BackendTable[[#This Row],[Time]]>='Reference Cells'!$C$6,BackendTable[[#This Row],[Time]]<='Reference Cells'!$C$7),(BackendTable[[#This Row],[Time]]-'Reference Cells'!$C$6)*86400,NA())","v":2},{"$f":"IF(CommandCell='Reference Cells'!$C$17,NA(),ABS('Data In'!B341-INDIRECT(\"ZeroVal_\"&H$2,0)))","v":0},{"$f":"IF(CommandCell='Reference Cells'!$C$17,NA(),ABS('Data In'!C341-INDIRECT(\"ZeroVal_\"&I$2,0)))","v":0},{"$f":"IF(CommandCell='Reference Cells'!$C$17,NA(),ABS('Data In'!D341-INDIRECT(\"ZeroVal_\"&J$2,0)))","v":0},{"$f":"IF(CommandCell='Reference Cells'!$C$17,NA(),ABS('Data In'!E341-INDIRECT(\"ZeroVal_\"&K$2,0)))","v":0},{"$f":"IF(CommandCell='Reference Cells'!$C$17,NA(),ABS('Data In'!F341-INDIRECT(\"ZeroVal_\"&L$2,0)))","v":0},{"$f":"MAX(BackendTable[[#This Row],[S1]:[S5]])","v":0},{"$f":"IF(ISERROR(BackendTable[[#This Row],[T0Time]]),0,COUNTIFS(BackendTable[T0Time],\"<=\"&3,BackendTable[T0Time],\">=\"&0)-COUNTIFS(BackendTable[T0Time],\">\"&BackendTable[[#This Row],[T0Time]]))","v":500},null,null,null,null,null,null,null,null,null,null,null,null,null,null,null,null,null,null,null,null,null,null,null,null,{"$f":"MATCH(MAX(BackendTable[[#This Row],[T1S1]:[T1S5]]),BackendTable[[#This Row],[T1S1]:[T1S5]],0)","v":{"$error":"#N/A"}},{"$f":"MATCH(MAX(BackendTable[[#This Row],[T2S1]:[T2S5]]),BackendTable[[#This Row],[T2S1]:[T2S5]],0)","v":{"$error":"#N/A"}},{"$f":"MATCH(MAX(BackendTable[[#This Row],[T3S1]:[T3S5]]),BackendTable[[#This Row],[T3S1]:[T3S5]],0)","v":{"$error":"#N/A"}}]
[null,{"$f":"ROW()-ROW(BackendTable[[#Headers],[Row'#]])","v":335},{"$f":"'Data In'!A342","v":0},{"$f":"IF(BackendTable[[#This Row],[Time]]-'Reference Cells'!$C$3<=0,NA(),'Reference Cells'!$C$4-BackendTable[[#This Row],[Time]])*86400","v":{"$error":"#N/A"}},{"$f":"IFERROR(8-BackendTable[[#This Row],[Column1]],\"\")","v":""},{"$f":"IF(ISERROR(BackendTable[[#This Row],[Column1]]),-9,(BackendTable[[#This Row],[Net Time]]-NetTimeMin)*RangeAdj)","v":-9},{"$f":"IF(AND(BackendTable[[#This Row],[Time]]>='Reference Cells'!$C$6,BackendTable[[#This Row],[Time]]<='Reference Cells'!$C$7),(BackendTable[[#This Row],[Time]]-'Reference Cells'!$C$6)*86400,NA())","v":2},{"$f":"IF(CommandCell='Reference Cells'!$C$17,NA(),ABS('Data In'!B342-INDIRECT(\"ZeroVal_\"&H$2,0)))","v":0},{"$f":"IF(CommandCell='Reference Cells'!$C$17,NA(),ABS('Data In'!C342-INDIRECT(\"ZeroVal_\"&I$2,0)))","v":0},{"$f":"IF(CommandCell='Reference Cells'!$C$17,NA(),ABS('Data In'!D342-INDIRECT(\"ZeroVal_\"&J$2,0)))","v":0},{"$f":"IF(CommandCell='Reference Cells'!$C$17,NA(),ABS('Data In'!E342-INDIRECT(\"ZeroVal_\"&K$2,0)))","v":0},{"$f":"IF(CommandCell='Reference Cells'!$C$17,NA(),ABS('Data In'!F342-INDIRECT(\"ZeroVal_\"&L$2,0)))","v":0},{"$f":"MAX(BackendTable[[#This Row],[S1]:[S5]])","v":0},{"$f":"IF(ISERROR(BackendTable[[#This Row],[T0Time]]),0,COUNTIFS(BackendTable[T0Time],\"<=\"&3,BackendTable[T0Time],\">=\"&0)-COUNTIFS(BackendTable[T0Time],\">\"&BackendTable[[#This Row],[T0Time]]))","v":500},null,null,null,null,null,null,null,null,null,null,null,null,null,null,null,null,null,null,null,null,null,null,null,null,{"$f":"MATCH(MAX(BackendTable[[#This Row],[T1S1]:[T1S5]]),BackendTable[[#This Row],[T1S1]:[T1S5]],0)","v":{"$error":"#N/A"}},{"$f":"MATCH(MAX(BackendTable[[#This Row],[T2S1]:[T2S5]]),BackendTable[[#This Row],[T2S1]:[T2S5]],0)","v":{"$error":"#N/A"}},{"$f":"MATCH(MAX(BackendTable[[#This Row],[T3S1]:[T3S5]]),BackendTable[[#This Row],[T3S1]:[T3S5]],0)","v":{"$error":"#N/A"}}]
[null,{"$f":"ROW()-ROW(BackendTable[[#Headers],[Row'#]])","v":336},{"$f":"'Data In'!A343","v":0},{"$f":"IF(BackendTable[[#This Row],[Time]]-'Reference Cells'!$C$3<=0,NA(),'Reference Cells'!$C$4-BackendTable[[#This Row],[Time]])*86400","v":{"$error":"#N/A"}},{"$f":"IFERROR(8-BackendTable[[#This Row],[Column1]],\"\")","v":""},{"$f":"IF(ISERROR(BackendTable[[#This Row],[Column1]]),-9,(BackendTable[[#This Row],[Net Time]]-NetTimeMin)*RangeAdj)","v":-9},{"$f":"IF(AND(BackendTable[[#This Row],[Time]]>='Reference Cells'!$C$6,BackendTable[[#This Row],[Time]]<='Reference Cells'!$C$7),(BackendTable[[#This Row],[Time]]-'Reference Cells'!$C$6)*86400,NA())","v":2},{"$f":"IF(CommandCell='Reference Cells'!$C$17,NA(),ABS('Data In'!B343-INDIRECT(\"ZeroVal_\"&H$2,0)))","v":0},{"$f":"IF(CommandCell='Reference Cells'!$C$17,NA(),ABS('Data In'!C343-INDIRECT(\"ZeroVal_\"&I$2,0)))","v":0},{"$f":"IF(CommandCell='Reference Cells'!$C$17,NA(),ABS('Data In'!D343-INDIRECT(\"ZeroVal_\"&J$2,0)))","v":0},{"$f":"IF(CommandCell='Reference Cells'!$C$17,NA(),ABS('Data In'!E343-INDIRECT(\"ZeroVal_\"&K$2,0)))","v":0},{"$f":"IF(CommandCell='Reference Cells'!$C$17,NA(),ABS('Data In'!F343-INDIRECT(\"ZeroVal_\"&L$2,0)))","v":0},{"$f":"MAX(BackendTable[[#This Row],[S1]:[S5]])","v":0},{"$f":"IF(ISERROR(BackendTable[[#This Row],[T0Time]]),0,COUNTIFS(BackendTable[T0Time],\"<=\"&3,BackendTable[T0Time],\">=\"&0)-COUNTIFS(BackendTable[T0Time],\">\"&BackendTable[[#This Row],[T0Time]]))","v":500},null,null,null,null,null,null,null,null,null,null,null,null,null,null,null,null,null,null,null,null,null,null,null,null,{"$f":"MATCH(MAX(BackendTable[[#This Row],[T1S1]:[T1S5]]),BackendTable[[#This Row],[T1S1]:[T1S5]],0)","v":{"$error":"#N/A"}},{"$f":"MATCH(MAX(BackendTable[[#This Row],[T2S1]:[T2S5]]),BackendTable[[#This Row],[T2S1]:[T2S5]],0)","v":{"$error":"#N/A"}},{"$f":"MATCH(MAX(BackendTable[[#This Row],[T3S1]:[T3S5]]),BackendTable[[#This Row],[T3S1]:[T3S5]],0)","v":{"$error":"#N/A"}}]
[null,{"$f":"ROW()-ROW(BackendTable[[#Headers],[Row'#]])","v":337},{"$f":"'Data In'!A344","v":0},{"$f":"IF(BackendTable[[#This Row],[Time]]-'Reference Cells'!$C$3<=0,NA(),'Reference Cells'!$C$4-BackendTable[[#This Row],[Time]])*86400","v":{"$error":"#N/A"}},{"$f":"IFERROR(8-BackendTable[[#This Row],[Column1]],\"\")","v":""},{"$f":"IF(ISERROR(BackendTable[[#This Row],[Column1]]),-9,(BackendTable[[#This Row],[Net Time]]-NetTimeMin)*RangeAdj)","v":-9},{"$f":"IF(AND(BackendTable[[#This Row],[Time]]>='Reference Cells'!$C$6,BackendTable[[#This Row],[Time]]<='Reference Cells'!$C$7),(BackendTable[[#This Row],[Time]]-'Reference Cells'!$C$6)*86400,NA())","v":2},{"$f":"IF(CommandCell='Reference Cells'!$C$17,NA(),ABS('Data In'!B344-INDIRECT(\"ZeroVal_\"&H$2,0)))","v":0},{"$f":"IF(CommandCell='Reference Cells'!$C$17,NA(),ABS('Data In'!C344-INDIRECT(\"ZeroVal_\"&I$2,0)))","v":0},{"$f":"IF(CommandCell='Reference Cells'!$C$17,NA(),ABS('Data In'!D344-INDIRECT(\"ZeroVal_\"&J$2,0)))","v":0},{"$f":"IF(CommandCell='Reference Cells'!$C$17,NA(),ABS('Data In'!E344-INDIRECT(\"ZeroVal_\"&K$2,0)))","v":0},{"$f":"IF(CommandCell='Reference Cells'!$C$17,NA(),ABS('Data In'!F344-INDIRECT(\"ZeroVal_\"&L$2,0)))","v":0},{"$f":"MAX(BackendTable[[#This Row],[S1]:[S5]])","v":0},{"$f":"IF(ISERROR(BackendTable[[#This Row],[T0Time]]),0,COUNTIFS(BackendTable[T0Time],\"<=\"&3,BackendTable[T0Time],\">=\"&0)-COUNTIFS(BackendTable[T0Time],\">\"&BackendTable[[#This Row],[T0Time]]))","v":500},null,null,null,null,null,null,null,null,null,null,null,null,null,null,null,null,null,null,null,null,null,null,null,null,{"$f":"MATCH(MAX(BackendTable[[#This Row],[T1S1]:[T1S5]]),BackendTable[[#This Row],[T1S1]:[T1S5]],0)","v":{"$error":"#N/A"}},{"$f":"MATCH(MAX(BackendTable[[#This Row],[T2S1]:[T2S5]]),BackendTable[[#This Row],[T2S1]:[T2S5]],0)","v":{"$error":"#N/A"}},{"$f":"MATCH(MAX(BackendTable[[#This Row],[T3S1]:[T3S5]]),BackendTable[[#This Row],[T3S1]:[T3S5]],0)","v":{"$error":"#N/A"}}]
[null,{"$f":"ROW()-ROW(BackendTable[[#Headers],[Row'#]])","v":338},{"$f":"'Data In'!A345","v":0},{"$f":"IF(BackendTable[[#This Row],[Time]]-'Reference Cells'!$C$3<=0,NA(),'Reference Cells'!$C$4-BackendTable[[#This Row],[Time]])*86400","v":{"$error":"#N/A"}},{"$f":"IFERROR(8-BackendTable[[#This Row],[Column1]],\"\")","v":""},{"$f":"IF(ISERROR(BackendTable[[#This Row],[Column1]]),-9,(BackendTable[[#This Row],[Net Time]]-NetTimeMin)*RangeAdj)","v":-9},{"$f":"IF(AND(BackendTable[[#This Row],[Time]]>='Reference Cells'!$C$6,BackendTable[[#This Row],[Time]]<='Reference Cells'!$C$7),(BackendTable[[#This Row],[Time]]-'Reference Cells'!$C$6)*86400,NA())","v":2},{"$f":"IF(CommandCell='Reference Cells'!$C$17,NA(),ABS('Data In'!B345-INDIRECT(\"ZeroVal_\"&H$2,0)))","v":0},{"$f":"IF(CommandCell='Reference Cells'!$C$17,NA(),ABS('Data In'!C345-INDIRECT(\"ZeroVal_\"&I$2,0)))","v":0},{"$f":"IF(CommandCell='Reference Cells'!$C$17,NA(),ABS('Data In'!D345-INDIRECT(\"ZeroVal_\"&J$2,0)))","v":0},{"$f":"IF(CommandCell='Reference Cells'!$C$17,NA(),ABS('Data In'!E345-INDIRECT(\"ZeroVal_\"&K$2,0)))","v":0},{"$f":"IF(CommandCell='Reference Cells'!$C$17,NA(),ABS('Data In'!F345-INDIRECT(\"ZeroVal_\"&L$2,0)))","v":0},{"$f":"MAX(BackendTable[[#This Row],[S1]:[S5]])","v":0},{"$f":"IF(ISERROR(BackendTable[[#This Row],[T0Time]]),0,COUNTIFS(BackendTable[T0Time],\"<=\"&3,BackendTable[T0Time],\">=\"&0)-COUNTIFS(BackendTable[T0Time],\">\"&BackendTable[[#This Row],[T0Time]]))","v":500},null,null,null,null,null,null,null,null,null,null,null,null,null,null,null,null,null,null,null,null,null,null,null,null,{"$f":"MATCH(MAX(BackendTable[[#This Row],[T1S1]:[T1S5]]),BackendTable[[#This Row],[T1S1]:[T1S5]],0)","v":{"$error":"#N/A"}},{"$f":"MATCH(MAX(BackendTable[[#This Row],[T2S1]:[T2S5]]),BackendTable[[#This Row],[T2S1]:[T2S5]],0)","v":{"$error":"#N/A"}},{"$f":"MATCH(MAX(BackendTable[[#This Row],[T3S1]:[T3S5]]),BackendTable[[#This Row],[T3S1]:[T3S5]],0)","v":{"$error":"#N/A"}}]
[null,{"$f":"ROW()-ROW(BackendTable[[#Headers],[Row'#]])","v":339},{"$f":"'Data In'!A346","v":0},{"$f":"IF(BackendTable[[#This Row],[Time]]-'Reference Cells'!$C$3<=0,NA(),'Reference Cells'!$C$4-BackendTable[[#This Row],[Time]])*86400","v":{"$error":"#N/A"}},{"$f":"IFERROR(8-BackendTable[[#This Row],[Column1]],\"\")","v":""},{"$f":"IF(ISERROR(BackendTable[[#This Row],[Column1]]),-9,(BackendTable[[#This Row],[Net Time]]-NetTimeMin)*RangeAdj)","v":-9},{"$f":"IF(AND(BackendTable[[#This Row],[Time]]>='Reference Cells'!$C$6,BackendTable[[#This Row],[Time]]<='Reference Cells'!$C$7),(BackendTable[[#This Row],[Time]]-'Reference Cells'!$C$6)*86400,NA())","v":2},{"$f":"IF(CommandCell='Reference Cells'!$C$17,NA(),ABS('Data In'!B346-INDIRECT(\"ZeroVal_\"&H$2,0)))","v":0},{"$f":"IF(CommandCell='Reference Cells'!$C$17,NA(),ABS('Data In'!C346-INDIRECT(\"ZeroVal_\"&I$2,0)))","v":0},{"$f":"IF(CommandCell='Reference Cells'!$C$17,NA(),ABS('Data In'!D346-INDIRECT(\"ZeroVal_\"&J$2,0)))","v":0},{"$f":"IF(CommandCell='Reference Cells'!$C$17,NA(),ABS('Data In'!E346-INDIRECT(\"ZeroVal_\"&K$2,0)))","v":0},{"$f":"IF(CommandCell='Reference Cells'!$C$17,NA(),ABS('Data In'!F346-INDIRECT(\"ZeroVal_\"&L$2,0)))","v":0},{"$f":"MAX(BackendTable[[#This Row],[S1]:[S5]])","v":0},{"$f":"IF(ISERROR(BackendTable[[#This Row],[T0Time]]),0,COUNTIFS(BackendTable[T0Time],\"<=\"&3,BackendTable[T0Time],\">=\"&0)-COUNTIFS(BackendTable[T0Time],\">\"&BackendTable[[#This Row],[T0Time]]))","v":500},null,null,null,null,null,null,null,null,null,null,null,null,null,null,null,null,null,null,null,null,null,null,null,null,{"$f":"MATCH(MAX(BackendTable[[#This Row],[T1S1]:[T1S5]]),BackendTable[[#This Row],[T1S1]:[T1S5]],0)","v":{"$error":"#N/A"}},{"$f":"MATCH(MAX(BackendTable[[#This Row],[T2S1]:[T2S5]]),BackendTable[[#This Row],[T2S1]:[T2S5]],0)","v":{"$error":"#N/A"}},{"$f":"MATCH(MAX(BackendTable[[#This Row],[T3S1]:[T3S5]]),BackendTable[[#This Row],[T3S1]:[T3S5]],0)","v":{"$error":"#N/A"}}]
[null,{"$f":"ROW()-ROW(BackendTable[[#Headers],[Row'#]])","v":340},{"$f":"'Data In'!A347","v":0},{"$f":"IF(BackendTable[[#This Row],[Time]]-'Reference Cells'!$C$3<=0,NA(),'Reference Cells'!$C$4-BackendTable[[#This Row],[Time]])*86400","v":{"$error":"#N/A"}},{"$f":"IFERROR(8-BackendTable[[#This Row],[Column1]],\"\")","v":""},{"$f":"IF(ISERROR(BackendTable[[#This Row],[Column1]]),-9,(BackendTable[[#This Row],[Net Time]]-NetTimeMin)*RangeAdj)","v":-9},{"$f":"IF(AND(BackendTable[[#This Row],[Time]]>='Reference Cells'!$C$6,BackendTable[[#This Row],[Time]]<='Reference Cells'!$C$7),(BackendTable[[#This Row],[Time]]-'Reference Cells'!$C$6)*86400,NA())","v":2},{"$f":"IF(CommandCell='Reference Cells'!$C$17,NA(),ABS('Data In'!B347-INDIRECT(\"ZeroVal_\"&H$2,0)))","v":0},{"$f":"IF(CommandCell='Reference Cells'!$C$17,NA(),ABS('Data In'!C347-INDIRECT(\"ZeroVal_\"&I$2,0)))","v":0},{"$f":"IF(CommandCell='Reference Cells'!$C$17,NA(),ABS('Data In'!D347-INDIRECT(\"ZeroVal_\"&J$2,0)))","v":0},{"$f":"IF(CommandCell='Reference Cells'!$C$17,NA(),ABS('Data In'!E347-INDIRECT(\"ZeroVal_\"&K$2,0)))","v":0},{"$f":"IF(CommandCell='Reference Cells'!$C$17,NA(),ABS('Data In'!F347-INDIRECT(\"ZeroVal_\"&L$2,0)))","v":0},{"$f":"MAX(BackendTable[[#This Row],[S1]:[S5]])","v":0},{"$f":"IF(ISERROR(BackendTable[[#This Row],[T0Time]]),0,COUNTIFS(BackendTable[T0Time],\"<=\"&3,BackendTable[T0Time],\">=\"&0)-COUNTIFS(BackendTable[T0Time],\">\"&BackendTable[[#This Row],[T0Time]]))","v":500},null,null,null,null,null,null,null,null,null,null,null,null,null,null,null,null,null,null,null,null,null,null,null,null,{"$f":"MATCH(MAX(BackendTable[[#This Row],[T1S1]:[T1S5]]),BackendTable[[#This Row],[T1S1]:[T1S5]],0)","v":{"$error":"#N/A"}},{"$f":"MATCH(MAX(BackendTable[[#This Row],[T2S1]:[T2S5]]),BackendTable[[#This Row],[T2S1]:[T2S5]],0)","v":{"$error":"#N/A"}},{"$f":"MATCH(MAX(BackendTable[[#This Row],[T3S1]:[T3S5]]),BackendTable[[#This Row],[T3S1]:[T3S5]],0)","v":{"$error":"#N/A"}}]
[null,{"$f":"ROW()-ROW(BackendTable[[#Headers],[Row'#]])","v":341},{"$f":"'Data In'!A348","v":0},{"$f":"IF(BackendTable[[#This Row],[Time]]-'Reference Cells'!$C$3<=0,NA(),'Reference Cells'!$C$4-BackendTable[[#This Row],[Time]])*86400","v":{"$error":"#N/A"}},{"$f":"IFERROR(8-BackendTable[[#This Row],[Column1]],\"\")","v":""},{"$f":"IF(ISERROR(BackendTable[[#This Row],[Column1]]),-9,(BackendTable[[#This Row],[Net Time]]-NetTimeMin)*RangeAdj)","v":-9},{"$f":"IF(AND(BackendTable[[#This Row],[Time]]>='Reference Cells'!$C$6,BackendTable[[#This Row],[Time]]<='Reference Cells'!$C$7),(BackendTable[[#This Row],[Time]]-'Reference Cells'!$C$6)*86400,NA())","v":2},{"$f":"IF(CommandCell='Reference Cells'!$C$17,NA(),ABS('Data In'!B348-INDIRECT(\"ZeroVal_\"&H$2,0)))","v":0},{"$f":"IF(CommandCell='Reference Cells'!$C$17,NA(),ABS('Data In'!C348-INDIRECT(\"ZeroVal_\"&I$2,0)))","v":0},{"$f":"IF(CommandCell='Reference Cells'!$C$17,NA(),ABS('Data In'!D348-INDIRECT(\"ZeroVal_\"&J$2,0)))","v":0},{"$f":"IF(CommandCell='Reference Cells'!$C$17,NA(),ABS('Data In'!E348-INDIRECT(\"ZeroVal_\"&K$2,0)))","v":0},{"$f":"IF(CommandCell='Reference Cells'!$C$17,NA(),ABS('Data In'!F348-INDIRECT(\"ZeroVal_\"&L$2,0)))","v":0},{"$f":"MAX(BackendTable[[#This Row],[S1]:[S5]])","v":0},{"$f":"IF(ISERROR(BackendTable[[#This Row],[T0Time]]),0,COUNTIFS(BackendTable[T0Time],\"<=\"&3,BackendTable[T0Time],\">=\"&0)-COUNTIFS(BackendTable[T0Time],\">\"&BackendTable[[#This Row],[T0Time]]))","v":500},null,null,null,null,null,null,null,null,null,null,null,null,null,null,null,null,null,null,null,null,null,null,null,null,{"$f":"MATCH(MAX(BackendTable[[#This Row],[T1S1]:[T1S5]]),BackendTable[[#This Row],[T1S1]:[T1S5]],0)","v":{"$error":"#N/A"}},{"$f":"MATCH(MAX(BackendTable[[#This Row],[T2S1]:[T2S5]]),BackendTable[[#This Row],[T2S1]:[T2S5]],0)","v":{"$error":"#N/A"}},{"$f":"MATCH(MAX(BackendTable[[#This Row],[T3S1]:[T3S5]]),BackendTable[[#This Row],[T3S1]:[T3S5]],0)","v":{"$error":"#N/A"}}]
[null,{"$f":"ROW()-ROW(BackendTable[[#Headers],[Row'#]])","v":342},{"$f":"'Data In'!A349","v":0},{"$f":"IF(BackendTable[[#This Row],[Time]]-'Reference Cells'!$C$3<=0,NA(),'Reference Cells'!$C$4-BackendTable[[#This Row],[Time]])*86400","v":{"$error":"#N/A"}},{"$f":"IFERROR(8-BackendTable[[#This Row],[Column1]],\"\")","v":""},{"$f":"IF(ISERROR(BackendTable[[#This Row],[Column1]]),-9,(BackendTable[[#This Row],[Net Time]]-NetTimeMin)*RangeAdj)","v":-9},{"$f":"IF(AND(BackendTable[[#This Row],[Time]]>='Reference Cells'!$C$6,BackendTable[[#This Row],[Time]]<='Reference Cells'!$C$7),(BackendTable[[#This Row],[Time]]-'Reference Cells'!$C$6)*86400,NA())","v":2},{"$f":"IF(CommandCell='Reference Cells'!$C$17,NA(),ABS('Data In'!B349-INDIRECT(\"ZeroVal_\"&H$2,0)))","v":0},{"$f":"IF(CommandCell='Reference Cells'!$C$17,NA(),ABS('Data In'!C349-INDIRECT(\"ZeroVal_\"&I$2,0)))","v":0},{"$f":"IF(CommandCell='Reference Cells'!$C$17,NA(),ABS('Data In'!D349-INDIRECT(\"ZeroVal_\"&J$2,0)))","v":0},{"$f":"IF(CommandCell='Reference Cells'!$C$17,NA(),ABS('Data In'!E349-INDIRECT(\"ZeroVal_\"&K$2,0)))","v":0},{"$f":"IF(CommandCell='Reference Cells'!$C$17,NA(),ABS('Data In'!F349-INDIRECT(\"ZeroVal_\"&L$2,0)))","v":0},{"$f":"MAX(BackendTable[[#This Row],[S1]:[S5]])","v":0},{"$f":"IF(ISERROR(BackendTable[[#This Row],[T0Time]]),0,COUNTIFS(BackendTable[T0Time],\"<=\"&3,BackendTable[T0Time],\">=\"&0)-COUNTIFS(BackendTable[T0Time],\">\"&BackendTable[[#This Row],[T0Time]]))","v":500},null,null,null,null,null,null,null,null,null,null,null,null,null,null,null,null,null,null,null,null,null,null,null,null,{"$f":"MATCH(MAX(BackendTable[[#This Row],[T1S1]:[T1S5]]),BackendTable[[#This Row],[T1S1]:[T1S5]],0)","v":{"$error":"#N/A"}},{"$f":"MATCH(MAX(BackendTable[[#This Row],[T2S1]:[T2S5]]),BackendTable[[#This Row],[T2S1]:[T2S5]],0)","v":{"$error":"#N/A"}},{"$f":"MATCH(MAX(BackendTable[[#This Row],[T3S1]:[T3S5]]),BackendTable[[#This Row],[T3S1]:[T3S5]],0)","v":{"$error":"#N/A"}}]
[null,{"$f":"ROW()-ROW(BackendTable[[#Headers],[Row'#]])","v":343},{"$f":"'Data In'!A350","v":0},{"$f":"IF(BackendTable[[#This Row],[Time]]-'Reference Cells'!$C$3<=0,NA(),'Reference Cells'!$C$4-BackendTable[[#This Row],[Time]])*86400","v":{"$error":"#N/A"}},{"$f":"IFERROR(8-BackendTable[[#This Row],[Column1]],\"\")","v":""},{"$f":"IF(ISERROR(BackendTable[[#This Row],[Column1]]),-9,(BackendTable[[#This Row],[Net Time]]-NetTimeMin)*RangeAdj)","v":-9},{"$f":"IF(AND(BackendTable[[#This Row],[Time]]>='Reference Cells'!$C$6,BackendTable[[#This Row],[Time]]<='Reference Cells'!$C$7),(BackendTable[[#This Row],[Time]]-'Reference Cells'!$C$6)*86400,NA())","v":2},{"$f":"IF(CommandCell='Reference Cells'!$C$17,NA(),ABS('Data In'!B350-INDIRECT(\"ZeroVal_\"&H$2,0)))","v":0},{"$f":"IF(CommandCell='Reference Cells'!$C$17,NA(),ABS('Data In'!C350-INDIRECT(\"ZeroVal_\"&I$2,0)))","v":0},{"$f":"IF(CommandCell='Reference Cells'!$C$17,NA(),ABS('Data In'!D350-INDIRECT(\"ZeroVal_\"&J$2,0)))","v":0},{"$f":"IF(CommandCell='Reference Cells'!$C$17,NA(),ABS('Data In'!E350-INDIRECT(\"ZeroVal_\"&K$2,0)))","v":0},{"$f":"IF(CommandCell='Reference Cells'!$C$17,NA(),ABS('Data In'!F350-INDIRECT(\"ZeroVal_\"&L$2,0)))","v":0},{"$f":"MAX(BackendTable[[#This Row],[S1]:[S5]])","v":0},{"$f":"IF(ISERROR(BackendTable[[#This Row],[T0Time]]),0,COUNTIFS(BackendTable[T0Time],\"<=\"&3,BackendTable[T0Time],\">=\"&0)-COUNTIFS(BackendTable[T0Time],\">\"&BackendTable[[#This Row],[T0Time]]))","v":500},null,null,null,null,null,null,null,null,null,null,null,null,null,null,null,null,null,null,null,null,null,null,null,null,{"$f":"MATCH(MAX(BackendTable[[#This Row],[T1S1]:[T1S5]]),BackendTable[[#This Row],[T1S1]:[T1S5]],0)","v":{"$error":"#N/A"}},{"$f":"MATCH(MAX(BackendTable[[#This Row],[T2S1]:[T2S5]]),BackendTable[[#This Row],[T2S1]:[T2S5]],0)","v":{"$error":"#N/A"}},{"$f":"MATCH(MAX(BackendTable[[#This Row],[T3S1]:[T3S5]]),BackendTable[[#This Row],[T3S1]:[T3S5]],0)","v":{"$error":"#N/A"}}]
[null,{"$f":"ROW()-ROW(BackendTable[[#Headers],[Row'#]])","v":344},{"$f":"'Data In'!A351","v":0},{"$f":"IF(BackendTable[[#This Row],[Time]]-'Reference Cells'!$C$3<=0,NA(),'Reference Cells'!$C$4-BackendTable[[#This Row],[Time]])*86400","v":{"$error":"#N/A"}},{"$f":"IFERROR(8-BackendTable[[#This Row],[Column1]],\"\")","v":""},{"$f":"IF(ISERROR(BackendTable[[#This Row],[Column1]]),-9,(BackendTable[[#This Row],[Net Time]]-NetTimeMin)*RangeAdj)","v":-9},{"$f":"IF(AND(BackendTable[[#This Row],[Time]]>='Reference Cells'!$C$6,BackendTable[[#This Row],[Time]]<='Reference Cells'!$C$7),(BackendTable[[#This Row],[Time]]-'Reference Cells'!$C$6)*86400,NA())","v":2},{"$f":"IF(CommandCell='Reference Cells'!$C$17,NA(),ABS('Data In'!B351-INDIRECT(\"ZeroVal_\"&H$2,0)))","v":0},{"$f":"IF(CommandCell='Reference Cells'!$C$17,NA(),ABS('Data In'!C351-INDIRECT(\"ZeroVal_\"&I$2,0)))","v":0},{"$f":"IF(CommandCell='Reference Cells'!$C$17,NA(),ABS('Data In'!D351-INDIRECT(\"ZeroVal_\"&J$2,0)))","v":0},{"$f":"IF(CommandCell='Reference Cells'!$C$17,NA(),ABS('Data In'!E351-INDIRECT(\"ZeroVal_\"&K$2,0)))","v":0},{"$f":"IF(CommandCell='Reference Cells'!$C$17,NA(),ABS('Data In'!F351-INDIRECT(\"ZeroVal_\"&L$2,0)))","v":0},{"$f":"MAX(BackendTable[[#This Row],[S1]:[S5]])","v":0},{"$f":"IF(ISERROR(BackendTable[[#This Row],[T0Time]]),0,COUNTIFS(BackendTable[T0Time],\"<=\"&3,BackendTable[T0Time],\">=\"&0)-COUNTIFS(BackendTable[T0Time],\">\"&BackendTable[[#This Row],[T0Time]]))","v":500},null,null,null,null,null,null,null,null,null,null,null,null,null,null,null,null,null,null,null,null,null,null,null,null,{"$f":"MATCH(MAX(BackendTable[[#This Row],[T1S1]:[T1S5]]),BackendTable[[#This Row],[T1S1]:[T1S5]],0)","v":{"$error":"#N/A"}},{"$f":"MATCH(MAX(BackendTable[[#This Row],[T2S1]:[T2S5]]),BackendTable[[#This Row],[T2S1]:[T2S5]],0)","v":{"$error":"#N/A"}},{"$f":"MATCH(MAX(BackendTable[[#This Row],[T3S1]:[T3S5]]),BackendTable[[#This Row],[T3S1]:[T3S5]],0)","v":{"$error":"#N/A"}}]
[null,{"$f":"ROW()-ROW(BackendTable[[#Headers],[Row'#]])","v":345},{"$f":"'Data In'!A352","v":0},{"$f":"IF(BackendTable[[#This Row],[Time]]-'Reference Cells'!$C$3<=0,NA(),'Reference Cells'!$C$4-BackendTable[[#This Row],[Time]])*86400","v":{"$error":"#N/A"}},{"$f":"IFERROR(8-BackendTable[[#This Row],[Column1]],\"\")","v":""},{"$f":"IF(ISERROR(BackendTable[[#This Row],[Column1]]),-9,(BackendTable[[#This Row],[Net Time]]-NetTimeMin)*RangeAdj)","v":-9},{"$f":"IF(AND(BackendTable[[#This Row],[Time]]>='Reference Cells'!$C$6,BackendTable[[#This Row],[Time]]<='Reference Cells'!$C$7),(BackendTable[[#This Row],[Time]]-'Reference Cells'!$C$6)*86400,NA())","v":2},{"$f":"IF(CommandCell='Reference Cells'!$C$17,NA(),ABS('Data In'!B352-INDIRECT(\"ZeroVal_\"&H$2,0)))","v":0},{"$f":"IF(CommandCell='Reference Cells'!$C$17,NA(),ABS('Data In'!C352-INDIRECT(\"ZeroVal_\"&I$2,0)))","v":0},{"$f":"IF(CommandCell='Reference Cells'!$C$17,NA(),ABS('Data In'!D352-INDIRECT(\"ZeroVal_\"&J$2,0)))","v":0},{"$f":"IF(CommandCell='Reference Cells'!$C$17,NA(),ABS('Data In'!E352-INDIRECT(\"ZeroVal_\"&K$2,0)))","v":0},{"$f":"IF(CommandCell='Reference Cells'!$C$17,NA(),ABS('Data In'!F352-INDIRECT(\"ZeroVal_\"&L$2,0)))","v":0},{"$f":"MAX(BackendTable[[#This Row],[S1]:[S5]])","v":0},{"$f":"IF(ISERROR(BackendTable[[#This Row],[T0Time]]),0,COUNTIFS(BackendTable[T0Time],\"<=\"&3,BackendTable[T0Time],\">=\"&0)-COUNTIFS(BackendTable[T0Time],\">\"&BackendTable[[#This Row],[T0Time]]))","v":500},null,null,null,null,null,null,null,null,null,null,null,null,null,null,null,null,null,null,null,null,null,null,null,null,{"$f":"MATCH(MAX(BackendTable[[#This Row],[T1S1]:[T1S5]]),BackendTable[[#This Row],[T1S1]:[T1S5]],0)","v":{"$error":"#N/A"}},{"$f":"MATCH(MAX(BackendTable[[#This Row],[T2S1]:[T2S5]]),BackendTable[[#This Row],[T2S1]:[T2S5]],0)","v":{"$error":"#N/A"}},{"$f":"MATCH(MAX(BackendTable[[#This Row],[T3S1]:[T3S5]]),BackendTable[[#This Row],[T3S1]:[T3S5]],0)","v":{"$error":"#N/A"}}]
[null,{"$f":"ROW()-ROW(BackendTable[[#Headers],[Row'#]])","v":346},{"$f":"'Data In'!A353","v":0},{"$f":"IF(BackendTable[[#This Row],[Time]]-'Reference Cells'!$C$3<=0,NA(),'Reference Cells'!$C$4-BackendTable[[#This Row],[Time]])*86400","v":{"$error":"#N/A"}},{"$f":"IFERROR(8-BackendTable[[#This Row],[Column1]],\"\")","v":""},{"$f":"IF(ISERROR(BackendTable[[#This Row],[Column1]]),-9,(BackendTable[[#This Row],[Net Time]]-NetTimeMin)*RangeAdj)","v":-9},{"$f":"IF(AND(BackendTable[[#This Row],[Time]]>='Reference Cells'!$C$6,BackendTable[[#This Row],[Time]]<='Reference Cells'!$C$7),(BackendTable[[#This Row],[Time]]-'Reference Cells'!$C$6)*86400,NA())","v":2},{"$f":"IF(CommandCell='Reference Cells'!$C$17,NA(),ABS('Data In'!B353-INDIRECT(\"ZeroVal_\"&H$2,0)))","v":0},{"$f":"IF(CommandCell='Reference Cells'!$C$17,NA(),ABS('Data In'!C353-INDIRECT(\"ZeroVal_\"&I$2,0)))","v":0},{"$f":"IF(CommandCell='Reference Cells'!$C$17,NA(),ABS('Data In'!D353-INDIRECT(\"ZeroVal_\"&J$2,0)))","v":0},{"$f":"IF(CommandCell='Reference Cells'!$C$17,NA(),ABS('Data In'!E353-INDIRECT(\"ZeroVal_\"&K$2,0)))","v":0},{"$f":"IF(CommandCell='Reference Cells'!$C$17,NA(),ABS('Data In'!F353-INDIRECT(\"ZeroVal_\"&L$2,0)))","v":0},{"$f":"MAX(BackendTable[[#This Row],[S1]:[S5]])","v":0},{"$f":"IF(ISERROR(BackendTable[[#This Row],[T0Time]]),0,COUNTIFS(BackendTable[T0Time],\"<=\"&3,BackendTable[T0Time],\">=\"&0)-COUNTIFS(BackendTable[T0Time],\">\"&BackendTable[[#This Row],[T0Time]]))","v":500},null,null,null,null,null,null,null,null,null,null,null,null,null,null,null,null,null,null,null,null,null,null,null,null,{"$f":"MATCH(MAX(BackendTable[[#This Row],[T1S1]:[T1S5]]),BackendTable[[#This Row],[T1S1]:[T1S5]],0)","v":{"$error":"#N/A"}},{"$f":"MATCH(MAX(BackendTable[[#This Row],[T2S1]:[T2S5]]),BackendTable[[#This Row],[T2S1]:[T2S5]],0)","v":{"$error":"#N/A"}},{"$f":"MATCH(MAX(BackendTable[[#This Row],[T3S1]:[T3S5]]),BackendTable[[#This Row],[T3S1]:[T3S5]],0)","v":{"$error":"#N/A"}}]
[null,{"$f":"ROW()-ROW(BackendTable[[#Headers],[Row'#]])","v":347},{"$f":"'Data In'!A354","v":0},{"$f":"IF(BackendTable[[#This Row],[Time]]-'Reference Cells'!$C$3<=0,NA(),'Reference Cells'!$C$4-BackendTable[[#This Row],[Time]])*86400","v":{"$error":"#N/A"}},{"$f":"IFERROR(8-BackendTable[[#This Row],[Column1]],\"\")","v":""},{"$f":"IF(ISERROR(BackendTable[[#This Row],[Column1]]),-9,(BackendTable[[#This Row],[Net Time]]-NetTimeMin)*RangeAdj)","v":-9},{"$f":"IF(AND(BackendTable[[#This Row],[Time]]>='Reference Cells'!$C$6,BackendTable[[#This Row],[Time]]<='Reference Cells'!$C$7),(BackendTable[[#This Row],[Time]]-'Reference Cells'!$C$6)*86400,NA())","v":2},{"$f":"IF(CommandCell='Reference Cells'!$C$17,NA(),ABS('Data In'!B354-INDIRECT(\"ZeroVal_\"&H$2,0)))","v":0},{"$f":"IF(CommandCell='Reference Cells'!$C$17,NA(),ABS('Data In'!C354-INDIRECT(\"ZeroVal_\"&I$2,0)))","v":0},{"$f":"IF(CommandCell='Reference Cells'!$C$17,NA(),ABS('Data In'!D354-INDIRECT(\"ZeroVal_\"&J$2,0)))","v":0},{"$f":"IF(CommandCell='Reference Cells'!$C$17,NA(),ABS('Data In'!E354-INDIRECT(\"ZeroVal_\"&K$2,0)))","v":0},{"$f":"IF(CommandCell='Reference Cells'!$C$17,NA(),ABS('Data In'!F354-INDIRECT(\"ZeroVal_\"&L$2,0)))","v":0},{"$f":"MAX(BackendTable[[#This Row],[S1]:[S5]])","v":0},{"$f":"IF(ISERROR(BackendTable[[#This Row],[T0Time]]),0,COUNTIFS(BackendTable[T0Time],\"<=\"&3,BackendTable[T0Time],\">=\"&0)-COUNTIFS(BackendTable[T0Time],\">\"&BackendTable[[#This Row],[T0Time]]))","v":500},null,null,null,null,null,null,null,null,null,null,null,null,null,null,null,null,null,null,null,null,null,null,null,null,{"$f":"MATCH(MAX(BackendTable[[#This Row],[T1S1]:[T1S5]]),BackendTable[[#This Row],[T1S1]:[T1S5]],0)","v":{"$error":"#N/A"}},{"$f":"MATCH(MAX(BackendTable[[#This Row],[T2S1]:[T2S5]]),BackendTable[[#This Row],[T2S1]:[T2S5]],0)","v":{"$error":"#N/A"}},{"$f":"MATCH(MAX(BackendTable[[#This Row],[T3S1]:[T3S5]]),BackendTable[[#This Row],[T3S1]:[T3S5]],0)","v":{"$error":"#N/A"}}]
[null,{"$f":"ROW()-ROW(BackendTable[[#Headers],[Row'#]])","v":348},{"$f":"'Data In'!A355","v":0},{"$f":"IF(BackendTable[[#This Row],[Time]]-'Reference Cells'!$C$3<=0,NA(),'Reference Cells'!$C$4-BackendTable[[#This Row],[Time]])*86400","v":{"$error":"#N/A"}},{"$f":"IFERROR(8-BackendTable[[#This Row],[Column1]],\"\")","v":""},{"$f":"IF(ISERROR(BackendTable[[#This Row],[Column1]]),-9,(BackendTable[[#This Row],[Net Time]]-NetTimeMin)*RangeAdj)","v":-9},{"$f":"IF(AND(BackendTable[[#This Row],[Time]]>='Reference Cells'!$C$6,BackendTable[[#This Row],[Time]]<='Reference Cells'!$C$7),(BackendTable[[#This Row],[Time]]-'Reference Cells'!$C$6)*86400,NA())","v":2},{"$f":"IF(CommandCell='Reference Cells'!$C$17,NA(),ABS('Data In'!B355-INDIRECT(\"ZeroVal_\"&H$2,0)))","v":0},{"$f":"IF(CommandCell='Reference Cells'!$C$17,NA(),ABS('Data In'!C355-INDIRECT(\"ZeroVal_\"&I$2,0)))","v":0},{"$f":"IF(CommandCell='Reference Cells'!$C$17,NA(),ABS('Data In'!D355-INDIRECT(\"ZeroVal_\"&J$2,0)))","v":0},{"$f":"IF(CommandCell='Reference Cells'!$C$17,NA(),ABS('Data In'!E355-INDIRECT(\"ZeroVal_\"&K$2,0)))","v":0},{"$f":"IF(CommandCell='Reference Cells'!$C$17,NA(),ABS('Data In'!F355-INDIRECT(\"ZeroVal_\"&L$2,0)))","v":0},{"$f":"MAX(BackendTable[[#This Row],[S1]:[S5]])","v":0},{"$f":"IF(ISERROR(BackendTable[[#This Row],[T0Time]]),0,COUNTIFS(BackendTable[T0Time],\"<=\"&3,BackendTable[T0Time],\">=\"&0)-COUNTIFS(BackendTable[T0Time],\">\"&BackendTable[[#This Row],[T0Time]]))","v":500},null,null,null,null,null,null,null,null,null,null,null,null,null,null,null,null,null,null,null,null,null,null,null,null,{"$f":"MATCH(MAX(BackendTable[[#This Row],[T1S1]:[T1S5]]),BackendTable[[#This Row],[T1S1]:[T1S5]],0)","v":{"$error":"#N/A"}},{"$f":"MATCH(MAX(BackendTable[[#This Row],[T2S1]:[T2S5]]),BackendTable[[#This Row],[T2S1]:[T2S5]],0)","v":{"$error":"#N/A"}},{"$f":"MATCH(MAX(BackendTable[[#This Row],[T3S1]:[T3S5]]),BackendTable[[#This Row],[T3S1]:[T3S5]],0)","v":{"$error":"#N/A"}}]
[null,{"$f":"ROW()-ROW(BackendTable[[#Headers],[Row'#]])","v":349},{"$f":"'Data In'!A356","v":0},{"$f":"IF(BackendTable[[#This Row],[Time]]-'Reference Cells'!$C$3<=0,NA(),'Reference Cells'!$C$4-BackendTable[[#This Row],[Time]])*86400","v":{"$error":"#N/A"}},{"$f":"IFERROR(8-BackendTable[[#This Row],[Column1]],\"\")","v":""},{"$f":"IF(ISERROR(BackendTable[[#This Row],[Column1]]),-9,(BackendTable[[#This Row],[Net Time]]-NetTimeMin)*RangeAdj)","v":-9},{"$f":"IF(AND(BackendTable[[#This Row],[Time]]>='Reference Cells'!$C$6,BackendTable[[#This Row],[Time]]<='Reference Cells'!$C$7),(BackendTable[[#This Row],[Time]]-'Reference Cells'!$C$6)*86400,NA())","v":2},{"$f":"IF(CommandCell='Reference Cells'!$C$17,NA(),ABS('Data In'!B356-INDIRECT(\"ZeroVal_\"&H$2,0)))","v":0},{"$f":"IF(CommandCell='Reference Cells'!$C$17,NA(),ABS('Data In'!C356-INDIRECT(\"ZeroVal_\"&I$2,0)))","v":0},{"$f":"IF(CommandCell='Reference Cells'!$C$17,NA(),ABS('Data In'!D356-INDIRECT(\"ZeroVal_\"&J$2,0)))","v":0},{"$f":"IF(CommandCell='Reference Cells'!$C$17,NA(),ABS('Data In'!E356-INDIRECT(\"ZeroVal_\"&K$2,0)))","v":0},{"$f":"IF(CommandCell='Reference Cells'!$C$17,NA(),ABS('Data In'!F356-INDIRECT(\"ZeroVal_\"&L$2,0)))","v":0},{"$f":"MAX(BackendTable[[#This Row],[S1]:[S5]])","v":0},{"$f":"IF(ISERROR(BackendTable[[#This Row],[T0Time]]),0,COUNTIFS(BackendTable[T0Time],\"<=\"&3,BackendTable[T0Time],\">=\"&0)-COUNTIFS(BackendTable[T0Time],\">\"&BackendTable[[#This Row],[T0Time]]))","v":500},null,null,null,null,null,null,null,null,null,null,null,null,null,null,null,null,null,null,null,null,null,null,null,null,{"$f":"MATCH(MAX(BackendTable[[#This Row],[T1S1]:[T1S5]]),BackendTable[[#This Row],[T1S1]:[T1S5]],0)","v":{"$error":"#N/A"}},{"$f":"MATCH(MAX(BackendTable[[#This Row],[T2S1]:[T2S5]]),BackendTable[[#This Row],[T2S1]:[T2S5]],0)","v":{"$error":"#N/A"}},{"$f":"MATCH(MAX(BackendTable[[#This Row],[T3S1]:[T3S5]]),BackendTable[[#This Row],[T3S1]:[T3S5]],0)","v":{"$error":"#N/A"}}]
[null,{"$f":"ROW()-ROW(BackendTable[[#Headers],[Row'#]])","v":350},{"$f":"'Data In'!A357","v":0},{"$f":"IF(BackendTable[[#This Row],[Time]]-'Reference Cells'!$C$3<=0,NA(),'Reference Cells'!$C$4-BackendTable[[#This Row],[Time]])*86400","v":{"$error":"#N/A"}},{"$f":"IFERROR(8-BackendTable[[#This Row],[Column1]],\"\")","v":""},{"$f":"IF(ISERROR(BackendTable[[#This Row],[Column1]]),-9,(BackendTable[[#This Row],[Net Time]]-NetTimeMin)*RangeAdj)","v":-9},{"$f":"IF(AND(BackendTable[[#This Row],[Time]]>='Reference Cells'!$C$6,BackendTable[[#This Row],[Time]]<='Reference Cells'!$C$7),(BackendTable[[#This Row],[Time]]-'Reference Cells'!$C$6)*86400,NA())","v":2},{"$f":"IF(CommandCell='Reference Cells'!$C$17,NA(),ABS('Data In'!B357-INDIRECT(\"ZeroVal_\"&H$2,0)))","v":0},{"$f":"IF(CommandCell='Reference Cells'!$C$17,NA(),ABS('Data In'!C357-INDIRECT(\"ZeroVal_\"&I$2,0)))","v":0},{"$f":"IF(CommandCell='Reference Cells'!$C$17,NA(),ABS('Data In'!D357-INDIRECT(\"ZeroVal_\"&J$2,0)))","v":0},{"$f":"IF(CommandCell='Reference Cells'!$C$17,NA(),ABS('Data In'!E357-INDIRECT(\"ZeroVal_\"&K$2,0)))","v":0},{"$f":"IF(CommandCell='Reference Cells'!$C$17,NA(),ABS('Data In'!F357-INDIRECT(\"ZeroVal_\"&L$2,0)))","v":0},{"$f":"MAX(BackendTable[[#This Row],[S1]:[S5]])","v":0},{"$f":"IF(ISERROR(BackendTable[[#This Row],[T0Time]]),0,COUNTIFS(BackendTable[T0Time],\"<=\"&3,BackendTable[T0Time],\">=\"&0)-COUNTIFS(BackendTable[T0Time],\">\"&BackendTable[[#This Row],[T0Time]]))","v":500},null,null,null,null,null,null,null,null,null,null,null,null,null,null,null,null,null,null,null,null,null,null,null,null,{"$f":"MATCH(MAX(BackendTable[[#This Row],[T1S1]:[T1S5]]),BackendTable[[#This Row],[T1S1]:[T1S5]],0)","v":{"$error":"#N/A"}},{"$f":"MATCH(MAX(BackendTable[[#This Row],[T2S1]:[T2S5]]),BackendTable[[#This Row],[T2S1]:[T2S5]],0)","v":{"$error":"#N/A"}},{"$f":"MATCH(MAX(BackendTable[[#This Row],[T3S1]:[T3S5]]),BackendTable[[#This Row],[T3S1]:[T3S5]],0)","v":{"$error":"#N/A"}}]
[null,{"$f":"ROW()-ROW(BackendTable[[#Headers],[Row'#]])","v":351},{"$f":"'Data In'!A358","v":0},{"$f":"IF(BackendTable[[#This Row],[Time]]-'Reference Cells'!$C$3<=0,NA(),'Reference Cells'!$C$4-BackendTable[[#This Row],[Time]])*86400","v":{"$error":"#N/A"}},{"$f":"IFERROR(8-BackendTable[[#This Row],[Column1]],\"\")","v":""},{"$f":"IF(ISERROR(BackendTable[[#This Row],[Column1]]),-9,(BackendTable[[#This Row],[Net Time]]-NetTimeMin)*RangeAdj)","v":-9},{"$f":"IF(AND(BackendTable[[#This Row],[Time]]>='Reference Cells'!$C$6,BackendTable[[#This Row],[Time]]<='Reference Cells'!$C$7),(BackendTable[[#This Row],[Time]]-'Reference Cells'!$C$6)*86400,NA())","v":2},{"$f":"IF(CommandCell='Reference Cells'!$C$17,NA(),ABS('Data In'!B358-INDIRECT(\"ZeroVal_\"&H$2,0)))","v":0},{"$f":"IF(CommandCell='Reference Cells'!$C$17,NA(),ABS('Data In'!C358-INDIRECT(\"ZeroVal_\"&I$2,0)))","v":0},{"$f":"IF(CommandCell='Reference Cells'!$C$17,NA(),ABS('Data In'!D358-INDIRECT(\"ZeroVal_\"&J$2,0)))","v":0},{"$f":"IF(CommandCell='Reference Cells'!$C$17,NA(),ABS('Data In'!E358-INDIRECT(\"ZeroVal_\"&K$2,0)))","v":0},{"$f":"IF(CommandCell='Reference Cells'!$C$17,NA(),ABS('Data In'!F358-INDIRECT(\"ZeroVal_\"&L$2,0)))","v":0},{"$f":"MAX(BackendTable[[#This Row],[S1]:[S5]])","v":0},{"$f":"IF(ISERROR(BackendTable[[#This Row],[T0Time]]),0,COUNTIFS(BackendTable[T0Time],\"<=\"&3,BackendTable[T0Time],\">=\"&0)-COUNTIFS(BackendTable[T0Time],\">\"&BackendTable[[#This Row],[T0Time]]))","v":500},null,null,null,null,null,null,null,null,null,null,null,null,null,null,null,null,null,null,null,null,null,null,null,null,{"$f":"MATCH(MAX(BackendTable[[#This Row],[T1S1]:[T1S5]]),BackendTable[[#This Row],[T1S1]:[T1S5]],0)","v":{"$error":"#N/A"}},{"$f":"MATCH(MAX(BackendTable[[#This Row],[T2S1]:[T2S5]]),BackendTable[[#This Row],[T2S1]:[T2S5]],0)","v":{"$error":"#N/A"}},{"$f":"MATCH(MAX(BackendTable[[#This Row],[T3S1]:[T3S5]]),BackendTable[[#This Row],[T3S1]:[T3S5]],0)","v":{"$error":"#N/A"}}]
[null,{"$f":"ROW()-ROW(BackendTable[[#Headers],[Row'#]])","v":352},{"$f":"'Data In'!A359","v":0},{"$f":"IF(BackendTable[[#This Row],[Time]]-'Reference Cells'!$C$3<=0,NA(),'Reference Cells'!$C$4-BackendTable[[#This Row],[Time]])*86400","v":{"$error":"#N/A"}},{"$f":"IFERROR(8-BackendTable[[#This Row],[Column1]],\"\")","v":""},{"$f":"IF(ISERROR(BackendTable[[#This Row],[Column1]]),-9,(BackendTable[[#This Row],[Net Time]]-NetTimeMin)*RangeAdj)","v":-9},{"$f":"IF(AND(BackendTable[[#This Row],[Time]]>='Reference Cells'!$C$6,BackendTable[[#This Row],[Time]]<='Reference Cells'!$C$7),(BackendTable[[#This Row],[Time]]-'Reference Cells'!$C$6)*86400,NA())","v":2},{"$f":"IF(CommandCell='Reference Cells'!$C$17,NA(),ABS('Data In'!B359-INDIRECT(\"ZeroVal_\"&H$2,0)))","v":0},{"$f":"IF(CommandCell='Reference Cells'!$C$17,NA(),ABS('Data In'!C359-INDIRECT(\"ZeroVal_\"&I$2,0)))","v":0},{"$f":"IF(CommandCell='Reference Cells'!$C$17,NA(),ABS('Data In'!D359-INDIRECT(\"ZeroVal_\"&J$2,0)))","v":0},{"$f":"IF(CommandCell='Reference Cells'!$C$17,NA(),ABS('Data In'!E359-INDIRECT(\"ZeroVal_\"&K$2,0)))","v":0},{"$f":"IF(CommandCell='Reference Cells'!$C$17,NA(),ABS('Data In'!F359-INDIRECT(\"ZeroVal_\"&L$2,0)))","v":0},{"$f":"MAX(BackendTable[[#This Row],[S1]:[S5]])","v":0},{"$f":"IF(ISERROR(BackendTable[[#This Row],[T0Time]]),0,COUNTIFS(BackendTable[T0Time],\"<=\"&3,BackendTable[T0Time],\">=\"&0)-COUNTIFS(BackendTable[T0Time],\">\"&BackendTable[[#This Row],[T0Time]]))","v":500},null,null,null,null,null,null,null,null,null,null,null,null,null,null,null,null,null,null,null,null,null,null,null,null,{"$f":"MATCH(MAX(BackendTable[[#This Row],[T1S1]:[T1S5]]),BackendTable[[#This Row],[T1S1]:[T1S5]],0)","v":{"$error":"#N/A"}},{"$f":"MATCH(MAX(BackendTable[[#This Row],[T2S1]:[T2S5]]),BackendTable[[#This Row],[T2S1]:[T2S5]],0)","v":{"$error":"#N/A"}},{"$f":"MATCH(MAX(BackendTable[[#This Row],[T3S1]:[T3S5]]),BackendTable[[#This Row],[T3S1]:[T3S5]],0)","v":{"$error":"#N/A"}}]
[null,{"$f":"ROW()-ROW(BackendTable[[#Headers],[Row'#]])","v":353},{"$f":"'Data In'!A360","v":0},{"$f":"IF(BackendTable[[#This Row],[Time]]-'Reference Cells'!$C$3<=0,NA(),'Reference Cells'!$C$4-BackendTable[[#This Row],[Time]])*86400","v":{"$error":"#N/A"}},{"$f":"IFERROR(8-BackendTable[[#This Row],[Column1]],\"\")","v":""},{"$f":"IF(ISERROR(BackendTable[[#This Row],[Column1]]),-9,(BackendTable[[#This Row],[Net Time]]-NetTimeMin)*RangeAdj)","v":-9},{"$f":"IF(AND(BackendTable[[#This Row],[Time]]>='Reference Cells'!$C$6,BackendTable[[#This Row],[Time]]<='Reference Cells'!$C$7),(BackendTable[[#This Row],[Time]]-'Reference Cells'!$C$6)*86400,NA())","v":2},{"$f":"IF(CommandCell='Reference Cells'!$C$17,NA(),ABS('Data In'!B360-INDIRECT(\"ZeroVal_\"&H$2,0)))","v":0},{"$f":"IF(CommandCell='Reference Cells'!$C$17,NA(),ABS('Data In'!C360-INDIRECT(\"ZeroVal_\"&I$2,0)))","v":0},{"$f":"IF(CommandCell='Reference Cells'!$C$17,NA(),ABS('Data In'!D360-INDIRECT(\"ZeroVal_\"&J$2,0)))","v":0},{"$f":"IF(CommandCell='Reference Cells'!$C$17,NA(),ABS('Data In'!E360-INDIRECT(\"ZeroVal_\"&K$2,0)))","v":0},{"$f":"IF(CommandCell='Reference Cells'!$C$17,NA(),ABS('Data In'!F360-INDIRECT(\"ZeroVal_\"&L$2,0)))","v":0},{"$f":"MAX(BackendTable[[#This Row],[S1]:[S5]])","v":0},{"$f":"IF(ISERROR(BackendTable[[#This Row],[T0Time]]),0,COUNTIFS(BackendTable[T0Time],\"<=\"&3,BackendTable[T0Time],\">=\"&0)-COUNTIFS(BackendTable[T0Time],\">\"&BackendTable[[#This Row],[T0Time]]))","v":500},null,null,null,null,null,null,null,null,null,null,null,null,null,null,null,null,null,null,null,null,null,null,null,null,{"$f":"MATCH(MAX(BackendTable[[#This Row],[T1S1]:[T1S5]]),BackendTable[[#This Row],[T1S1]:[T1S5]],0)","v":{"$error":"#N/A"}},{"$f":"MATCH(MAX(BackendTable[[#This Row],[T2S1]:[T2S5]]),BackendTable[[#This Row],[T2S1]:[T2S5]],0)","v":{"$error":"#N/A"}},{"$f":"MATCH(MAX(BackendTable[[#This Row],[T3S1]:[T3S5]]),BackendTable[[#This Row],[T3S1]:[T3S5]],0)","v":{"$error":"#N/A"}}]
[null,{"$f":"ROW()-ROW(BackendTable[[#Headers],[Row'#]])","v":354},{"$f":"'Data In'!A361","v":0},{"$f":"IF(BackendTable[[#This Row],[Time]]-'Reference Cells'!$C$3<=0,NA(),'Reference Cells'!$C$4-BackendTable[[#This Row],[Time]])*86400","v":{"$error":"#N/A"}},{"$f":"IFERROR(8-BackendTable[[#This Row],[Column1]],\"\")","v":""},{"$f":"IF(ISERROR(BackendTable[[#This Row],[Column1]]),-9,(BackendTable[[#This Row],[Net Time]]-NetTimeMin)*RangeAdj)","v":-9},{"$f":"IF(AND(BackendTable[[#This Row],[Time]]>='Reference Cells'!$C$6,BackendTable[[#This Row],[Time]]<='Reference Cells'!$C$7),(BackendTable[[#This Row],[Time]]-'Reference Cells'!$C$6)*86400,NA())","v":2},{"$f":"IF(CommandCell='Reference Cells'!$C$17,NA(),ABS('Data In'!B361-INDIRECT(\"ZeroVal_\"&H$2,0)))","v":0},{"$f":"IF(CommandCell='Reference Cells'!$C$17,NA(),ABS('Data In'!C361-INDIRECT(\"ZeroVal_\"&I$2,0)))","v":0},{"$f":"IF(CommandCell='Reference Cells'!$C$17,NA(),ABS('Data In'!D361-INDIRECT(\"ZeroVal_\"&J$2,0)))","v":0},{"$f":"IF(CommandCell='Reference Cells'!$C$17,NA(),ABS('Data In'!E361-INDIRECT(\"ZeroVal_\"&K$2,0)))","v":0},{"$f":"IF(CommandCell='Reference Cells'!$C$17,NA(),ABS('Data In'!F361-INDIRECT(\"ZeroVal_\"&L$2,0)))","v":0},{"$f":"MAX(BackendTable[[#This Row],[S1]:[S5]])","v":0},{"$f":"IF(ISERROR(BackendTable[[#This Row],[T0Time]]),0,COUNTIFS(BackendTable[T0Time],\"<=\"&3,BackendTable[T0Time],\">=\"&0)-COUNTIFS(BackendTable[T0Time],\">\"&BackendTable[[#This Row],[T0Time]]))","v":500},null,null,null,null,null,null,null,null,null,null,null,null,null,null,null,null,null,null,null,null,null,null,null,null,{"$f":"MATCH(MAX(BackendTable[[#This Row],[T1S1]:[T1S5]]),BackendTable[[#This Row],[T1S1]:[T1S5]],0)","v":{"$error":"#N/A"}},{"$f":"MATCH(MAX(BackendTable[[#This Row],[T2S1]:[T2S5]]),BackendTable[[#This Row],[T2S1]:[T2S5]],0)","v":{"$error":"#N/A"}},{"$f":"MATCH(MAX(BackendTable[[#This Row],[T3S1]:[T3S5]]),BackendTable[[#This Row],[T3S1]:[T3S5]],0)","v":{"$error":"#N/A"}}]
[null,{"$f":"ROW()-ROW(BackendTable[[#Headers],[Row'#]])","v":355},{"$f":"'Data In'!A362","v":0},{"$f":"IF(BackendTable[[#This Row],[Time]]-'Reference Cells'!$C$3<=0,NA(),'Reference Cells'!$C$4-BackendTable[[#This Row],[Time]])*86400","v":{"$error":"#N/A"}},{"$f":"IFERROR(8-BackendTable[[#This Row],[Column1]],\"\")","v":""},{"$f":"IF(ISERROR(BackendTable[[#This Row],[Column1]]),-9,(BackendTable[[#This Row],[Net Time]]-NetTimeMin)*RangeAdj)","v":-9},{"$f":"IF(AND(BackendTable[[#This Row],[Time]]>='Reference Cells'!$C$6,BackendTable[[#This Row],[Time]]<='Reference Cells'!$C$7),(BackendTable[[#This Row],[Time]]-'Reference Cells'!$C$6)*86400,NA())","v":2},{"$f":"IF(CommandCell='Reference Cells'!$C$17,NA(),ABS('Data In'!B362-INDIRECT(\"ZeroVal_\"&H$2,0)))","v":0},{"$f":"IF(CommandCell='Reference Cells'!$C$17,NA(),ABS('Data In'!C362-INDIRECT(\"ZeroVal_\"&I$2,0)))","v":0},{"$f":"IF(CommandCell='Reference Cells'!$C$17,NA(),ABS('Data In'!D362-INDIRECT(\"ZeroVal_\"&J$2,0)))","v":0},{"$f":"IF(CommandCell='Reference Cells'!$C$17,NA(),ABS('Data In'!E362-INDIRECT(\"ZeroVal_\"&K$2,0)))","v":0},{"$f":"IF(CommandCell='Reference Cells'!$C$17,NA(),ABS('Data In'!F362-INDIRECT(\"ZeroVal_\"&L$2,0)))","v":0},{"$f":"MAX(BackendTable[[#This Row],[S1]:[S5]])","v":0},{"$f":"IF(ISERROR(BackendTable[[#This Row],[T0Time]]),0,COUNTIFS(BackendTable[T0Time],\"<=\"&3,BackendTable[T0Time],\">=\"&0)-COUNTIFS(BackendTable[T0Time],\">\"&BackendTable[[#This Row],[T0Time]]))","v":500},null,null,null,null,null,null,null,null,null,null,null,null,null,null,null,null,null,null,null,null,null,null,null,null,{"$f":"MATCH(MAX(BackendTable[[#This Row],[T1S1]:[T1S5]]),BackendTable[[#This Row],[T1S1]:[T1S5]],0)","v":{"$error":"#N/A"}},{"$f":"MATCH(MAX(BackendTable[[#This Row],[T2S1]:[T2S5]]),BackendTable[[#This Row],[T2S1]:[T2S5]],0)","v":{"$error":"#N/A"}},{"$f":"MATCH(MAX(BackendTable[[#This Row],[T3S1]:[T3S5]]),BackendTable[[#This Row],[T3S1]:[T3S5]],0)","v":{"$error":"#N/A"}}]
[null,{"$f":"ROW()-ROW(BackendTable[[#Headers],[Row'#]])","v":356},{"$f":"'Data In'!A363","v":0},{"$f":"IF(BackendTable[[#This Row],[Time]]-'Reference Cells'!$C$3<=0,NA(),'Reference Cells'!$C$4-BackendTable[[#This Row],[Time]])*86400","v":{"$error":"#N/A"}},{"$f":"IFERROR(8-BackendTable[[#This Row],[Column1]],\"\")","v":""},{"$f":"IF(ISERROR(BackendTable[[#This Row],[Column1]]),-9,(BackendTable[[#This Row],[Net Time]]-NetTimeMin)*RangeAdj)","v":-9},{"$f":"IF(AND(BackendTable[[#This Row],[Time]]>='Reference Cells'!$C$6,BackendTable[[#This Row],[Time]]<='Reference Cells'!$C$7),(BackendTable[[#This Row],[Time]]-'Reference Cells'!$C$6)*86400,NA())","v":2},{"$f":"IF(CommandCell='Reference Cells'!$C$17,NA(),ABS('Data In'!B363-INDIRECT(\"ZeroVal_\"&H$2,0)))","v":0},{"$f":"IF(CommandCell='Reference Cells'!$C$17,NA(),ABS('Data In'!C363-INDIRECT(\"ZeroVal_\"&I$2,0)))","v":0},{"$f":"IF(CommandCell='Reference Cells'!$C$17,NA(),ABS('Data In'!D363-INDIRECT(\"ZeroVal_\"&J$2,0)))","v":0},{"$f":"IF(CommandCell='Reference Cells'!$C$17,NA(),ABS('Data In'!E363-INDIRECT(\"ZeroVal_\"&K$2,0)))","v":0},{"$f":"IF(CommandCell='Reference Cells'!$C$17,NA(),ABS('Data In'!F363-INDIRECT(\"ZeroVal_\"&L$2,0)))","v":0},{"$f":"MAX(BackendTable[[#This Row],[S1]:[S5]])","v":0},{"$f":"IF(ISERROR(BackendTable[[#This Row],[T0Time]]),0,COUNTIFS(BackendTable[T0Time],\"<=\"&3,BackendTable[T0Time],\">=\"&0)-COUNTIFS(BackendTable[T0Time],\">\"&BackendTable[[#This Row],[T0Time]]))","v":500},null,null,null,null,null,null,null,null,null,null,null,null,null,null,null,null,null,null,null,null,null,null,null,null,{"$f":"MATCH(MAX(BackendTable[[#This Row],[T1S1]:[T1S5]]),BackendTable[[#This Row],[T1S1]:[T1S5]],0)","v":{"$error":"#N/A"}},{"$f":"MATCH(MAX(BackendTable[[#This Row],[T2S1]:[T2S5]]),BackendTable[[#This Row],[T2S1]:[T2S5]],0)","v":{"$error":"#N/A"}},{"$f":"MATCH(MAX(BackendTable[[#This Row],[T3S1]:[T3S5]]),BackendTable[[#This Row],[T3S1]:[T3S5]],0)","v":{"$error":"#N/A"}}]
[null,{"$f":"ROW()-ROW(BackendTable[[#Headers],[Row'#]])","v":357},{"$f":"'Data In'!A364","v":0},{"$f":"IF(BackendTable[[#This Row],[Time]]-'Reference Cells'!$C$3<=0,NA(),'Reference Cells'!$C$4-BackendTable[[#This Row],[Time]])*86400","v":{"$error":"#N/A"}},{"$f":"IFERROR(8-BackendTable[[#This Row],[Column1]],\"\")","v":""},{"$f":"IF(ISERROR(BackendTable[[#This Row],[Column1]]),-9,(BackendTable[[#This Row],[Net Time]]-NetTimeMin)*RangeAdj)","v":-9},{"$f":"IF(AND(BackendTable[[#This Row],[Time]]>='Reference Cells'!$C$6,BackendTable[[#This Row],[Time]]<='Reference Cells'!$C$7),(BackendTable[[#This Row],[Time]]-'Reference Cells'!$C$6)*86400,NA())","v":2},{"$f":"IF(CommandCell='Reference Cells'!$C$17,NA(),ABS('Data In'!B364-INDIRECT(\"ZeroVal_\"&H$2,0)))","v":0},{"$f":"IF(CommandCell='Reference Cells'!$C$17,NA(),ABS('Data In'!C364-INDIRECT(\"ZeroVal_\"&I$2,0)))","v":0},{"$f":"IF(CommandCell='Reference Cells'!$C$17,NA(),ABS('Data In'!D364-INDIRECT(\"ZeroVal_\"&J$2,0)))","v":0},{"$f":"IF(CommandCell='Reference Cells'!$C$17,NA(),ABS('Data In'!E364-INDIRECT(\"ZeroVal_\"&K$2,0)))","v":0},{"$f":"IF(CommandCell='Reference Cells'!$C$17,NA(),ABS('Data In'!F364-INDIRECT(\"ZeroVal_\"&L$2,0)))","v":0},{"$f":"MAX(BackendTable[[#This Row],[S1]:[S5]])","v":0},{"$f":"IF(ISERROR(BackendTable[[#This Row],[T0Time]]),0,COUNTIFS(BackendTable[T0Time],\"<=\"&3,BackendTable[T0Time],\">=\"&0)-COUNTIFS(BackendTable[T0Time],\">\"&BackendTable[[#This Row],[T0Time]]))","v":500},null,null,null,null,null,null,null,null,null,null,null,null,null,null,null,null,null,null,null,null,null,null,null,null,{"$f":"MATCH(MAX(BackendTable[[#This Row],[T1S1]:[T1S5]]),BackendTable[[#This Row],[T1S1]:[T1S5]],0)","v":{"$error":"#N/A"}},{"$f":"MATCH(MAX(BackendTable[[#This Row],[T2S1]:[T2S5]]),BackendTable[[#This Row],[T2S1]:[T2S5]],0)","v":{"$error":"#N/A"}},{"$f":"MATCH(MAX(BackendTable[[#This Row],[T3S1]:[T3S5]]),BackendTable[[#This Row],[T3S1]:[T3S5]],0)","v":{"$error":"#N/A"}}]
[null,{"$f":"ROW()-ROW(BackendTable[[#Headers],[Row'#]])","v":358},{"$f":"'Data In'!A365","v":0},{"$f":"IF(BackendTable[[#This Row],[Time]]-'Reference Cells'!$C$3<=0,NA(),'Reference Cells'!$C$4-BackendTable[[#This Row],[Time]])*86400","v":{"$error":"#N/A"}},{"$f":"IFERROR(8-BackendTable[[#This Row],[Column1]],\"\")","v":""},{"$f":"IF(ISERROR(BackendTable[[#This Row],[Column1]]),-9,(BackendTable[[#This Row],[Net Time]]-NetTimeMin)*RangeAdj)","v":-9},{"$f":"IF(AND(BackendTable[[#This Row],[Time]]>='Reference Cells'!$C$6,BackendTable[[#This Row],[Time]]<='Reference Cells'!$C$7),(BackendTable[[#This Row],[Time]]-'Reference Cells'!$C$6)*86400,NA())","v":2},{"$f":"IF(CommandCell='Reference Cells'!$C$17,NA(),ABS('Data In'!B365-INDIRECT(\"ZeroVal_\"&H$2,0)))","v":0},{"$f":"IF(CommandCell='Reference Cells'!$C$17,NA(),ABS('Data In'!C365-INDIRECT(\"ZeroVal_\"&I$2,0)))","v":0},{"$f":"IF(CommandCell='Reference Cells'!$C$17,NA(),ABS('Data In'!D365-INDIRECT(\"ZeroVal_\"&J$2,0)))","v":0},{"$f":"IF(CommandCell='Reference Cells'!$C$17,NA(),ABS('Data In'!E365-INDIRECT(\"ZeroVal_\"&K$2,0)))","v":0},{"$f":"IF(CommandCell='Reference Cells'!$C$17,NA(),ABS('Data In'!F365-INDIRECT(\"ZeroVal_\"&L$2,0)))","v":0},{"$f":"MAX(BackendTable[[#This Row],[S1]:[S5]])","v":0},{"$f":"IF(ISERROR(BackendTable[[#This Row],[T0Time]]),0,COUNTIFS(BackendTable[T0Time],\"<=\"&3,BackendTable[T0Time],\">=\"&0)-COUNTIFS(BackendTable[T0Time],\">\"&BackendTable[[#This Row],[T0Time]]))","v":500},null,null,null,null,null,null,null,null,null,null,null,null,null,null,null,null,null,null,null,null,null,null,null,null,{"$f":"MATCH(MAX(BackendTable[[#This Row],[T1S1]:[T1S5]]),BackendTable[[#This Row],[T1S1]:[T1S5]],0)","v":{"$error":"#N/A"}},{"$f":"MATCH(MAX(BackendTable[[#This Row],[T2S1]:[T2S5]]),BackendTable[[#This Row],[T2S1]:[T2S5]],0)","v":{"$error":"#N/A"}},{"$f":"MATCH(MAX(BackendTable[[#This Row],[T3S1]:[T3S5]]),BackendTable[[#This Row],[T3S1]:[T3S5]],0)","v":{"$error":"#N/A"}}]
[null,{"$f":"ROW()-ROW(BackendTable[[#Headers],[Row'#]])","v":359},{"$f":"'Data In'!A366","v":0},{"$f":"IF(BackendTable[[#This Row],[Time]]-'Reference Cells'!$C$3<=0,NA(),'Reference Cells'!$C$4-BackendTable[[#This Row],[Time]])*86400","v":{"$error":"#N/A"}},{"$f":"IFERROR(8-BackendTable[[#This Row],[Column1]],\"\")","v":""},{"$f":"IF(ISERROR(BackendTable[[#This Row],[Column1]]),-9,(BackendTable[[#This Row],[Net Time]]-NetTimeMin)*RangeAdj)","v":-9},{"$f":"IF(AND(BackendTable[[#This Row],[Time]]>='Reference Cells'!$C$6,BackendTable[[#This Row],[Time]]<='Reference Cells'!$C$7),(BackendTable[[#This Row],[Time]]-'Reference Cells'!$C$6)*86400,NA())","v":2},{"$f":"IF(CommandCell='Reference Cells'!$C$17,NA(),ABS('Data In'!B366-INDIRECT(\"ZeroVal_\"&H$2,0)))","v":0},{"$f":"IF(CommandCell='Reference Cells'!$C$17,NA(),ABS('Data In'!C366-INDIRECT(\"ZeroVal_\"&I$2,0)))","v":0},{"$f":"IF(CommandCell='Reference Cells'!$C$17,NA(),ABS('Data In'!D366-INDIRECT(\"ZeroVal_\"&J$2,0)))","v":0},{"$f":"IF(CommandCell='Reference Cells'!$C$17,NA(),ABS('Data In'!E366-INDIRECT(\"ZeroVal_\"&K$2,0)))","v":0},{"$f":"IF(CommandCell='Reference Cells'!$C$17,NA(),ABS('Data In'!F366-INDIRECT(\"ZeroVal_\"&L$2,0)))","v":0},{"$f":"MAX(BackendTable[[#This Row],[S1]:[S5]])","v":0},{"$f":"IF(ISERROR(BackendTable[[#This Row],[T0Time]]),0,COUNTIFS(BackendTable[T0Time],\"<=\"&3,BackendTable[T0Time],\">=\"&0)-COUNTIFS(BackendTable[T0Time],\">\"&BackendTable[[#This Row],[T0Time]]))","v":500},null,null,null,null,null,null,null,null,null,null,null,null,null,null,null,null,null,null,null,null,null,null,null,null,{"$f":"MATCH(MAX(BackendTable[[#This Row],[T1S1]:[T1S5]]),BackendTable[[#This Row],[T1S1]:[T1S5]],0)","v":{"$error":"#N/A"}},{"$f":"MATCH(MAX(BackendTable[[#This Row],[T2S1]:[T2S5]]),BackendTable[[#This Row],[T2S1]:[T2S5]],0)","v":{"$error":"#N/A"}},{"$f":"MATCH(MAX(BackendTable[[#This Row],[T3S1]:[T3S5]]),BackendTable[[#This Row],[T3S1]:[T3S5]],0)","v":{"$error":"#N/A"}}]
[null,{"$f":"ROW()-ROW(BackendTable[[#Headers],[Row'#]])","v":360},{"$f":"'Data In'!A367","v":0},{"$f":"IF(BackendTable[[#This Row],[Time]]-'Reference Cells'!$C$3<=0,NA(),'Reference Cells'!$C$4-BackendTable[[#This Row],[Time]])*86400","v":{"$error":"#N/A"}},{"$f":"IFERROR(8-BackendTable[[#This Row],[Column1]],\"\")","v":""},{"$f":"IF(ISERROR(BackendTable[[#This Row],[Column1]]),-9,(BackendTable[[#This Row],[Net Time]]-NetTimeMin)*RangeAdj)","v":-9},{"$f":"IF(AND(BackendTable[[#This Row],[Time]]>='Reference Cells'!$C$6,BackendTable[[#This Row],[Time]]<='Reference Cells'!$C$7),(BackendTable[[#This Row],[Time]]-'Reference Cells'!$C$6)*86400,NA())","v":2},{"$f":"IF(CommandCell='Reference Cells'!$C$17,NA(),ABS('Data In'!B367-INDIRECT(\"ZeroVal_\"&H$2,0)))","v":0},{"$f":"IF(CommandCell='Reference Cells'!$C$17,NA(),ABS('Data In'!C367-INDIRECT(\"ZeroVal_\"&I$2,0)))","v":0},{"$f":"IF(CommandCell='Reference Cells'!$C$17,NA(),ABS('Data In'!D367-INDIRECT(\"ZeroVal_\"&J$2,0)))","v":0},{"$f":"IF(CommandCell='Reference Cells'!$C$17,NA(),ABS('Data In'!E367-INDIRECT(\"ZeroVal_\"&K$2,0)))","v":0},{"$f":"IF(CommandCell='Reference Cells'!$C$17,NA(),ABS('Data In'!F367-INDIRECT(\"ZeroVal_\"&L$2,0)))","v":0},{"$f":"MAX(BackendTable[[#This Row],[S1]:[S5]])","v":0},{"$f":"IF(ISERROR(BackendTable[[#This Row],[T0Time]]),0,COUNTIFS(BackendTable[T0Time],\"<=\"&3,BackendTable[T0Time],\">=\"&0)-COUNTIFS(BackendTable[T0Time],\">\"&BackendTable[[#This Row],[T0Time]]))","v":500},null,null,null,null,null,null,null,null,null,null,null,null,null,null,null,null,null,null,null,null,null,null,null,null,{"$f":"MATCH(MAX(BackendTable[[#This Row],[T1S1]:[T1S5]]),BackendTable[[#This Row],[T1S1]:[T1S5]],0)","v":{"$error":"#N/A"}},{"$f":"MATCH(MAX(BackendTable[[#This Row],[T2S1]:[T2S5]]),BackendTable[[#This Row],[T2S1]:[T2S5]],0)","v":{"$error":"#N/A"}},{"$f":"MATCH(MAX(BackendTable[[#This Row],[T3S1]:[T3S5]]),BackendTable[[#This Row],[T3S1]:[T3S5]],0)","v":{"$error":"#N/A"}}]
[null,{"$f":"ROW()-ROW(BackendTable[[#Headers],[Row'#]])","v":361},{"$f":"'Data In'!A368","v":0},{"$f":"IF(BackendTable[[#This Row],[Time]]-'Reference Cells'!$C$3<=0,NA(),'Reference Cells'!$C$4-BackendTable[[#This Row],[Time]])*86400","v":{"$error":"#N/A"}},{"$f":"IFERROR(8-BackendTable[[#This Row],[Column1]],\"\")","v":""},{"$f":"IF(ISERROR(BackendTable[[#This Row],[Column1]]),-9,(BackendTable[[#This Row],[Net Time]]-NetTimeMin)*RangeAdj)","v":-9},{"$f":"IF(AND(BackendTable[[#This Row],[Time]]>='Reference Cells'!$C$6,BackendTable[[#This Row],[Time]]<='Reference Cells'!$C$7),(BackendTable[[#This Row],[Time]]-'Reference Cells'!$C$6)*86400,NA())","v":2},{"$f":"IF(CommandCell='Reference Cells'!$C$17,NA(),ABS('Data In'!B368-INDIRECT(\"ZeroVal_\"&H$2,0)))","v":0},{"$f":"IF(CommandCell='Reference Cells'!$C$17,NA(),ABS('Data In'!C368-INDIRECT(\"ZeroVal_\"&I$2,0)))","v":0},{"$f":"IF(CommandCell='Reference Cells'!$C$17,NA(),ABS('Data In'!D368-INDIRECT(\"ZeroVal_\"&J$2,0)))","v":0},{"$f":"IF(CommandCell='Reference Cells'!$C$17,NA(),ABS('Data In'!E368-INDIRECT(\"ZeroVal_\"&K$2,0)))","v":0},{"$f":"IF(CommandCell='Reference Cells'!$C$17,NA(),ABS('Data In'!F368-INDIRECT(\"ZeroVal_\"&L$2,0)))","v":0},{"$f":"MAX(BackendTable[[#This Row],[S1]:[S5]])","v":0},{"$f":"IF(ISERROR(BackendTable[[#This Row],[T0Time]]),0,COUNTIFS(BackendTable[T0Time],\"<=\"&3,BackendTable[T0Time],\">=\"&0)-COUNTIFS(BackendTable[T0Time],\">\"&BackendTable[[#This Row],[T0Time]]))","v":500},null,null,null,null,null,null,null,null,null,null,null,null,null,null,null,null,null,null,null,null,null,null,null,null,{"$f":"MATCH(MAX(BackendTable[[#This Row],[T1S1]:[T1S5]]),BackendTable[[#This Row],[T1S1]:[T1S5]],0)","v":{"$error":"#N/A"}},{"$f":"MATCH(MAX(BackendTable[[#This Row],[T2S1]:[T2S5]]),BackendTable[[#This Row],[T2S1]:[T2S5]],0)","v":{"$error":"#N/A"}},{"$f":"MATCH(MAX(BackendTable[[#This Row],[T3S1]:[T3S5]]),BackendTable[[#This Row],[T3S1]:[T3S5]],0)","v":{"$error":"#N/A"}}]
[null,{"$f":"ROW()-ROW(BackendTable[[#Headers],[Row'#]])","v":362},{"$f":"'Data In'!A369","v":0},{"$f":"IF(BackendTable[[#This Row],[Time]]-'Reference Cells'!$C$3<=0,NA(),'Reference Cells'!$C$4-BackendTable[[#This Row],[Time]])*86400","v":{"$error":"#N/A"}},{"$f":"IFERROR(8-BackendTable[[#This Row],[Column1]],\"\")","v":""},{"$f":"IF(ISERROR(BackendTable[[#This Row],[Column1]]),-9,(BackendTable[[#This Row],[Net Time]]-NetTimeMin)*RangeAdj)","v":-9},{"$f":"IF(AND(BackendTable[[#This Row],[Time]]>='Reference Cells'!$C$6,BackendTable[[#This Row],[Time]]<='Reference Cells'!$C$7),(BackendTable[[#This Row],[Time]]-'Reference Cells'!$C$6)*86400,NA())","v":2},{"$f":"IF(CommandCell='Reference Cells'!$C$17,NA(),ABS('Data In'!B369-INDIRECT(\"ZeroVal_\"&H$2,0)))","v":0},{"$f":"IF(CommandCell='Reference Cells'!$C$17,NA(),ABS('Data In'!C369-INDIRECT(\"ZeroVal_\"&I$2,0)))","v":0},{"$f":"IF(CommandCell='Reference Cells'!$C$17,NA(),ABS('Data In'!D369-INDIRECT(\"ZeroVal_\"&J$2,0)))","v":0},{"$f":"IF(CommandCell='Reference Cells'!$C$17,NA(),ABS('Data In'!E369-INDIRECT(\"ZeroVal_\"&K$2,0)))","v":0},{"$f":"IF(CommandCell='Reference Cells'!$C$17,NA(),ABS('Data In'!F369-INDIRECT(\"ZeroVal_\"&L$2,0)))","v":0},{"$f":"MAX(BackendTable[[#This Row],[S1]:[S5]])","v":0},{"$f":"IF(ISERROR(BackendTable[[#This Row],[T0Time]]),0,COUNTIFS(BackendTable[T0Time],\"<=\"&3,BackendTable[T0Time],\">=\"&0)-COUNTIFS(BackendTable[T0Time],\">\"&BackendTable[[#This Row],[T0Time]]))","v":500},null,null,null,null,null,null,null,null,null,null,null,null,null,null,null,null,null,null,null,null,null,null,null,null,{"$f":"MATCH(MAX(BackendTable[[#This Row],[T1S1]:[T1S5]]),BackendTable[[#This Row],[T1S1]:[T1S5]],0)","v":{"$error":"#N/A"}},{"$f":"MATCH(MAX(BackendTable[[#This Row],[T2S1]:[T2S5]]),BackendTable[[#This Row],[T2S1]:[T2S5]],0)","v":{"$error":"#N/A"}},{"$f":"MATCH(MAX(BackendTable[[#This Row],[T3S1]:[T3S5]]),BackendTable[[#This Row],[T3S1]:[T3S5]],0)","v":{"$error":"#N/A"}}]
[null,{"$f":"ROW()-ROW(BackendTable[[#Headers],[Row'#]])","v":363},{"$f":"'Data In'!A370","v":0},{"$f":"IF(BackendTable[[#This Row],[Time]]-'Reference Cells'!$C$3<=0,NA(),'Reference Cells'!$C$4-BackendTable[[#This Row],[Time]])*86400","v":{"$error":"#N/A"}},{"$f":"IFERROR(8-BackendTable[[#This Row],[Column1]],\"\")","v":""},{"$f":"IF(ISERROR(BackendTable[[#This Row],[Column1]]),-9,(BackendTable[[#This Row],[Net Time]]-NetTimeMin)*RangeAdj)","v":-9},{"$f":"IF(AND(BackendTable[[#This Row],[Time]]>='Reference Cells'!$C$6,BackendTable[[#This Row],[Time]]<='Reference Cells'!$C$7),(BackendTable[[#This Row],[Time]]-'Reference Cells'!$C$6)*86400,NA())","v":2},{"$f":"IF(CommandCell='Reference Cells'!$C$17,NA(),ABS('Data In'!B370-INDIRECT(\"ZeroVal_\"&H$2,0)))","v":0},{"$f":"IF(CommandCell='Reference Cells'!$C$17,NA(),ABS('Data In'!C370-INDIRECT(\"ZeroVal_\"&I$2,0)))","v":0},{"$f":"IF(CommandCell='Reference Cells'!$C$17,NA(),ABS('Data In'!D370-INDIRECT(\"ZeroVal_\"&J$2,0)))","v":0},{"$f":"IF(CommandCell='Reference Cells'!$C$17,NA(),ABS('Data In'!E370-INDIRECT(\"ZeroVal_\"&K$2,0)))","v":0},{"$f":"IF(CommandCell='Reference Cells'!$C$17,NA(),ABS('Data In'!F370-INDIRECT(\"ZeroVal_\"&L$2,0)))","v":0},{"$f":"MAX(BackendTable[[#This Row],[S1]:[S5]])","v":0},{"$f":"IF(ISERROR(BackendTable[[#This Row],[T0Time]]),0,COUNTIFS(BackendTable[T0Time],\"<=\"&3,BackendTable[T0Time],\">=\"&0)-COUNTIFS(BackendTable[T0Time],\">\"&BackendTable[[#This Row],[T0Time]]))","v":500},null,null,null,null,null,null,null,null,null,null,null,null,null,null,null,null,null,null,null,null,null,null,null,null,{"$f":"MATCH(MAX(BackendTable[[#This Row],[T1S1]:[T1S5]]),BackendTable[[#This Row],[T1S1]:[T1S5]],0)","v":{"$error":"#N/A"}},{"$f":"MATCH(MAX(BackendTable[[#This Row],[T2S1]:[T2S5]]),BackendTable[[#This Row],[T2S1]:[T2S5]],0)","v":{"$error":"#N/A"}},{"$f":"MATCH(MAX(BackendTable[[#This Row],[T3S1]:[T3S5]]),BackendTable[[#This Row],[T3S1]:[T3S5]],0)","v":{"$error":"#N/A"}}]
[null,{"$f":"ROW()-ROW(BackendTable[[#Headers],[Row'#]])","v":364},{"$f":"'Data In'!A371","v":0},{"$f":"IF(BackendTable[[#This Row],[Time]]-'Reference Cells'!$C$3<=0,NA(),'Reference Cells'!$C$4-BackendTable[[#This Row],[Time]])*86400","v":{"$error":"#N/A"}},{"$f":"IFERROR(8-BackendTable[[#This Row],[Column1]],\"\")","v":""},{"$f":"IF(ISERROR(BackendTable[[#This Row],[Column1]]),-9,(BackendTable[[#This Row],[Net Time]]-NetTimeMin)*RangeAdj)","v":-9},{"$f":"IF(AND(BackendTable[[#This Row],[Time]]>='Reference Cells'!$C$6,BackendTable[[#This Row],[Time]]<='Reference Cells'!$C$7),(BackendTable[[#This Row],[Time]]-'Reference Cells'!$C$6)*86400,NA())","v":2},{"$f":"IF(CommandCell='Reference Cells'!$C$17,NA(),ABS('Data In'!B371-INDIRECT(\"ZeroVal_\"&H$2,0)))","v":0},{"$f":"IF(CommandCell='Reference Cells'!$C$17,NA(),ABS('Data In'!C371-INDIRECT(\"ZeroVal_\"&I$2,0)))","v":0},{"$f":"IF(CommandCell='Reference Cells'!$C$17,NA(),ABS('Data In'!D371-INDIRECT(\"ZeroVal_\"&J$2,0)))","v":0},{"$f":"IF(CommandCell='Reference Cells'!$C$17,NA(),ABS('Data In'!E371-INDIRECT(\"ZeroVal_\"&K$2,0)))","v":0},{"$f":"IF(CommandCell='Reference Cells'!$C$17,NA(),ABS('Data In'!F371-INDIRECT(\"ZeroVal_\"&L$2,0)))","v":0},{"$f":"MAX(BackendTable[[#This Row],[S1]:[S5]])","v":0},{"$f":"IF(ISERROR(BackendTable[[#This Row],[T0Time]]),0,COUNTIFS(BackendTable[T0Time],\"<=\"&3,BackendTable[T0Time],\">=\"&0)-COUNTIFS(BackendTable[T0Time],\">\"&BackendTable[[#This Row],[T0Time]]))","v":500},null,null,null,null,null,null,null,null,null,null,null,null,null,null,null,null,null,null,null,null,null,null,null,null,{"$f":"MATCH(MAX(BackendTable[[#This Row],[T1S1]:[T1S5]]),BackendTable[[#This Row],[T1S1]:[T1S5]],0)","v":{"$error":"#N/A"}},{"$f":"MATCH(MAX(BackendTable[[#This Row],[T2S1]:[T2S5]]),BackendTable[[#This Row],[T2S1]:[T2S5]],0)","v":{"$error":"#N/A"}},{"$f":"MATCH(MAX(BackendTable[[#This Row],[T3S1]:[T3S5]]),BackendTable[[#This Row],[T3S1]:[T3S5]],0)","v":{"$error":"#N/A"}}]
[null,{"$f":"ROW()-ROW(BackendTable[[#Headers],[Row'#]])","v":365},{"$f":"'Data In'!A372","v":0},{"$f":"IF(BackendTable[[#This Row],[Time]]-'Reference Cells'!$C$3<=0,NA(),'Reference Cells'!$C$4-BackendTable[[#This Row],[Time]])*86400","v":{"$error":"#N/A"}},{"$f":"IFERROR(8-BackendTable[[#This Row],[Column1]],\"\")","v":""},{"$f":"IF(ISERROR(BackendTable[[#This Row],[Column1]]),-9,(BackendTable[[#This Row],[Net Time]]-NetTimeMin)*RangeAdj)","v":-9},{"$f":"IF(AND(BackendTable[[#This Row],[Time]]>='Reference Cells'!$C$6,BackendTable[[#This Row],[Time]]<='Reference Cells'!$C$7),(BackendTable[[#This Row],[Time]]-'Reference Cells'!$C$6)*86400,NA())","v":2},{"$f":"IF(CommandCell='Reference Cells'!$C$17,NA(),ABS('Data In'!B372-INDIRECT(\"ZeroVal_\"&H$2,0)))","v":0},{"$f":"IF(CommandCell='Reference Cells'!$C$17,NA(),ABS('Data In'!C372-INDIRECT(\"ZeroVal_\"&I$2,0)))","v":0},{"$f":"IF(CommandCell='Reference Cells'!$C$17,NA(),ABS('Data In'!D372-INDIRECT(\"ZeroVal_\"&J$2,0)))","v":0},{"$f":"IF(CommandCell='Reference Cells'!$C$17,NA(),ABS('Data In'!E372-INDIRECT(\"ZeroVal_\"&K$2,0)))","v":0},{"$f":"IF(CommandCell='Reference Cells'!$C$17,NA(),ABS('Data In'!F372-INDIRECT(\"ZeroVal_\"&L$2,0)))","v":0},{"$f":"MAX(BackendTable[[#This Row],[S1]:[S5]])","v":0},{"$f":"IF(ISERROR(BackendTable[[#This Row],[T0Time]]),0,COUNTIFS(BackendTable[T0Time],\"<=\"&3,BackendTable[T0Time],\">=\"&0)-COUNTIFS(BackendTable[T0Time],\">\"&BackendTable[[#This Row],[T0Time]]))","v":500},null,null,null,null,null,null,null,null,null,null,null,null,null,null,null,null,null,null,null,null,null,null,null,null,{"$f":"MATCH(MAX(BackendTable[[#This Row],[T1S1]:[T1S5]]),BackendTable[[#This Row],[T1S1]:[T1S5]],0)","v":{"$error":"#N/A"}},{"$f":"MATCH(MAX(BackendTable[[#This Row],[T2S1]:[T2S5]]),BackendTable[[#This Row],[T2S1]:[T2S5]],0)","v":{"$error":"#N/A"}},{"$f":"MATCH(MAX(BackendTable[[#This Row],[T3S1]:[T3S5]]),BackendTable[[#This Row],[T3S1]:[T3S5]],0)","v":{"$error":"#N/A"}}]
[null,{"$f":"ROW()-ROW(BackendTable[[#Headers],[Row'#]])","v":366},{"$f":"'Data In'!A373","v":0},{"$f":"IF(BackendTable[[#This Row],[Time]]-'Reference Cells'!$C$3<=0,NA(),'Reference Cells'!$C$4-BackendTable[[#This Row],[Time]])*86400","v":{"$error":"#N/A"}},{"$f":"IFERROR(8-BackendTable[[#This Row],[Column1]],\"\")","v":""},{"$f":"IF(ISERROR(BackendTable[[#This Row],[Column1]]),-9,(BackendTable[[#This Row],[Net Time]]-NetTimeMin)*RangeAdj)","v":-9},{"$f":"IF(AND(BackendTable[[#This Row],[Time]]>='Reference Cells'!$C$6,BackendTable[[#This Row],[Time]]<='Reference Cells'!$C$7),(BackendTable[[#This Row],[Time]]-'Reference Cells'!$C$6)*86400,NA())","v":2},{"$f":"IF(CommandCell='Reference Cells'!$C$17,NA(),ABS('Data In'!B373-INDIRECT(\"ZeroVal_\"&H$2,0)))","v":0},{"$f":"IF(CommandCell='Reference Cells'!$C$17,NA(),ABS('Data In'!C373-INDIRECT(\"ZeroVal_\"&I$2,0)))","v":0},{"$f":"IF(CommandCell='Reference Cells'!$C$17,NA(),ABS('Data In'!D373-INDIRECT(\"ZeroVal_\"&J$2,0)))","v":0},{"$f":"IF(CommandCell='Reference Cells'!$C$17,NA(),ABS('Data In'!E373-INDIRECT(\"ZeroVal_\"&K$2,0)))","v":0},{"$f":"IF(CommandCell='Reference Cells'!$C$17,NA(),ABS('Data In'!F373-INDIRECT(\"ZeroVal_\"&L$2,0)))","v":0},{"$f":"MAX(BackendTable[[#This Row],[S1]:[S5]])","v":0},{"$f":"IF(ISERROR(BackendTable[[#This Row],[T0Time]]),0,COUNTIFS(BackendTable[T0Time],\"<=\"&3,BackendTable[T0Time],\">=\"&0)-COUNTIFS(BackendTable[T0Time],\">\"&BackendTable[[#This Row],[T0Time]]))","v":500},null,null,null,null,null,null,null,null,null,null,null,null,null,null,null,null,null,null,null,null,null,null,null,null,{"$f":"MATCH(MAX(BackendTable[[#This Row],[T1S1]:[T1S5]]),BackendTable[[#This Row],[T1S1]:[T1S5]],0)","v":{"$error":"#N/A"}},{"$f":"MATCH(MAX(BackendTable[[#This Row],[T2S1]:[T2S5]]),BackendTable[[#This Row],[T2S1]:[T2S5]],0)","v":{"$error":"#N/A"}},{"$f":"MATCH(MAX(BackendTable[[#This Row],[T3S1]:[T3S5]]),BackendTable[[#This Row],[T3S1]:[T3S5]],0)","v":{"$error":"#N/A"}}]
[null,{"$f":"ROW()-ROW(BackendTable[[#Headers],[Row'#]])","v":367},{"$f":"'Data In'!A374","v":0},{"$f":"IF(BackendTable[[#This Row],[Time]]-'Reference Cells'!$C$3<=0,NA(),'Reference Cells'!$C$4-BackendTable[[#This Row],[Time]])*86400","v":{"$error":"#N/A"}},{"$f":"IFERROR(8-BackendTable[[#This Row],[Column1]],\"\")","v":""},{"$f":"IF(ISERROR(BackendTable[[#This Row],[Column1]]),-9,(BackendTable[[#This Row],[Net Time]]-NetTimeMin)*RangeAdj)","v":-9},{"$f":"IF(AND(BackendTable[[#This Row],[Time]]>='Reference Cells'!$C$6,BackendTable[[#This Row],[Time]]<='Reference Cells'!$C$7),(BackendTable[[#This Row],[Time]]-'Reference Cells'!$C$6)*86400,NA())","v":2},{"$f":"IF(CommandCell='Reference Cells'!$C$17,NA(),ABS('Data In'!B374-INDIRECT(\"ZeroVal_\"&H$2,0)))","v":0},{"$f":"IF(CommandCell='Reference Cells'!$C$17,NA(),ABS('Data In'!C374-INDIRECT(\"ZeroVal_\"&I$2,0)))","v":0},{"$f":"IF(CommandCell='Reference Cells'!$C$17,NA(),ABS('Data In'!D374-INDIRECT(\"ZeroVal_\"&J$2,0)))","v":0},{"$f":"IF(CommandCell='Reference Cells'!$C$17,NA(),ABS('Data In'!E374-INDIRECT(\"ZeroVal_\"&K$2,0)))","v":0},{"$f":"IF(CommandCell='Reference Cells'!$C$17,NA(),ABS('Data In'!F374-INDIRECT(\"ZeroVal_\"&L$2,0)))","v":0},{"$f":"MAX(BackendTable[[#This Row],[S1]:[S5]])","v":0},{"$f":"IF(ISERROR(BackendTable[[#This Row],[T0Time]]),0,COUNTIFS(BackendTable[T0Time],\"<=\"&3,BackendTable[T0Time],\">=\"&0)-COUNTIFS(BackendTable[T0Time],\">\"&BackendTable[[#This Row],[T0Time]]))","v":500},null,null,null,null,null,null,null,null,null,null,null,null,null,null,null,null,null,null,null,null,null,null,null,null,{"$f":"MATCH(MAX(BackendTable[[#This Row],[T1S1]:[T1S5]]),BackendTable[[#This Row],[T1S1]:[T1S5]],0)","v":{"$error":"#N/A"}},{"$f":"MATCH(MAX(BackendTable[[#This Row],[T2S1]:[T2S5]]),BackendTable[[#This Row],[T2S1]:[T2S5]],0)","v":{"$error":"#N/A"}},{"$f":"MATCH(MAX(BackendTable[[#This Row],[T3S1]:[T3S5]]),BackendTable[[#This Row],[T3S1]:[T3S5]],0)","v":{"$error":"#N/A"}}]
[null,{"$f":"ROW()-ROW(BackendTable[[#Headers],[Row'#]])","v":368},{"$f":"'Data In'!A375","v":0},{"$f":"IF(BackendTable[[#This Row],[Time]]-'Reference Cells'!$C$3<=0,NA(),'Reference Cells'!$C$4-BackendTable[[#This Row],[Time]])*86400","v":{"$error":"#N/A"}},{"$f":"IFERROR(8-BackendTable[[#This Row],[Column1]],\"\")","v":""},{"$f":"IF(ISERROR(BackendTable[[#This Row],[Column1]]),-9,(BackendTable[[#This Row],[Net Time]]-NetTimeMin)*RangeAdj)","v":-9},{"$f":"IF(AND(BackendTable[[#This Row],[Time]]>='Reference Cells'!$C$6,BackendTable[[#This Row],[Time]]<='Reference Cells'!$C$7),(BackendTable[[#This Row],[Time]]-'Reference Cells'!$C$6)*86400,NA())","v":2},{"$f":"IF(CommandCell='Reference Cells'!$C$17,NA(),ABS('Data In'!B375-INDIRECT(\"ZeroVal_\"&H$2,0)))","v":0},{"$f":"IF(CommandCell='Reference Cells'!$C$17,NA(),ABS('Data In'!C375-INDIRECT(\"ZeroVal_\"&I$2,0)))","v":0},{"$f":"IF(CommandCell='Reference Cells'!$C$17,NA(),ABS('Data In'!D375-INDIRECT(\"ZeroVal_\"&J$2,0)))","v":0},{"$f":"IF(CommandCell='Reference Cells'!$C$17,NA(),ABS('Data In'!E375-INDIRECT(\"ZeroVal_\"&K$2,0)))","v":0},{"$f":"IF(CommandCell='Reference Cells'!$C$17,NA(),ABS('Data In'!F375-INDIRECT(\"ZeroVal_\"&L$2,0)))","v":0},{"$f":"MAX(BackendTable[[#This Row],[S1]:[S5]])","v":0},{"$f":"IF(ISERROR(BackendTable[[#This Row],[T0Time]]),0,COUNTIFS(BackendTable[T0Time],\"<=\"&3,BackendTable[T0Time],\">=\"&0)-COUNTIFS(BackendTable[T0Time],\">\"&BackendTable[[#This Row],[T0Time]]))","v":500},null,null,null,null,null,null,null,null,null,null,null,null,null,null,null,null,null,null,null,null,null,null,null,null,{"$f":"MATCH(MAX(BackendTable[[#This Row],[T1S1]:[T1S5]]),BackendTable[[#This Row],[T1S1]:[T1S5]],0)","v":{"$error":"#N/A"}},{"$f":"MATCH(MAX(BackendTable[[#This Row],[T2S1]:[T2S5]]),BackendTable[[#This Row],[T2S1]:[T2S5]],0)","v":{"$error":"#N/A"}},{"$f":"MATCH(MAX(BackendTable[[#This Row],[T3S1]:[T3S5]]),BackendTable[[#This Row],[T3S1]:[T3S5]],0)","v":{"$error":"#N/A"}}]
[null,{"$f":"ROW()-ROW(BackendTable[[#Headers],[Row'#]])","v":369},{"$f":"'Data In'!A376","v":0},{"$f":"IF(BackendTable[[#This Row],[Time]]-'Reference Cells'!$C$3<=0,NA(),'Reference Cells'!$C$4-BackendTable[[#This Row],[Time]])*86400","v":{"$error":"#N/A"}},{"$f":"IFERROR(8-BackendTable[[#This Row],[Column1]],\"\")","v":""},{"$f":"IF(ISERROR(BackendTable[[#This Row],[Column1]]),-9,(BackendTable[[#This Row],[Net Time]]-NetTimeMin)*RangeAdj)","v":-9},{"$f":"IF(AND(BackendTable[[#This Row],[Time]]>='Reference Cells'!$C$6,BackendTable[[#This Row],[Time]]<='Reference Cells'!$C$7),(BackendTable[[#This Row],[Time]]-'Reference Cells'!$C$6)*86400,NA())","v":2},{"$f":"IF(CommandCell='Reference Cells'!$C$17,NA(),ABS('Data In'!B376-INDIRECT(\"ZeroVal_\"&H$2,0)))","v":0},{"$f":"IF(CommandCell='Reference Cells'!$C$17,NA(),ABS('Data In'!C376-INDIRECT(\"ZeroVal_\"&I$2,0)))","v":0},{"$f":"IF(CommandCell='Reference Cells'!$C$17,NA(),ABS('Data In'!D376-INDIRECT(\"ZeroVal_\"&J$2,0)))","v":0},{"$f":"IF(CommandCell='Reference Cells'!$C$17,NA(),ABS('Data In'!E376-INDIRECT(\"ZeroVal_\"&K$2,0)))","v":0},{"$f":"IF(CommandCell='Reference Cells'!$C$17,NA(),ABS('Data In'!F376-INDIRECT(\"ZeroVal_\"&L$2,0)))","v":0},{"$f":"MAX(BackendTable[[#This Row],[S1]:[S5]])","v":0},{"$f":"IF(ISERROR(BackendTable[[#This Row],[T0Time]]),0,COUNTIFS(BackendTable[T0Time],\"<=\"&3,BackendTable[T0Time],\">=\"&0)-COUNTIFS(BackendTable[T0Time],\">\"&BackendTable[[#This Row],[T0Time]]))","v":500},null,null,null,null,null,null,null,null,null,null,null,null,null,null,null,null,null,null,null,null,null,null,null,null,{"$f":"MATCH(MAX(BackendTable[[#This Row],[T1S1]:[T1S5]]),BackendTable[[#This Row],[T1S1]:[T1S5]],0)","v":{"$error":"#N/A"}},{"$f":"MATCH(MAX(BackendTable[[#This Row],[T2S1]:[T2S5]]),BackendTable[[#This Row],[T2S1]:[T2S5]],0)","v":{"$error":"#N/A"}},{"$f":"MATCH(MAX(BackendTable[[#This Row],[T3S1]:[T3S5]]),BackendTable[[#This Row],[T3S1]:[T3S5]],0)","v":{"$error":"#N/A"}}]
[null,{"$f":"ROW()-ROW(BackendTable[[#Headers],[Row'#]])","v":370},{"$f":"'Data In'!A377","v":0},{"$f":"IF(BackendTable[[#This Row],[Time]]-'Reference Cells'!$C$3<=0,NA(),'Reference Cells'!$C$4-BackendTable[[#This Row],[Time]])*86400","v":{"$error":"#N/A"}},{"$f":"IFERROR(8-BackendTable[[#This Row],[Column1]],\"\")","v":""},{"$f":"IF(ISERROR(BackendTable[[#This Row],[Column1]]),-9,(BackendTable[[#This Row],[Net Time]]-NetTimeMin)*RangeAdj)","v":-9},{"$f":"IF(AND(BackendTable[[#This Row],[Time]]>='Reference Cells'!$C$6,BackendTable[[#This Row],[Time]]<='Reference Cells'!$C$7),(BackendTable[[#This Row],[Time]]-'Reference Cells'!$C$6)*86400,NA())","v":2},{"$f":"IF(CommandCell='Reference Cells'!$C$17,NA(),ABS('Data In'!B377-INDIRECT(\"ZeroVal_\"&H$2,0)))","v":0},{"$f":"IF(CommandCell='Reference Cells'!$C$17,NA(),ABS('Data In'!C377-INDIRECT(\"ZeroVal_\"&I$2,0)))","v":0},{"$f":"IF(CommandCell='Reference Cells'!$C$17,NA(),ABS('Data In'!D377-INDIRECT(\"ZeroVal_\"&J$2,0)))","v":0},{"$f":"IF(CommandCell='Reference Cells'!$C$17,NA(),ABS('Data In'!E377-INDIRECT(\"ZeroVal_\"&K$2,0)))","v":0},{"$f":"IF(CommandCell='Reference Cells'!$C$17,NA(),ABS('Data In'!F377-INDIRECT(\"ZeroVal_\"&L$2,0)))","v":0},{"$f":"MAX(BackendTable[[#This Row],[S1]:[S5]])","v":0},{"$f":"IF(ISERROR(BackendTable[[#This Row],[T0Time]]),0,COUNTIFS(BackendTable[T0Time],\"<=\"&3,BackendTable[T0Time],\">=\"&0)-COUNTIFS(BackendTable[T0Time],\">\"&BackendTable[[#This Row],[T0Time]]))","v":500},null,null,null,null,null,null,null,null,null,null,null,null,null,null,null,null,null,null,null,null,null,null,null,null,{"$f":"MATCH(MAX(BackendTable[[#This Row],[T1S1]:[T1S5]]),BackendTable[[#This Row],[T1S1]:[T1S5]],0)","v":{"$error":"#N/A"}},{"$f":"MATCH(MAX(BackendTable[[#This Row],[T2S1]:[T2S5]]),BackendTable[[#This Row],[T2S1]:[T2S5]],0)","v":{"$error":"#N/A"}},{"$f":"MATCH(MAX(BackendTable[[#This Row],[T3S1]:[T3S5]]),BackendTable[[#This Row],[T3S1]:[T3S5]],0)","v":{"$error":"#N/A"}}]
[null,{"$f":"ROW()-ROW(BackendTable[[#Headers],[Row'#]])","v":371},{"$f":"'Data In'!A378","v":0},{"$f":"IF(BackendTable[[#This Row],[Time]]-'Reference Cells'!$C$3<=0,NA(),'Reference Cells'!$C$4-BackendTable[[#This Row],[Time]])*86400","v":{"$error":"#N/A"}},{"$f":"IFERROR(8-BackendTable[[#This Row],[Column1]],\"\")","v":""},{"$f":"IF(ISERROR(BackendTable[[#This Row],[Column1]]),-9,(BackendTable[[#This Row],[Net Time]]-NetTimeMin)*RangeAdj)","v":-9},{"$f":"IF(AND(BackendTable[[#This Row],[Time]]>='Reference Cells'!$C$6,BackendTable[[#This Row],[Time]]<='Reference Cells'!$C$7),(BackendTable[[#This Row],[Time]]-'Reference Cells'!$C$6)*86400,NA())","v":2},{"$f":"IF(CommandCell='Reference Cells'!$C$17,NA(),ABS('Data In'!B378-INDIRECT(\"ZeroVal_\"&H$2,0)))","v":0},{"$f":"IF(CommandCell='Reference Cells'!$C$17,NA(),ABS('Data In'!C378-INDIRECT(\"ZeroVal_\"&I$2,0)))","v":0},{"$f":"IF(CommandCell='Reference Cells'!$C$17,NA(),ABS('Data In'!D378-INDIRECT(\"ZeroVal_\"&J$2,0)))","v":0},{"$f":"IF(CommandCell='Reference Cells'!$C$17,NA(),ABS('Data In'!E378-INDIRECT(\"ZeroVal_\"&K$2,0)))","v":0},{"$f":"IF(CommandCell='Reference Cells'!$C$17,NA(),ABS('Data In'!F378-INDIRECT(\"ZeroVal_\"&L$2,0)))","v":0},{"$f":"MAX(BackendTable[[#This Row],[S1]:[S5]])","v":0},{"$f":"IF(ISERROR(BackendTable[[#This Row],[T0Time]]),0,COUNTIFS(BackendTable[T0Time],\"<=\"&3,BackendTable[T0Time],\">=\"&0)-COUNTIFS(BackendTable[T0Time],\">\"&BackendTable[[#This Row],[T0Time]]))","v":500},null,null,null,null,null,null,null,null,null,null,null,null,null,null,null,null,null,null,null,null,null,null,null,null,{"$f":"MATCH(MAX(BackendTable[[#This Row],[T1S1]:[T1S5]]),BackendTable[[#This Row],[T1S1]:[T1S5]],0)","v":{"$error":"#N/A"}},{"$f":"MATCH(MAX(BackendTable[[#This Row],[T2S1]:[T2S5]]),BackendTable[[#This Row],[T2S1]:[T2S5]],0)","v":{"$error":"#N/A"}},{"$f":"MATCH(MAX(BackendTable[[#This Row],[T3S1]:[T3S5]]),BackendTable[[#This Row],[T3S1]:[T3S5]],0)","v":{"$error":"#N/A"}}]
[null,{"$f":"ROW()-ROW(BackendTable[[#Headers],[Row'#]])","v":372},{"$f":"'Data In'!A379","v":0},{"$f":"IF(BackendTable[[#This Row],[Time]]-'Reference Cells'!$C$3<=0,NA(),'Reference Cells'!$C$4-BackendTable[[#This Row],[Time]])*86400","v":{"$error":"#N/A"}},{"$f":"IFERROR(8-BackendTable[[#This Row],[Column1]],\"\")","v":""},{"$f":"IF(ISERROR(BackendTable[[#This Row],[Column1]]),-9,(BackendTable[[#This Row],[Net Time]]-NetTimeMin)*RangeAdj)","v":-9},{"$f":"IF(AND(BackendTable[[#This Row],[Time]]>='Reference Cells'!$C$6,BackendTable[[#This Row],[Time]]<='Reference Cells'!$C$7),(BackendTable[[#This Row],[Time]]-'Reference Cells'!$C$6)*86400,NA())","v":2},{"$f":"IF(CommandCell='Reference Cells'!$C$17,NA(),ABS('Data In'!B379-INDIRECT(\"ZeroVal_\"&H$2,0)))","v":0},{"$f":"IF(CommandCell='Reference Cells'!$C$17,NA(),ABS('Data In'!C379-INDIRECT(\"ZeroVal_\"&I$2,0)))","v":0},{"$f":"IF(CommandCell='Reference Cells'!$C$17,NA(),ABS('Data In'!D379-INDIRECT(\"ZeroVal_\"&J$2,0)))","v":0},{"$f":"IF(CommandCell='Reference Cells'!$C$17,NA(),ABS('Data In'!E379-INDIRECT(\"ZeroVal_\"&K$2,0)))","v":0},{"$f":"IF(CommandCell='Reference Cells'!$C$17,NA(),ABS('Data In'!F379-INDIRECT(\"ZeroVal_\"&L$2,0)))","v":0},{"$f":"MAX(BackendTable[[#This Row],[S1]:[S5]])","v":0},{"$f":"IF(ISERROR(BackendTable[[#This Row],[T0Time]]),0,COUNTIFS(BackendTable[T0Time],\"<=\"&3,BackendTable[T0Time],\">=\"&0)-COUNTIFS(BackendTable[T0Time],\">\"&BackendTable[[#This Row],[T0Time]]))","v":500},null,null,null,null,null,null,null,null,null,null,null,null,null,null,null,null,null,null,null,null,null,null,null,null,{"$f":"MATCH(MAX(BackendTable[[#This Row],[T1S1]:[T1S5]]),BackendTable[[#This Row],[T1S1]:[T1S5]],0)","v":{"$error":"#N/A"}},{"$f":"MATCH(MAX(BackendTable[[#This Row],[T2S1]:[T2S5]]),BackendTable[[#This Row],[T2S1]:[T2S5]],0)","v":{"$error":"#N/A"}},{"$f":"MATCH(MAX(BackendTable[[#This Row],[T3S1]:[T3S5]]),BackendTable[[#This Row],[T3S1]:[T3S5]],0)","v":{"$error":"#N/A"}}]
[null,{"$f":"ROW()-ROW(BackendTable[[#Headers],[Row'#]])","v":373},{"$f":"'Data In'!A380","v":0},{"$f":"IF(BackendTable[[#This Row],[Time]]-'Reference Cells'!$C$3<=0,NA(),'Reference Cells'!$C$4-BackendTable[[#This Row],[Time]])*86400","v":{"$error":"#N/A"}},{"$f":"IFERROR(8-BackendTable[[#This Row],[Column1]],\"\")","v":""},{"$f":"IF(ISERROR(BackendTable[[#This Row],[Column1]]),-9,(BackendTable[[#This Row],[Net Time]]-NetTimeMin)*RangeAdj)","v":-9},{"$f":"IF(AND(BackendTable[[#This Row],[Time]]>='Reference Cells'!$C$6,BackendTable[[#This Row],[Time]]<='Reference Cells'!$C$7),(BackendTable[[#This Row],[Time]]-'Reference Cells'!$C$6)*86400,NA())","v":2},{"$f":"IF(CommandCell='Reference Cells'!$C$17,NA(),ABS('Data In'!B380-INDIRECT(\"ZeroVal_\"&H$2,0)))","v":0},{"$f":"IF(CommandCell='Reference Cells'!$C$17,NA(),ABS('Data In'!C380-INDIRECT(\"ZeroVal_\"&I$2,0)))","v":0},{"$f":"IF(CommandCell='Reference Cells'!$C$17,NA(),ABS('Data In'!D380-INDIRECT(\"ZeroVal_\"&J$2,0)))","v":0},{"$f":"IF(CommandCell='Reference Cells'!$C$17,NA(),ABS('Data In'!E380-INDIRECT(\"ZeroVal_\"&K$2,0)))","v":0},{"$f":"IF(CommandCell='Reference Cells'!$C$17,NA(),ABS('Data In'!F380-INDIRECT(\"ZeroVal_\"&L$2,0)))","v":0},{"$f":"MAX(BackendTable[[#This Row],[S1]:[S5]])","v":0},{"$f":"IF(ISERROR(BackendTable[[#This Row],[T0Time]]),0,COUNTIFS(BackendTable[T0Time],\"<=\"&3,BackendTable[T0Time],\">=\"&0)-COUNTIFS(BackendTable[T0Time],\">\"&BackendTable[[#This Row],[T0Time]]))","v":500},null,null,null,null,null,null,null,null,null,null,null,null,null,null,null,null,null,null,null,null,null,null,null,null,{"$f":"MATCH(MAX(BackendTable[[#This Row],[T1S1]:[T1S5]]),BackendTable[[#This Row],[T1S1]:[T1S5]],0)","v":{"$error":"#N/A"}},{"$f":"MATCH(MAX(BackendTable[[#This Row],[T2S1]:[T2S5]]),BackendTable[[#This Row],[T2S1]:[T2S5]],0)","v":{"$error":"#N/A"}},{"$f":"MATCH(MAX(BackendTable[[#This Row],[T3S1]:[T3S5]]),BackendTable[[#This Row],[T3S1]:[T3S5]],0)","v":{"$error":"#N/A"}}]
[null,{"$f":"ROW()-ROW(BackendTable[[#Headers],[Row'#]])","v":374},{"$f":"'Data In'!A381","v":0},{"$f":"IF(BackendTable[[#This Row],[Time]]-'Reference Cells'!$C$3<=0,NA(),'Reference Cells'!$C$4-BackendTable[[#This Row],[Time]])*86400","v":{"$error":"#N/A"}},{"$f":"IFERROR(8-BackendTable[[#This Row],[Column1]],\"\")","v":""},{"$f":"IF(ISERROR(BackendTable[[#This Row],[Column1]]),-9,(BackendTable[[#This Row],[Net Time]]-NetTimeMin)*RangeAdj)","v":-9},{"$f":"IF(AND(BackendTable[[#This Row],[Time]]>='Reference Cells'!$C$6,BackendTable[[#This Row],[Time]]<='Reference Cells'!$C$7),(BackendTable[[#This Row],[Time]]-'Reference Cells'!$C$6)*86400,NA())","v":2},{"$f":"IF(CommandCell='Reference Cells'!$C$17,NA(),ABS('Data In'!B381-INDIRECT(\"ZeroVal_\"&H$2,0)))","v":0},{"$f":"IF(CommandCell='Reference Cells'!$C$17,NA(),ABS('Data In'!C381-INDIRECT(\"ZeroVal_\"&I$2,0)))","v":0},{"$f":"IF(CommandCell='Reference Cells'!$C$17,NA(),ABS('Data In'!D381-INDIRECT(\"ZeroVal_\"&J$2,0)))","v":0},{"$f":"IF(CommandCell='Reference Cells'!$C$17,NA(),ABS('Data In'!E381-INDIRECT(\"ZeroVal_\"&K$2,0)))","v":0},{"$f":"IF(CommandCell='Reference Cells'!$C$17,NA(),ABS('Data In'!F381-INDIRECT(\"ZeroVal_\"&L$2,0)))","v":0},{"$f":"MAX(BackendTable[[#This Row],[S1]:[S5]])","v":0},{"$f":"IF(ISERROR(BackendTable[[#This Row],[T0Time]]),0,COUNTIFS(BackendTable[T0Time],\"<=\"&3,BackendTable[T0Time],\">=\"&0)-COUNTIFS(BackendTable[T0Time],\">\"&BackendTable[[#This Row],[T0Time]]))","v":500},null,null,null,null,null,null,null,null,null,null,null,null,null,null,null,null,null,null,null,null,null,null,null,null,{"$f":"MATCH(MAX(BackendTable[[#This Row],[T1S1]:[T1S5]]),BackendTable[[#This Row],[T1S1]:[T1S5]],0)","v":{"$error":"#N/A"}},{"$f":"MATCH(MAX(BackendTable[[#This Row],[T2S1]:[T2S5]]),BackendTable[[#This Row],[T2S1]:[T2S5]],0)","v":{"$error":"#N/A"}},{"$f":"MATCH(MAX(BackendTable[[#This Row],[T3S1]:[T3S5]]),BackendTable[[#This Row],[T3S1]:[T3S5]],0)","v":{"$error":"#N/A"}}]
[null,{"$f":"ROW()-ROW(BackendTable[[#Headers],[Row'#]])","v":375},{"$f":"'Data In'!A382","v":0},{"$f":"IF(BackendTable[[#This Row],[Time]]-'Reference Cells'!$C$3<=0,NA(),'Reference Cells'!$C$4-BackendTable[[#This Row],[Time]])*86400","v":{"$error":"#N/A"}},{"$f":"IFERROR(8-BackendTable[[#This Row],[Column1]],\"\")","v":""},{"$f":"IF(ISERROR(BackendTable[[#This Row],[Column1]]),-9,(BackendTable[[#This Row],[Net Time]]-NetTimeMin)*RangeAdj)","v":-9},{"$f":"IF(AND(BackendTable[[#This Row],[Time]]>='Reference Cells'!$C$6,BackendTable[[#This Row],[Time]]<='Reference Cells'!$C$7),(BackendTable[[#This Row],[Time]]-'Reference Cells'!$C$6)*86400,NA())","v":2},{"$f":"IF(CommandCell='Reference Cells'!$C$17,NA(),ABS('Data In'!B382-INDIRECT(\"ZeroVal_\"&H$2,0)))","v":0},{"$f":"IF(CommandCell='Reference Cells'!$C$17,NA(),ABS('Data In'!C382-INDIRECT(\"ZeroVal_\"&I$2,0)))","v":0},{"$f":"IF(CommandCell='Reference Cells'!$C$17,NA(),ABS('Data In'!D382-INDIRECT(\"ZeroVal_\"&J$2,0)))","v":0},{"$f":"IF(CommandCell='Reference Cells'!$C$17,NA(),ABS('Data In'!E382-INDIRECT(\"ZeroVal_\"&K$2,0)))","v":0},{"$f":"IF(CommandCell='Reference Cells'!$C$17,NA(),ABS('Data In'!F382-INDIRECT(\"ZeroVal_\"&L$2,0)))","v":0},{"$f":"MAX(BackendTable[[#This Row],[S1]:[S5]])","v":0},{"$f":"IF(ISERROR(BackendTable[[#This Row],[T0Time]]),0,COUNTIFS(BackendTable[T0Time],\"<=\"&3,BackendTable[T0Time],\">=\"&0)-COUNTIFS(BackendTable[T0Time],\">\"&BackendTable[[#This Row],[T0Time]]))","v":500},null,null,null,null,null,null,null,null,null,null,null,null,null,null,null,null,null,null,null,null,null,null,null,null,{"$f":"MATCH(MAX(BackendTable[[#This Row],[T1S1]:[T1S5]]),BackendTable[[#This Row],[T1S1]:[T1S5]],0)","v":{"$error":"#N/A"}},{"$f":"MATCH(MAX(BackendTable[[#This Row],[T2S1]:[T2S5]]),BackendTable[[#This Row],[T2S1]:[T2S5]],0)","v":{"$error":"#N/A"}},{"$f":"MATCH(MAX(BackendTable[[#This Row],[T3S1]:[T3S5]]),BackendTable[[#This Row],[T3S1]:[T3S5]],0)","v":{"$error":"#N/A"}}]
[null,{"$f":"ROW()-ROW(BackendTable[[#Headers],[Row'#]])","v":376},{"$f":"'Data In'!A383","v":0},{"$f":"IF(BackendTable[[#This Row],[Time]]-'Reference Cells'!$C$3<=0,NA(),'Reference Cells'!$C$4-BackendTable[[#This Row],[Time]])*86400","v":{"$error":"#N/A"}},{"$f":"IFERROR(8-BackendTable[[#This Row],[Column1]],\"\")","v":""},{"$f":"IF(ISERROR(BackendTable[[#This Row],[Column1]]),-9,(BackendTable[[#This Row],[Net Time]]-NetTimeMin)*RangeAdj)","v":-9},{"$f":"IF(AND(BackendTable[[#This Row],[Time]]>='Reference Cells'!$C$6,BackendTable[[#This Row],[Time]]<='Reference Cells'!$C$7),(BackendTable[[#This Row],[Time]]-'Reference Cells'!$C$6)*86400,NA())","v":2},{"$f":"IF(CommandCell='Reference Cells'!$C$17,NA(),ABS('Data In'!B383-INDIRECT(\"ZeroVal_\"&H$2,0)))","v":0},{"$f":"IF(CommandCell='Reference Cells'!$C$17,NA(),ABS('Data In'!C383-INDIRECT(\"ZeroVal_\"&I$2,0)))","v":0},{"$f":"IF(CommandCell='Reference Cells'!$C$17,NA(),ABS('Data In'!D383-INDIRECT(\"ZeroVal_\"&J$2,0)))","v":0},{"$f":"IF(CommandCell='Reference Cells'!$C$17,NA(),ABS('Data In'!E383-INDIRECT(\"ZeroVal_\"&K$2,0)))","v":0},{"$f":"IF(CommandCell='Reference Cells'!$C$17,NA(),ABS('Data In'!F383-INDIRECT(\"ZeroVal_\"&L$2,0)))","v":0},{"$f":"MAX(BackendTable[[#This Row],[S1]:[S5]])","v":0},{"$f":"IF(ISERROR(BackendTable[[#This Row],[T0Time]]),0,COUNTIFS(BackendTable[T0Time],\"<=\"&3,BackendTable[T0Time],\">=\"&0)-COUNTIFS(BackendTable[T0Time],\">\"&BackendTable[[#This Row],[T0Time]]))","v":500},null,null,null,null,null,null,null,null,null,null,null,null,null,null,null,null,null,null,null,null,null,null,null,null,{"$f":"MATCH(MAX(BackendTable[[#This Row],[T1S1]:[T1S5]]),BackendTable[[#This Row],[T1S1]:[T1S5]],0)","v":{"$error":"#N/A"}},{"$f":"MATCH(MAX(BackendTable[[#This Row],[T2S1]:[T2S5]]),BackendTable[[#This Row],[T2S1]:[T2S5]],0)","v":{"$error":"#N/A"}},{"$f":"MATCH(MAX(BackendTable[[#This Row],[T3S1]:[T3S5]]),BackendTable[[#This Row],[T3S1]:[T3S5]],0)","v":{"$error":"#N/A"}}]
[null,{"$f":"ROW()-ROW(BackendTable[[#Headers],[Row'#]])","v":377},{"$f":"'Data In'!A384","v":0},{"$f":"IF(BackendTable[[#This Row],[Time]]-'Reference Cells'!$C$3<=0,NA(),'Reference Cells'!$C$4-BackendTable[[#This Row],[Time]])*86400","v":{"$error":"#N/A"}},{"$f":"IFERROR(8-BackendTable[[#This Row],[Column1]],\"\")","v":""},{"$f":"IF(ISERROR(BackendTable[[#This Row],[Column1]]),-9,(BackendTable[[#This Row],[Net Time]]-NetTimeMin)*RangeAdj)","v":-9},{"$f":"IF(AND(BackendTable[[#This Row],[Time]]>='Reference Cells'!$C$6,BackendTable[[#This Row],[Time]]<='Reference Cells'!$C$7),(BackendTable[[#This Row],[Time]]-'Reference Cells'!$C$6)*86400,NA())","v":2},{"$f":"IF(CommandCell='Reference Cells'!$C$17,NA(),ABS('Data In'!B384-INDIRECT(\"ZeroVal_\"&H$2,0)))","v":0},{"$f":"IF(CommandCell='Reference Cells'!$C$17,NA(),ABS('Data In'!C384-INDIRECT(\"ZeroVal_\"&I$2,0)))","v":0},{"$f":"IF(CommandCell='Reference Cells'!$C$17,NA(),ABS('Data In'!D384-INDIRECT(\"ZeroVal_\"&J$2,0)))","v":0},{"$f":"IF(CommandCell='Reference Cells'!$C$17,NA(),ABS('Data In'!E384-INDIRECT(\"ZeroVal_\"&K$2,0)))","v":0},{"$f":"IF(CommandCell='Reference Cells'!$C$17,NA(),ABS('Data In'!F384-INDIRECT(\"ZeroVal_\"&L$2,0)))","v":0},{"$f":"MAX(BackendTable[[#This Row],[S1]:[S5]])","v":0},{"$f":"IF(ISERROR(BackendTable[[#This Row],[T0Time]]),0,COUNTIFS(BackendTable[T0Time],\"<=\"&3,BackendTable[T0Time],\">=\"&0)-COUNTIFS(BackendTable[T0Time],\">\"&BackendTable[[#This Row],[T0Time]]))","v":500},null,null,null,null,null,null,null,null,null,null,null,null,null,null,null,null,null,null,null,null,null,null,null,null,{"$f":"MATCH(MAX(BackendTable[[#This Row],[T1S1]:[T1S5]]),BackendTable[[#This Row],[T1S1]:[T1S5]],0)","v":{"$error":"#N/A"}},{"$f":"MATCH(MAX(BackendTable[[#This Row],[T2S1]:[T2S5]]),BackendTable[[#This Row],[T2S1]:[T2S5]],0)","v":{"$error":"#N/A"}},{"$f":"MATCH(MAX(BackendTable[[#This Row],[T3S1]:[T3S5]]),BackendTable[[#This Row],[T3S1]:[T3S5]],0)","v":{"$error":"#N/A"}}]
[null,{"$f":"ROW()-ROW(BackendTable[[#Headers],[Row'#]])","v":378},{"$f":"'Data In'!A385","v":0},{"$f":"IF(BackendTable[[#This Row],[Time]]-'Reference Cells'!$C$3<=0,NA(),'Reference Cells'!$C$4-BackendTable[[#This Row],[Time]])*86400","v":{"$error":"#N/A"}},{"$f":"IFERROR(8-BackendTable[[#This Row],[Column1]],\"\")","v":""},{"$f":"IF(ISERROR(BackendTable[[#This Row],[Column1]]),-9,(BackendTable[[#This Row],[Net Time]]-NetTimeMin)*RangeAdj)","v":-9},{"$f":"IF(AND(BackendTable[[#This Row],[Time]]>='Reference Cells'!$C$6,BackendTable[[#This Row],[Time]]<='Reference Cells'!$C$7),(BackendTable[[#This Row],[Time]]-'Reference Cells'!$C$6)*86400,NA())","v":2},{"$f":"IF(CommandCell='Reference Cells'!$C$17,NA(),ABS('Data In'!B385-INDIRECT(\"ZeroVal_\"&H$2,0)))","v":0},{"$f":"IF(CommandCell='Reference Cells'!$C$17,NA(),ABS('Data In'!C385-INDIRECT(\"ZeroVal_\"&I$2,0)))","v":0},{"$f":"IF(CommandCell='Reference Cells'!$C$17,NA(),ABS('Data In'!D385-INDIRECT(\"ZeroVal_\"&J$2,0)))","v":0},{"$f":"IF(CommandCell='Reference Cells'!$C$17,NA(),ABS('Data In'!E385-INDIRECT(\"ZeroVal_\"&K$2,0)))","v":0},{"$f":"IF(CommandCell='Reference Cells'!$C$17,NA(),ABS('Data In'!F385-INDIRECT(\"ZeroVal_\"&L$2,0)))","v":0},{"$f":"MAX(BackendTable[[#This Row],[S1]:[S5]])","v":0},{"$f":"IF(ISERROR(BackendTable[[#This Row],[T0Time]]),0,COUNTIFS(BackendTable[T0Time],\"<=\"&3,BackendTable[T0Time],\">=\"&0)-COUNTIFS(BackendTable[T0Time],\">\"&BackendTable[[#This Row],[T0Time]]))","v":500},null,null,null,null,null,null,null,null,null,null,null,null,null,null,null,null,null,null,null,null,null,null,null,null,{"$f":"MATCH(MAX(BackendTable[[#This Row],[T1S1]:[T1S5]]),BackendTable[[#This Row],[T1S1]:[T1S5]],0)","v":{"$error":"#N/A"}},{"$f":"MATCH(MAX(BackendTable[[#This Row],[T2S1]:[T2S5]]),BackendTable[[#This Row],[T2S1]:[T2S5]],0)","v":{"$error":"#N/A"}},{"$f":"MATCH(MAX(BackendTable[[#This Row],[T3S1]:[T3S5]]),BackendTable[[#This Row],[T3S1]:[T3S5]],0)","v":{"$error":"#N/A"}}]
[null,{"$f":"ROW()-ROW(BackendTable[[#Headers],[Row'#]])","v":379},{"$f":"'Data In'!A386","v":0},{"$f":"IF(BackendTable[[#This Row],[Time]]-'Reference Cells'!$C$3<=0,NA(),'Reference Cells'!$C$4-BackendTable[[#This Row],[Time]])*86400","v":{"$error":"#N/A"}},{"$f":"IFERROR(8-BackendTable[[#This Row],[Column1]],\"\")","v":""},{"$f":"IF(ISERROR(BackendTable[[#This Row],[Column1]]),-9,(BackendTable[[#This Row],[Net Time]]-NetTimeMin)*RangeAdj)","v":-9},{"$f":"IF(AND(BackendTable[[#This Row],[Time]]>='Reference Cells'!$C$6,BackendTable[[#This Row],[Time]]<='Reference Cells'!$C$7),(BackendTable[[#This Row],[Time]]-'Reference Cells'!$C$6)*86400,NA())","v":2},{"$f":"IF(CommandCell='Reference Cells'!$C$17,NA(),ABS('Data In'!B386-INDIRECT(\"ZeroVal_\"&H$2,0)))","v":0},{"$f":"IF(CommandCell='Reference Cells'!$C$17,NA(),ABS('Data In'!C386-INDIRECT(\"ZeroVal_\"&I$2,0)))","v":0},{"$f":"IF(CommandCell='Reference Cells'!$C$17,NA(),ABS('Data In'!D386-INDIRECT(\"ZeroVal_\"&J$2,0)))","v":0},{"$f":"IF(CommandCell='Reference Cells'!$C$17,NA(),ABS('Data In'!E386-INDIRECT(\"ZeroVal_\"&K$2,0)))","v":0},{"$f":"IF(CommandCell='Reference Cells'!$C$17,NA(),ABS('Data In'!F386-INDIRECT(\"ZeroVal_\"&L$2,0)))","v":0},{"$f":"MAX(BackendTable[[#This Row],[S1]:[S5]])","v":0},{"$f":"IF(ISERROR(BackendTable[[#This Row],[T0Time]]),0,COUNTIFS(BackendTable[T0Time],\"<=\"&3,BackendTable[T0Time],\">=\"&0)-COUNTIFS(BackendTable[T0Time],\">\"&BackendTable[[#This Row],[T0Time]]))","v":500},null,null,null,null,null,null,null,null,null,null,null,null,null,null,null,null,null,null,null,null,null,null,null,null,{"$f":"MATCH(MAX(BackendTable[[#This Row],[T1S1]:[T1S5]]),BackendTable[[#This Row],[T1S1]:[T1S5]],0)","v":{"$error":"#N/A"}},{"$f":"MATCH(MAX(BackendTable[[#This Row],[T2S1]:[T2S5]]),BackendTable[[#This Row],[T2S1]:[T2S5]],0)","v":{"$error":"#N/A"}},{"$f":"MATCH(MAX(BackendTable[[#This Row],[T3S1]:[T3S5]]),BackendTable[[#This Row],[T3S1]:[T3S5]],0)","v":{"$error":"#N/A"}}]
[null,{"$f":"ROW()-ROW(BackendTable[[#Headers],[Row'#]])","v":380},{"$f":"'Data In'!A387","v":0},{"$f":"IF(BackendTable[[#This Row],[Time]]-'Reference Cells'!$C$3<=0,NA(),'Reference Cells'!$C$4-BackendTable[[#This Row],[Time]])*86400","v":{"$error":"#N/A"}},{"$f":"IFERROR(8-BackendTable[[#This Row],[Column1]],\"\")","v":""},{"$f":"IF(ISERROR(BackendTable[[#This Row],[Column1]]),-9,(BackendTable[[#This Row],[Net Time]]-NetTimeMin)*RangeAdj)","v":-9},{"$f":"IF(AND(BackendTable[[#This Row],[Time]]>='Reference Cells'!$C$6,BackendTable[[#This Row],[Time]]<='Reference Cells'!$C$7),(BackendTable[[#This Row],[Time]]-'Reference Cells'!$C$6)*86400,NA())","v":2},{"$f":"IF(CommandCell='Reference Cells'!$C$17,NA(),ABS('Data In'!B387-INDIRECT(\"ZeroVal_\"&H$2,0)))","v":0},{"$f":"IF(CommandCell='Reference Cells'!$C$17,NA(),ABS('Data In'!C387-INDIRECT(\"ZeroVal_\"&I$2,0)))","v":0},{"$f":"IF(CommandCell='Reference Cells'!$C$17,NA(),ABS('Data In'!D387-INDIRECT(\"ZeroVal_\"&J$2,0)))","v":0},{"$f":"IF(CommandCell='Reference Cells'!$C$17,NA(),ABS('Data In'!E387-INDIRECT(\"ZeroVal_\"&K$2,0)))","v":0},{"$f":"IF(CommandCell='Reference Cells'!$C$17,NA(),ABS('Data In'!F387-INDIRECT(\"ZeroVal_\"&L$2,0)))","v":0},{"$f":"MAX(BackendTable[[#This Row],[S1]:[S5]])","v":0},{"$f":"IF(ISERROR(BackendTable[[#This Row],[T0Time]]),0,COUNTIFS(BackendTable[T0Time],\"<=\"&3,BackendTable[T0Time],\">=\"&0)-COUNTIFS(BackendTable[T0Time],\">\"&BackendTable[[#This Row],[T0Time]]))","v":500},null,null,null,null,null,null,null,null,null,null,null,null,null,null,null,null,null,null,null,null,null,null,null,null,{"$f":"MATCH(MAX(BackendTable[[#This Row],[T1S1]:[T1S5]]),BackendTable[[#This Row],[T1S1]:[T1S5]],0)","v":{"$error":"#N/A"}},{"$f":"MATCH(MAX(BackendTable[[#This Row],[T2S1]:[T2S5]]),BackendTable[[#This Row],[T2S1]:[T2S5]],0)","v":{"$error":"#N/A"}},{"$f":"MATCH(MAX(BackendTable[[#This Row],[T3S1]:[T3S5]]),BackendTable[[#This Row],[T3S1]:[T3S5]],0)","v":{"$error":"#N/A"}}]
[null,{"$f":"ROW()-ROW(BackendTable[[#Headers],[Row'#]])","v":381},{"$f":"'Data In'!A388","v":0},{"$f":"IF(BackendTable[[#This Row],[Time]]-'Reference Cells'!$C$3<=0,NA(),'Reference Cells'!$C$4-BackendTable[[#This Row],[Time]])*86400","v":{"$error":"#N/A"}},{"$f":"IFERROR(8-BackendTable[[#This Row],[Column1]],\"\")","v":""},{"$f":"IF(ISERROR(BackendTable[[#This Row],[Column1]]),-9,(BackendTable[[#This Row],[Net Time]]-NetTimeMin)*RangeAdj)","v":-9},{"$f":"IF(AND(BackendTable[[#This Row],[Time]]>='Reference Cells'!$C$6,BackendTable[[#This Row],[Time]]<='Reference Cells'!$C$7),(BackendTable[[#This Row],[Time]]-'Reference Cells'!$C$6)*86400,NA())","v":2},{"$f":"IF(CommandCell='Reference Cells'!$C$17,NA(),ABS('Data In'!B388-INDIRECT(\"ZeroVal_\"&H$2,0)))","v":0},{"$f":"IF(CommandCell='Reference Cells'!$C$17,NA(),ABS('Data In'!C388-INDIRECT(\"ZeroVal_\"&I$2,0)))","v":0},{"$f":"IF(CommandCell='Reference Cells'!$C$17,NA(),ABS('Data In'!D388-INDIRECT(\"ZeroVal_\"&J$2,0)))","v":0},{"$f":"IF(CommandCell='Reference Cells'!$C$17,NA(),ABS('Data In'!E388-INDIRECT(\"ZeroVal_\"&K$2,0)))","v":0},{"$f":"IF(CommandCell='Reference Cells'!$C$17,NA(),ABS('Data In'!F388-INDIRECT(\"ZeroVal_\"&L$2,0)))","v":0},{"$f":"MAX(BackendTable[[#This Row],[S1]:[S5]])","v":0},{"$f":"IF(ISERROR(BackendTable[[#This Row],[T0Time]]),0,COUNTIFS(BackendTable[T0Time],\"<=\"&3,BackendTable[T0Time],\">=\"&0)-COUNTIFS(BackendTable[T0Time],\">\"&BackendTable[[#This Row],[T0Time]]))","v":500},null,null,null,null,null,null,null,null,null,null,null,null,null,null,null,null,null,null,null,null,null,null,null,null,{"$f":"MATCH(MAX(BackendTable[[#This Row],[T1S1]:[T1S5]]),BackendTable[[#This Row],[T1S1]:[T1S5]],0)","v":{"$error":"#N/A"}},{"$f":"MATCH(MAX(BackendTable[[#This Row],[T2S1]:[T2S5]]),BackendTable[[#This Row],[T2S1]:[T2S5]],0)","v":{"$error":"#N/A"}},{"$f":"MATCH(MAX(BackendTable[[#This Row],[T3S1]:[T3S5]]),BackendTable[[#This Row],[T3S1]:[T3S5]],0)","v":{"$error":"#N/A"}}]
[null,{"$f":"ROW()-ROW(BackendTable[[#Headers],[Row'#]])","v":382},{"$f":"'Data In'!A389","v":0},{"$f":"IF(BackendTable[[#This Row],[Time]]-'Reference Cells'!$C$3<=0,NA(),'Reference Cells'!$C$4-BackendTable[[#This Row],[Time]])*86400","v":{"$error":"#N/A"}},{"$f":"IFERROR(8-BackendTable[[#This Row],[Column1]],\"\")","v":""},{"$f":"IF(ISERROR(BackendTable[[#This Row],[Column1]]),-9,(BackendTable[[#This Row],[Net Time]]-NetTimeMin)*RangeAdj)","v":-9},{"$f":"IF(AND(BackendTable[[#This Row],[Time]]>='Reference Cells'!$C$6,BackendTable[[#This Row],[Time]]<='Reference Cells'!$C$7),(BackendTable[[#This Row],[Time]]-'Reference Cells'!$C$6)*86400,NA())","v":2},{"$f":"IF(CommandCell='Reference Cells'!$C$17,NA(),ABS('Data In'!B389-INDIRECT(\"ZeroVal_\"&H$2,0)))","v":0},{"$f":"IF(CommandCell='Reference Cells'!$C$17,NA(),ABS('Data In'!C389-INDIRECT(\"ZeroVal_\"&I$2,0)))","v":0},{"$f":"IF(CommandCell='Reference Cells'!$C$17,NA(),ABS('Data In'!D389-INDIRECT(\"ZeroVal_\"&J$2,0)))","v":0},{"$f":"IF(CommandCell='Reference Cells'!$C$17,NA(),ABS('Data In'!E389-INDIRECT(\"ZeroVal_\"&K$2,0)))","v":0},{"$f":"IF(CommandCell='Reference Cells'!$C$17,NA(),ABS('Data In'!F389-INDIRECT(\"ZeroVal_\"&L$2,0)))","v":0},{"$f":"MAX(BackendTable[[#This Row],[S1]:[S5]])","v":0},{"$f":"IF(ISERROR(BackendTable[[#This Row],[T0Time]]),0,COUNTIFS(BackendTable[T0Time],\"<=\"&3,BackendTable[T0Time],\">=\"&0)-COUNTIFS(BackendTable[T0Time],\">\"&BackendTable[[#This Row],[T0Time]]))","v":500},null,null,null,null,null,null,null,null,null,null,null,null,null,null,null,null,null,null,null,null,null,null,null,null,{"$f":"MATCH(MAX(BackendTable[[#This Row],[T1S1]:[T1S5]]),BackendTable[[#This Row],[T1S1]:[T1S5]],0)","v":{"$error":"#N/A"}},{"$f":"MATCH(MAX(BackendTable[[#This Row],[T2S1]:[T2S5]]),BackendTable[[#This Row],[T2S1]:[T2S5]],0)","v":{"$error":"#N/A"}},{"$f":"MATCH(MAX(BackendTable[[#This Row],[T3S1]:[T3S5]]),BackendTable[[#This Row],[T3S1]:[T3S5]],0)","v":{"$error":"#N/A"}}]
[null,{"$f":"ROW()-ROW(BackendTable[[#Headers],[Row'#]])","v":383},{"$f":"'Data In'!A390","v":0},{"$f":"IF(BackendTable[[#This Row],[Time]]-'Reference Cells'!$C$3<=0,NA(),'Reference Cells'!$C$4-BackendTable[[#This Row],[Time]])*86400","v":{"$error":"#N/A"}},{"$f":"IFERROR(8-BackendTable[[#This Row],[Column1]],\"\")","v":""},{"$f":"IF(ISERROR(BackendTable[[#This Row],[Column1]]),-9,(BackendTable[[#This Row],[Net Time]]-NetTimeMin)*RangeAdj)","v":-9},{"$f":"IF(AND(BackendTable[[#This Row],[Time]]>='Reference Cells'!$C$6,BackendTable[[#This Row],[Time]]<='Reference Cells'!$C$7),(BackendTable[[#This Row],[Time]]-'Reference Cells'!$C$6)*86400,NA())","v":2},{"$f":"IF(CommandCell='Reference Cells'!$C$17,NA(),ABS('Data In'!B390-INDIRECT(\"ZeroVal_\"&H$2,0)))","v":0},{"$f":"IF(CommandCell='Reference Cells'!$C$17,NA(),ABS('Data In'!C390-INDIRECT(\"ZeroVal_\"&I$2,0)))","v":0},{"$f":"IF(CommandCell='Reference Cells'!$C$17,NA(),ABS('Data In'!D390-INDIRECT(\"ZeroVal_\"&J$2,0)))","v":0},{"$f":"IF(CommandCell='Reference Cells'!$C$17,NA(),ABS('Data In'!E390-INDIRECT(\"ZeroVal_\"&K$2,0)))","v":0},{"$f":"IF(CommandCell='Reference Cells'!$C$17,NA(),ABS('Data In'!F390-INDIRECT(\"ZeroVal_\"&L$2,0)))","v":0},{"$f":"MAX(BackendTable[[#This Row],[S1]:[S5]])","v":0},{"$f":"IF(ISERROR(BackendTable[[#This Row],[T0Time]]),0,COUNTIFS(BackendTable[T0Time],\"<=\"&3,BackendTable[T0Time],\">=\"&0)-COUNTIFS(BackendTable[T0Time],\">\"&BackendTable[[#This Row],[T0Time]]))","v":500},null,null,null,null,null,null,null,null,null,null,null,null,null,null,null,null,null,null,null,null,null,null,null,null,{"$f":"MATCH(MAX(BackendTable[[#This Row],[T1S1]:[T1S5]]),BackendTable[[#This Row],[T1S1]:[T1S5]],0)","v":{"$error":"#N/A"}},{"$f":"MATCH(MAX(BackendTable[[#This Row],[T2S1]:[T2S5]]),BackendTable[[#This Row],[T2S1]:[T2S5]],0)","v":{"$error":"#N/A"}},{"$f":"MATCH(MAX(BackendTable[[#This Row],[T3S1]:[T3S5]]),BackendTable[[#This Row],[T3S1]:[T3S5]],0)","v":{"$error":"#N/A"}}]
[null,{"$f":"ROW()-ROW(BackendTable[[#Headers],[Row'#]])","v":384},{"$f":"'Data In'!A391","v":0},{"$f":"IF(BackendTable[[#This Row],[Time]]-'Reference Cells'!$C$3<=0,NA(),'Reference Cells'!$C$4-BackendTable[[#This Row],[Time]])*86400","v":{"$error":"#N/A"}},{"$f":"IFERROR(8-BackendTable[[#This Row],[Column1]],\"\")","v":""},{"$f":"IF(ISERROR(BackendTable[[#This Row],[Column1]]),-9,(BackendTable[[#This Row],[Net Time]]-NetTimeMin)*RangeAdj)","v":-9},{"$f":"IF(AND(BackendTable[[#This Row],[Time]]>='Reference Cells'!$C$6,BackendTable[[#This Row],[Time]]<='Reference Cells'!$C$7),(BackendTable[[#This Row],[Time]]-'Reference Cells'!$C$6)*86400,NA())","v":2},{"$f":"IF(CommandCell='Reference Cells'!$C$17,NA(),ABS('Data In'!B391-INDIRECT(\"ZeroVal_\"&H$2,0)))","v":0},{"$f":"IF(CommandCell='Reference Cells'!$C$17,NA(),ABS('Data In'!C391-INDIRECT(\"ZeroVal_\"&I$2,0)))","v":0},{"$f":"IF(CommandCell='Reference Cells'!$C$17,NA(),ABS('Data In'!D391-INDIRECT(\"ZeroVal_\"&J$2,0)))","v":0},{"$f":"IF(CommandCell='Reference Cells'!$C$17,NA(),ABS('Data In'!E391-INDIRECT(\"ZeroVal_\"&K$2,0)))","v":0},{"$f":"IF(CommandCell='Reference Cells'!$C$17,NA(),ABS('Data In'!F391-INDIRECT(\"ZeroVal_\"&L$2,0)))","v":0},{"$f":"MAX(BackendTable[[#This Row],[S1]:[S5]])","v":0},{"$f":"IF(ISERROR(BackendTable[[#This Row],[T0Time]]),0,COUNTIFS(BackendTable[T0Time],\"<=\"&3,BackendTable[T0Time],\">=\"&0)-COUNTIFS(BackendTable[T0Time],\">\"&BackendTable[[#This Row],[T0Time]]))","v":500},null,null,null,null,null,null,null,null,null,null,null,null,null,null,null,null,null,null,null,null,null,null,null,null,{"$f":"MATCH(MAX(BackendTable[[#This Row],[T1S1]:[T1S5]]),BackendTable[[#This Row],[T1S1]:[T1S5]],0)","v":{"$error":"#N/A"}},{"$f":"MATCH(MAX(BackendTable[[#This Row],[T2S1]:[T2S5]]),BackendTable[[#This Row],[T2S1]:[T2S5]],0)","v":{"$error":"#N/A"}},{"$f":"MATCH(MAX(BackendTable[[#This Row],[T3S1]:[T3S5]]),BackendTable[[#This Row],[T3S1]:[T3S5]],0)","v":{"$error":"#N/A"}}]
[null,{"$f":"ROW()-ROW(BackendTable[[#Headers],[Row'#]])","v":385},{"$f":"'Data In'!A392","v":0},{"$f":"IF(BackendTable[[#This Row],[Time]]-'Reference Cells'!$C$3<=0,NA(),'Reference Cells'!$C$4-BackendTable[[#This Row],[Time]])*86400","v":{"$error":"#N/A"}},{"$f":"IFERROR(8-BackendTable[[#This Row],[Column1]],\"\")","v":""},{"$f":"IF(ISERROR(BackendTable[[#This Row],[Column1]]),-9,(BackendTable[[#This Row],[Net Time]]-NetTimeMin)*RangeAdj)","v":-9},{"$f":"IF(AND(BackendTable[[#This Row],[Time]]>='Reference Cells'!$C$6,BackendTable[[#This Row],[Time]]<='Reference Cells'!$C$7),(BackendTable[[#This Row],[Time]]-'Reference Cells'!$C$6)*86400,NA())","v":2},{"$f":"IF(CommandCell='Reference Cells'!$C$17,NA(),ABS('Data In'!B392-INDIRECT(\"ZeroVal_\"&H$2,0)))","v":0},{"$f":"IF(CommandCell='Reference Cells'!$C$17,NA(),ABS('Data In'!C392-INDIRECT(\"ZeroVal_\"&I$2,0)))","v":0},{"$f":"IF(CommandCell='Reference Cells'!$C$17,NA(),ABS('Data In'!D392-INDIRECT(\"ZeroVal_\"&J$2,0)))","v":0},{"$f":"IF(CommandCell='Reference Cells'!$C$17,NA(),ABS('Data In'!E392-INDIRECT(\"ZeroVal_\"&K$2,0)))","v":0},{"$f":"IF(CommandCell='Reference Cells'!$C$17,NA(),ABS('Data In'!F392-INDIRECT(\"ZeroVal_\"&L$2,0)))","v":0},{"$f":"MAX(BackendTable[[#This Row],[S1]:[S5]])","v":0},{"$f":"IF(ISERROR(BackendTable[[#This Row],[T0Time]]),0,COUNTIFS(BackendTable[T0Time],\"<=\"&3,BackendTable[T0Time],\">=\"&0)-COUNTIFS(BackendTable[T0Time],\">\"&BackendTable[[#This Row],[T0Time]]))","v":500},null,null,null,null,null,null,null,null,null,null,null,null,null,null,null,null,null,null,null,null,null,null,null,null,{"$f":"MATCH(MAX(BackendTable[[#This Row],[T1S1]:[T1S5]]),BackendTable[[#This Row],[T1S1]:[T1S5]],0)","v":{"$error":"#N/A"}},{"$f":"MATCH(MAX(BackendTable[[#This Row],[T2S1]:[T2S5]]),BackendTable[[#This Row],[T2S1]:[T2S5]],0)","v":{"$error":"#N/A"}},{"$f":"MATCH(MAX(BackendTable[[#This Row],[T3S1]:[T3S5]]),BackendTable[[#This Row],[T3S1]:[T3S5]],0)","v":{"$error":"#N/A"}}]
[null,{"$f":"ROW()-ROW(BackendTable[[#Headers],[Row'#]])","v":386},{"$f":"'Data In'!A393","v":0},{"$f":"IF(BackendTable[[#This Row],[Time]]-'Reference Cells'!$C$3<=0,NA(),'Reference Cells'!$C$4-BackendTable[[#This Row],[Time]])*86400","v":{"$error":"#N/A"}},{"$f":"IFERROR(8-BackendTable[[#This Row],[Column1]],\"\")","v":""},{"$f":"IF(ISERROR(BackendTable[[#This Row],[Column1]]),-9,(BackendTable[[#This Row],[Net Time]]-NetTimeMin)*RangeAdj)","v":-9},{"$f":"IF(AND(BackendTable[[#This Row],[Time]]>='Reference Cells'!$C$6,BackendTable[[#This Row],[Time]]<='Reference Cells'!$C$7),(BackendTable[[#This Row],[Time]]-'Reference Cells'!$C$6)*86400,NA())","v":2},{"$f":"IF(CommandCell='Reference Cells'!$C$17,NA(),ABS('Data In'!B393-INDIRECT(\"ZeroVal_\"&H$2,0)))","v":0},{"$f":"IF(CommandCell='Reference Cells'!$C$17,NA(),ABS('Data In'!C393-INDIRECT(\"ZeroVal_\"&I$2,0)))","v":0},{"$f":"IF(CommandCell='Reference Cells'!$C$17,NA(),ABS('Data In'!D393-INDIRECT(\"ZeroVal_\"&J$2,0)))","v":0},{"$f":"IF(CommandCell='Reference Cells'!$C$17,NA(),ABS('Data In'!E393-INDIRECT(\"ZeroVal_\"&K$2,0)))","v":0},{"$f":"IF(CommandCell='Reference Cells'!$C$17,NA(),ABS('Data In'!F393-INDIRECT(\"ZeroVal_\"&L$2,0)))","v":0},{"$f":"MAX(BackendTable[[#This Row],[S1]:[S5]])","v":0},{"$f":"IF(ISERROR(BackendTable[[#This Row],[T0Time]]),0,COUNTIFS(BackendTable[T0Time],\"<=\"&3,BackendTable[T0Time],\">=\"&0)-COUNTIFS(BackendTable[T0Time],\">\"&BackendTable[[#This Row],[T0Time]]))","v":500},null,null,null,null,null,null,null,null,null,null,null,null,null,null,null,null,null,null,null,null,null,null,null,null,{"$f":"MATCH(MAX(BackendTable[[#This Row],[T1S1]:[T1S5]]),BackendTable[[#This Row],[T1S1]:[T1S5]],0)","v":{"$error":"#N/A"}},{"$f":"MATCH(MAX(BackendTable[[#This Row],[T2S1]:[T2S5]]),BackendTable[[#This Row],[T2S1]:[T2S5]],0)","v":{"$error":"#N/A"}},{"$f":"MATCH(MAX(BackendTable[[#This Row],[T3S1]:[T3S5]]),BackendTable[[#This Row],[T3S1]:[T3S5]],0)","v":{"$error":"#N/A"}}]
[null,{"$f":"ROW()-ROW(BackendTable[[#Headers],[Row'#]])","v":387},{"$f":"'Data In'!A394","v":0},{"$f":"IF(BackendTable[[#This Row],[Time]]-'Reference Cells'!$C$3<=0,NA(),'Reference Cells'!$C$4-BackendTable[[#This Row],[Time]])*86400","v":{"$error":"#N/A"}},{"$f":"IFERROR(8-BackendTable[[#This Row],[Column1]],\"\")","v":""},{"$f":"IF(ISERROR(BackendTable[[#This Row],[Column1]]),-9,(BackendTable[[#This Row],[Net Time]]-NetTimeMin)*RangeAdj)","v":-9},{"$f":"IF(AND(BackendTable[[#This Row],[Time]]>='Reference Cells'!$C$6,BackendTable[[#This Row],[Time]]<='Reference Cells'!$C$7),(BackendTable[[#This Row],[Time]]-'Reference Cells'!$C$6)*86400,NA())","v":2},{"$f":"IF(CommandCell='Reference Cells'!$C$17,NA(),ABS('Data In'!B394-INDIRECT(\"ZeroVal_\"&H$2,0)))","v":0},{"$f":"IF(CommandCell='Reference Cells'!$C$17,NA(),ABS('Data In'!C394-INDIRECT(\"ZeroVal_\"&I$2,0)))","v":0},{"$f":"IF(CommandCell='Reference Cells'!$C$17,NA(),ABS('Data In'!D394-INDIRECT(\"ZeroVal_\"&J$2,0)))","v":0},{"$f":"IF(CommandCell='Reference Cells'!$C$17,NA(),ABS('Data In'!E394-INDIRECT(\"ZeroVal_\"&K$2,0)))","v":0},{"$f":"IF(CommandCell='Reference Cells'!$C$17,NA(),ABS('Data In'!F394-INDIRECT(\"ZeroVal_\"&L$2,0)))","v":0},{"$f":"MAX(BackendTable[[#This Row],[S1]:[S5]])","v":0},{"$f":"IF(ISERROR(BackendTable[[#This Row],[T0Time]]),0,COUNTIFS(BackendTable[T0Time],\"<=\"&3,BackendTable[T0Time],\">=\"&0)-COUNTIFS(BackendTable[T0Time],\">\"&BackendTable[[#This Row],[T0Time]]))","v":500},null,null,null,null,null,null,null,null,null,null,null,null,null,null,null,null,null,null,null,null,null,null,null,null,{"$f":"MATCH(MAX(BackendTable[[#This Row],[T1S1]:[T1S5]]),BackendTable[[#This Row],[T1S1]:[T1S5]],0)","v":{"$error":"#N/A"}},{"$f":"MATCH(MAX(BackendTable[[#This Row],[T2S1]:[T2S5]]),BackendTable[[#This Row],[T2S1]:[T2S5]],0)","v":{"$error":"#N/A"}},{"$f":"MATCH(MAX(BackendTable[[#This Row],[T3S1]:[T3S5]]),BackendTable[[#This Row],[T3S1]:[T3S5]],0)","v":{"$error":"#N/A"}}]
[null,{"$f":"ROW()-ROW(BackendTable[[#Headers],[Row'#]])","v":388},{"$f":"'Data In'!A395","v":0},{"$f":"IF(BackendTable[[#This Row],[Time]]-'Reference Cells'!$C$3<=0,NA(),'Reference Cells'!$C$4-BackendTable[[#This Row],[Time]])*86400","v":{"$error":"#N/A"}},{"$f":"IFERROR(8-BackendTable[[#This Row],[Column1]],\"\")","v":""},{"$f":"IF(ISERROR(BackendTable[[#This Row],[Column1]]),-9,(BackendTable[[#This Row],[Net Time]]-NetTimeMin)*RangeAdj)","v":-9},{"$f":"IF(AND(BackendTable[[#This Row],[Time]]>='Reference Cells'!$C$6,BackendTable[[#This Row],[Time]]<='Reference Cells'!$C$7),(BackendTable[[#This Row],[Time]]-'Reference Cells'!$C$6)*86400,NA())","v":2},{"$f":"IF(CommandCell='Reference Cells'!$C$17,NA(),ABS('Data In'!B395-INDIRECT(\"ZeroVal_\"&H$2,0)))","v":0},{"$f":"IF(CommandCell='Reference Cells'!$C$17,NA(),ABS('Data In'!C395-INDIRECT(\"ZeroVal_\"&I$2,0)))","v":0},{"$f":"IF(CommandCell='Reference Cells'!$C$17,NA(),ABS('Data In'!D395-INDIRECT(\"ZeroVal_\"&J$2,0)))","v":0},{"$f":"IF(CommandCell='Reference Cells'!$C$17,NA(),ABS('Data In'!E395-INDIRECT(\"ZeroVal_\"&K$2,0)))","v":0},{"$f":"IF(CommandCell='Reference Cells'!$C$17,NA(),ABS('Data In'!F395-INDIRECT(\"ZeroVal_\"&L$2,0)))","v":0},{"$f":"MAX(BackendTable[[#This Row],[S1]:[S5]])","v":0},{"$f":"IF(ISERROR(BackendTable[[#This Row],[T0Time]]),0,COUNTIFS(BackendTable[T0Time],\"<=\"&3,BackendTable[T0Time],\">=\"&0)-COUNTIFS(BackendTable[T0Time],\">\"&BackendTable[[#This Row],[T0Time]]))","v":500},null,null,null,null,null,null,null,null,null,null,null,null,null,null,null,null,null,null,null,null,null,null,null,null,{"$f":"MATCH(MAX(BackendTable[[#This Row],[T1S1]:[T1S5]]),BackendTable[[#This Row],[T1S1]:[T1S5]],0)","v":{"$error":"#N/A"}},{"$f":"MATCH(MAX(BackendTable[[#This Row],[T2S1]:[T2S5]]),BackendTable[[#This Row],[T2S1]:[T2S5]],0)","v":{"$error":"#N/A"}},{"$f":"MATCH(MAX(BackendTable[[#This Row],[T3S1]:[T3S5]]),BackendTable[[#This Row],[T3S1]:[T3S5]],0)","v":{"$error":"#N/A"}}]
[null,{"$f":"ROW()-ROW(BackendTable[[#Headers],[Row'#]])","v":389},{"$f":"'Data In'!A396","v":0},{"$f":"IF(BackendTable[[#This Row],[Time]]-'Reference Cells'!$C$3<=0,NA(),'Reference Cells'!$C$4-BackendTable[[#This Row],[Time]])*86400","v":{"$error":"#N/A"}},{"$f":"IFERROR(8-BackendTable[[#This Row],[Column1]],\"\")","v":""},{"$f":"IF(ISERROR(BackendTable[[#This Row],[Column1]]),-9,(BackendTable[[#This Row],[Net Time]]-NetTimeMin)*RangeAdj)","v":-9},{"$f":"IF(AND(BackendTable[[#This Row],[Time]]>='Reference Cells'!$C$6,BackendTable[[#This Row],[Time]]<='Reference Cells'!$C$7),(BackendTable[[#This Row],[Time]]-'Reference Cells'!$C$6)*86400,NA())","v":2},{"$f":"IF(CommandCell='Reference Cells'!$C$17,NA(),ABS('Data In'!B396-INDIRECT(\"ZeroVal_\"&H$2,0)))","v":0},{"$f":"IF(CommandCell='Reference Cells'!$C$17,NA(),ABS('Data In'!C396-INDIRECT(\"ZeroVal_\"&I$2,0)))","v":0},{"$f":"IF(CommandCell='Reference Cells'!$C$17,NA(),ABS('Data In'!D396-INDIRECT(\"ZeroVal_\"&J$2,0)))","v":0},{"$f":"IF(CommandCell='Reference Cells'!$C$17,NA(),ABS('Data In'!E396-INDIRECT(\"ZeroVal_\"&K$2,0)))","v":0},{"$f":"IF(CommandCell='Reference Cells'!$C$17,NA(),ABS('Data In'!F396-INDIRECT(\"ZeroVal_\"&L$2,0)))","v":0},{"$f":"MAX(BackendTable[[#This Row],[S1]:[S5]])","v":0},{"$f":"IF(ISERROR(BackendTable[[#This Row],[T0Time]]),0,COUNTIFS(BackendTable[T0Time],\"<=\"&3,BackendTable[T0Time],\">=\"&0)-COUNTIFS(BackendTable[T0Time],\">\"&BackendTable[[#This Row],[T0Time]]))","v":500},null,null,null,null,null,null,null,null,null,null,null,null,null,null,null,null,null,null,null,null,null,null,null,null,{"$f":"MATCH(MAX(BackendTable[[#This Row],[T1S1]:[T1S5]]),BackendTable[[#This Row],[T1S1]:[T1S5]],0)","v":{"$error":"#N/A"}},{"$f":"MATCH(MAX(BackendTable[[#This Row],[T2S1]:[T2S5]]),BackendTable[[#This Row],[T2S1]:[T2S5]],0)","v":{"$error":"#N/A"}},{"$f":"MATCH(MAX(BackendTable[[#This Row],[T3S1]:[T3S5]]),BackendTable[[#This Row],[T3S1]:[T3S5]],0)","v":{"$error":"#N/A"}}]
[null,{"$f":"ROW()-ROW(BackendTable[[#Headers],[Row'#]])","v":390},{"$f":"'Data In'!A397","v":0},{"$f":"IF(BackendTable[[#This Row],[Time]]-'Reference Cells'!$C$3<=0,NA(),'Reference Cells'!$C$4-BackendTable[[#This Row],[Time]])*86400","v":{"$error":"#N/A"}},{"$f":"IFERROR(8-BackendTable[[#This Row],[Column1]],\"\")","v":""},{"$f":"IF(ISERROR(BackendTable[[#This Row],[Column1]]),-9,(BackendTable[[#This Row],[Net Time]]-NetTimeMin)*RangeAdj)","v":-9},{"$f":"IF(AND(BackendTable[[#This Row],[Time]]>='Reference Cells'!$C$6,BackendTable[[#This Row],[Time]]<='Reference Cells'!$C$7),(BackendTable[[#This Row],[Time]]-'Reference Cells'!$C$6)*86400,NA())","v":2},{"$f":"IF(CommandCell='Reference Cells'!$C$17,NA(),ABS('Data In'!B397-INDIRECT(\"ZeroVal_\"&H$2,0)))","v":0},{"$f":"IF(CommandCell='Reference Cells'!$C$17,NA(),ABS('Data In'!C397-INDIRECT(\"ZeroVal_\"&I$2,0)))","v":0},{"$f":"IF(CommandCell='Reference Cells'!$C$17,NA(),ABS('Data In'!D397-INDIRECT(\"ZeroVal_\"&J$2,0)))","v":0},{"$f":"IF(CommandCell='Reference Cells'!$C$17,NA(),ABS('Data In'!E397-INDIRECT(\"ZeroVal_\"&K$2,0)))","v":0},{"$f":"IF(CommandCell='Reference Cells'!$C$17,NA(),ABS('Data In'!F397-INDIRECT(\"ZeroVal_\"&L$2,0)))","v":0},{"$f":"MAX(BackendTable[[#This Row],[S1]:[S5]])","v":0},{"$f":"IF(ISERROR(BackendTable[[#This Row],[T0Time]]),0,COUNTIFS(BackendTable[T0Time],\"<=\"&3,BackendTable[T0Time],\">=\"&0)-COUNTIFS(BackendTable[T0Time],\">\"&BackendTable[[#This Row],[T0Time]]))","v":500},null,null,null,null,null,null,null,null,null,null,null,null,null,null,null,null,null,null,null,null,null,null,null,null,{"$f":"MATCH(MAX(BackendTable[[#This Row],[T1S1]:[T1S5]]),BackendTable[[#This Row],[T1S1]:[T1S5]],0)","v":{"$error":"#N/A"}},{"$f":"MATCH(MAX(BackendTable[[#This Row],[T2S1]:[T2S5]]),BackendTable[[#This Row],[T2S1]:[T2S5]],0)","v":{"$error":"#N/A"}},{"$f":"MATCH(MAX(BackendTable[[#This Row],[T3S1]:[T3S5]]),BackendTable[[#This Row],[T3S1]:[T3S5]],0)","v":{"$error":"#N/A"}}]
[null,{"$f":"ROW()-ROW(BackendTable[[#Headers],[Row'#]])","v":391},{"$f":"'Data In'!A398","v":0},{"$f":"IF(BackendTable[[#This Row],[Time]]-'Reference Cells'!$C$3<=0,NA(),'Reference Cells'!$C$4-BackendTable[[#This Row],[Time]])*86400","v":{"$error":"#N/A"}},{"$f":"IFERROR(8-BackendTable[[#This Row],[Column1]],\"\")","v":""},{"$f":"IF(ISERROR(BackendTable[[#This Row],[Column1]]),-9,(BackendTable[[#This Row],[Net Time]]-NetTimeMin)*RangeAdj)","v":-9},{"$f":"IF(AND(BackendTable[[#This Row],[Time]]>='Reference Cells'!$C$6,BackendTable[[#This Row],[Time]]<='Reference Cells'!$C$7),(BackendTable[[#This Row],[Time]]-'Reference Cells'!$C$6)*86400,NA())","v":2},{"$f":"IF(CommandCell='Reference Cells'!$C$17,NA(),ABS('Data In'!B398-INDIRECT(\"ZeroVal_\"&H$2,0)))","v":0},{"$f":"IF(CommandCell='Reference Cells'!$C$17,NA(),ABS('Data In'!C398-INDIRECT(\"ZeroVal_\"&I$2,0)))","v":0},{"$f":"IF(CommandCell='Reference Cells'!$C$17,NA(),ABS('Data In'!D398-INDIRECT(\"ZeroVal_\"&J$2,0)))","v":0},{"$f":"IF(CommandCell='Reference Cells'!$C$17,NA(),ABS('Data In'!E398-INDIRECT(\"ZeroVal_\"&K$2,0)))","v":0},{"$f":"IF(CommandCell='Reference Cells'!$C$17,NA(),ABS('Data In'!F398-INDIRECT(\"ZeroVal_\"&L$2,0)))","v":0},{"$f":"MAX(BackendTable[[#This Row],[S1]:[S5]])","v":0},{"$f":"IF(ISERROR(BackendTable[[#This Row],[T0Time]]),0,COUNTIFS(BackendTable[T0Time],\"<=\"&3,BackendTable[T0Time],\">=\"&0)-COUNTIFS(BackendTable[T0Time],\">\"&BackendTable[[#This Row],[T0Time]]))","v":500},null,null,null,null,null,null,null,null,null,null,null,null,null,null,null,null,null,null,null,null,null,null,null,null,{"$f":"MATCH(MAX(BackendTable[[#This Row],[T1S1]:[T1S5]]),BackendTable[[#This Row],[T1S1]:[T1S5]],0)","v":{"$error":"#N/A"}},{"$f":"MATCH(MAX(BackendTable[[#This Row],[T2S1]:[T2S5]]),BackendTable[[#This Row],[T2S1]:[T2S5]],0)","v":{"$error":"#N/A"}},{"$f":"MATCH(MAX(BackendTable[[#This Row],[T3S1]:[T3S5]]),BackendTable[[#This Row],[T3S1]:[T3S5]],0)","v":{"$error":"#N/A"}}]
[null,{"$f":"ROW()-ROW(BackendTable[[#Headers],[Row'#]])","v":392},{"$f":"'Data In'!A399","v":0},{"$f":"IF(BackendTable[[#This Row],[Time]]-'Reference Cells'!$C$3<=0,NA(),'Reference Cells'!$C$4-BackendTable[[#This Row],[Time]])*86400","v":{"$error":"#N/A"}},{"$f":"IFERROR(8-BackendTable[[#This Row],[Column1]],\"\")","v":""},{"$f":"IF(ISERROR(BackendTable[[#This Row],[Column1]]),-9,(BackendTable[[#This Row],[Net Time]]-NetTimeMin)*RangeAdj)","v":-9},{"$f":"IF(AND(BackendTable[[#This Row],[Time]]>='Reference Cells'!$C$6,BackendTable[[#This Row],[Time]]<='Reference Cells'!$C$7),(BackendTable[[#This Row],[Time]]-'Reference Cells'!$C$6)*86400,NA())","v":2},{"$f":"IF(CommandCell='Reference Cells'!$C$17,NA(),ABS('Data In'!B399-INDIRECT(\"ZeroVal_\"&H$2,0)))","v":0},{"$f":"IF(CommandCell='Reference Cells'!$C$17,NA(),ABS('Data In'!C399-INDIRECT(\"ZeroVal_\"&I$2,0)))","v":0},{"$f":"IF(CommandCell='Reference Cells'!$C$17,NA(),ABS('Data In'!D399-INDIRECT(\"ZeroVal_\"&J$2,0)))","v":0},{"$f":"IF(CommandCell='Reference Cells'!$C$17,NA(),ABS('Data In'!E399-INDIRECT(\"ZeroVal_\"&K$2,0)))","v":0},{"$f":"IF(CommandCell='Reference Cells'!$C$17,NA(),ABS('Data In'!F399-INDIRECT(\"ZeroVal_\"&L$2,0)))","v":0},{"$f":"MAX(BackendTable[[#This Row],[S1]:[S5]])","v":0},{"$f":"IF(ISERROR(BackendTable[[#This Row],[T0Time]]),0,COUNTIFS(BackendTable[T0Time],\"<=\"&3,BackendTable[T0Time],\">=\"&0)-COUNTIFS(BackendTable[T0Time],\">\"&BackendTable[[#This Row],[T0Time]]))","v":500},null,null,null,null,null,null,null,null,null,null,null,null,null,null,null,null,null,null,null,null,null,null,null,null,{"$f":"MATCH(MAX(BackendTable[[#This Row],[T1S1]:[T1S5]]),BackendTable[[#This Row],[T1S1]:[T1S5]],0)","v":{"$error":"#N/A"}},{"$f":"MATCH(MAX(BackendTable[[#This Row],[T2S1]:[T2S5]]),BackendTable[[#This Row],[T2S1]:[T2S5]],0)","v":{"$error":"#N/A"}},{"$f":"MATCH(MAX(BackendTable[[#This Row],[T3S1]:[T3S5]]),BackendTable[[#This Row],[T3S1]:[T3S5]],0)","v":{"$error":"#N/A"}}]
[null,{"$f":"ROW()-ROW(BackendTable[[#Headers],[Row'#]])","v":393},{"$f":"'Data In'!A400","v":0},{"$f":"IF(BackendTable[[#This Row],[Time]]-'Reference Cells'!$C$3<=0,NA(),'Reference Cells'!$C$4-BackendTable[[#This Row],[Time]])*86400","v":{"$error":"#N/A"}},{"$f":"IFERROR(8-BackendTable[[#This Row],[Column1]],\"\")","v":""},{"$f":"IF(ISERROR(BackendTable[[#This Row],[Column1]]),-9,(BackendTable[[#This Row],[Net Time]]-NetTimeMin)*RangeAdj)","v":-9},{"$f":"IF(AND(BackendTable[[#This Row],[Time]]>='Reference Cells'!$C$6,BackendTable[[#This Row],[Time]]<='Reference Cells'!$C$7),(BackendTable[[#This Row],[Time]]-'Reference Cells'!$C$6)*86400,NA())","v":2},{"$f":"IF(CommandCell='Reference Cells'!$C$17,NA(),ABS('Data In'!B400-INDIRECT(\"ZeroVal_\"&H$2,0)))","v":0},{"$f":"IF(CommandCell='Reference Cells'!$C$17,NA(),ABS('Data In'!C400-INDIRECT(\"ZeroVal_\"&I$2,0)))","v":0},{"$f":"IF(CommandCell='Reference Cells'!$C$17,NA(),ABS('Data In'!D400-INDIRECT(\"ZeroVal_\"&J$2,0)))","v":0},{"$f":"IF(CommandCell='Reference Cells'!$C$17,NA(),ABS('Data In'!E400-INDIRECT(\"ZeroVal_\"&K$2,0)))","v":0},{"$f":"IF(CommandCell='Reference Cells'!$C$17,NA(),ABS('Data In'!F400-INDIRECT(\"ZeroVal_\"&L$2,0)))","v":0},{"$f":"MAX(BackendTable[[#This Row],[S1]:[S5]])","v":0},{"$f":"IF(ISERROR(BackendTable[[#This Row],[T0Time]]),0,COUNTIFS(BackendTable[T0Time],\"<=\"&3,BackendTable[T0Time],\">=\"&0)-COUNTIFS(BackendTable[T0Time],\">\"&BackendTable[[#This Row],[T0Time]]))","v":500},null,null,null,null,null,null,null,null,null,null,null,null,null,null,null,null,null,null,null,null,null,null,null,null,{"$f":"MATCH(MAX(BackendTable[[#This Row],[T1S1]:[T1S5]]),BackendTable[[#This Row],[T1S1]:[T1S5]],0)","v":{"$error":"#N/A"}},{"$f":"MATCH(MAX(BackendTable[[#This Row],[T2S1]:[T2S5]]),BackendTable[[#This Row],[T2S1]:[T2S5]],0)","v":{"$error":"#N/A"}},{"$f":"MATCH(MAX(BackendTable[[#This Row],[T3S1]:[T3S5]]),BackendTable[[#This Row],[T3S1]:[T3S5]],0)","v":{"$error":"#N/A"}}]
[null,{"$f":"ROW()-ROW(BackendTable[[#Headers],[Row'#]])","v":394},{"$f":"'Data In'!A401","v":0},{"$f":"IF(BackendTable[[#This Row],[Time]]-'Reference Cells'!$C$3<=0,NA(),'Reference Cells'!$C$4-BackendTable[[#This Row],[Time]])*86400","v":{"$error":"#N/A"}},{"$f":"IFERROR(8-BackendTable[[#This Row],[Column1]],\"\")","v":""},{"$f":"IF(ISERROR(BackendTable[[#This Row],[Column1]]),-9,(BackendTable[[#This Row],[Net Time]]-NetTimeMin)*RangeAdj)","v":-9},{"$f":"IF(AND(BackendTable[[#This Row],[Time]]>='Reference Cells'!$C$6,BackendTable[[#This Row],[Time]]<='Reference Cells'!$C$7),(BackendTable[[#This Row],[Time]]-'Reference Cells'!$C$6)*86400,NA())","v":2},{"$f":"IF(CommandCell='Reference Cells'!$C$17,NA(),ABS('Data In'!B401-INDIRECT(\"ZeroVal_\"&H$2,0)))","v":0},{"$f":"IF(CommandCell='Reference Cells'!$C$17,NA(),ABS('Data In'!C401-INDIRECT(\"ZeroVal_\"&I$2,0)))","v":0},{"$f":"IF(CommandCell='Reference Cells'!$C$17,NA(),ABS('Data In'!D401-INDIRECT(\"ZeroVal_\"&J$2,0)))","v":0},{"$f":"IF(CommandCell='Reference Cells'!$C$17,NA(),ABS('Data In'!E401-INDIRECT(\"ZeroVal_\"&K$2,0)))","v":0},{"$f":"IF(CommandCell='Reference Cells'!$C$17,NA(),ABS('Data In'!F401-INDIRECT(\"ZeroVal_\"&L$2,0)))","v":0},{"$f":"MAX(BackendTable[[#This Row],[S1]:[S5]])","v":0},{"$f":"IF(ISERROR(BackendTable[[#This Row],[T0Time]]),0,COUNTIFS(BackendTable[T0Time],\"<=\"&3,BackendTable[T0Time],\">=\"&0)-COUNTIFS(BackendTable[T0Time],\">\"&BackendTable[[#This Row],[T0Time]]))","v":500},null,null,null,null,null,null,null,null,null,null,null,null,null,null,null,null,null,null,null,null,null,null,null,null,{"$f":"MATCH(MAX(BackendTable[[#This Row],[T1S1]:[T1S5]]),BackendTable[[#This Row],[T1S1]:[T1S5]],0)","v":{"$error":"#N/A"}},{"$f":"MATCH(MAX(BackendTable[[#This Row],[T2S1]:[T2S5]]),BackendTable[[#This Row],[T2S1]:[T2S5]],0)","v":{"$error":"#N/A"}},{"$f":"MATCH(MAX(BackendTable[[#This Row],[T3S1]:[T3S5]]),BackendTable[[#This Row],[T3S1]:[T3S5]],0)","v":{"$error":"#N/A"}}]
[null,{"$f":"ROW()-ROW(BackendTable[[#Headers],[Row'#]])","v":395},{"$f":"'Data In'!A402","v":0},{"$f":"IF(BackendTable[[#This Row],[Time]]-'Reference Cells'!$C$3<=0,NA(),'Reference Cells'!$C$4-BackendTable[[#This Row],[Time]])*86400","v":{"$error":"#N/A"}},{"$f":"IFERROR(8-BackendTable[[#This Row],[Column1]],\"\")","v":""},{"$f":"IF(ISERROR(BackendTable[[#This Row],[Column1]]),-9,(BackendTable[[#This Row],[Net Time]]-NetTimeMin)*RangeAdj)","v":-9},{"$f":"IF(AND(BackendTable[[#This Row],[Time]]>='Reference Cells'!$C$6,BackendTable[[#This Row],[Time]]<='Reference Cells'!$C$7),(BackendTable[[#This Row],[Time]]-'Reference Cells'!$C$6)*86400,NA())","v":2},{"$f":"IF(CommandCell='Reference Cells'!$C$17,NA(),ABS('Data In'!B402-INDIRECT(\"ZeroVal_\"&H$2,0)))","v":0},{"$f":"IF(CommandCell='Reference Cells'!$C$17,NA(),ABS('Data In'!C402-INDIRECT(\"ZeroVal_\"&I$2,0)))","v":0},{"$f":"IF(CommandCell='Reference Cells'!$C$17,NA(),ABS('Data In'!D402-INDIRECT(\"ZeroVal_\"&J$2,0)))","v":0},{"$f":"IF(CommandCell='Reference Cells'!$C$17,NA(),ABS('Data In'!E402-INDIRECT(\"ZeroVal_\"&K$2,0)))","v":0},{"$f":"IF(CommandCell='Reference Cells'!$C$17,NA(),ABS('Data In'!F402-INDIRECT(\"ZeroVal_\"&L$2,0)))","v":0},{"$f":"MAX(BackendTable[[#This Row],[S1]:[S5]])","v":0},{"$f":"IF(ISERROR(BackendTable[[#This Row],[T0Time]]),0,COUNTIFS(BackendTable[T0Time],\"<=\"&3,BackendTable[T0Time],\">=\"&0)-COUNTIFS(BackendTable[T0Time],\">\"&BackendTable[[#This Row],[T0Time]]))","v":500},null,null,null,null,null,null,null,null,null,null,null,null,null,null,null,null,null,null,null,null,null,null,null,null,{"$f":"MATCH(MAX(BackendTable[[#This Row],[T1S1]:[T1S5]]),BackendTable[[#This Row],[T1S1]:[T1S5]],0)","v":{"$error":"#N/A"}},{"$f":"MATCH(MAX(BackendTable[[#This Row],[T2S1]:[T2S5]]),BackendTable[[#This Row],[T2S1]:[T2S5]],0)","v":{"$error":"#N/A"}},{"$f":"MATCH(MAX(BackendTable[[#This Row],[T3S1]:[T3S5]]),BackendTable[[#This Row],[T3S1]:[T3S5]],0)","v":{"$error":"#N/A"}}]
[null,{"$f":"ROW()-ROW(BackendTable[[#Headers],[Row'#]])","v":396},{"$f":"'Data In'!A403","v":0},{"$f":"IF(BackendTable[[#This Row],[Time]]-'Reference Cells'!$C$3<=0,NA(),'Reference Cells'!$C$4-BackendTable[[#This Row],[Time]])*86400","v":{"$error":"#N/A"}},{"$f":"IFERROR(8-BackendTable[[#This Row],[Column1]],\"\")","v":""},{"$f":"IF(ISERROR(BackendTable[[#This Row],[Column1]]),-9,(BackendTable[[#This Row],[Net Time]]-NetTimeMin)*RangeAdj)","v":-9},{"$f":"IF(AND(BackendTable[[#This Row],[Time]]>='Reference Cells'!$C$6,BackendTable[[#This Row],[Time]]<='Reference Cells'!$C$7),(BackendTable[[#This Row],[Time]]-'Reference Cells'!$C$6)*86400,NA())","v":2},{"$f":"IF(CommandCell='Reference Cells'!$C$17,NA(),ABS('Data In'!B403-INDIRECT(\"ZeroVal_\"&H$2,0)))","v":0},{"$f":"IF(CommandCell='Reference Cells'!$C$17,NA(),ABS('Data In'!C403-INDIRECT(\"ZeroVal_\"&I$2,0)))","v":0},{"$f":"IF(CommandCell='Reference Cells'!$C$17,NA(),ABS('Data In'!D403-INDIRECT(\"ZeroVal_\"&J$2,0)))","v":0},{"$f":"IF(CommandCell='Reference Cells'!$C$17,NA(),ABS('Data In'!E403-INDIRECT(\"ZeroVal_\"&K$2,0)))","v":0},{"$f":"IF(CommandCell='Reference Cells'!$C$17,NA(),ABS('Data In'!F403-INDIRECT(\"ZeroVal_\"&L$2,0)))","v":0},{"$f":"MAX(BackendTable[[#This Row],[S1]:[S5]])","v":0},{"$f":"IF(ISERROR(BackendTable[[#This Row],[T0Time]]),0,COUNTIFS(BackendTable[T0Time],\"<=\"&3,BackendTable[T0Time],\">=\"&0)-COUNTIFS(BackendTable[T0Time],\">\"&BackendTable[[#This Row],[T0Time]]))","v":500},null,null,null,null,null,null,null,null,null,null,null,null,null,null,null,null,null,null,null,null,null,null,null,null,{"$f":"MATCH(MAX(BackendTable[[#This Row],[T1S1]:[T1S5]]),BackendTable[[#This Row],[T1S1]:[T1S5]],0)","v":{"$error":"#N/A"}},{"$f":"MATCH(MAX(BackendTable[[#This Row],[T2S1]:[T2S5]]),BackendTable[[#This Row],[T2S1]:[T2S5]],0)","v":{"$error":"#N/A"}},{"$f":"MATCH(MAX(BackendTable[[#This Row],[T3S1]:[T3S5]]),BackendTable[[#This Row],[T3S1]:[T3S5]],0)","v":{"$error":"#N/A"}}]
[null,{"$f":"ROW()-ROW(BackendTable[[#Headers],[Row'#]])","v":397},{"$f":"'Data In'!A404","v":0},{"$f":"IF(BackendTable[[#This Row],[Time]]-'Reference Cells'!$C$3<=0,NA(),'Reference Cells'!$C$4-BackendTable[[#This Row],[Time]])*86400","v":{"$error":"#N/A"}},{"$f":"IFERROR(8-BackendTable[[#This Row],[Column1]],\"\")","v":""},{"$f":"IF(ISERROR(BackendTable[[#This Row],[Column1]]),-9,(BackendTable[[#This Row],[Net Time]]-NetTimeMin)*RangeAdj)","v":-9},{"$f":"IF(AND(BackendTable[[#This Row],[Time]]>='Reference Cells'!$C$6,BackendTable[[#This Row],[Time]]<='Reference Cells'!$C$7),(BackendTable[[#This Row],[Time]]-'Reference Cells'!$C$6)*86400,NA())","v":2},{"$f":"IF(CommandCell='Reference Cells'!$C$17,NA(),ABS('Data In'!B404-INDIRECT(\"ZeroVal_\"&H$2,0)))","v":0},{"$f":"IF(CommandCell='Reference Cells'!$C$17,NA(),ABS('Data In'!C404-INDIRECT(\"ZeroVal_\"&I$2,0)))","v":0},{"$f":"IF(CommandCell='Reference Cells'!$C$17,NA(),ABS('Data In'!D404-INDIRECT(\"ZeroVal_\"&J$2,0)))","v":0},{"$f":"IF(CommandCell='Reference Cells'!$C$17,NA(),ABS('Data In'!E404-INDIRECT(\"ZeroVal_\"&K$2,0)))","v":0},{"$f":"IF(CommandCell='Reference Cells'!$C$17,NA(),ABS('Data In'!F404-INDIRECT(\"ZeroVal_\"&L$2,0)))","v":0},{"$f":"MAX(BackendTable[[#This Row],[S1]:[S5]])","v":0},{"$f":"IF(ISERROR(BackendTable[[#This Row],[T0Time]]),0,COUNTIFS(BackendTable[T0Time],\"<=\"&3,BackendTable[T0Time],\">=\"&0)-COUNTIFS(BackendTable[T0Time],\">\"&BackendTable[[#This Row],[T0Time]]))","v":500},null,null,null,null,null,null,null,null,null,null,null,null,null,null,null,null,null,null,null,null,null,null,null,null,{"$f":"MATCH(MAX(BackendTable[[#This Row],[T1S1]:[T1S5]]),BackendTable[[#This Row],[T1S1]:[T1S5]],0)","v":{"$error":"#N/A"}},{"$f":"MATCH(MAX(BackendTable[[#This Row],[T2S1]:[T2S5]]),BackendTable[[#This Row],[T2S1]:[T2S5]],0)","v":{"$error":"#N/A"}},{"$f":"MATCH(MAX(BackendTable[[#This Row],[T3S1]:[T3S5]]),BackendTable[[#This Row],[T3S1]:[T3S5]],0)","v":{"$error":"#N/A"}}]
[null,{"$f":"ROW()-ROW(BackendTable[[#Headers],[Row'#]])","v":398},{"$f":"'Data In'!A405","v":0},{"$f":"IF(BackendTable[[#This Row],[Time]]-'Reference Cells'!$C$3<=0,NA(),'Reference Cells'!$C$4-BackendTable[[#This Row],[Time]])*86400","v":{"$error":"#N/A"}},{"$f":"IFERROR(8-BackendTable[[#This Row],[Column1]],\"\")","v":""},{"$f":"IF(ISERROR(BackendTable[[#This Row],[Column1]]),-9,(BackendTable[[#This Row],[Net Time]]-NetTimeMin)*RangeAdj)","v":-9},{"$f":"IF(AND(BackendTable[[#This Row],[Time]]>='Reference Cells'!$C$6,BackendTable[[#This Row],[Time]]<='Reference Cells'!$C$7),(BackendTable[[#This Row],[Time]]-'Reference Cells'!$C$6)*86400,NA())","v":2},{"$f":"IF(CommandCell='Reference Cells'!$C$17,NA(),ABS('Data In'!B405-INDIRECT(\"ZeroVal_\"&H$2,0)))","v":0},{"$f":"IF(CommandCell='Reference Cells'!$C$17,NA(),ABS('Data In'!C405-INDIRECT(\"ZeroVal_\"&I$2,0)))","v":0},{"$f":"IF(CommandCell='Reference Cells'!$C$17,NA(),ABS('Data In'!D405-INDIRECT(\"ZeroVal_\"&J$2,0)))","v":0},{"$f":"IF(CommandCell='Reference Cells'!$C$17,NA(),ABS('Data In'!E405-INDIRECT(\"ZeroVal_\"&K$2,0)))","v":0},{"$f":"IF(CommandCell='Reference Cells'!$C$17,NA(),ABS('Data In'!F405-INDIRECT(\"ZeroVal_\"&L$2,0)))","v":0},{"$f":"MAX(BackendTable[[#This Row],[S1]:[S5]])","v":0},{"$f":"IF(ISERROR(BackendTable[[#This Row],[T0Time]]),0,COUNTIFS(BackendTable[T0Time],\"<=\"&3,BackendTable[T0Time],\">=\"&0)-COUNTIFS(BackendTable[T0Time],\">\"&BackendTable[[#This Row],[T0Time]]))","v":500},null,null,null,null,null,null,null,null,null,null,null,null,null,null,null,null,null,null,null,null,null,null,null,null,{"$f":"MATCH(MAX(BackendTable[[#This Row],[T1S1]:[T1S5]]),BackendTable[[#This Row],[T1S1]:[T1S5]],0)","v":{"$error":"#N/A"}},{"$f":"MATCH(MAX(BackendTable[[#This Row],[T2S1]:[T2S5]]),BackendTable[[#This Row],[T2S1]:[T2S5]],0)","v":{"$error":"#N/A"}},{"$f":"MATCH(MAX(BackendTable[[#This Row],[T3S1]:[T3S5]]),BackendTable[[#This Row],[T3S1]:[T3S5]],0)","v":{"$error":"#N/A"}}]
[null,{"$f":"ROW()-ROW(BackendTable[[#Headers],[Row'#]])","v":399},{"$f":"'Data In'!A406","v":0},{"$f":"IF(BackendTable[[#This Row],[Time]]-'Reference Cells'!$C$3<=0,NA(),'Reference Cells'!$C$4-BackendTable[[#This Row],[Time]])*86400","v":{"$error":"#N/A"}},{"$f":"IFERROR(8-BackendTable[[#This Row],[Column1]],\"\")","v":""},{"$f":"IF(ISERROR(BackendTable[[#This Row],[Column1]]),-9,(BackendTable[[#This Row],[Net Time]]-NetTimeMin)*RangeAdj)","v":-9},{"$f":"IF(AND(BackendTable[[#This Row],[Time]]>='Reference Cells'!$C$6,BackendTable[[#This Row],[Time]]<='Reference Cells'!$C$7),(BackendTable[[#This Row],[Time]]-'Reference Cells'!$C$6)*86400,NA())","v":2},{"$f":"IF(CommandCell='Reference Cells'!$C$17,NA(),ABS('Data In'!B406-INDIRECT(\"ZeroVal_\"&H$2,0)))","v":0},{"$f":"IF(CommandCell='Reference Cells'!$C$17,NA(),ABS('Data In'!C406-INDIRECT(\"ZeroVal_\"&I$2,0)))","v":0},{"$f":"IF(CommandCell='Reference Cells'!$C$17,NA(),ABS('Data In'!D406-INDIRECT(\"ZeroVal_\"&J$2,0)))","v":0},{"$f":"IF(CommandCell='Reference Cells'!$C$17,NA(),ABS('Data In'!E406-INDIRECT(\"ZeroVal_\"&K$2,0)))","v":0},{"$f":"IF(CommandCell='Reference Cells'!$C$17,NA(),ABS('Data In'!F406-INDIRECT(\"ZeroVal_\"&L$2,0)))","v":0},{"$f":"MAX(BackendTable[[#This Row],[S1]:[S5]])","v":0},{"$f":"IF(ISERROR(BackendTable[[#This Row],[T0Time]]),0,COUNTIFS(BackendTable[T0Time],\"<=\"&3,BackendTable[T0Time],\">=\"&0)-COUNTIFS(BackendTable[T0Time],\">\"&BackendTable[[#This Row],[T0Time]]))","v":500},null,null,null,null,null,null,null,null,null,null,null,null,null,null,null,null,null,null,null,null,null,null,null,null,{"$f":"MATCH(MAX(BackendTable[[#This Row],[T1S1]:[T1S5]]),BackendTable[[#This Row],[T1S1]:[T1S5]],0)","v":{"$error":"#N/A"}},{"$f":"MATCH(MAX(BackendTable[[#This Row],[T2S1]:[T2S5]]),BackendTable[[#This Row],[T2S1]:[T2S5]],0)","v":{"$error":"#N/A"}},{"$f":"MATCH(MAX(BackendTable[[#This Row],[T3S1]:[T3S5]]),BackendTable[[#This Row],[T3S1]:[T3S5]],0)","v":{"$error":"#N/A"}}]
[null,{"$f":"ROW()-ROW(BackendTable[[#Headers],[Row'#]])","v":400},{"$f":"'Data In'!A407","v":0},{"$f":"IF(BackendTable[[#This Row],[Time]]-'Reference Cells'!$C$3<=0,NA(),'Reference Cells'!$C$4-BackendTable[[#This Row],[Time]])*86400","v":{"$error":"#N/A"}},{"$f":"IFERROR(8-BackendTable[[#This Row],[Column1]],\"\")","v":""},{"$f":"IF(ISERROR(BackendTable[[#This Row],[Column1]]),-9,(BackendTable[[#This Row],[Net Time]]-NetTimeMin)*RangeAdj)","v":-9},{"$f":"IF(AND(BackendTable[[#This Row],[Time]]>='Reference Cells'!$C$6,BackendTable[[#This Row],[Time]]<='Reference Cells'!$C$7),(BackendTable[[#This Row],[Time]]-'Reference Cells'!$C$6)*86400,NA())","v":2},{"$f":"IF(CommandCell='Reference Cells'!$C$17,NA(),ABS('Data In'!B407-INDIRECT(\"ZeroVal_\"&H$2,0)))","v":0},{"$f":"IF(CommandCell='Reference Cells'!$C$17,NA(),ABS('Data In'!C407-INDIRECT(\"ZeroVal_\"&I$2,0)))","v":0},{"$f":"IF(CommandCell='Reference Cells'!$C$17,NA(),ABS('Data In'!D407-INDIRECT(\"ZeroVal_\"&J$2,0)))","v":0},{"$f":"IF(CommandCell='Reference Cells'!$C$17,NA(),ABS('Data In'!E407-INDIRECT(\"ZeroVal_\"&K$2,0)))","v":0},{"$f":"IF(CommandCell='Reference Cells'!$C$17,NA(),ABS('Data In'!F407-INDIRECT(\"ZeroVal_\"&L$2,0)))","v":0},{"$f":"MAX(BackendTable[[#This Row],[S1]:[S5]])","v":0},{"$f":"IF(ISERROR(BackendTable[[#This Row],[T0Time]]),0,COUNTIFS(BackendTable[T0Time],\"<=\"&3,BackendTable[T0Time],\">=\"&0)-COUNTIFS(BackendTable[T0Time],\">\"&BackendTable[[#This Row],[T0Time]]))","v":500},null,null,null,null,null,null,null,null,null,null,null,null,null,null,null,null,null,null,null,null,null,null,null,null,{"$f":"MATCH(MAX(BackendTable[[#This Row],[T1S1]:[T1S5]]),BackendTable[[#This Row],[T1S1]:[T1S5]],0)","v":{"$error":"#N/A"}},{"$f":"MATCH(MAX(BackendTable[[#This Row],[T2S1]:[T2S5]]),BackendTable[[#This Row],[T2S1]:[T2S5]],0)","v":{"$error":"#N/A"}},{"$f":"MATCH(MAX(BackendTable[[#This Row],[T3S1]:[T3S5]]),BackendTable[[#This Row],[T3S1]:[T3S5]],0)","v":{"$error":"#N/A"}}]
[null,{"$f":"ROW()-ROW(BackendTable[[#Headers],[Row'#]])","v":401},{"$f":"'Data In'!A408","v":0},{"$f":"IF(BackendTable[[#This Row],[Time]]-'Reference Cells'!$C$3<=0,NA(),'Reference Cells'!$C$4-BackendTable[[#This Row],[Time]])*86400","v":{"$error":"#N/A"}},{"$f":"IFERROR(8-BackendTable[[#This Row],[Column1]],\"\")","v":""},{"$f":"IF(ISERROR(BackendTable[[#This Row],[Column1]]),-9,(BackendTable[[#This Row],[Net Time]]-NetTimeMin)*RangeAdj)","v":-9},{"$f":"IF(AND(BackendTable[[#This Row],[Time]]>='Reference Cells'!$C$6,BackendTable[[#This Row],[Time]]<='Reference Cells'!$C$7),(BackendTable[[#This Row],[Time]]-'Reference Cells'!$C$6)*86400,NA())","v":2},{"$f":"IF(CommandCell='Reference Cells'!$C$17,NA(),ABS('Data In'!B408-INDIRECT(\"ZeroVal_\"&H$2,0)))","v":0},{"$f":"IF(CommandCell='Reference Cells'!$C$17,NA(),ABS('Data In'!C408-INDIRECT(\"ZeroVal_\"&I$2,0)))","v":0},{"$f":"IF(CommandCell='Reference Cells'!$C$17,NA(),ABS('Data In'!D408-INDIRECT(\"ZeroVal_\"&J$2,0)))","v":0},{"$f":"IF(CommandCell='Reference Cells'!$C$17,NA(),ABS('Data In'!E408-INDIRECT(\"ZeroVal_\"&K$2,0)))","v":0},{"$f":"IF(CommandCell='Reference Cells'!$C$17,NA(),ABS('Data In'!F408-INDIRECT(\"ZeroVal_\"&L$2,0)))","v":0},{"$f":"MAX(BackendTable[[#This Row],[S1]:[S5]])","v":0},{"$f":"IF(ISERROR(BackendTable[[#This Row],[T0Time]]),0,COUNTIFS(BackendTable[T0Time],\"<=\"&3,BackendTable[T0Time],\">=\"&0)-COUNTIFS(BackendTable[T0Time],\">\"&BackendTable[[#This Row],[T0Time]]))","v":500},null,null,null,null,null,null,null,null,null,null,null,null,null,null,null,null,null,null,null,null,null,null,null,null,{"$f":"MATCH(MAX(BackendTable[[#This Row],[T1S1]:[T1S5]]),BackendTable[[#This Row],[T1S1]:[T1S5]],0)","v":{"$error":"#N/A"}},{"$f":"MATCH(MAX(BackendTable[[#This Row],[T2S1]:[T2S5]]),BackendTable[[#This Row],[T2S1]:[T2S5]],0)","v":{"$error":"#N/A"}},{"$f":"MATCH(MAX(BackendTable[[#This Row],[T3S1]:[T3S5]]),BackendTable[[#This Row],[T3S1]:[T3S5]],0)","v":{"$error":"#N/A"}}]
[null,{"$f":"ROW()-ROW(BackendTable[[#Headers],[Row'#]])","v":402},{"$f":"'Data In'!A409","v":0},{"$f":"IF(BackendTable[[#This Row],[Time]]-'Reference Cells'!$C$3<=0,NA(),'Reference Cells'!$C$4-BackendTable[[#This Row],[Time]])*86400","v":{"$error":"#N/A"}},{"$f":"IFERROR(8-BackendTable[[#This Row],[Column1]],\"\")","v":""},{"$f":"IF(ISERROR(BackendTable[[#This Row],[Column1]]),-9,(BackendTable[[#This Row],[Net Time]]-NetTimeMin)*RangeAdj)","v":-9},{"$f":"IF(AND(BackendTable[[#This Row],[Time]]>='Reference Cells'!$C$6,BackendTable[[#This Row],[Time]]<='Reference Cells'!$C$7),(BackendTable[[#This Row],[Time]]-'Reference Cells'!$C$6)*86400,NA())","v":2},{"$f":"IF(CommandCell='Reference Cells'!$C$17,NA(),ABS('Data In'!B409-INDIRECT(\"ZeroVal_\"&H$2,0)))","v":0},{"$f":"IF(CommandCell='Reference Cells'!$C$17,NA(),ABS('Data In'!C409-INDIRECT(\"ZeroVal_\"&I$2,0)))","v":0},{"$f":"IF(CommandCell='Reference Cells'!$C$17,NA(),ABS('Data In'!D409-INDIRECT(\"ZeroVal_\"&J$2,0)))","v":0},{"$f":"IF(CommandCell='Reference Cells'!$C$17,NA(),ABS('Data In'!E409-INDIRECT(\"ZeroVal_\"&K$2,0)))","v":0},{"$f":"IF(CommandCell='Reference Cells'!$C$17,NA(),ABS('Data In'!F409-INDIRECT(\"ZeroVal_\"&L$2,0)))","v":0},{"$f":"MAX(BackendTable[[#This Row],[S1]:[S5]])","v":0},{"$f":"IF(ISERROR(BackendTable[[#This Row],[T0Time]]),0,COUNTIFS(BackendTable[T0Time],\"<=\"&3,BackendTable[T0Time],\">=\"&0)-COUNTIFS(BackendTable[T0Time],\">\"&BackendTable[[#This Row],[T0Time]]))","v":500},null,null,null,null,null,null,null,null,null,null,null,null,null,null,null,null,null,null,null,null,null,null,null,null,{"$f":"MATCH(MAX(BackendTable[[#This Row],[T1S1]:[T1S5]]),BackendTable[[#This Row],[T1S1]:[T1S5]],0)","v":{"$error":"#N/A"}},{"$f":"MATCH(MAX(BackendTable[[#This Row],[T2S1]:[T2S5]]),BackendTable[[#This Row],[T2S1]:[T2S5]],0)","v":{"$error":"#N/A"}},{"$f":"MATCH(MAX(BackendTable[[#This Row],[T3S1]:[T3S5]]),BackendTable[[#This Row],[T3S1]:[T3S5]],0)","v":{"$error":"#N/A"}}]
[null,{"$f":"ROW()-ROW(BackendTable[[#Headers],[Row'#]])","v":403},{"$f":"'Data In'!A410","v":0},{"$f":"IF(BackendTable[[#This Row],[Time]]-'Reference Cells'!$C$3<=0,NA(),'Reference Cells'!$C$4-BackendTable[[#This Row],[Time]])*86400","v":{"$error":"#N/A"}},{"$f":"IFERROR(8-BackendTable[[#This Row],[Column1]],\"\")","v":""},{"$f":"IF(ISERROR(BackendTable[[#This Row],[Column1]]),-9,(BackendTable[[#This Row],[Net Time]]-NetTimeMin)*RangeAdj)","v":-9},{"$f":"IF(AND(BackendTable[[#This Row],[Time]]>='Reference Cells'!$C$6,BackendTable[[#This Row],[Time]]<='Reference Cells'!$C$7),(BackendTable[[#This Row],[Time]]-'Reference Cells'!$C$6)*86400,NA())","v":2},{"$f":"IF(CommandCell='Reference Cells'!$C$17,NA(),ABS('Data In'!B410-INDIRECT(\"ZeroVal_\"&H$2,0)))","v":0},{"$f":"IF(CommandCell='Reference Cells'!$C$17,NA(),ABS('Data In'!C410-INDIRECT(\"ZeroVal_\"&I$2,0)))","v":0},{"$f":"IF(CommandCell='Reference Cells'!$C$17,NA(),ABS('Data In'!D410-INDIRECT(\"ZeroVal_\"&J$2,0)))","v":0},{"$f":"IF(CommandCell='Reference Cells'!$C$17,NA(),ABS('Data In'!E410-INDIRECT(\"ZeroVal_\"&K$2,0)))","v":0},{"$f":"IF(CommandCell='Reference Cells'!$C$17,NA(),ABS('Data In'!F410-INDIRECT(\"ZeroVal_\"&L$2,0)))","v":0},{"$f":"MAX(BackendTable[[#This Row],[S1]:[S5]])","v":0},{"$f":"IF(ISERROR(BackendTable[[#This Row],[T0Time]]),0,COUNTIFS(BackendTable[T0Time],\"<=\"&3,BackendTable[T0Time],\">=\"&0)-COUNTIFS(BackendTable[T0Time],\">\"&BackendTable[[#This Row],[T0Time]]))","v":500},null,null,null,null,null,null,null,null,null,null,null,null,null,null,null,null,null,null,null,null,null,null,null,null,{"$f":"MATCH(MAX(BackendTable[[#This Row],[T1S1]:[T1S5]]),BackendTable[[#This Row],[T1S1]:[T1S5]],0)","v":{"$error":"#N/A"}},{"$f":"MATCH(MAX(BackendTable[[#This Row],[T2S1]:[T2S5]]),BackendTable[[#This Row],[T2S1]:[T2S5]],0)","v":{"$error":"#N/A"}},{"$f":"MATCH(MAX(BackendTable[[#This Row],[T3S1]:[T3S5]]),BackendTable[[#This Row],[T3S1]:[T3S5]],0)","v":{"$error":"#N/A"}}]
[null,{"$f":"ROW()-ROW(BackendTable[[#Headers],[Row'#]])","v":404},{"$f":"'Data In'!A411","v":0},{"$f":"IF(BackendTable[[#This Row],[Time]]-'Reference Cells'!$C$3<=0,NA(),'Reference Cells'!$C$4-BackendTable[[#This Row],[Time]])*86400","v":{"$error":"#N/A"}},{"$f":"IFERROR(8-BackendTable[[#This Row],[Column1]],\"\")","v":""},{"$f":"IF(ISERROR(BackendTable[[#This Row],[Column1]]),-9,(BackendTable[[#This Row],[Net Time]]-NetTimeMin)*RangeAdj)","v":-9},{"$f":"IF(AND(BackendTable[[#This Row],[Time]]>='Reference Cells'!$C$6,BackendTable[[#This Row],[Time]]<='Reference Cells'!$C$7),(BackendTable[[#This Row],[Time]]-'Reference Cells'!$C$6)*86400,NA())","v":2},{"$f":"IF(CommandCell='Reference Cells'!$C$17,NA(),ABS('Data In'!B411-INDIRECT(\"ZeroVal_\"&H$2,0)))","v":0},{"$f":"IF(CommandCell='Reference Cells'!$C$17,NA(),ABS('Data In'!C411-INDIRECT(\"ZeroVal_\"&I$2,0)))","v":0},{"$f":"IF(CommandCell='Reference Cells'!$C$17,NA(),ABS('Data In'!D411-INDIRECT(\"ZeroVal_\"&J$2,0)))","v":0},{"$f":"IF(CommandCell='Reference Cells'!$C$17,NA(),ABS('Data In'!E411-INDIRECT(\"ZeroVal_\"&K$2,0)))","v":0},{"$f":"IF(CommandCell='Reference Cells'!$C$17,NA(),ABS('Data In'!F411-INDIRECT(\"ZeroVal_\"&L$2,0)))","v":0},{"$f":"MAX(BackendTable[[#This Row],[S1]:[S5]])","v":0},{"$f":"IF(ISERROR(BackendTable[[#This Row],[T0Time]]),0,COUNTIFS(BackendTable[T0Time],\"<=\"&3,BackendTable[T0Time],\">=\"&0)-COUNTIFS(BackendTable[T0Time],\">\"&BackendTable[[#This Row],[T0Time]]))","v":500},null,null,null,null,null,null,null,null,null,null,null,null,null,null,null,null,null,null,null,null,null,null,null,null,{"$f":"MATCH(MAX(BackendTable[[#This Row],[T1S1]:[T1S5]]),BackendTable[[#This Row],[T1S1]:[T1S5]],0)","v":{"$error":"#N/A"}},{"$f":"MATCH(MAX(BackendTable[[#This Row],[T2S1]:[T2S5]]),BackendTable[[#This Row],[T2S1]:[T2S5]],0)","v":{"$error":"#N/A"}},{"$f":"MATCH(MAX(BackendTable[[#This Row],[T3S1]:[T3S5]]),BackendTable[[#This Row],[T3S1]:[T3S5]],0)","v":{"$error":"#N/A"}}]
[null,{"$f":"ROW()-ROW(BackendTable[[#Headers],[Row'#]])","v":405},{"$f":"'Data In'!A412","v":0},{"$f":"IF(BackendTable[[#This Row],[Time]]-'Reference Cells'!$C$3<=0,NA(),'Reference Cells'!$C$4-BackendTable[[#This Row],[Time]])*86400","v":{"$error":"#N/A"}},{"$f":"IFERROR(8-BackendTable[[#This Row],[Column1]],\"\")","v":""},{"$f":"IF(ISERROR(BackendTable[[#This Row],[Column1]]),-9,(BackendTable[[#This Row],[Net Time]]-NetTimeMin)*RangeAdj)","v":-9},{"$f":"IF(AND(BackendTable[[#This Row],[Time]]>='Reference Cells'!$C$6,BackendTable[[#This Row],[Time]]<='Reference Cells'!$C$7),(BackendTable[[#This Row],[Time]]-'Reference Cells'!$C$6)*86400,NA())","v":2},{"$f":"IF(CommandCell='Reference Cells'!$C$17,NA(),ABS('Data In'!B412-INDIRECT(\"ZeroVal_\"&H$2,0)))","v":0},{"$f":"IF(CommandCell='Reference Cells'!$C$17,NA(),ABS('Data In'!C412-INDIRECT(\"ZeroVal_\"&I$2,0)))","v":0},{"$f":"IF(CommandCell='Reference Cells'!$C$17,NA(),ABS('Data In'!D412-INDIRECT(\"ZeroVal_\"&J$2,0)))","v":0},{"$f":"IF(CommandCell='Reference Cells'!$C$17,NA(),ABS('Data In'!E412-INDIRECT(\"ZeroVal_\"&K$2,0)))","v":0},{"$f":"IF(CommandCell='Reference Cells'!$C$17,NA(),ABS('Data In'!F412-INDIRECT(\"ZeroVal_\"&L$2,0)))","v":0},{"$f":"MAX(BackendTable[[#This Row],[S1]:[S5]])","v":0},{"$f":"IF(ISERROR(BackendTable[[#This Row],[T0Time]]),0,COUNTIFS(BackendTable[T0Time],\"<=\"&3,BackendTable[T0Time],\">=\"&0)-COUNTIFS(BackendTable[T0Time],\">\"&BackendTable[[#This Row],[T0Time]]))","v":500},null,null,null,null,null,null,null,null,null,null,null,null,null,null,null,null,null,null,null,null,null,null,null,null,{"$f":"MATCH(MAX(BackendTable[[#This Row],[T1S1]:[T1S5]]),BackendTable[[#This Row],[T1S1]:[T1S5]],0)","v":{"$error":"#N/A"}},{"$f":"MATCH(MAX(BackendTable[[#This Row],[T2S1]:[T2S5]]),BackendTable[[#This Row],[T2S1]:[T2S5]],0)","v":{"$error":"#N/A"}},{"$f":"MATCH(MAX(BackendTable[[#This Row],[T3S1]:[T3S5]]),BackendTable[[#This Row],[T3S1]:[T3S5]],0)","v":{"$error":"#N/A"}}]
[null,{"$f":"ROW()-ROW(BackendTable[[#Headers],[Row'#]])","v":406},{"$f":"'Data In'!A413","v":0},{"$f":"IF(BackendTable[[#This Row],[Time]]-'Reference Cells'!$C$3<=0,NA(),'Reference Cells'!$C$4-BackendTable[[#This Row],[Time]])*86400","v":{"$error":"#N/A"}},{"$f":"IFERROR(8-BackendTable[[#This Row],[Column1]],\"\")","v":""},{"$f":"IF(ISERROR(BackendTable[[#This Row],[Column1]]),-9,(BackendTable[[#This Row],[Net Time]]-NetTimeMin)*RangeAdj)","v":-9},{"$f":"IF(AND(BackendTable[[#This Row],[Time]]>='Reference Cells'!$C$6,BackendTable[[#This Row],[Time]]<='Reference Cells'!$C$7),(BackendTable[[#This Row],[Time]]-'Reference Cells'!$C$6)*86400,NA())","v":2},{"$f":"IF(CommandCell='Reference Cells'!$C$17,NA(),ABS('Data In'!B413-INDIRECT(\"ZeroVal_\"&H$2,0)))","v":0},{"$f":"IF(CommandCell='Reference Cells'!$C$17,NA(),ABS('Data In'!C413-INDIRECT(\"ZeroVal_\"&I$2,0)))","v":0},{"$f":"IF(CommandCell='Reference Cells'!$C$17,NA(),ABS('Data In'!D413-INDIRECT(\"ZeroVal_\"&J$2,0)))","v":0},{"$f":"IF(CommandCell='Reference Cells'!$C$17,NA(),ABS('Data In'!E413-INDIRECT(\"ZeroVal_\"&K$2,0)))","v":0},{"$f":"IF(CommandCell='Reference Cells'!$C$17,NA(),ABS('Data In'!F413-INDIRECT(\"ZeroVal_\"&L$2,0)))","v":0},{"$f":"MAX(BackendTable[[#This Row],[S1]:[S5]])","v":0},{"$f":"IF(ISERROR(BackendTable[[#This Row],[T0Time]]),0,COUNTIFS(BackendTable[T0Time],\"<=\"&3,BackendTable[T0Time],\">=\"&0)-COUNTIFS(BackendTable[T0Time],\">\"&BackendTable[[#This Row],[T0Time]]))","v":500},null,null,null,null,null,null,null,null,null,null,null,null,null,null,null,null,null,null,null,null,null,null,null,null,{"$f":"MATCH(MAX(BackendTable[[#This Row],[T1S1]:[T1S5]]),BackendTable[[#This Row],[T1S1]:[T1S5]],0)","v":{"$error":"#N/A"}},{"$f":"MATCH(MAX(BackendTable[[#This Row],[T2S1]:[T2S5]]),BackendTable[[#This Row],[T2S1]:[T2S5]],0)","v":{"$error":"#N/A"}},{"$f":"MATCH(MAX(BackendTable[[#This Row],[T3S1]:[T3S5]]),BackendTable[[#This Row],[T3S1]:[T3S5]],0)","v":{"$error":"#N/A"}}]
[null,{"$f":"ROW()-ROW(BackendTable[[#Headers],[Row'#]])","v":407},{"$f":"'Data In'!A414","v":0},{"$f":"IF(BackendTable[[#This Row],[Time]]-'Reference Cells'!$C$3<=0,NA(),'Reference Cells'!$C$4-BackendTable[[#This Row],[Time]])*86400","v":{"$error":"#N/A"}},{"$f":"IFERROR(8-BackendTable[[#This Row],[Column1]],\"\")","v":""},{"$f":"IF(ISERROR(BackendTable[[#This Row],[Column1]]),-9,(BackendTable[[#This Row],[Net Time]]-NetTimeMin)*RangeAdj)","v":-9},{"$f":"IF(AND(BackendTable[[#This Row],[Time]]>='Reference Cells'!$C$6,BackendTable[[#This Row],[Time]]<='Reference Cells'!$C$7),(BackendTable[[#This Row],[Time]]-'Reference Cells'!$C$6)*86400,NA())","v":2},{"$f":"IF(CommandCell='Reference Cells'!$C$17,NA(),ABS('Data In'!B414-INDIRECT(\"ZeroVal_\"&H$2,0)))","v":0},{"$f":"IF(CommandCell='Reference Cells'!$C$17,NA(),ABS('Data In'!C414-INDIRECT(\"ZeroVal_\"&I$2,0)))","v":0},{"$f":"IF(CommandCell='Reference Cells'!$C$17,NA(),ABS('Data In'!D414-INDIRECT(\"ZeroVal_\"&J$2,0)))","v":0},{"$f":"IF(CommandCell='Reference Cells'!$C$17,NA(),ABS('Data In'!E414-INDIRECT(\"ZeroVal_\"&K$2,0)))","v":0},{"$f":"IF(CommandCell='Reference Cells'!$C$17,NA(),ABS('Data In'!F414-INDIRECT(\"ZeroVal_\"&L$2,0)))","v":0},{"$f":"MAX(BackendTable[[#This Row],[S1]:[S5]])","v":0},{"$f":"IF(ISERROR(BackendTable[[#This Row],[T0Time]]),0,COUNTIFS(BackendTable[T0Time],\"<=\"&3,BackendTable[T0Time],\">=\"&0)-COUNTIFS(BackendTable[T0Time],\">\"&BackendTable[[#This Row],[T0Time]]))","v":500},null,null,null,null,null,null,null,null,null,null,null,null,null,null,null,null,null,null,null,null,null,null,null,null,{"$f":"MATCH(MAX(BackendTable[[#This Row],[T1S1]:[T1S5]]),BackendTable[[#This Row],[T1S1]:[T1S5]],0)","v":{"$error":"#N/A"}},{"$f":"MATCH(MAX(BackendTable[[#This Row],[T2S1]:[T2S5]]),BackendTable[[#This Row],[T2S1]:[T2S5]],0)","v":{"$error":"#N/A"}},{"$f":"MATCH(MAX(BackendTable[[#This Row],[T3S1]:[T3S5]]),BackendTable[[#This Row],[T3S1]:[T3S5]],0)","v":{"$error":"#N/A"}}]
[null,{"$f":"ROW()-ROW(BackendTable[[#Headers],[Row'#]])","v":408},{"$f":"'Data In'!A415","v":0},{"$f":"IF(BackendTable[[#This Row],[Time]]-'Reference Cells'!$C$3<=0,NA(),'Reference Cells'!$C$4-BackendTable[[#This Row],[Time]])*86400","v":{"$error":"#N/A"}},{"$f":"IFERROR(8-BackendTable[[#This Row],[Column1]],\"\")","v":""},{"$f":"IF(ISERROR(BackendTable[[#This Row],[Column1]]),-9,(BackendTable[[#This Row],[Net Time]]-NetTimeMin)*RangeAdj)","v":-9},{"$f":"IF(AND(BackendTable[[#This Row],[Time]]>='Reference Cells'!$C$6,BackendTable[[#This Row],[Time]]<='Reference Cells'!$C$7),(BackendTable[[#This Row],[Time]]-'Reference Cells'!$C$6)*86400,NA())","v":2},{"$f":"IF(CommandCell='Reference Cells'!$C$17,NA(),ABS('Data In'!B415-INDIRECT(\"ZeroVal_\"&H$2,0)))","v":0},{"$f":"IF(CommandCell='Reference Cells'!$C$17,NA(),ABS('Data In'!C415-INDIRECT(\"ZeroVal_\"&I$2,0)))","v":0},{"$f":"IF(CommandCell='Reference Cells'!$C$17,NA(),ABS('Data In'!D415-INDIRECT(\"ZeroVal_\"&J$2,0)))","v":0},{"$f":"IF(CommandCell='Reference Cells'!$C$17,NA(),ABS('Data In'!E415-INDIRECT(\"ZeroVal_\"&K$2,0)))","v":0},{"$f":"IF(CommandCell='Reference Cells'!$C$17,NA(),ABS('Data In'!F415-INDIRECT(\"ZeroVal_\"&L$2,0)))","v":0},{"$f":"MAX(BackendTable[[#This Row],[S1]:[S5]])","v":0},{"$f":"IF(ISERROR(BackendTable[[#This Row],[T0Time]]),0,COUNTIFS(BackendTable[T0Time],\"<=\"&3,BackendTable[T0Time],\">=\"&0)-COUNTIFS(BackendTable[T0Time],\">\"&BackendTable[[#This Row],[T0Time]]))","v":500},null,null,null,null,null,null,null,null,null,null,null,null,null,null,null,null,null,null,null,null,null,null,null,null,{"$f":"MATCH(MAX(BackendTable[[#This Row],[T1S1]:[T1S5]]),BackendTable[[#This Row],[T1S1]:[T1S5]],0)","v":{"$error":"#N/A"}},{"$f":"MATCH(MAX(BackendTable[[#This Row],[T2S1]:[T2S5]]),BackendTable[[#This Row],[T2S1]:[T2S5]],0)","v":{"$error":"#N/A"}},{"$f":"MATCH(MAX(BackendTable[[#This Row],[T3S1]:[T3S5]]),BackendTable[[#This Row],[T3S1]:[T3S5]],0)","v":{"$error":"#N/A"}}]
[null,{"$f":"ROW()-ROW(BackendTable[[#Headers],[Row'#]])","v":409},{"$f":"'Data In'!A416","v":0},{"$f":"IF(BackendTable[[#This Row],[Time]]-'Reference Cells'!$C$3<=0,NA(),'Reference Cells'!$C$4-BackendTable[[#This Row],[Time]])*86400","v":{"$error":"#N/A"}},{"$f":"IFERROR(8-BackendTable[[#This Row],[Column1]],\"\")","v":""},{"$f":"IF(ISERROR(BackendTable[[#This Row],[Column1]]),-9,(BackendTable[[#This Row],[Net Time]]-NetTimeMin)*RangeAdj)","v":-9},{"$f":"IF(AND(BackendTable[[#This Row],[Time]]>='Reference Cells'!$C$6,BackendTable[[#This Row],[Time]]<='Reference Cells'!$C$7),(BackendTable[[#This Row],[Time]]-'Reference Cells'!$C$6)*86400,NA())","v":2},{"$f":"IF(CommandCell='Reference Cells'!$C$17,NA(),ABS('Data In'!B416-INDIRECT(\"ZeroVal_\"&H$2,0)))","v":0},{"$f":"IF(CommandCell='Reference Cells'!$C$17,NA(),ABS('Data In'!C416-INDIRECT(\"ZeroVal_\"&I$2,0)))","v":0},{"$f":"IF(CommandCell='Reference Cells'!$C$17,NA(),ABS('Data In'!D416-INDIRECT(\"ZeroVal_\"&J$2,0)))","v":0},{"$f":"IF(CommandCell='Reference Cells'!$C$17,NA(),ABS('Data In'!E416-INDIRECT(\"ZeroVal_\"&K$2,0)))","v":0},{"$f":"IF(CommandCell='Reference Cells'!$C$17,NA(),ABS('Data In'!F416-INDIRECT(\"ZeroVal_\"&L$2,0)))","v":0},{"$f":"MAX(BackendTable[[#This Row],[S1]:[S5]])","v":0},{"$f":"IF(ISERROR(BackendTable[[#This Row],[T0Time]]),0,COUNTIFS(BackendTable[T0Time],\"<=\"&3,BackendTable[T0Time],\">=\"&0)-COUNTIFS(BackendTable[T0Time],\">\"&BackendTable[[#This Row],[T0Time]]))","v":500},null,null,null,null,null,null,null,null,null,null,null,null,null,null,null,null,null,null,null,null,null,null,null,null,{"$f":"MATCH(MAX(BackendTable[[#This Row],[T1S1]:[T1S5]]),BackendTable[[#This Row],[T1S1]:[T1S5]],0)","v":{"$error":"#N/A"}},{"$f":"MATCH(MAX(BackendTable[[#This Row],[T2S1]:[T2S5]]),BackendTable[[#This Row],[T2S1]:[T2S5]],0)","v":{"$error":"#N/A"}},{"$f":"MATCH(MAX(BackendTable[[#This Row],[T3S1]:[T3S5]]),BackendTable[[#This Row],[T3S1]:[T3S5]],0)","v":{"$error":"#N/A"}}]
[null,{"$f":"ROW()-ROW(BackendTable[[#Headers],[Row'#]])","v":410},{"$f":"'Data In'!A417","v":0},{"$f":"IF(BackendTable[[#This Row],[Time]]-'Reference Cells'!$C$3<=0,NA(),'Reference Cells'!$C$4-BackendTable[[#This Row],[Time]])*86400","v":{"$error":"#N/A"}},{"$f":"IFERROR(8-BackendTable[[#This Row],[Column1]],\"\")","v":""},{"$f":"IF(ISERROR(BackendTable[[#This Row],[Column1]]),-9,(BackendTable[[#This Row],[Net Time]]-NetTimeMin)*RangeAdj)","v":-9},{"$f":"IF(AND(BackendTable[[#This Row],[Time]]>='Reference Cells'!$C$6,BackendTable[[#This Row],[Time]]<='Reference Cells'!$C$7),(BackendTable[[#This Row],[Time]]-'Reference Cells'!$C$6)*86400,NA())","v":2},{"$f":"IF(CommandCell='Reference Cells'!$C$17,NA(),ABS('Data In'!B417-INDIRECT(\"ZeroVal_\"&H$2,0)))","v":0},{"$f":"IF(CommandCell='Reference Cells'!$C$17,NA(),ABS('Data In'!C417-INDIRECT(\"ZeroVal_\"&I$2,0)))","v":0},{"$f":"IF(CommandCell='Reference Cells'!$C$17,NA(),ABS('Data In'!D417-INDIRECT(\"ZeroVal_\"&J$2,0)))","v":0},{"$f":"IF(CommandCell='Reference Cells'!$C$17,NA(),ABS('Data In'!E417-INDIRECT(\"ZeroVal_\"&K$2,0)))","v":0},{"$f":"IF(CommandCell='Reference Cells'!$C$17,NA(),ABS('Data In'!F417-INDIRECT(\"ZeroVal_\"&L$2,0)))","v":0},{"$f":"MAX(BackendTable[[#This Row],[S1]:[S5]])","v":0},{"$f":"IF(ISERROR(BackendTable[[#This Row],[T0Time]]),0,COUNTIFS(BackendTable[T0Time],\"<=\"&3,BackendTable[T0Time],\">=\"&0)-COUNTIFS(BackendTable[T0Time],\">\"&BackendTable[[#This Row],[T0Time]]))","v":500},null,null,null,null,null,null,null,null,null,null,null,null,null,null,null,null,null,null,null,null,null,null,null,null,{"$f":"MATCH(MAX(BackendTable[[#This Row],[T1S1]:[T1S5]]),BackendTable[[#This Row],[T1S1]:[T1S5]],0)","v":{"$error":"#N/A"}},{"$f":"MATCH(MAX(BackendTable[[#This Row],[T2S1]:[T2S5]]),BackendTable[[#This Row],[T2S1]:[T2S5]],0)","v":{"$error":"#N/A"}},{"$f":"MATCH(MAX(BackendTable[[#This Row],[T3S1]:[T3S5]]),BackendTable[[#This Row],[T3S1]:[T3S5]],0)","v":{"$error":"#N/A"}}]
[null,{"$f":"ROW()-ROW(BackendTable[[#Headers],[Row'#]])","v":411},{"$f":"'Data In'!A418","v":0},{"$f":"IF(BackendTable[[#This Row],[Time]]-'Reference Cells'!$C$3<=0,NA(),'Reference Cells'!$C$4-BackendTable[[#This Row],[Time]])*86400","v":{"$error":"#N/A"}},{"$f":"IFERROR(8-BackendTable[[#This Row],[Column1]],\"\")","v":""},{"$f":"IF(ISERROR(BackendTable[[#This Row],[Column1]]),-9,(BackendTable[[#This Row],[Net Time]]-NetTimeMin)*RangeAdj)","v":-9},{"$f":"IF(AND(BackendTable[[#This Row],[Time]]>='Reference Cells'!$C$6,BackendTable[[#This Row],[Time]]<='Reference Cells'!$C$7),(BackendTable[[#This Row],[Time]]-'Reference Cells'!$C$6)*86400,NA())","v":2},{"$f":"IF(CommandCell='Reference Cells'!$C$17,NA(),ABS('Data In'!B418-INDIRECT(\"ZeroVal_\"&H$2,0)))","v":0},{"$f":"IF(CommandCell='Reference Cells'!$C$17,NA(),ABS('Data In'!C418-INDIRECT(\"ZeroVal_\"&I$2,0)))","v":0},{"$f":"IF(CommandCell='Reference Cells'!$C$17,NA(),ABS('Data In'!D418-INDIRECT(\"ZeroVal_\"&J$2,0)))","v":0},{"$f":"IF(CommandCell='Reference Cells'!$C$17,NA(),ABS('Data In'!E418-INDIRECT(\"ZeroVal_\"&K$2,0)))","v":0},{"$f":"IF(CommandCell='Reference Cells'!$C$17,NA(),ABS('Data In'!F418-INDIRECT(\"ZeroVal_\"&L$2,0)))","v":0},{"$f":"MAX(BackendTable[[#This Row],[S1]:[S5]])","v":0},{"$f":"IF(ISERROR(BackendTable[[#This Row],[T0Time]]),0,COUNTIFS(BackendTable[T0Time],\"<=\"&3,BackendTable[T0Time],\">=\"&0)-COUNTIFS(BackendTable[T0Time],\">\"&BackendTable[[#This Row],[T0Time]]))","v":500},null,null,null,null,null,null,null,null,null,null,null,null,null,null,null,null,null,null,null,null,null,null,null,null,{"$f":"MATCH(MAX(BackendTable[[#This Row],[T1S1]:[T1S5]]),BackendTable[[#This Row],[T1S1]:[T1S5]],0)","v":{"$error":"#N/A"}},{"$f":"MATCH(MAX(BackendTable[[#This Row],[T2S1]:[T2S5]]),BackendTable[[#This Row],[T2S1]:[T2S5]],0)","v":{"$error":"#N/A"}},{"$f":"MATCH(MAX(BackendTable[[#This Row],[T3S1]:[T3S5]]),BackendTable[[#This Row],[T3S1]:[T3S5]],0)","v":{"$error":"#N/A"}}]
[null,{"$f":"ROW()-ROW(BackendTable[[#Headers],[Row'#]])","v":412},{"$f":"'Data In'!A419","v":0},{"$f":"IF(BackendTable[[#This Row],[Time]]-'Reference Cells'!$C$3<=0,NA(),'Reference Cells'!$C$4-BackendTable[[#This Row],[Time]])*86400","v":{"$error":"#N/A"}},{"$f":"IFERROR(8-BackendTable[[#This Row],[Column1]],\"\")","v":""},{"$f":"IF(ISERROR(BackendTable[[#This Row],[Column1]]),-9,(BackendTable[[#This Row],[Net Time]]-NetTimeMin)*RangeAdj)","v":-9},{"$f":"IF(AND(BackendTable[[#This Row],[Time]]>='Reference Cells'!$C$6,BackendTable[[#This Row],[Time]]<='Reference Cells'!$C$7),(BackendTable[[#This Row],[Time]]-'Reference Cells'!$C$6)*86400,NA())","v":2},{"$f":"IF(CommandCell='Reference Cells'!$C$17,NA(),ABS('Data In'!B419-INDIRECT(\"ZeroVal_\"&H$2,0)))","v":0},{"$f":"IF(CommandCell='Reference Cells'!$C$17,NA(),ABS('Data In'!C419-INDIRECT(\"ZeroVal_\"&I$2,0)))","v":0},{"$f":"IF(CommandCell='Reference Cells'!$C$17,NA(),ABS('Data In'!D419-INDIRECT(\"ZeroVal_\"&J$2,0)))","v":0},{"$f":"IF(CommandCell='Reference Cells'!$C$17,NA(),ABS('Data In'!E419-INDIRECT(\"ZeroVal_\"&K$2,0)))","v":0},{"$f":"IF(CommandCell='Reference Cells'!$C$17,NA(),ABS('Data In'!F419-INDIRECT(\"ZeroVal_\"&L$2,0)))","v":0},{"$f":"MAX(BackendTable[[#This Row],[S1]:[S5]])","v":0},{"$f":"IF(ISERROR(BackendTable[[#This Row],[T0Time]]),0,COUNTIFS(BackendTable[T0Time],\"<=\"&3,BackendTable[T0Time],\">=\"&0)-COUNTIFS(BackendTable[T0Time],\">\"&BackendTable[[#This Row],[T0Time]]))","v":500},null,null,null,null,null,null,null,null,null,null,null,null,null,null,null,null,null,null,null,null,null,null,null,null,{"$f":"MATCH(MAX(BackendTable[[#This Row],[T1S1]:[T1S5]]),BackendTable[[#This Row],[T1S1]:[T1S5]],0)","v":{"$error":"#N/A"}},{"$f":"MATCH(MAX(BackendTable[[#This Row],[T2S1]:[T2S5]]),BackendTable[[#This Row],[T2S1]:[T2S5]],0)","v":{"$error":"#N/A"}},{"$f":"MATCH(MAX(BackendTable[[#This Row],[T3S1]:[T3S5]]),BackendTable[[#This Row],[T3S1]:[T3S5]],0)","v":{"$error":"#N/A"}}]
[null,{"$f":"ROW()-ROW(BackendTable[[#Headers],[Row'#]])","v":413},{"$f":"'Data In'!A420","v":0},{"$f":"IF(BackendTable[[#This Row],[Time]]-'Reference Cells'!$C$3<=0,NA(),'Reference Cells'!$C$4-BackendTable[[#This Row],[Time]])*86400","v":{"$error":"#N/A"}},{"$f":"IFERROR(8-BackendTable[[#This Row],[Column1]],\"\")","v":""},{"$f":"IF(ISERROR(BackendTable[[#This Row],[Column1]]),-9,(BackendTable[[#This Row],[Net Time]]-NetTimeMin)*RangeAdj)","v":-9},{"$f":"IF(AND(BackendTable[[#This Row],[Time]]>='Reference Cells'!$C$6,BackendTable[[#This Row],[Time]]<='Reference Cells'!$C$7),(BackendTable[[#This Row],[Time]]-'Reference Cells'!$C$6)*86400,NA())","v":2},{"$f":"IF(CommandCell='Reference Cells'!$C$17,NA(),ABS('Data In'!B420-INDIRECT(\"ZeroVal_\"&H$2,0)))","v":0},{"$f":"IF(CommandCell='Reference Cells'!$C$17,NA(),ABS('Data In'!C420-INDIRECT(\"ZeroVal_\"&I$2,0)))","v":0},{"$f":"IF(CommandCell='Reference Cells'!$C$17,NA(),ABS('Data In'!D420-INDIRECT(\"ZeroVal_\"&J$2,0)))","v":0},{"$f":"IF(CommandCell='Reference Cells'!$C$17,NA(),ABS('Data In'!E420-INDIRECT(\"ZeroVal_\"&K$2,0)))","v":0},{"$f":"IF(CommandCell='Reference Cells'!$C$17,NA(),ABS('Data In'!F420-INDIRECT(\"ZeroVal_\"&L$2,0)))","v":0},{"$f":"MAX(BackendTable[[#This Row],[S1]:[S5]])","v":0},{"$f":"IF(ISERROR(BackendTable[[#This Row],[T0Time]]),0,COUNTIFS(BackendTable[T0Time],\"<=\"&3,BackendTable[T0Time],\">=\"&0)-COUNTIFS(BackendTable[T0Time],\">\"&BackendTable[[#This Row],[T0Time]]))","v":500},null,null,null,null,null,null,null,null,null,null,null,null,null,null,null,null,null,null,null,null,null,null,null,null,{"$f":"MATCH(MAX(BackendTable[[#This Row],[T1S1]:[T1S5]]),BackendTable[[#This Row],[T1S1]:[T1S5]],0)","v":{"$error":"#N/A"}},{"$f":"MATCH(MAX(BackendTable[[#This Row],[T2S1]:[T2S5]]),BackendTable[[#This Row],[T2S1]:[T2S5]],0)","v":{"$error":"#N/A"}},{"$f":"MATCH(MAX(BackendTable[[#This Row],[T3S1]:[T3S5]]),BackendTable[[#This Row],[T3S1]:[T3S5]],0)","v":{"$error":"#N/A"}}]
[null,{"$f":"ROW()-ROW(BackendTable[[#Headers],[Row'#]])","v":414},{"$f":"'Data In'!A421","v":0},{"$f":"IF(BackendTable[[#This Row],[Time]]-'Reference Cells'!$C$3<=0,NA(),'Reference Cells'!$C$4-BackendTable[[#This Row],[Time]])*86400","v":{"$error":"#N/A"}},{"$f":"IFERROR(8-BackendTable[[#This Row],[Column1]],\"\")","v":""},{"$f":"IF(ISERROR(BackendTable[[#This Row],[Column1]]),-9,(BackendTable[[#This Row],[Net Time]]-NetTimeMin)*RangeAdj)","v":-9},{"$f":"IF(AND(BackendTable[[#This Row],[Time]]>='Reference Cells'!$C$6,BackendTable[[#This Row],[Time]]<='Reference Cells'!$C$7),(BackendTable[[#This Row],[Time]]-'Reference Cells'!$C$6)*86400,NA())","v":2},{"$f":"IF(CommandCell='Reference Cells'!$C$17,NA(),ABS('Data In'!B421-INDIRECT(\"ZeroVal_\"&H$2,0)))","v":0},{"$f":"IF(CommandCell='Reference Cells'!$C$17,NA(),ABS('Data In'!C421-INDIRECT(\"ZeroVal_\"&I$2,0)))","v":0},{"$f":"IF(CommandCell='Reference Cells'!$C$17,NA(),ABS('Data In'!D421-INDIRECT(\"ZeroVal_\"&J$2,0)))","v":0},{"$f":"IF(CommandCell='Reference Cells'!$C$17,NA(),ABS('Data In'!E421-INDIRECT(\"ZeroVal_\"&K$2,0)))","v":0},{"$f":"IF(CommandCell='Reference Cells'!$C$17,NA(),ABS('Data In'!F421-INDIRECT(\"ZeroVal_\"&L$2,0)))","v":0},{"$f":"MAX(BackendTable[[#This Row],[S1]:[S5]])","v":0},{"$f":"IF(ISERROR(BackendTable[[#This Row],[T0Time]]),0,COUNTIFS(BackendTable[T0Time],\"<=\"&3,BackendTable[T0Time],\">=\"&0)-COUNTIFS(BackendTable[T0Time],\">\"&BackendTable[[#This Row],[T0Time]]))","v":500},null,null,null,null,null,null,null,null,null,null,null,null,null,null,null,null,null,null,null,null,null,null,null,null,{"$f":"MATCH(MAX(BackendTable[[#This Row],[T1S1]:[T1S5]]),BackendTable[[#This Row],[T1S1]:[T1S5]],0)","v":{"$error":"#N/A"}},{"$f":"MATCH(MAX(BackendTable[[#This Row],[T2S1]:[T2S5]]),BackendTable[[#This Row],[T2S1]:[T2S5]],0)","v":{"$error":"#N/A"}},{"$f":"MATCH(MAX(BackendTable[[#This Row],[T3S1]:[T3S5]]),BackendTable[[#This Row],[T3S1]:[T3S5]],0)","v":{"$error":"#N/A"}}]
[null,{"$f":"ROW()-ROW(BackendTable[[#Headers],[Row'#]])","v":415},{"$f":"'Data In'!A422","v":0},{"$f":"IF(BackendTable[[#This Row],[Time]]-'Reference Cells'!$C$3<=0,NA(),'Reference Cells'!$C$4-BackendTable[[#This Row],[Time]])*86400","v":{"$error":"#N/A"}},{"$f":"IFERROR(8-BackendTable[[#This Row],[Column1]],\"\")","v":""},{"$f":"IF(ISERROR(BackendTable[[#This Row],[Column1]]),-9,(BackendTable[[#This Row],[Net Time]]-NetTimeMin)*RangeAdj)","v":-9},{"$f":"IF(AND(BackendTable[[#This Row],[Time]]>='Reference Cells'!$C$6,BackendTable[[#This Row],[Time]]<='Reference Cells'!$C$7),(BackendTable[[#This Row],[Time]]-'Reference Cells'!$C$6)*86400,NA())","v":2},{"$f":"IF(CommandCell='Reference Cells'!$C$17,NA(),ABS('Data In'!B422-INDIRECT(\"ZeroVal_\"&H$2,0)))","v":0},{"$f":"IF(CommandCell='Reference Cells'!$C$17,NA(),ABS('Data In'!C422-INDIRECT(\"ZeroVal_\"&I$2,0)))","v":0},{"$f":"IF(CommandCell='Reference Cells'!$C$17,NA(),ABS('Data In'!D422-INDIRECT(\"ZeroVal_\"&J$2,0)))","v":0},{"$f":"IF(CommandCell='Reference Cells'!$C$17,NA(),ABS('Data In'!E422-INDIRECT(\"ZeroVal_\"&K$2,0)))","v":0},{"$f":"IF(CommandCell='Reference Cells'!$C$17,NA(),ABS('Data In'!F422-INDIRECT(\"ZeroVal_\"&L$2,0)))","v":0},{"$f":"MAX(BackendTable[[#This Row],[S1]:[S5]])","v":0},{"$f":"IF(ISERROR(BackendTable[[#This Row],[T0Time]]),0,COUNTIFS(BackendTable[T0Time],\"<=\"&3,BackendTable[T0Time],\">=\"&0)-COUNTIFS(BackendTable[T0Time],\">\"&BackendTable[[#This Row],[T0Time]]))","v":500},null,null,null,null,null,null,null,null,null,null,null,null,null,null,null,null,null,null,null,null,null,null,null,null,{"$f":"MATCH(MAX(BackendTable[[#This Row],[T1S1]:[T1S5]]),BackendTable[[#This Row],[T1S1]:[T1S5]],0)","v":{"$error":"#N/A"}},{"$f":"MATCH(MAX(BackendTable[[#This Row],[T2S1]:[T2S5]]),BackendTable[[#This Row],[T2S1]:[T2S5]],0)","v":{"$error":"#N/A"}},{"$f":"MATCH(MAX(BackendTable[[#This Row],[T3S1]:[T3S5]]),BackendTable[[#This Row],[T3S1]:[T3S5]],0)","v":{"$error":"#N/A"}}]
[null,{"$f":"ROW()-ROW(BackendTable[[#Headers],[Row'#]])","v":416},{"$f":"'Data In'!A423","v":0},{"$f":"IF(BackendTable[[#This Row],[Time]]-'Reference Cells'!$C$3<=0,NA(),'Reference Cells'!$C$4-BackendTable[[#This Row],[Time]])*86400","v":{"$error":"#N/A"}},{"$f":"IFERROR(8-BackendTable[[#This Row],[Column1]],\"\")","v":""},{"$f":"IF(ISERROR(BackendTable[[#This Row],[Column1]]),-9,(BackendTable[[#This Row],[Net Time]]-NetTimeMin)*RangeAdj)","v":-9},{"$f":"IF(AND(BackendTable[[#This Row],[Time]]>='Reference Cells'!$C$6,BackendTable[[#This Row],[Time]]<='Reference Cells'!$C$7),(BackendTable[[#This Row],[Time]]-'Reference Cells'!$C$6)*86400,NA())","v":2},{"$f":"IF(CommandCell='Reference Cells'!$C$17,NA(),ABS('Data In'!B423-INDIRECT(\"ZeroVal_\"&H$2,0)))","v":0},{"$f":"IF(CommandCell='Reference Cells'!$C$17,NA(),ABS('Data In'!C423-INDIRECT(\"ZeroVal_\"&I$2,0)))","v":0},{"$f":"IF(CommandCell='Reference Cells'!$C$17,NA(),ABS('Data In'!D423-INDIRECT(\"ZeroVal_\"&J$2,0)))","v":0},{"$f":"IF(CommandCell='Reference Cells'!$C$17,NA(),ABS('Data In'!E423-INDIRECT(\"ZeroVal_\"&K$2,0)))","v":0},{"$f":"IF(CommandCell='Reference Cells'!$C$17,NA(),ABS('Data In'!F423-INDIRECT(\"ZeroVal_\"&L$2,0)))","v":0},{"$f":"MAX(BackendTable[[#This Row],[S1]:[S5]])","v":0},{"$f":"IF(ISERROR(BackendTable[[#This Row],[T0Time]]),0,COUNTIFS(BackendTable[T0Time],\"<=\"&3,BackendTable[T0Time],\">=\"&0)-COUNTIFS(BackendTable[T0Time],\">\"&BackendTable[[#This Row],[T0Time]]))","v":500},null,null,null,null,null,null,null,null,null,null,null,null,null,null,null,null,null,null,null,null,null,null,null,null,{"$f":"MATCH(MAX(BackendTable[[#This Row],[T1S1]:[T1S5]]),BackendTable[[#This Row],[T1S1]:[T1S5]],0)","v":{"$error":"#N/A"}},{"$f":"MATCH(MAX(BackendTable[[#This Row],[T2S1]:[T2S5]]),BackendTable[[#This Row],[T2S1]:[T2S5]],0)","v":{"$error":"#N/A"}},{"$f":"MATCH(MAX(BackendTable[[#This Row],[T3S1]:[T3S5]]),BackendTable[[#This Row],[T3S1]:[T3S5]],0)","v":{"$error":"#N/A"}}]
[null,{"$f":"ROW()-ROW(BackendTable[[#Headers],[Row'#]])","v":417},{"$f":"'Data In'!A424","v":0},{"$f":"IF(BackendTable[[#This Row],[Time]]-'Reference Cells'!$C$3<=0,NA(),'Reference Cells'!$C$4-BackendTable[[#This Row],[Time]])*86400","v":{"$error":"#N/A"}},{"$f":"IFERROR(8-BackendTable[[#This Row],[Column1]],\"\")","v":""},{"$f":"IF(ISERROR(BackendTable[[#This Row],[Column1]]),-9,(BackendTable[[#This Row],[Net Time]]-NetTimeMin)*RangeAdj)","v":-9},{"$f":"IF(AND(BackendTable[[#This Row],[Time]]>='Reference Cells'!$C$6,BackendTable[[#This Row],[Time]]<='Reference Cells'!$C$7),(BackendTable[[#This Row],[Time]]-'Reference Cells'!$C$6)*86400,NA())","v":2},{"$f":"IF(CommandCell='Reference Cells'!$C$17,NA(),ABS('Data In'!B424-INDIRECT(\"ZeroVal_\"&H$2,0)))","v":0},{"$f":"IF(CommandCell='Reference Cells'!$C$17,NA(),ABS('Data In'!C424-INDIRECT(\"ZeroVal_\"&I$2,0)))","v":0},{"$f":"IF(CommandCell='Reference Cells'!$C$17,NA(),ABS('Data In'!D424-INDIRECT(\"ZeroVal_\"&J$2,0)))","v":0},{"$f":"IF(CommandCell='Reference Cells'!$C$17,NA(),ABS('Data In'!E424-INDIRECT(\"ZeroVal_\"&K$2,0)))","v":0},{"$f":"IF(CommandCell='Reference Cells'!$C$17,NA(),ABS('Data In'!F424-INDIRECT(\"ZeroVal_\"&L$2,0)))","v":0},{"$f":"MAX(BackendTable[[#This Row],[S1]:[S5]])","v":0},{"$f":"IF(ISERROR(BackendTable[[#This Row],[T0Time]]),0,COUNTIFS(BackendTable[T0Time],\"<=\"&3,BackendTable[T0Time],\">=\"&0)-COUNTIFS(BackendTable[T0Time],\">\"&BackendTable[[#This Row],[T0Time]]))","v":500},null,null,null,null,null,null,null,null,null,null,null,null,null,null,null,null,null,null,null,null,null,null,null,null,{"$f":"MATCH(MAX(BackendTable[[#This Row],[T1S1]:[T1S5]]),BackendTable[[#This Row],[T1S1]:[T1S5]],0)","v":{"$error":"#N/A"}},{"$f":"MATCH(MAX(BackendTable[[#This Row],[T2S1]:[T2S5]]),BackendTable[[#This Row],[T2S1]:[T2S5]],0)","v":{"$error":"#N/A"}},{"$f":"MATCH(MAX(BackendTable[[#This Row],[T3S1]:[T3S5]]),BackendTable[[#This Row],[T3S1]:[T3S5]],0)","v":{"$error":"#N/A"}}]
[null,{"$f":"ROW()-ROW(BackendTable[[#Headers],[Row'#]])","v":418},{"$f":"'Data In'!A425","v":0},{"$f":"IF(BackendTable[[#This Row],[Time]]-'Reference Cells'!$C$3<=0,NA(),'Reference Cells'!$C$4-BackendTable[[#This Row],[Time]])*86400","v":{"$error":"#N/A"}},{"$f":"IFERROR(8-BackendTable[[#This Row],[Column1]],\"\")","v":""},{"$f":"IF(ISERROR(BackendTable[[#This Row],[Column1]]),-9,(BackendTable[[#This Row],[Net Time]]-NetTimeMin)*RangeAdj)","v":-9},{"$f":"IF(AND(BackendTable[[#This Row],[Time]]>='Reference Cells'!$C$6,BackendTable[[#This Row],[Time]]<='Reference Cells'!$C$7),(BackendTable[[#This Row],[Time]]-'Reference Cells'!$C$6)*86400,NA())","v":2},{"$f":"IF(CommandCell='Reference Cells'!$C$17,NA(),ABS('Data In'!B425-INDIRECT(\"ZeroVal_\"&H$2,0)))","v":0},{"$f":"IF(CommandCell='Reference Cells'!$C$17,NA(),ABS('Data In'!C425-INDIRECT(\"ZeroVal_\"&I$2,0)))","v":0},{"$f":"IF(CommandCell='Reference Cells'!$C$17,NA(),ABS('Data In'!D425-INDIRECT(\"ZeroVal_\"&J$2,0)))","v":0},{"$f":"IF(CommandCell='Reference Cells'!$C$17,NA(),ABS('Data In'!E425-INDIRECT(\"ZeroVal_\"&K$2,0)))","v":0},{"$f":"IF(CommandCell='Reference Cells'!$C$17,NA(),ABS('Data In'!F425-INDIRECT(\"ZeroVal_\"&L$2,0)))","v":0},{"$f":"MAX(BackendTable[[#This Row],[S1]:[S5]])","v":0},{"$f":"IF(ISERROR(BackendTable[[#This Row],[T0Time]]),0,COUNTIFS(BackendTable[T0Time],\"<=\"&3,BackendTable[T0Time],\">=\"&0)-COUNTIFS(BackendTable[T0Time],\">\"&BackendTable[[#This Row],[T0Time]]))","v":500},null,null,null,null,null,null,null,null,null,null,null,null,null,null,null,null,null,null,null,null,null,null,null,null,{"$f":"MATCH(MAX(BackendTable[[#This Row],[T1S1]:[T1S5]]),BackendTable[[#This Row],[T1S1]:[T1S5]],0)","v":{"$error":"#N/A"}},{"$f":"MATCH(MAX(BackendTable[[#This Row],[T2S1]:[T2S5]]),BackendTable[[#This Row],[T2S1]:[T2S5]],0)","v":{"$error":"#N/A"}},{"$f":"MATCH(MAX(BackendTable[[#This Row],[T3S1]:[T3S5]]),BackendTable[[#This Row],[T3S1]:[T3S5]],0)","v":{"$error":"#N/A"}}]
[null,{"$f":"ROW()-ROW(BackendTable[[#Headers],[Row'#]])","v":419},{"$f":"'Data In'!A426","v":0},{"$f":"IF(BackendTable[[#This Row],[Time]]-'Reference Cells'!$C$3<=0,NA(),'Reference Cells'!$C$4-BackendTable[[#This Row],[Time]])*86400","v":{"$error":"#N/A"}},{"$f":"IFERROR(8-BackendTable[[#This Row],[Column1]],\"\")","v":""},{"$f":"IF(ISERROR(BackendTable[[#This Row],[Column1]]),-9,(BackendTable[[#This Row],[Net Time]]-NetTimeMin)*RangeAdj)","v":-9},{"$f":"IF(AND(BackendTable[[#This Row],[Time]]>='Reference Cells'!$C$6,BackendTable[[#This Row],[Time]]<='Reference Cells'!$C$7),(BackendTable[[#This Row],[Time]]-'Reference Cells'!$C$6)*86400,NA())","v":2},{"$f":"IF(CommandCell='Reference Cells'!$C$17,NA(),ABS('Data In'!B426-INDIRECT(\"ZeroVal_\"&H$2,0)))","v":0},{"$f":"IF(CommandCell='Reference Cells'!$C$17,NA(),ABS('Data In'!C426-INDIRECT(\"ZeroVal_\"&I$2,0)))","v":0},{"$f":"IF(CommandCell='Reference Cells'!$C$17,NA(),ABS('Data In'!D426-INDIRECT(\"ZeroVal_\"&J$2,0)))","v":0},{"$f":"IF(CommandCell='Reference Cells'!$C$17,NA(),ABS('Data In'!E426-INDIRECT(\"ZeroVal_\"&K$2,0)))","v":0},{"$f":"IF(CommandCell='Reference Cells'!$C$17,NA(),ABS('Data In'!F426-INDIRECT(\"ZeroVal_\"&L$2,0)))","v":0},{"$f":"MAX(BackendTable[[#This Row],[S1]:[S5]])","v":0},{"$f":"IF(ISERROR(BackendTable[[#This Row],[T0Time]]),0,COUNTIFS(BackendTable[T0Time],\"<=\"&3,BackendTable[T0Time],\">=\"&0)-COUNTIFS(BackendTable[T0Time],\">\"&BackendTable[[#This Row],[T0Time]]))","v":500},null,null,null,null,null,null,null,null,null,null,null,null,null,null,null,null,null,null,null,null,null,null,null,null,{"$f":"MATCH(MAX(BackendTable[[#This Row],[T1S1]:[T1S5]]),BackendTable[[#This Row],[T1S1]:[T1S5]],0)","v":{"$error":"#N/A"}},{"$f":"MATCH(MAX(BackendTable[[#This Row],[T2S1]:[T2S5]]),BackendTable[[#This Row],[T2S1]:[T2S5]],0)","v":{"$error":"#N/A"}},{"$f":"MATCH(MAX(BackendTable[[#This Row],[T3S1]:[T3S5]]),BackendTable[[#This Row],[T3S1]:[T3S5]],0)","v":{"$error":"#N/A"}}]
[null,{"$f":"ROW()-ROW(BackendTable[[#Headers],[Row'#]])","v":420},{"$f":"'Data In'!A427","v":0},{"$f":"IF(BackendTable[[#This Row],[Time]]-'Reference Cells'!$C$3<=0,NA(),'Reference Cells'!$C$4-BackendTable[[#This Row],[Time]])*86400","v":{"$error":"#N/A"}},{"$f":"IFERROR(8-BackendTable[[#This Row],[Column1]],\"\")","v":""},{"$f":"IF(ISERROR(BackendTable[[#This Row],[Column1]]),-9,(BackendTable[[#This Row],[Net Time]]-NetTimeMin)*RangeAdj)","v":-9},{"$f":"IF(AND(BackendTable[[#This Row],[Time]]>='Reference Cells'!$C$6,BackendTable[[#This Row],[Time]]<='Reference Cells'!$C$7),(BackendTable[[#This Row],[Time]]-'Reference Cells'!$C$6)*86400,NA())","v":2},{"$f":"IF(CommandCell='Reference Cells'!$C$17,NA(),ABS('Data In'!B427-INDIRECT(\"ZeroVal_\"&H$2,0)))","v":0},{"$f":"IF(CommandCell='Reference Cells'!$C$17,NA(),ABS('Data In'!C427-INDIRECT(\"ZeroVal_\"&I$2,0)))","v":0},{"$f":"IF(CommandCell='Reference Cells'!$C$17,NA(),ABS('Data In'!D427-INDIRECT(\"ZeroVal_\"&J$2,0)))","v":0},{"$f":"IF(CommandCell='Reference Cells'!$C$17,NA(),ABS('Data In'!E427-INDIRECT(\"ZeroVal_\"&K$2,0)))","v":0},{"$f":"IF(CommandCell='Reference Cells'!$C$17,NA(),ABS('Data In'!F427-INDIRECT(\"ZeroVal_\"&L$2,0)))","v":0},{"$f":"MAX(BackendTable[[#This Row],[S1]:[S5]])","v":0},{"$f":"IF(ISERROR(BackendTable[[#This Row],[T0Time]]),0,COUNTIFS(BackendTable[T0Time],\"<=\"&3,BackendTable[T0Time],\">=\"&0)-COUNTIFS(BackendTable[T0Time],\">\"&BackendTable[[#This Row],[T0Time]]))","v":500},null,null,null,null,null,null,null,null,null,null,null,null,null,null,null,null,null,null,null,null,null,null,null,null,{"$f":"MATCH(MAX(BackendTable[[#This Row],[T1S1]:[T1S5]]),BackendTable[[#This Row],[T1S1]:[T1S5]],0)","v":{"$error":"#N/A"}},{"$f":"MATCH(MAX(BackendTable[[#This Row],[T2S1]:[T2S5]]),BackendTable[[#This Row],[T2S1]:[T2S5]],0)","v":{"$error":"#N/A"}},{"$f":"MATCH(MAX(BackendTable[[#This Row],[T3S1]:[T3S5]]),BackendTable[[#This Row],[T3S1]:[T3S5]],0)","v":{"$error":"#N/A"}}]
[null,{"$f":"ROW()-ROW(BackendTable[[#Headers],[Row'#]])","v":421},{"$f":"'Data In'!A428","v":0},{"$f":"IF(BackendTable[[#This Row],[Time]]-'Reference Cells'!$C$3<=0,NA(),'Reference Cells'!$C$4-BackendTable[[#This Row],[Time]])*86400","v":{"$error":"#N/A"}},{"$f":"IFERROR(8-BackendTable[[#This Row],[Column1]],\"\")","v":""},{"$f":"IF(ISERROR(BackendTable[[#This Row],[Column1]]),-9,(BackendTable[[#This Row],[Net Time]]-NetTimeMin)*RangeAdj)","v":-9},{"$f":"IF(AND(BackendTable[[#This Row],[Time]]>='Reference Cells'!$C$6,BackendTable[[#This Row],[Time]]<='Reference Cells'!$C$7),(BackendTable[[#This Row],[Time]]-'Reference Cells'!$C$6)*86400,NA())","v":2},{"$f":"IF(CommandCell='Reference Cells'!$C$17,NA(),ABS('Data In'!B428-INDIRECT(\"ZeroVal_\"&H$2,0)))","v":0},{"$f":"IF(CommandCell='Reference Cells'!$C$17,NA(),ABS('Data In'!C428-INDIRECT(\"ZeroVal_\"&I$2,0)))","v":0},{"$f":"IF(CommandCell='Reference Cells'!$C$17,NA(),ABS('Data In'!D428-INDIRECT(\"ZeroVal_\"&J$2,0)))","v":0},{"$f":"IF(CommandCell='Reference Cells'!$C$17,NA(),ABS('Data In'!E428-INDIRECT(\"ZeroVal_\"&K$2,0)))","v":0},{"$f":"IF(CommandCell='Reference Cells'!$C$17,NA(),ABS('Data In'!F428-INDIRECT(\"ZeroVal_\"&L$2,0)))","v":0},{"$f":"MAX(BackendTable[[#This Row],[S1]:[S5]])","v":0},{"$f":"IF(ISERROR(BackendTable[[#This Row],[T0Time]]),0,COUNTIFS(BackendTable[T0Time],\"<=\"&3,BackendTable[T0Time],\">=\"&0)-COUNTIFS(BackendTable[T0Time],\">\"&BackendTable[[#This Row],[T0Time]]))","v":500},null,null,null,null,null,null,null,null,null,null,null,null,null,null,null,null,null,null,null,null,null,null,null,null,{"$f":"MATCH(MAX(BackendTable[[#This Row],[T1S1]:[T1S5]]),BackendTable[[#This Row],[T1S1]:[T1S5]],0)","v":{"$error":"#N/A"}},{"$f":"MATCH(MAX(BackendTable[[#This Row],[T2S1]:[T2S5]]),BackendTable[[#This Row],[T2S1]:[T2S5]],0)","v":{"$error":"#N/A"}},{"$f":"MATCH(MAX(BackendTable[[#This Row],[T3S1]:[T3S5]]),BackendTable[[#This Row],[T3S1]:[T3S5]],0)","v":{"$error":"#N/A"}}]
[null,{"$f":"ROW()-ROW(BackendTable[[#Headers],[Row'#]])","v":422},{"$f":"'Data In'!A429","v":0},{"$f":"IF(BackendTable[[#This Row],[Time]]-'Reference Cells'!$C$3<=0,NA(),'Reference Cells'!$C$4-BackendTable[[#This Row],[Time]])*86400","v":{"$error":"#N/A"}},{"$f":"IFERROR(8-BackendTable[[#This Row],[Column1]],\"\")","v":""},{"$f":"IF(ISERROR(BackendTable[[#This Row],[Column1]]),-9,(BackendTable[[#This Row],[Net Time]]-NetTimeMin)*RangeAdj)","v":-9},{"$f":"IF(AND(BackendTable[[#This Row],[Time]]>='Reference Cells'!$C$6,BackendTable[[#This Row],[Time]]<='Reference Cells'!$C$7),(BackendTable[[#This Row],[Time]]-'Reference Cells'!$C$6)*86400,NA())","v":2},{"$f":"IF(CommandCell='Reference Cells'!$C$17,NA(),ABS('Data In'!B429-INDIRECT(\"ZeroVal_\"&H$2,0)))","v":0},{"$f":"IF(CommandCell='Reference Cells'!$C$17,NA(),ABS('Data In'!C429-INDIRECT(\"ZeroVal_\"&I$2,0)))","v":0},{"$f":"IF(CommandCell='Reference Cells'!$C$17,NA(),ABS('Data In'!D429-INDIRECT(\"ZeroVal_\"&J$2,0)))","v":0},{"$f":"IF(CommandCell='Reference Cells'!$C$17,NA(),ABS('Data In'!E429-INDIRECT(\"ZeroVal_\"&K$2,0)))","v":0},{"$f":"IF(CommandCell='Reference Cells'!$C$17,NA(),ABS('Data In'!F429-INDIRECT(\"ZeroVal_\"&L$2,0)))","v":0},{"$f":"MAX(BackendTable[[#This Row],[S1]:[S5]])","v":0},{"$f":"IF(ISERROR(BackendTable[[#This Row],[T0Time]]),0,COUNTIFS(BackendTable[T0Time],\"<=\"&3,BackendTable[T0Time],\">=\"&0)-COUNTIFS(BackendTable[T0Time],\">\"&BackendTable[[#This Row],[T0Time]]))","v":500},null,null,null,null,null,null,null,null,null,null,null,null,null,null,null,null,null,null,null,null,null,null,null,null,{"$f":"MATCH(MAX(BackendTable[[#This Row],[T1S1]:[T1S5]]),BackendTable[[#This Row],[T1S1]:[T1S5]],0)","v":{"$error":"#N/A"}},{"$f":"MATCH(MAX(BackendTable[[#This Row],[T2S1]:[T2S5]]),BackendTable[[#This Row],[T2S1]:[T2S5]],0)","v":{"$error":"#N/A"}},{"$f":"MATCH(MAX(BackendTable[[#This Row],[T3S1]:[T3S5]]),BackendTable[[#This Row],[T3S1]:[T3S5]],0)","v":{"$error":"#N/A"}}]
[null,{"$f":"ROW()-ROW(BackendTable[[#Headers],[Row'#]])","v":423},{"$f":"'Data In'!A430","v":0},{"$f":"IF(BackendTable[[#This Row],[Time]]-'Reference Cells'!$C$3<=0,NA(),'Reference Cells'!$C$4-BackendTable[[#This Row],[Time]])*86400","v":{"$error":"#N/A"}},{"$f":"IFERROR(8-BackendTable[[#This Row],[Column1]],\"\")","v":""},{"$f":"IF(ISERROR(BackendTable[[#This Row],[Column1]]),-9,(BackendTable[[#This Row],[Net Time]]-NetTimeMin)*RangeAdj)","v":-9},{"$f":"IF(AND(BackendTable[[#This Row],[Time]]>='Reference Cells'!$C$6,BackendTable[[#This Row],[Time]]<='Reference Cells'!$C$7),(BackendTable[[#This Row],[Time]]-'Reference Cells'!$C$6)*86400,NA())","v":2},{"$f":"IF(CommandCell='Reference Cells'!$C$17,NA(),ABS('Data In'!B430-INDIRECT(\"ZeroVal_\"&H$2,0)))","v":0},{"$f":"IF(CommandCell='Reference Cells'!$C$17,NA(),ABS('Data In'!C430-INDIRECT(\"ZeroVal_\"&I$2,0)))","v":0},{"$f":"IF(CommandCell='Reference Cells'!$C$17,NA(),ABS('Data In'!D430-INDIRECT(\"ZeroVal_\"&J$2,0)))","v":0},{"$f":"IF(CommandCell='Reference Cells'!$C$17,NA(),ABS('Data In'!E430-INDIRECT(\"ZeroVal_\"&K$2,0)))","v":0},{"$f":"IF(CommandCell='Reference Cells'!$C$17,NA(),ABS('Data In'!F430-INDIRECT(\"ZeroVal_\"&L$2,0)))","v":0},{"$f":"MAX(BackendTable[[#This Row],[S1]:[S5]])","v":0},{"$f":"IF(ISERROR(BackendTable[[#This Row],[T0Time]]),0,COUNTIFS(BackendTable[T0Time],\"<=\"&3,BackendTable[T0Time],\">=\"&0)-COUNTIFS(BackendTable[T0Time],\">\"&BackendTable[[#This Row],[T0Time]]))","v":500},null,null,null,null,null,null,null,null,null,null,null,null,null,null,null,null,null,null,null,null,null,null,null,null,{"$f":"MATCH(MAX(BackendTable[[#This Row],[T1S1]:[T1S5]]),BackendTable[[#This Row],[T1S1]:[T1S5]],0)","v":{"$error":"#N/A"}},{"$f":"MATCH(MAX(BackendTable[[#This Row],[T2S1]:[T2S5]]),BackendTable[[#This Row],[T2S1]:[T2S5]],0)","v":{"$error":"#N/A"}},{"$f":"MATCH(MAX(BackendTable[[#This Row],[T3S1]:[T3S5]]),BackendTable[[#This Row],[T3S1]:[T3S5]],0)","v":{"$error":"#N/A"}}]
[null,{"$f":"ROW()-ROW(BackendTable[[#Headers],[Row'#]])","v":424},{"$f":"'Data In'!A431","v":0},{"$f":"IF(BackendTable[[#This Row],[Time]]-'Reference Cells'!$C$3<=0,NA(),'Reference Cells'!$C$4-BackendTable[[#This Row],[Time]])*86400","v":{"$error":"#N/A"}},{"$f":"IFERROR(8-BackendTable[[#This Row],[Column1]],\"\")","v":""},{"$f":"IF(ISERROR(BackendTable[[#This Row],[Column1]]),-9,(BackendTable[[#This Row],[Net Time]]-NetTimeMin)*RangeAdj)","v":-9},{"$f":"IF(AND(BackendTable[[#This Row],[Time]]>='Reference Cells'!$C$6,BackendTable[[#This Row],[Time]]<='Reference Cells'!$C$7),(BackendTable[[#This Row],[Time]]-'Reference Cells'!$C$6)*86400,NA())","v":2},{"$f":"IF(CommandCell='Reference Cells'!$C$17,NA(),ABS('Data In'!B431-INDIRECT(\"ZeroVal_\"&H$2,0)))","v":0},{"$f":"IF(CommandCell='Reference Cells'!$C$17,NA(),ABS('Data In'!C431-INDIRECT(\"ZeroVal_\"&I$2,0)))","v":0},{"$f":"IF(CommandCell='Reference Cells'!$C$17,NA(),ABS('Data In'!D431-INDIRECT(\"ZeroVal_\"&J$2,0)))","v":0},{"$f":"IF(CommandCell='Reference Cells'!$C$17,NA(),ABS('Data In'!E431-INDIRECT(\"ZeroVal_\"&K$2,0)))","v":0},{"$f":"IF(CommandCell='Reference Cells'!$C$17,NA(),ABS('Data In'!F431-INDIRECT(\"ZeroVal_\"&L$2,0)))","v":0},{"$f":"MAX(BackendTable[[#This Row],[S1]:[S5]])","v":0},{"$f":"IF(ISERROR(BackendTable[[#This Row],[T0Time]]),0,COUNTIFS(BackendTable[T0Time],\"<=\"&3,BackendTable[T0Time],\">=\"&0)-COUNTIFS(BackendTable[T0Time],\">\"&BackendTable[[#This Row],[T0Time]]))","v":500},null,null,null,null,null,null,null,null,null,null,null,null,null,null,null,null,null,null,null,null,null,null,null,null,{"$f":"MATCH(MAX(BackendTable[[#This Row],[T1S1]:[T1S5]]),BackendTable[[#This Row],[T1S1]:[T1S5]],0)","v":{"$error":"#N/A"}},{"$f":"MATCH(MAX(BackendTable[[#This Row],[T2S1]:[T2S5]]),BackendTable[[#This Row],[T2S1]:[T2S5]],0)","v":{"$error":"#N/A"}},{"$f":"MATCH(MAX(BackendTable[[#This Row],[T3S1]:[T3S5]]),BackendTable[[#This Row],[T3S1]:[T3S5]],0)","v":{"$error":"#N/A"}}]
[null,{"$f":"ROW()-ROW(BackendTable[[#Headers],[Row'#]])","v":425},{"$f":"'Data In'!A432","v":0},{"$f":"IF(BackendTable[[#This Row],[Time]]-'Reference Cells'!$C$3<=0,NA(),'Reference Cells'!$C$4-BackendTable[[#This Row],[Time]])*86400","v":{"$error":"#N/A"}},{"$f":"IFERROR(8-BackendTable[[#This Row],[Column1]],\"\")","v":""},{"$f":"IF(ISERROR(BackendTable[[#This Row],[Column1]]),-9,(BackendTable[[#This Row],[Net Time]]-NetTimeMin)*RangeAdj)","v":-9},{"$f":"IF(AND(BackendTable[[#This Row],[Time]]>='Reference Cells'!$C$6,BackendTable[[#This Row],[Time]]<='Reference Cells'!$C$7),(BackendTable[[#This Row],[Time]]-'Reference Cells'!$C$6)*86400,NA())","v":2},{"$f":"IF(CommandCell='Reference Cells'!$C$17,NA(),ABS('Data In'!B432-INDIRECT(\"ZeroVal_\"&H$2,0)))","v":0},{"$f":"IF(CommandCell='Reference Cells'!$C$17,NA(),ABS('Data In'!C432-INDIRECT(\"ZeroVal_\"&I$2,0)))","v":0},{"$f":"IF(CommandCell='Reference Cells'!$C$17,NA(),ABS('Data In'!D432-INDIRECT(\"ZeroVal_\"&J$2,0)))","v":0},{"$f":"IF(CommandCell='Reference Cells'!$C$17,NA(),ABS('Data In'!E432-INDIRECT(\"ZeroVal_\"&K$2,0)))","v":0},{"$f":"IF(CommandCell='Reference Cells'!$C$17,NA(),ABS('Data In'!F432-INDIRECT(\"ZeroVal_\"&L$2,0)))","v":0},{"$f":"MAX(BackendTable[[#This Row],[S1]:[S5]])","v":0},{"$f":"IF(ISERROR(BackendTable[[#This Row],[T0Time]]),0,COUNTIFS(BackendTable[T0Time],\"<=\"&3,BackendTable[T0Time],\">=\"&0)-COUNTIFS(BackendTable[T0Time],\">\"&BackendTable[[#This Row],[T0Time]]))","v":500},null,null,null,null,null,null,null,null,null,null,null,null,null,null,null,null,null,null,null,null,null,null,null,null,{"$f":"MATCH(MAX(BackendTable[[#This Row],[T1S1]:[T1S5]]),BackendTable[[#This Row],[T1S1]:[T1S5]],0)","v":{"$error":"#N/A"}},{"$f":"MATCH(MAX(BackendTable[[#This Row],[T2S1]:[T2S5]]),BackendTable[[#This Row],[T2S1]:[T2S5]],0)","v":{"$error":"#N/A"}},{"$f":"MATCH(MAX(BackendTable[[#This Row],[T3S1]:[T3S5]]),BackendTable[[#This Row],[T3S1]:[T3S5]],0)","v":{"$error":"#N/A"}}]
[null,{"$f":"ROW()-ROW(BackendTable[[#Headers],[Row'#]])","v":426},{"$f":"'Data In'!A433","v":0},{"$f":"IF(BackendTable[[#This Row],[Time]]-'Reference Cells'!$C$3<=0,NA(),'Reference Cells'!$C$4-BackendTable[[#This Row],[Time]])*86400","v":{"$error":"#N/A"}},{"$f":"IFERROR(8-BackendTable[[#This Row],[Column1]],\"\")","v":""},{"$f":"IF(ISERROR(BackendTable[[#This Row],[Column1]]),-9,(BackendTable[[#This Row],[Net Time]]-NetTimeMin)*RangeAdj)","v":-9},{"$f":"IF(AND(BackendTable[[#This Row],[Time]]>='Reference Cells'!$C$6,BackendTable[[#This Row],[Time]]<='Reference Cells'!$C$7),(BackendTable[[#This Row],[Time]]-'Reference Cells'!$C$6)*86400,NA())","v":2},{"$f":"IF(CommandCell='Reference Cells'!$C$17,NA(),ABS('Data In'!B433-INDIRECT(\"ZeroVal_\"&H$2,0)))","v":0},{"$f":"IF(CommandCell='Reference Cells'!$C$17,NA(),ABS('Data In'!C433-INDIRECT(\"ZeroVal_\"&I$2,0)))","v":0},{"$f":"IF(CommandCell='Reference Cells'!$C$17,NA(),ABS('Data In'!D433-INDIRECT(\"ZeroVal_\"&J$2,0)))","v":0},{"$f":"IF(CommandCell='Reference Cells'!$C$17,NA(),ABS('Data In'!E433-INDIRECT(\"ZeroVal_\"&K$2,0)))","v":0},{"$f":"IF(CommandCell='Reference Cells'!$C$17,NA(),ABS('Data In'!F433-INDIRECT(\"ZeroVal_\"&L$2,0)))","v":0},{"$f":"MAX(BackendTable[[#This Row],[S1]:[S5]])","v":0},{"$f":"IF(ISERROR(BackendTable[[#This Row],[T0Time]]),0,COUNTIFS(BackendTable[T0Time],\"<=\"&3,BackendTable[T0Time],\">=\"&0)-COUNTIFS(BackendTable[T0Time],\">\"&BackendTable[[#This Row],[T0Time]]))","v":500},null,null,null,null,null,null,null,null,null,null,null,null,null,null,null,null,null,null,null,null,null,null,null,null,{"$f":"MATCH(MAX(BackendTable[[#This Row],[T1S1]:[T1S5]]),BackendTable[[#This Row],[T1S1]:[T1S5]],0)","v":{"$error":"#N/A"}},{"$f":"MATCH(MAX(BackendTable[[#This Row],[T2S1]:[T2S5]]),BackendTable[[#This Row],[T2S1]:[T2S5]],0)","v":{"$error":"#N/A"}},{"$f":"MATCH(MAX(BackendTable[[#This Row],[T3S1]:[T3S5]]),BackendTable[[#This Row],[T3S1]:[T3S5]],0)","v":{"$error":"#N/A"}}]
[null,{"$f":"ROW()-ROW(BackendTable[[#Headers],[Row'#]])","v":427},{"$f":"'Data In'!A434","v":0},{"$f":"IF(BackendTable[[#This Row],[Time]]-'Reference Cells'!$C$3<=0,NA(),'Reference Cells'!$C$4-BackendTable[[#This Row],[Time]])*86400","v":{"$error":"#N/A"}},{"$f":"IFERROR(8-BackendTable[[#This Row],[Column1]],\"\")","v":""},{"$f":"IF(ISERROR(BackendTable[[#This Row],[Column1]]),-9,(BackendTable[[#This Row],[Net Time]]-NetTimeMin)*RangeAdj)","v":-9},{"$f":"IF(AND(BackendTable[[#This Row],[Time]]>='Reference Cells'!$C$6,BackendTable[[#This Row],[Time]]<='Reference Cells'!$C$7),(BackendTable[[#This Row],[Time]]-'Reference Cells'!$C$6)*86400,NA())","v":2},{"$f":"IF(CommandCell='Reference Cells'!$C$17,NA(),ABS('Data In'!B434-INDIRECT(\"ZeroVal_\"&H$2,0)))","v":0},{"$f":"IF(CommandCell='Reference Cells'!$C$17,NA(),ABS('Data In'!C434-INDIRECT(\"ZeroVal_\"&I$2,0)))","v":0},{"$f":"IF(CommandCell='Reference Cells'!$C$17,NA(),ABS('Data In'!D434-INDIRECT(\"ZeroVal_\"&J$2,0)))","v":0},{"$f":"IF(CommandCell='Reference Cells'!$C$17,NA(),ABS('Data In'!E434-INDIRECT(\"ZeroVal_\"&K$2,0)))","v":0},{"$f":"IF(CommandCell='Reference Cells'!$C$17,NA(),ABS('Data In'!F434-INDIRECT(\"ZeroVal_\"&L$2,0)))","v":0},{"$f":"MAX(BackendTable[[#This Row],[S1]:[S5]])","v":0},{"$f":"IF(ISERROR(BackendTable[[#This Row],[T0Time]]),0,COUNTIFS(BackendTable[T0Time],\"<=\"&3,BackendTable[T0Time],\">=\"&0)-COUNTIFS(BackendTable[T0Time],\">\"&BackendTable[[#This Row],[T0Time]]))","v":500},null,null,null,null,null,null,null,null,null,null,null,null,null,null,null,null,null,null,null,null,null,null,null,null,{"$f":"MATCH(MAX(BackendTable[[#This Row],[T1S1]:[T1S5]]),BackendTable[[#This Row],[T1S1]:[T1S5]],0)","v":{"$error":"#N/A"}},{"$f":"MATCH(MAX(BackendTable[[#This Row],[T2S1]:[T2S5]]),BackendTable[[#This Row],[T2S1]:[T2S5]],0)","v":{"$error":"#N/A"}},{"$f":"MATCH(MAX(BackendTable[[#This Row],[T3S1]:[T3S5]]),BackendTable[[#This Row],[T3S1]:[T3S5]],0)","v":{"$error":"#N/A"}}]
[null,{"$f":"ROW()-ROW(BackendTable[[#Headers],[Row'#]])","v":428},{"$f":"'Data In'!A435","v":0},{"$f":"IF(BackendTable[[#This Row],[Time]]-'Reference Cells'!$C$3<=0,NA(),'Reference Cells'!$C$4-BackendTable[[#This Row],[Time]])*86400","v":{"$error":"#N/A"}},{"$f":"IFERROR(8-BackendTable[[#This Row],[Column1]],\"\")","v":""},{"$f":"IF(ISERROR(BackendTable[[#This Row],[Column1]]),-9,(BackendTable[[#This Row],[Net Time]]-NetTimeMin)*RangeAdj)","v":-9},{"$f":"IF(AND(BackendTable[[#This Row],[Time]]>='Reference Cells'!$C$6,BackendTable[[#This Row],[Time]]<='Reference Cells'!$C$7),(BackendTable[[#This Row],[Time]]-'Reference Cells'!$C$6)*86400,NA())","v":2},{"$f":"IF(CommandCell='Reference Cells'!$C$17,NA(),ABS('Data In'!B435-INDIRECT(\"ZeroVal_\"&H$2,0)))","v":0},{"$f":"IF(CommandCell='Reference Cells'!$C$17,NA(),ABS('Data In'!C435-INDIRECT(\"ZeroVal_\"&I$2,0)))","v":0},{"$f":"IF(CommandCell='Reference Cells'!$C$17,NA(),ABS('Data In'!D435-INDIRECT(\"ZeroVal_\"&J$2,0)))","v":0},{"$f":"IF(CommandCell='Reference Cells'!$C$17,NA(),ABS('Data In'!E435-INDIRECT(\"ZeroVal_\"&K$2,0)))","v":0},{"$f":"IF(CommandCell='Reference Cells'!$C$17,NA(),ABS('Data In'!F435-INDIRECT(\"ZeroVal_\"&L$2,0)))","v":0},{"$f":"MAX(BackendTable[[#This Row],[S1]:[S5]])","v":0},{"$f":"IF(ISERROR(BackendTable[[#This Row],[T0Time]]),0,COUNTIFS(BackendTable[T0Time],\"<=\"&3,BackendTable[T0Time],\">=\"&0)-COUNTIFS(BackendTable[T0Time],\">\"&BackendTable[[#This Row],[T0Time]]))","v":500},null,null,null,null,null,null,null,null,null,null,null,null,null,null,null,null,null,null,null,null,null,null,null,null,{"$f":"MATCH(MAX(BackendTable[[#This Row],[T1S1]:[T1S5]]),BackendTable[[#This Row],[T1S1]:[T1S5]],0)","v":{"$error":"#N/A"}},{"$f":"MATCH(MAX(BackendTable[[#This Row],[T2S1]:[T2S5]]),BackendTable[[#This Row],[T2S1]:[T2S5]],0)","v":{"$error":"#N/A"}},{"$f":"MATCH(MAX(BackendTable[[#This Row],[T3S1]:[T3S5]]),BackendTable[[#This Row],[T3S1]:[T3S5]],0)","v":{"$error":"#N/A"}}]
[null,{"$f":"ROW()-ROW(BackendTable[[#Headers],[Row'#]])","v":429},{"$f":"'Data In'!A436","v":0},{"$f":"IF(BackendTable[[#This Row],[Time]]-'Reference Cells'!$C$3<=0,NA(),'Reference Cells'!$C$4-BackendTable[[#This Row],[Time]])*86400","v":{"$error":"#N/A"}},{"$f":"IFERROR(8-BackendTable[[#This Row],[Column1]],\"\")","v":""},{"$f":"IF(ISERROR(BackendTable[[#This Row],[Column1]]),-9,(BackendTable[[#This Row],[Net Time]]-NetTimeMin)*RangeAdj)","v":-9},{"$f":"IF(AND(BackendTable[[#This Row],[Time]]>='Reference Cells'!$C$6,BackendTable[[#This Row],[Time]]<='Reference Cells'!$C$7),(BackendTable[[#This Row],[Time]]-'Reference Cells'!$C$6)*86400,NA())","v":2},{"$f":"IF(CommandCell='Reference Cells'!$C$17,NA(),ABS('Data In'!B436-INDIRECT(\"ZeroVal_\"&H$2,0)))","v":0},{"$f":"IF(CommandCell='Reference Cells'!$C$17,NA(),ABS('Data In'!C436-INDIRECT(\"ZeroVal_\"&I$2,0)))","v":0},{"$f":"IF(CommandCell='Reference Cells'!$C$17,NA(),ABS('Data In'!D436-INDIRECT(\"ZeroVal_\"&J$2,0)))","v":0},{"$f":"IF(CommandCell='Reference Cells'!$C$17,NA(),ABS('Data In'!E436-INDIRECT(\"ZeroVal_\"&K$2,0)))","v":0},{"$f":"IF(CommandCell='Reference Cells'!$C$17,NA(),ABS('Data In'!F436-INDIRECT(\"ZeroVal_\"&L$2,0)))","v":0},{"$f":"MAX(BackendTable[[#This Row],[S1]:[S5]])","v":0},{"$f":"IF(ISERROR(BackendTable[[#This Row],[T0Time]]),0,COUNTIFS(BackendTable[T0Time],\"<=\"&3,BackendTable[T0Time],\">=\"&0)-COUNTIFS(BackendTable[T0Time],\">\"&BackendTable[[#This Row],[T0Time]]))","v":500},null,null,null,null,null,null,null,null,null,null,null,null,null,null,null,null,null,null,null,null,null,null,null,null,{"$f":"MATCH(MAX(BackendTable[[#This Row],[T1S1]:[T1S5]]),BackendTable[[#This Row],[T1S1]:[T1S5]],0)","v":{"$error":"#N/A"}},{"$f":"MATCH(MAX(BackendTable[[#This Row],[T2S1]:[T2S5]]),BackendTable[[#This Row],[T2S1]:[T2S5]],0)","v":{"$error":"#N/A"}},{"$f":"MATCH(MAX(BackendTable[[#This Row],[T3S1]:[T3S5]]),BackendTable[[#This Row],[T3S1]:[T3S5]],0)","v":{"$error":"#N/A"}}]
[null,{"$f":"ROW()-ROW(BackendTable[[#Headers],[Row'#]])","v":430},{"$f":"'Data In'!A437","v":0},{"$f":"IF(BackendTable[[#This Row],[Time]]-'Reference Cells'!$C$3<=0,NA(),'Reference Cells'!$C$4-BackendTable[[#This Row],[Time]])*86400","v":{"$error":"#N/A"}},{"$f":"IFERROR(8-BackendTable[[#This Row],[Column1]],\"\")","v":""},{"$f":"IF(ISERROR(BackendTable[[#This Row],[Column1]]),-9,(BackendTable[[#This Row],[Net Time]]-NetTimeMin)*RangeAdj)","v":-9},{"$f":"IF(AND(BackendTable[[#This Row],[Time]]>='Reference Cells'!$C$6,BackendTable[[#This Row],[Time]]<='Reference Cells'!$C$7),(BackendTable[[#This Row],[Time]]-'Reference Cells'!$C$6)*86400,NA())","v":2},{"$f":"IF(CommandCell='Reference Cells'!$C$17,NA(),ABS('Data In'!B437-INDIRECT(\"ZeroVal_\"&H$2,0)))","v":0},{"$f":"IF(CommandCell='Reference Cells'!$C$17,NA(),ABS('Data In'!C437-INDIRECT(\"ZeroVal_\"&I$2,0)))","v":0},{"$f":"IF(CommandCell='Reference Cells'!$C$17,NA(),ABS('Data In'!D437-INDIRECT(\"ZeroVal_\"&J$2,0)))","v":0},{"$f":"IF(CommandCell='Reference Cells'!$C$17,NA(),ABS('Data In'!E437-INDIRECT(\"ZeroVal_\"&K$2,0)))","v":0},{"$f":"IF(CommandCell='Reference Cells'!$C$17,NA(),ABS('Data In'!F437-INDIRECT(\"ZeroVal_\"&L$2,0)))","v":0},{"$f":"MAX(BackendTable[[#This Row],[S1]:[S5]])","v":0},{"$f":"IF(ISERROR(BackendTable[[#This Row],[T0Time]]),0,COUNTIFS(BackendTable[T0Time],\"<=\"&3,BackendTable[T0Time],\">=\"&0)-COUNTIFS(BackendTable[T0Time],\">\"&BackendTable[[#This Row],[T0Time]]))","v":500},null,null,null,null,null,null,null,null,null,null,null,null,null,null,null,null,null,null,null,null,null,null,null,null,{"$f":"MATCH(MAX(BackendTable[[#This Row],[T1S1]:[T1S5]]),BackendTable[[#This Row],[T1S1]:[T1S5]],0)","v":{"$error":"#N/A"}},{"$f":"MATCH(MAX(BackendTable[[#This Row],[T2S1]:[T2S5]]),BackendTable[[#This Row],[T2S1]:[T2S5]],0)","v":{"$error":"#N/A"}},{"$f":"MATCH(MAX(BackendTable[[#This Row],[T3S1]:[T3S5]]),BackendTable[[#This Row],[T3S1]:[T3S5]],0)","v":{"$error":"#N/A"}}]
[null,{"$f":"ROW()-ROW(BackendTable[[#Headers],[Row'#]])","v":431},{"$f":"'Data In'!A438","v":0},{"$f":"IF(BackendTable[[#This Row],[Time]]-'Reference Cells'!$C$3<=0,NA(),'Reference Cells'!$C$4-BackendTable[[#This Row],[Time]])*86400","v":{"$error":"#N/A"}},{"$f":"IFERROR(8-BackendTable[[#This Row],[Column1]],\"\")","v":""},{"$f":"IF(ISERROR(BackendTable[[#This Row],[Column1]]),-9,(BackendTable[[#This Row],[Net Time]]-NetTimeMin)*RangeAdj)","v":-9},{"$f":"IF(AND(BackendTable[[#This Row],[Time]]>='Reference Cells'!$C$6,BackendTable[[#This Row],[Time]]<='Reference Cells'!$C$7),(BackendTable[[#This Row],[Time]]-'Reference Cells'!$C$6)*86400,NA())","v":2},{"$f":"IF(CommandCell='Reference Cells'!$C$17,NA(),ABS('Data In'!B438-INDIRECT(\"ZeroVal_\"&H$2,0)))","v":0},{"$f":"IF(CommandCell='Reference Cells'!$C$17,NA(),ABS('Data In'!C438-INDIRECT(\"ZeroVal_\"&I$2,0)))","v":0},{"$f":"IF(CommandCell='Reference Cells'!$C$17,NA(),ABS('Data In'!D438-INDIRECT(\"ZeroVal_\"&J$2,0)))","v":0},{"$f":"IF(CommandCell='Reference Cells'!$C$17,NA(),ABS('Data In'!E438-INDIRECT(\"ZeroVal_\"&K$2,0)))","v":0},{"$f":"IF(CommandCell='Reference Cells'!$C$17,NA(),ABS('Data In'!F438-INDIRECT(\"ZeroVal_\"&L$2,0)))","v":0},{"$f":"MAX(BackendTable[[#This Row],[S1]:[S5]])","v":0},{"$f":"IF(ISERROR(BackendTable[[#This Row],[T0Time]]),0,COUNTIFS(BackendTable[T0Time],\"<=\"&3,BackendTable[T0Time],\">=\"&0)-COUNTIFS(BackendTable[T0Time],\">\"&BackendTable[[#This Row],[T0Time]]))","v":500},null,null,null,null,null,null,null,null,null,null,null,null,null,null,null,null,null,null,null,null,null,null,null,null,{"$f":"MATCH(MAX(BackendTable[[#This Row],[T1S1]:[T1S5]]),BackendTable[[#This Row],[T1S1]:[T1S5]],0)","v":{"$error":"#N/A"}},{"$f":"MATCH(MAX(BackendTable[[#This Row],[T2S1]:[T2S5]]),BackendTable[[#This Row],[T2S1]:[T2S5]],0)","v":{"$error":"#N/A"}},{"$f":"MATCH(MAX(BackendTable[[#This Row],[T3S1]:[T3S5]]),BackendTable[[#This Row],[T3S1]:[T3S5]],0)","v":{"$error":"#N/A"}}]
[null,{"$f":"ROW()-ROW(BackendTable[[#Headers],[Row'#]])","v":432},{"$f":"'Data In'!A439","v":0},{"$f":"IF(BackendTable[[#This Row],[Time]]-'Reference Cells'!$C$3<=0,NA(),'Reference Cells'!$C$4-BackendTable[[#This Row],[Time]])*86400","v":{"$error":"#N/A"}},{"$f":"IFERROR(8-BackendTable[[#This Row],[Column1]],\"\")","v":""},{"$f":"IF(ISERROR(BackendTable[[#This Row],[Column1]]),-9,(BackendTable[[#This Row],[Net Time]]-NetTimeMin)*RangeAdj)","v":-9},{"$f":"IF(AND(BackendTable[[#This Row],[Time]]>='Reference Cells'!$C$6,BackendTable[[#This Row],[Time]]<='Reference Cells'!$C$7),(BackendTable[[#This Row],[Time]]-'Reference Cells'!$C$6)*86400,NA())","v":2},{"$f":"IF(CommandCell='Reference Cells'!$C$17,NA(),ABS('Data In'!B439-INDIRECT(\"ZeroVal_\"&H$2,0)))","v":0},{"$f":"IF(CommandCell='Reference Cells'!$C$17,NA(),ABS('Data In'!C439-INDIRECT(\"ZeroVal_\"&I$2,0)))","v":0},{"$f":"IF(CommandCell='Reference Cells'!$C$17,NA(),ABS('Data In'!D439-INDIRECT(\"ZeroVal_\"&J$2,0)))","v":0},{"$f":"IF(CommandCell='Reference Cells'!$C$17,NA(),ABS('Data In'!E439-INDIRECT(\"ZeroVal_\"&K$2,0)))","v":0},{"$f":"IF(CommandCell='Reference Cells'!$C$17,NA(),ABS('Data In'!F439-INDIRECT(\"ZeroVal_\"&L$2,0)))","v":0},{"$f":"MAX(BackendTable[[#This Row],[S1]:[S5]])","v":0},{"$f":"IF(ISERROR(BackendTable[[#This Row],[T0Time]]),0,COUNTIFS(BackendTable[T0Time],\"<=\"&3,BackendTable[T0Time],\">=\"&0)-COUNTIFS(BackendTable[T0Time],\">\"&BackendTable[[#This Row],[T0Time]]))","v":500},null,null,null,null,null,null,null,null,null,null,null,null,null,null,null,null,null,null,null,null,null,null,null,null,{"$f":"MATCH(MAX(BackendTable[[#This Row],[T1S1]:[T1S5]]),BackendTable[[#This Row],[T1S1]:[T1S5]],0)","v":{"$error":"#N/A"}},{"$f":"MATCH(MAX(BackendTable[[#This Row],[T2S1]:[T2S5]]),BackendTable[[#This Row],[T2S1]:[T2S5]],0)","v":{"$error":"#N/A"}},{"$f":"MATCH(MAX(BackendTable[[#This Row],[T3S1]:[T3S5]]),BackendTable[[#This Row],[T3S1]:[T3S5]],0)","v":{"$error":"#N/A"}}]
[null,{"$f":"ROW()-ROW(BackendTable[[#Headers],[Row'#]])","v":433},{"$f":"'Data In'!A440","v":0},{"$f":"IF(BackendTable[[#This Row],[Time]]-'Reference Cells'!$C$3<=0,NA(),'Reference Cells'!$C$4-BackendTable[[#This Row],[Time]])*86400","v":{"$error":"#N/A"}},{"$f":"IFERROR(8-BackendTable[[#This Row],[Column1]],\"\")","v":""},{"$f":"IF(ISERROR(BackendTable[[#This Row],[Column1]]),-9,(BackendTable[[#This Row],[Net Time]]-NetTimeMin)*RangeAdj)","v":-9},{"$f":"IF(AND(BackendTable[[#This Row],[Time]]>='Reference Cells'!$C$6,BackendTable[[#This Row],[Time]]<='Reference Cells'!$C$7),(BackendTable[[#This Row],[Time]]-'Reference Cells'!$C$6)*86400,NA())","v":2},{"$f":"IF(CommandCell='Reference Cells'!$C$17,NA(),ABS('Data In'!B440-INDIRECT(\"ZeroVal_\"&H$2,0)))","v":0},{"$f":"IF(CommandCell='Reference Cells'!$C$17,NA(),ABS('Data In'!C440-INDIRECT(\"ZeroVal_\"&I$2,0)))","v":0},{"$f":"IF(CommandCell='Reference Cells'!$C$17,NA(),ABS('Data In'!D440-INDIRECT(\"ZeroVal_\"&J$2,0)))","v":0},{"$f":"IF(CommandCell='Reference Cells'!$C$17,NA(),ABS('Data In'!E440-INDIRECT(\"ZeroVal_\"&K$2,0)))","v":0},{"$f":"IF(CommandCell='Reference Cells'!$C$17,NA(),ABS('Data In'!F440-INDIRECT(\"ZeroVal_\"&L$2,0)))","v":0},{"$f":"MAX(BackendTable[[#This Row],[S1]:[S5]])","v":0},{"$f":"IF(ISERROR(BackendTable[[#This Row],[T0Time]]),0,COUNTIFS(BackendTable[T0Time],\"<=\"&3,BackendTable[T0Time],\">=\"&0)-COUNTIFS(BackendTable[T0Time],\">\"&BackendTable[[#This Row],[T0Time]]))","v":500},null,null,null,null,null,null,null,null,null,null,null,null,null,null,null,null,null,null,null,null,null,null,null,null,{"$f":"MATCH(MAX(BackendTable[[#This Row],[T1S1]:[T1S5]]),BackendTable[[#This Row],[T1S1]:[T1S5]],0)","v":{"$error":"#N/A"}},{"$f":"MATCH(MAX(BackendTable[[#This Row],[T2S1]:[T2S5]]),BackendTable[[#This Row],[T2S1]:[T2S5]],0)","v":{"$error":"#N/A"}},{"$f":"MATCH(MAX(BackendTable[[#This Row],[T3S1]:[T3S5]]),BackendTable[[#This Row],[T3S1]:[T3S5]],0)","v":{"$error":"#N/A"}}]
[null,{"$f":"ROW()-ROW(BackendTable[[#Headers],[Row'#]])","v":434},{"$f":"'Data In'!A441","v":0},{"$f":"IF(BackendTable[[#This Row],[Time]]-'Reference Cells'!$C$3<=0,NA(),'Reference Cells'!$C$4-BackendTable[[#This Row],[Time]])*86400","v":{"$error":"#N/A"}},{"$f":"IFERROR(8-BackendTable[[#This Row],[Column1]],\"\")","v":""},{"$f":"IF(ISERROR(BackendTable[[#This Row],[Column1]]),-9,(BackendTable[[#This Row],[Net Time]]-NetTimeMin)*RangeAdj)","v":-9},{"$f":"IF(AND(BackendTable[[#This Row],[Time]]>='Reference Cells'!$C$6,BackendTable[[#This Row],[Time]]<='Reference Cells'!$C$7),(BackendTable[[#This Row],[Time]]-'Reference Cells'!$C$6)*86400,NA())","v":2},{"$f":"IF(CommandCell='Reference Cells'!$C$17,NA(),ABS('Data In'!B441-INDIRECT(\"ZeroVal_\"&H$2,0)))","v":0},{"$f":"IF(CommandCell='Reference Cells'!$C$17,NA(),ABS('Data In'!C441-INDIRECT(\"ZeroVal_\"&I$2,0)))","v":0},{"$f":"IF(CommandCell='Reference Cells'!$C$17,NA(),ABS('Data In'!D441-INDIRECT(\"ZeroVal_\"&J$2,0)))","v":0},{"$f":"IF(CommandCell='Reference Cells'!$C$17,NA(),ABS('Data In'!E441-INDIRECT(\"ZeroVal_\"&K$2,0)))","v":0},{"$f":"IF(CommandCell='Reference Cells'!$C$17,NA(),ABS('Data In'!F441-INDIRECT(\"ZeroVal_\"&L$2,0)))","v":0},{"$f":"MAX(BackendTable[[#This Row],[S1]:[S5]])","v":0},{"$f":"IF(ISERROR(BackendTable[[#This Row],[T0Time]]),0,COUNTIFS(BackendTable[T0Time],\"<=\"&3,BackendTable[T0Time],\">=\"&0)-COUNTIFS(BackendTable[T0Time],\">\"&BackendTable[[#This Row],[T0Time]]))","v":500},null,null,null,null,null,null,null,null,null,null,null,null,null,null,null,null,null,null,null,null,null,null,null,null,{"$f":"MATCH(MAX(BackendTable[[#This Row],[T1S1]:[T1S5]]),BackendTable[[#This Row],[T1S1]:[T1S5]],0)","v":{"$error":"#N/A"}},{"$f":"MATCH(MAX(BackendTable[[#This Row],[T2S1]:[T2S5]]),BackendTable[[#This Row],[T2S1]:[T2S5]],0)","v":{"$error":"#N/A"}},{"$f":"MATCH(MAX(BackendTable[[#This Row],[T3S1]:[T3S5]]),BackendTable[[#This Row],[T3S1]:[T3S5]],0)","v":{"$error":"#N/A"}}]
[null,{"$f":"ROW()-ROW(BackendTable[[#Headers],[Row'#]])","v":435},{"$f":"'Data In'!A442","v":0},{"$f":"IF(BackendTable[[#This Row],[Time]]-'Reference Cells'!$C$3<=0,NA(),'Reference Cells'!$C$4-BackendTable[[#This Row],[Time]])*86400","v":{"$error":"#N/A"}},{"$f":"IFERROR(8-BackendTable[[#This Row],[Column1]],\"\")","v":""},{"$f":"IF(ISERROR(BackendTable[[#This Row],[Column1]]),-9,(BackendTable[[#This Row],[Net Time]]-NetTimeMin)*RangeAdj)","v":-9},{"$f":"IF(AND(BackendTable[[#This Row],[Time]]>='Reference Cells'!$C$6,BackendTable[[#This Row],[Time]]<='Reference Cells'!$C$7),(BackendTable[[#This Row],[Time]]-'Reference Cells'!$C$6)*86400,NA())","v":2},{"$f":"IF(CommandCell='Reference Cells'!$C$17,NA(),ABS('Data In'!B442-INDIRECT(\"ZeroVal_\"&H$2,0)))","v":0},{"$f":"IF(CommandCell='Reference Cells'!$C$17,NA(),ABS('Data In'!C442-INDIRECT(\"ZeroVal_\"&I$2,0)))","v":0},{"$f":"IF(CommandCell='Reference Cells'!$C$17,NA(),ABS('Data In'!D442-INDIRECT(\"ZeroVal_\"&J$2,0)))","v":0},{"$f":"IF(CommandCell='Reference Cells'!$C$17,NA(),ABS('Data In'!E442-INDIRECT(\"ZeroVal_\"&K$2,0)))","v":0},{"$f":"IF(CommandCell='Reference Cells'!$C$17,NA(),ABS('Data In'!F442-INDIRECT(\"ZeroVal_\"&L$2,0)))","v":0},{"$f":"MAX(BackendTable[[#This Row],[S1]:[S5]])","v":0},{"$f":"IF(ISERROR(BackendTable[[#This Row],[T0Time]]),0,COUNTIFS(BackendTable[T0Time],\"<=\"&3,BackendTable[T0Time],\">=\"&0)-COUNTIFS(BackendTable[T0Time],\">\"&BackendTable[[#This Row],[T0Time]]))","v":500},null,null,null,null,null,null,null,null,null,null,null,null,null,null,null,null,null,null,null,null,null,null,null,null,{"$f":"MATCH(MAX(BackendTable[[#This Row],[T1S1]:[T1S5]]),BackendTable[[#This Row],[T1S1]:[T1S5]],0)","v":{"$error":"#N/A"}},{"$f":"MATCH(MAX(BackendTable[[#This Row],[T2S1]:[T2S5]]),BackendTable[[#This Row],[T2S1]:[T2S5]],0)","v":{"$error":"#N/A"}},{"$f":"MATCH(MAX(BackendTable[[#This Row],[T3S1]:[T3S5]]),BackendTable[[#This Row],[T3S1]:[T3S5]],0)","v":{"$error":"#N/A"}}]
[null,{"$f":"ROW()-ROW(BackendTable[[#Headers],[Row'#]])","v":436},{"$f":"'Data In'!A443","v":0},{"$f":"IF(BackendTable[[#This Row],[Time]]-'Reference Cells'!$C$3<=0,NA(),'Reference Cells'!$C$4-BackendTable[[#This Row],[Time]])*86400","v":{"$error":"#N/A"}},{"$f":"IFERROR(8-BackendTable[[#This Row],[Column1]],\"\")","v":""},{"$f":"IF(ISERROR(BackendTable[[#This Row],[Column1]]),-9,(BackendTable[[#This Row],[Net Time]]-NetTimeMin)*RangeAdj)","v":-9},{"$f":"IF(AND(BackendTable[[#This Row],[Time]]>='Reference Cells'!$C$6,BackendTable[[#This Row],[Time]]<='Reference Cells'!$C$7),(BackendTable[[#This Row],[Time]]-'Reference Cells'!$C$6)*86400,NA())","v":2},{"$f":"IF(CommandCell='Reference Cells'!$C$17,NA(),ABS('Data In'!B443-INDIRECT(\"ZeroVal_\"&H$2,0)))","v":0},{"$f":"IF(CommandCell='Reference Cells'!$C$17,NA(),ABS('Data In'!C443-INDIRECT(\"ZeroVal_\"&I$2,0)))","v":0},{"$f":"IF(CommandCell='Reference Cells'!$C$17,NA(),ABS('Data In'!D443-INDIRECT(\"ZeroVal_\"&J$2,0)))","v":0},{"$f":"IF(CommandCell='Reference Cells'!$C$17,NA(),ABS('Data In'!E443-INDIRECT(\"ZeroVal_\"&K$2,0)))","v":0},{"$f":"IF(CommandCell='Reference Cells'!$C$17,NA(),ABS('Data In'!F443-INDIRECT(\"ZeroVal_\"&L$2,0)))","v":0},{"$f":"MAX(BackendTable[[#This Row],[S1]:[S5]])","v":0},{"$f":"IF(ISERROR(BackendTable[[#This Row],[T0Time]]),0,COUNTIFS(BackendTable[T0Time],\"<=\"&3,BackendTable[T0Time],\">=\"&0)-COUNTIFS(BackendTable[T0Time],\">\"&BackendTable[[#This Row],[T0Time]]))","v":500},null,null,null,null,null,null,null,null,null,null,null,null,null,null,null,null,null,null,null,null,null,null,null,null,{"$f":"MATCH(MAX(BackendTable[[#This Row],[T1S1]:[T1S5]]),BackendTable[[#This Row],[T1S1]:[T1S5]],0)","v":{"$error":"#N/A"}},{"$f":"MATCH(MAX(BackendTable[[#This Row],[T2S1]:[T2S5]]),BackendTable[[#This Row],[T2S1]:[T2S5]],0)","v":{"$error":"#N/A"}},{"$f":"MATCH(MAX(BackendTable[[#This Row],[T3S1]:[T3S5]]),BackendTable[[#This Row],[T3S1]:[T3S5]],0)","v":{"$error":"#N/A"}}]
[null,{"$f":"ROW()-ROW(BackendTable[[#Headers],[Row'#]])","v":437},{"$f":"'Data In'!A444","v":0},{"$f":"IF(BackendTable[[#This Row],[Time]]-'Reference Cells'!$C$3<=0,NA(),'Reference Cells'!$C$4-BackendTable[[#This Row],[Time]])*86400","v":{"$error":"#N/A"}},{"$f":"IFERROR(8-BackendTable[[#This Row],[Column1]],\"\")","v":""},{"$f":"IF(ISERROR(BackendTable[[#This Row],[Column1]]),-9,(BackendTable[[#This Row],[Net Time]]-NetTimeMin)*RangeAdj)","v":-9},{"$f":"IF(AND(BackendTable[[#This Row],[Time]]>='Reference Cells'!$C$6,BackendTable[[#This Row],[Time]]<='Reference Cells'!$C$7),(BackendTable[[#This Row],[Time]]-'Reference Cells'!$C$6)*86400,NA())","v":2},{"$f":"IF(CommandCell='Reference Cells'!$C$17,NA(),ABS('Data In'!B444-INDIRECT(\"ZeroVal_\"&H$2,0)))","v":0},{"$f":"IF(CommandCell='Reference Cells'!$C$17,NA(),ABS('Data In'!C444-INDIRECT(\"ZeroVal_\"&I$2,0)))","v":0},{"$f":"IF(CommandCell='Reference Cells'!$C$17,NA(),ABS('Data In'!D444-INDIRECT(\"ZeroVal_\"&J$2,0)))","v":0},{"$f":"IF(CommandCell='Reference Cells'!$C$17,NA(),ABS('Data In'!E444-INDIRECT(\"ZeroVal_\"&K$2,0)))","v":0},{"$f":"IF(CommandCell='Reference Cells'!$C$17,NA(),ABS('Data In'!F444-INDIRECT(\"ZeroVal_\"&L$2,0)))","v":0},{"$f":"MAX(BackendTable[[#This Row],[S1]:[S5]])","v":0},{"$f":"IF(ISERROR(BackendTable[[#This Row],[T0Time]]),0,COUNTIFS(BackendTable[T0Time],\"<=\"&3,BackendTable[T0Time],\">=\"&0)-COUNTIFS(BackendTable[T0Time],\">\"&BackendTable[[#This Row],[T0Time]]))","v":500},null,null,null,null,null,null,null,null,null,null,null,null,null,null,null,null,null,null,null,null,null,null,null,null,{"$f":"MATCH(MAX(BackendTable[[#This Row],[T1S1]:[T1S5]]),BackendTable[[#This Row],[T1S1]:[T1S5]],0)","v":{"$error":"#N/A"}},{"$f":"MATCH(MAX(BackendTable[[#This Row],[T2S1]:[T2S5]]),BackendTable[[#This Row],[T2S1]:[T2S5]],0)","v":{"$error":"#N/A"}},{"$f":"MATCH(MAX(BackendTable[[#This Row],[T3S1]:[T3S5]]),BackendTable[[#This Row],[T3S1]:[T3S5]],0)","v":{"$error":"#N/A"}}]
[null,{"$f":"ROW()-ROW(BackendTable[[#Headers],[Row'#]])","v":438},{"$f":"'Data In'!A445","v":0},{"$f":"IF(BackendTable[[#This Row],[Time]]-'Reference Cells'!$C$3<=0,NA(),'Reference Cells'!$C$4-BackendTable[[#This Row],[Time]])*86400","v":{"$error":"#N/A"}},{"$f":"IFERROR(8-BackendTable[[#This Row],[Column1]],\"\")","v":""},{"$f":"IF(ISERROR(BackendTable[[#This Row],[Column1]]),-9,(BackendTable[[#This Row],[Net Time]]-NetTimeMin)*RangeAdj)","v":-9},{"$f":"IF(AND(BackendTable[[#This Row],[Time]]>='Reference Cells'!$C$6,BackendTable[[#This Row],[Time]]<='Reference Cells'!$C$7),(BackendTable[[#This Row],[Time]]-'Reference Cells'!$C$6)*86400,NA())","v":2},{"$f":"IF(CommandCell='Reference Cells'!$C$17,NA(),ABS('Data In'!B445-INDIRECT(\"ZeroVal_\"&H$2,0)))","v":0},{"$f":"IF(CommandCell='Reference Cells'!$C$17,NA(),ABS('Data In'!C445-INDIRECT(\"ZeroVal_\"&I$2,0)))","v":0},{"$f":"IF(CommandCell='Reference Cells'!$C$17,NA(),ABS('Data In'!D445-INDIRECT(\"ZeroVal_\"&J$2,0)))","v":0},{"$f":"IF(CommandCell='Reference Cells'!$C$17,NA(),ABS('Data In'!E445-INDIRECT(\"ZeroVal_\"&K$2,0)))","v":0},{"$f":"IF(CommandCell='Reference Cells'!$C$17,NA(),ABS('Data In'!F445-INDIRECT(\"ZeroVal_\"&L$2,0)))","v":0},{"$f":"MAX(BackendTable[[#This Row],[S1]:[S5]])","v":0},{"$f":"IF(ISERROR(BackendTable[[#This Row],[T0Time]]),0,COUNTIFS(BackendTable[T0Time],\"<=\"&3,BackendTable[T0Time],\">=\"&0)-COUNTIFS(BackendTable[T0Time],\">\"&BackendTable[[#This Row],[T0Time]]))","v":500},null,null,null,null,null,null,null,null,null,null,null,null,null,null,null,null,null,null,null,null,null,null,null,null,{"$f":"MATCH(MAX(BackendTable[[#This Row],[T1S1]:[T1S5]]),BackendTable[[#This Row],[T1S1]:[T1S5]],0)","v":{"$error":"#N/A"}},{"$f":"MATCH(MAX(BackendTable[[#This Row],[T2S1]:[T2S5]]),BackendTable[[#This Row],[T2S1]:[T2S5]],0)","v":{"$error":"#N/A"}},{"$f":"MATCH(MAX(BackendTable[[#This Row],[T3S1]:[T3S5]]),BackendTable[[#This Row],[T3S1]:[T3S5]],0)","v":{"$error":"#N/A"}}]
[null,{"$f":"ROW()-ROW(BackendTable[[#Headers],[Row'#]])","v":439},{"$f":"'Data In'!A446","v":0},{"$f":"IF(BackendTable[[#This Row],[Time]]-'Reference Cells'!$C$3<=0,NA(),'Reference Cells'!$C$4-BackendTable[[#This Row],[Time]])*86400","v":{"$error":"#N/A"}},{"$f":"IFERROR(8-BackendTable[[#This Row],[Column1]],\"\")","v":""},{"$f":"IF(ISERROR(BackendTable[[#This Row],[Column1]]),-9,(BackendTable[[#This Row],[Net Time]]-NetTimeMin)*RangeAdj)","v":-9},{"$f":"IF(AND(BackendTable[[#This Row],[Time]]>='Reference Cells'!$C$6,BackendTable[[#This Row],[Time]]<='Reference Cells'!$C$7),(BackendTable[[#This Row],[Time]]-'Reference Cells'!$C$6)*86400,NA())","v":2},{"$f":"IF(CommandCell='Reference Cells'!$C$17,NA(),ABS('Data In'!B446-INDIRECT(\"ZeroVal_\"&H$2,0)))","v":0},{"$f":"IF(CommandCell='Reference Cells'!$C$17,NA(),ABS('Data In'!C446-INDIRECT(\"ZeroVal_\"&I$2,0)))","v":0},{"$f":"IF(CommandCell='Reference Cells'!$C$17,NA(),ABS('Data In'!D446-INDIRECT(\"ZeroVal_\"&J$2,0)))","v":0},{"$f":"IF(CommandCell='Reference Cells'!$C$17,NA(),ABS('Data In'!E446-INDIRECT(\"ZeroVal_\"&K$2,0)))","v":0},{"$f":"IF(CommandCell='Reference Cells'!$C$17,NA(),ABS('Data In'!F446-INDIRECT(\"ZeroVal_\"&L$2,0)))","v":0},{"$f":"MAX(BackendTable[[#This Row],[S1]:[S5]])","v":0},{"$f":"IF(ISERROR(BackendTable[[#This Row],[T0Time]]),0,COUNTIFS(BackendTable[T0Time],\"<=\"&3,BackendTable[T0Time],\">=\"&0)-COUNTIFS(BackendTable[T0Time],\">\"&BackendTable[[#This Row],[T0Time]]))","v":500},null,null,null,null,null,null,null,null,null,null,null,null,null,null,null,null,null,null,null,null,null,null,null,null,{"$f":"MATCH(MAX(BackendTable[[#This Row],[T1S1]:[T1S5]]),BackendTable[[#This Row],[T1S1]:[T1S5]],0)","v":{"$error":"#N/A"}},{"$f":"MATCH(MAX(BackendTable[[#This Row],[T2S1]:[T2S5]]),BackendTable[[#This Row],[T2S1]:[T2S5]],0)","v":{"$error":"#N/A"}},{"$f":"MATCH(MAX(BackendTable[[#This Row],[T3S1]:[T3S5]]),BackendTable[[#This Row],[T3S1]:[T3S5]],0)","v":{"$error":"#N/A"}}]
[null,{"$f":"ROW()-ROW(BackendTable[[#Headers],[Row'#]])","v":440},{"$f":"'Data In'!A447","v":0},{"$f":"IF(BackendTable[[#This Row],[Time]]-'Reference Cells'!$C$3<=0,NA(),'Reference Cells'!$C$4-BackendTable[[#This Row],[Time]])*86400","v":{"$error":"#N/A"}},{"$f":"IFERROR(8-BackendTable[[#This Row],[Column1]],\"\")","v":""},{"$f":"IF(ISERROR(BackendTable[[#This Row],[Column1]]),-9,(BackendTable[[#This Row],[Net Time]]-NetTimeMin)*RangeAdj)","v":-9},{"$f":"IF(AND(BackendTable[[#This Row],[Time]]>='Reference Cells'!$C$6,BackendTable[[#This Row],[Time]]<='Reference Cells'!$C$7),(BackendTable[[#This Row],[Time]]-'Reference Cells'!$C$6)*86400,NA())","v":2},{"$f":"IF(CommandCell='Reference Cells'!$C$17,NA(),ABS('Data In'!B447-INDIRECT(\"ZeroVal_\"&H$2,0)))","v":0},{"$f":"IF(CommandCell='Reference Cells'!$C$17,NA(),ABS('Data In'!C447-INDIRECT(\"ZeroVal_\"&I$2,0)))","v":0},{"$f":"IF(CommandCell='Reference Cells'!$C$17,NA(),ABS('Data In'!D447-INDIRECT(\"ZeroVal_\"&J$2,0)))","v":0},{"$f":"IF(CommandCell='Reference Cells'!$C$17,NA(),ABS('Data In'!E447-INDIRECT(\"ZeroVal_\"&K$2,0)))","v":0},{"$f":"IF(CommandCell='Reference Cells'!$C$17,NA(),ABS('Data In'!F447-INDIRECT(\"ZeroVal_\"&L$2,0)))","v":0},{"$f":"MAX(BackendTable[[#This Row],[S1]:[S5]])","v":0},{"$f":"IF(ISERROR(BackendTable[[#This Row],[T0Time]]),0,COUNTIFS(BackendTable[T0Time],\"<=\"&3,BackendTable[T0Time],\">=\"&0)-COUNTIFS(BackendTable[T0Time],\">\"&BackendTable[[#This Row],[T0Time]]))","v":500},null,null,null,null,null,null,null,null,null,null,null,null,null,null,null,null,null,null,null,null,null,null,null,null,{"$f":"MATCH(MAX(BackendTable[[#This Row],[T1S1]:[T1S5]]),BackendTable[[#This Row],[T1S1]:[T1S5]],0)","v":{"$error":"#N/A"}},{"$f":"MATCH(MAX(BackendTable[[#This Row],[T2S1]:[T2S5]]),BackendTable[[#This Row],[T2S1]:[T2S5]],0)","v":{"$error":"#N/A"}},{"$f":"MATCH(MAX(BackendTable[[#This Row],[T3S1]:[T3S5]]),BackendTable[[#This Row],[T3S1]:[T3S5]],0)","v":{"$error":"#N/A"}}]
[null,{"$f":"ROW()-ROW(BackendTable[[#Headers],[Row'#]])","v":441},{"$f":"'Data In'!A448","v":0},{"$f":"IF(BackendTable[[#This Row],[Time]]-'Reference Cells'!$C$3<=0,NA(),'Reference Cells'!$C$4-BackendTable[[#This Row],[Time]])*86400","v":{"$error":"#N/A"}},{"$f":"IFERROR(8-BackendTable[[#This Row],[Column1]],\"\")","v":""},{"$f":"IF(ISERROR(BackendTable[[#This Row],[Column1]]),-9,(BackendTable[[#This Row],[Net Time]]-NetTimeMin)*RangeAdj)","v":-9},{"$f":"IF(AND(BackendTable[[#This Row],[Time]]>='Reference Cells'!$C$6,BackendTable[[#This Row],[Time]]<='Reference Cells'!$C$7),(BackendTable[[#This Row],[Time]]-'Reference Cells'!$C$6)*86400,NA())","v":2},{"$f":"IF(CommandCell='Reference Cells'!$C$17,NA(),ABS('Data In'!B448-INDIRECT(\"ZeroVal_\"&H$2,0)))","v":0},{"$f":"IF(CommandCell='Reference Cells'!$C$17,NA(),ABS('Data In'!C448-INDIRECT(\"ZeroVal_\"&I$2,0)))","v":0},{"$f":"IF(CommandCell='Reference Cells'!$C$17,NA(),ABS('Data In'!D448-INDIRECT(\"ZeroVal_\"&J$2,0)))","v":0},{"$f":"IF(CommandCell='Reference Cells'!$C$17,NA(),ABS('Data In'!E448-INDIRECT(\"ZeroVal_\"&K$2,0)))","v":0},{"$f":"IF(CommandCell='Reference Cells'!$C$17,NA(),ABS('Data In'!F448-INDIRECT(\"ZeroVal_\"&L$2,0)))","v":0},{"$f":"MAX(BackendTable[[#This Row],[S1]:[S5]])","v":0},{"$f":"IF(ISERROR(BackendTable[[#This Row],[T0Time]]),0,COUNTIFS(BackendTable[T0Time],\"<=\"&3,BackendTable[T0Time],\">=\"&0)-COUNTIFS(BackendTable[T0Time],\">\"&BackendTable[[#This Row],[T0Time]]))","v":500},null,null,null,null,null,null,null,null,null,null,null,null,null,null,null,null,null,null,null,null,null,null,null,null,{"$f":"MATCH(MAX(BackendTable[[#This Row],[T1S1]:[T1S5]]),BackendTable[[#This Row],[T1S1]:[T1S5]],0)","v":{"$error":"#N/A"}},{"$f":"MATCH(MAX(BackendTable[[#This Row],[T2S1]:[T2S5]]),BackendTable[[#This Row],[T2S1]:[T2S5]],0)","v":{"$error":"#N/A"}},{"$f":"MATCH(MAX(BackendTable[[#This Row],[T3S1]:[T3S5]]),BackendTable[[#This Row],[T3S1]:[T3S5]],0)","v":{"$error":"#N/A"}}]
[null,{"$f":"ROW()-ROW(BackendTable[[#Headers],[Row'#]])","v":442},{"$f":"'Data In'!A449","v":0},{"$f":"IF(BackendTable[[#This Row],[Time]]-'Reference Cells'!$C$3<=0,NA(),'Reference Cells'!$C$4-BackendTable[[#This Row],[Time]])*86400","v":{"$error":"#N/A"}},{"$f":"IFERROR(8-BackendTable[[#This Row],[Column1]],\"\")","v":""},{"$f":"IF(ISERROR(BackendTable[[#This Row],[Column1]]),-9,(BackendTable[[#This Row],[Net Time]]-NetTimeMin)*RangeAdj)","v":-9},{"$f":"IF(AND(BackendTable[[#This Row],[Time]]>='Reference Cells'!$C$6,BackendTable[[#This Row],[Time]]<='Reference Cells'!$C$7),(BackendTable[[#This Row],[Time]]-'Reference Cells'!$C$6)*86400,NA())","v":2},{"$f":"IF(CommandCell='Reference Cells'!$C$17,NA(),ABS('Data In'!B449-INDIRECT(\"ZeroVal_\"&H$2,0)))","v":0},{"$f":"IF(CommandCell='Reference Cells'!$C$17,NA(),ABS('Data In'!C449-INDIRECT(\"ZeroVal_\"&I$2,0)))","v":0},{"$f":"IF(CommandCell='Reference Cells'!$C$17,NA(),ABS('Data In'!D449-INDIRECT(\"ZeroVal_\"&J$2,0)))","v":0},{"$f":"IF(CommandCell='Reference Cells'!$C$17,NA(),ABS('Data In'!E449-INDIRECT(\"ZeroVal_\"&K$2,0)))","v":0},{"$f":"IF(CommandCell='Reference Cells'!$C$17,NA(),ABS('Data In'!F449-INDIRECT(\"ZeroVal_\"&L$2,0)))","v":0},{"$f":"MAX(BackendTable[[#This Row],[S1]:[S5]])","v":0},{"$f":"IF(ISERROR(BackendTable[[#This Row],[T0Time]]),0,COUNTIFS(BackendTable[T0Time],\"<=\"&3,BackendTable[T0Time],\">=\"&0)-COUNTIFS(BackendTable[T0Time],\">\"&BackendTable[[#This Row],[T0Time]]))","v":500},null,null,null,null,null,null,null,null,null,null,null,null,null,null,null,null,null,null,null,null,null,null,null,null,{"$f":"MATCH(MAX(BackendTable[[#This Row],[T1S1]:[T1S5]]),BackendTable[[#This Row],[T1S1]:[T1S5]],0)","v":{"$error":"#N/A"}},{"$f":"MATCH(MAX(BackendTable[[#This Row],[T2S1]:[T2S5]]),BackendTable[[#This Row],[T2S1]:[T2S5]],0)","v":{"$error":"#N/A"}},{"$f":"MATCH(MAX(BackendTable[[#This Row],[T3S1]:[T3S5]]),BackendTable[[#This Row],[T3S1]:[T3S5]],0)","v":{"$error":"#N/A"}}]
[null,{"$f":"ROW()-ROW(BackendTable[[#Headers],[Row'#]])","v":443},{"$f":"'Data In'!A450","v":0},{"$f":"IF(BackendTable[[#This Row],[Time]]-'Reference Cells'!$C$3<=0,NA(),'Reference Cells'!$C$4-BackendTable[[#This Row],[Time]])*86400","v":{"$error":"#N/A"}},{"$f":"IFERROR(8-BackendTable[[#This Row],[Column1]],\"\")","v":""},{"$f":"IF(ISERROR(BackendTable[[#This Row],[Column1]]),-9,(BackendTable[[#This Row],[Net Time]]-NetTimeMin)*RangeAdj)","v":-9},{"$f":"IF(AND(BackendTable[[#This Row],[Time]]>='Reference Cells'!$C$6,BackendTable[[#This Row],[Time]]<='Reference Cells'!$C$7),(BackendTable[[#This Row],[Time]]-'Reference Cells'!$C$6)*86400,NA())","v":2},{"$f":"IF(CommandCell='Reference Cells'!$C$17,NA(),ABS('Data In'!B450-INDIRECT(\"ZeroVal_\"&H$2,0)))","v":0},{"$f":"IF(CommandCell='Reference Cells'!$C$17,NA(),ABS('Data In'!C450-INDIRECT(\"ZeroVal_\"&I$2,0)))","v":0},{"$f":"IF(CommandCell='Reference Cells'!$C$17,NA(),ABS('Data In'!D450-INDIRECT(\"ZeroVal_\"&J$2,0)))","v":0},{"$f":"IF(CommandCell='Reference Cells'!$C$17,NA(),ABS('Data In'!E450-INDIRECT(\"ZeroVal_\"&K$2,0)))","v":0},{"$f":"IF(CommandCell='Reference Cells'!$C$17,NA(),ABS('Data In'!F450-INDIRECT(\"ZeroVal_\"&L$2,0)))","v":0},{"$f":"MAX(BackendTable[[#This Row],[S1]:[S5]])","v":0},{"$f":"IF(ISERROR(BackendTable[[#This Row],[T0Time]]),0,COUNTIFS(BackendTable[T0Time],\"<=\"&3,BackendTable[T0Time],\">=\"&0)-COUNTIFS(BackendTable[T0Time],\">\"&BackendTable[[#This Row],[T0Time]]))","v":500},null,null,null,null,null,null,null,null,null,null,null,null,null,null,null,null,null,null,null,null,null,null,null,null,{"$f":"MATCH(MAX(BackendTable[[#This Row],[T1S1]:[T1S5]]),BackendTable[[#This Row],[T1S1]:[T1S5]],0)","v":{"$error":"#N/A"}},{"$f":"MATCH(MAX(BackendTable[[#This Row],[T2S1]:[T2S5]]),BackendTable[[#This Row],[T2S1]:[T2S5]],0)","v":{"$error":"#N/A"}},{"$f":"MATCH(MAX(BackendTable[[#This Row],[T3S1]:[T3S5]]),BackendTable[[#This Row],[T3S1]:[T3S5]],0)","v":{"$error":"#N/A"}}]
[null,{"$f":"ROW()-ROW(BackendTable[[#Headers],[Row'#]])","v":444},{"$f":"'Data In'!A451","v":0},{"$f":"IF(BackendTable[[#This Row],[Time]]-'Reference Cells'!$C$3<=0,NA(),'Reference Cells'!$C$4-BackendTable[[#This Row],[Time]])*86400","v":{"$error":"#N/A"}},{"$f":"IFERROR(8-BackendTable[[#This Row],[Column1]],\"\")","v":""},{"$f":"IF(ISERROR(BackendTable[[#This Row],[Column1]]),-9,(BackendTable[[#This Row],[Net Time]]-NetTimeMin)*RangeAdj)","v":-9},{"$f":"IF(AND(BackendTable[[#This Row],[Time]]>='Reference Cells'!$C$6,BackendTable[[#This Row],[Time]]<='Reference Cells'!$C$7),(BackendTable[[#This Row],[Time]]-'Reference Cells'!$C$6)*86400,NA())","v":2},{"$f":"IF(CommandCell='Reference Cells'!$C$17,NA(),ABS('Data In'!B451-INDIRECT(\"ZeroVal_\"&H$2,0)))","v":0},{"$f":"IF(CommandCell='Reference Cells'!$C$17,NA(),ABS('Data In'!C451-INDIRECT(\"ZeroVal_\"&I$2,0)))","v":0},{"$f":"IF(CommandCell='Reference Cells'!$C$17,NA(),ABS('Data In'!D451-INDIRECT(\"ZeroVal_\"&J$2,0)))","v":0},{"$f":"IF(CommandCell='Reference Cells'!$C$17,NA(),ABS('Data In'!E451-INDIRECT(\"ZeroVal_\"&K$2,0)))","v":0},{"$f":"IF(CommandCell='Reference Cells'!$C$17,NA(),ABS('Data In'!F451-INDIRECT(\"ZeroVal_\"&L$2,0)))","v":0},{"$f":"MAX(BackendTable[[#This Row],[S1]:[S5]])","v":0},{"$f":"IF(ISERROR(BackendTable[[#This Row],[T0Time]]),0,COUNTIFS(BackendTable[T0Time],\"<=\"&3,BackendTable[T0Time],\">=\"&0)-COUNTIFS(BackendTable[T0Time],\">\"&BackendTable[[#This Row],[T0Time]]))","v":500},null,null,null,null,null,null,null,null,null,null,null,null,null,null,null,null,null,null,null,null,null,null,null,null,{"$f":"MATCH(MAX(BackendTable[[#This Row],[T1S1]:[T1S5]]),BackendTable[[#This Row],[T1S1]:[T1S5]],0)","v":{"$error":"#N/A"}},{"$f":"MATCH(MAX(BackendTable[[#This Row],[T2S1]:[T2S5]]),BackendTable[[#This Row],[T2S1]:[T2S5]],0)","v":{"$error":"#N/A"}},{"$f":"MATCH(MAX(BackendTable[[#This Row],[T3S1]:[T3S5]]),BackendTable[[#This Row],[T3S1]:[T3S5]],0)","v":{"$error":"#N/A"}}]
[null,{"$f":"ROW()-ROW(BackendTable[[#Headers],[Row'#]])","v":445},{"$f":"'Data In'!A452","v":0},{"$f":"IF(BackendTable[[#This Row],[Time]]-'Reference Cells'!$C$3<=0,NA(),'Reference Cells'!$C$4-BackendTable[[#This Row],[Time]])*86400","v":{"$error":"#N/A"}},{"$f":"IFERROR(8-BackendTable[[#This Row],[Column1]],\"\")","v":""},{"$f":"IF(ISERROR(BackendTable[[#This Row],[Column1]]),-9,(BackendTable[[#This Row],[Net Time]]-NetTimeMin)*RangeAdj)","v":-9},{"$f":"IF(AND(BackendTable[[#This Row],[Time]]>='Reference Cells'!$C$6,BackendTable[[#This Row],[Time]]<='Reference Cells'!$C$7),(BackendTable[[#This Row],[Time]]-'Reference Cells'!$C$6)*86400,NA())","v":2},{"$f":"IF(CommandCell='Reference Cells'!$C$17,NA(),ABS('Data In'!B452-INDIRECT(\"ZeroVal_\"&H$2,0)))","v":0},{"$f":"IF(CommandCell='Reference Cells'!$C$17,NA(),ABS('Data In'!C452-INDIRECT(\"ZeroVal_\"&I$2,0)))","v":0},{"$f":"IF(CommandCell='Reference Cells'!$C$17,NA(),ABS('Data In'!D452-INDIRECT(\"ZeroVal_\"&J$2,0)))","v":0},{"$f":"IF(CommandCell='Reference Cells'!$C$17,NA(),ABS('Data In'!E452-INDIRECT(\"ZeroVal_\"&K$2,0)))","v":0},{"$f":"IF(CommandCell='Reference Cells'!$C$17,NA(),ABS('Data In'!F452-INDIRECT(\"ZeroVal_\"&L$2,0)))","v":0},{"$f":"MAX(BackendTable[[#This Row],[S1]:[S5]])","v":0},{"$f":"IF(ISERROR(BackendTable[[#This Row],[T0Time]]),0,COUNTIFS(BackendTable[T0Time],\"<=\"&3,BackendTable[T0Time],\">=\"&0)-COUNTIFS(BackendTable[T0Time],\">\"&BackendTable[[#This Row],[T0Time]]))","v":500},null,null,null,null,null,null,null,null,null,null,null,null,null,null,null,null,null,null,null,null,null,null,null,null,{"$f":"MATCH(MAX(BackendTable[[#This Row],[T1S1]:[T1S5]]),BackendTable[[#This Row],[T1S1]:[T1S5]],0)","v":{"$error":"#N/A"}},{"$f":"MATCH(MAX(BackendTable[[#This Row],[T2S1]:[T2S5]]),BackendTable[[#This Row],[T2S1]:[T2S5]],0)","v":{"$error":"#N/A"}},{"$f":"MATCH(MAX(BackendTable[[#This Row],[T3S1]:[T3S5]]),BackendTable[[#This Row],[T3S1]:[T3S5]],0)","v":{"$error":"#N/A"}}]
[null,{"$f":"ROW()-ROW(BackendTable[[#Headers],[Row'#]])","v":446},{"$f":"'Data In'!A453","v":0},{"$f":"IF(BackendTable[[#This Row],[Time]]-'Reference Cells'!$C$3<=0,NA(),'Reference Cells'!$C$4-BackendTable[[#This Row],[Time]])*86400","v":{"$error":"#N/A"}},{"$f":"IFERROR(8-BackendTable[[#This Row],[Column1]],\"\")","v":""},{"$f":"IF(ISERROR(BackendTable[[#This Row],[Column1]]),-9,(BackendTable[[#This Row],[Net Time]]-NetTimeMin)*RangeAdj)","v":-9},{"$f":"IF(AND(BackendTable[[#This Row],[Time]]>='Reference Cells'!$C$6,BackendTable[[#This Row],[Time]]<='Reference Cells'!$C$7),(BackendTable[[#This Row],[Time]]-'Reference Cells'!$C$6)*86400,NA())","v":2},{"$f":"IF(CommandCell='Reference Cells'!$C$17,NA(),ABS('Data In'!B453-INDIRECT(\"ZeroVal_\"&H$2,0)))","v":0},{"$f":"IF(CommandCell='Reference Cells'!$C$17,NA(),ABS('Data In'!C453-INDIRECT(\"ZeroVal_\"&I$2,0)))","v":0},{"$f":"IF(CommandCell='Reference Cells'!$C$17,NA(),ABS('Data In'!D453-INDIRECT(\"ZeroVal_\"&J$2,0)))","v":0},{"$f":"IF(CommandCell='Reference Cells'!$C$17,NA(),ABS('Data In'!E453-INDIRECT(\"ZeroVal_\"&K$2,0)))","v":0},{"$f":"IF(CommandCell='Reference Cells'!$C$17,NA(),ABS('Data In'!F453-INDIRECT(\"ZeroVal_\"&L$2,0)))","v":0},{"$f":"MAX(BackendTable[[#This Row],[S1]:[S5]])","v":0},{"$f":"IF(ISERROR(BackendTable[[#This Row],[T0Time]]),0,COUNTIFS(BackendTable[T0Time],\"<=\"&3,BackendTable[T0Time],\">=\"&0)-COUNTIFS(BackendTable[T0Time],\">\"&BackendTable[[#This Row],[T0Time]]))","v":500},null,null,null,null,null,null,null,null,null,null,null,null,null,null,null,null,null,null,null,null,null,null,null,null,{"$f":"MATCH(MAX(BackendTable[[#This Row],[T1S1]:[T1S5]]),BackendTable[[#This Row],[T1S1]:[T1S5]],0)","v":{"$error":"#N/A"}},{"$f":"MATCH(MAX(BackendTable[[#This Row],[T2S1]:[T2S5]]),BackendTable[[#This Row],[T2S1]:[T2S5]],0)","v":{"$error":"#N/A"}},{"$f":"MATCH(MAX(BackendTable[[#This Row],[T3S1]:[T3S5]]),BackendTable[[#This Row],[T3S1]:[T3S5]],0)","v":{"$error":"#N/A"}}]
[null,{"$f":"ROW()-ROW(BackendTable[[#Headers],[Row'#]])","v":447},{"$f":"'Data In'!A454","v":0},{"$f":"IF(BackendTable[[#This Row],[Time]]-'Reference Cells'!$C$3<=0,NA(),'Reference Cells'!$C$4-BackendTable[[#This Row],[Time]])*86400","v":{"$error":"#N/A"}},{"$f":"IFERROR(8-BackendTable[[#This Row],[Column1]],\"\")","v":""},{"$f":"IF(ISERROR(BackendTable[[#This Row],[Column1]]),-9,(BackendTable[[#This Row],[Net Time]]-NetTimeMin)*RangeAdj)","v":-9},{"$f":"IF(AND(BackendTable[[#This Row],[Time]]>='Reference Cells'!$C$6,BackendTable[[#This Row],[Time]]<='Reference Cells'!$C$7),(BackendTable[[#This Row],[Time]]-'Reference Cells'!$C$6)*86400,NA())","v":2},{"$f":"IF(CommandCell='Reference Cells'!$C$17,NA(),ABS('Data In'!B454-INDIRECT(\"ZeroVal_\"&H$2,0)))","v":0},{"$f":"IF(CommandCell='Reference Cells'!$C$17,NA(),ABS('Data In'!C454-INDIRECT(\"ZeroVal_\"&I$2,0)))","v":0},{"$f":"IF(CommandCell='Reference Cells'!$C$17,NA(),ABS('Data In'!D454-INDIRECT(\"ZeroVal_\"&J$2,0)))","v":0},{"$f":"IF(CommandCell='Reference Cells'!$C$17,NA(),ABS('Data In'!E454-INDIRECT(\"ZeroVal_\"&K$2,0)))","v":0},{"$f":"IF(CommandCell='Reference Cells'!$C$17,NA(),ABS('Data In'!F454-INDIRECT(\"ZeroVal_\"&L$2,0)))","v":0},{"$f":"MAX(BackendTable[[#This Row],[S1]:[S5]])","v":0},{"$f":"IF(ISERROR(BackendTable[[#This Row],[T0Time]]),0,COUNTIFS(BackendTable[T0Time],\"<=\"&3,BackendTable[T0Time],\">=\"&0)-COUNTIFS(BackendTable[T0Time],\">\"&BackendTable[[#This Row],[T0Time]]))","v":500},null,null,null,null,null,null,null,null,null,null,null,null,null,null,null,null,null,null,null,null,null,null,null,null,{"$f":"MATCH(MAX(BackendTable[[#This Row],[T1S1]:[T1S5]]),BackendTable[[#This Row],[T1S1]:[T1S5]],0)","v":{"$error":"#N/A"}},{"$f":"MATCH(MAX(BackendTable[[#This Row],[T2S1]:[T2S5]]),BackendTable[[#This Row],[T2S1]:[T2S5]],0)","v":{"$error":"#N/A"}},{"$f":"MATCH(MAX(BackendTable[[#This Row],[T3S1]:[T3S5]]),BackendTable[[#This Row],[T3S1]:[T3S5]],0)","v":{"$error":"#N/A"}}]
[null,{"$f":"ROW()-ROW(BackendTable[[#Headers],[Row'#]])","v":448},{"$f":"'Data In'!A455","v":0},{"$f":"IF(BackendTable[[#This Row],[Time]]-'Reference Cells'!$C$3<=0,NA(),'Reference Cells'!$C$4-BackendTable[[#This Row],[Time]])*86400","v":{"$error":"#N/A"}},{"$f":"IFERROR(8-BackendTable[[#This Row],[Column1]],\"\")","v":""},{"$f":"IF(ISERROR(BackendTable[[#This Row],[Column1]]),-9,(BackendTable[[#This Row],[Net Time]]-NetTimeMin)*RangeAdj)","v":-9},{"$f":"IF(AND(BackendTable[[#This Row],[Time]]>='Reference Cells'!$C$6,BackendTable[[#This Row],[Time]]<='Reference Cells'!$C$7),(BackendTable[[#This Row],[Time]]-'Reference Cells'!$C$6)*86400,NA())","v":2},{"$f":"IF(CommandCell='Reference Cells'!$C$17,NA(),ABS('Data In'!B455-INDIRECT(\"ZeroVal_\"&H$2,0)))","v":0},{"$f":"IF(CommandCell='Reference Cells'!$C$17,NA(),ABS('Data In'!C455-INDIRECT(\"ZeroVal_\"&I$2,0)))","v":0},{"$f":"IF(CommandCell='Reference Cells'!$C$17,NA(),ABS('Data In'!D455-INDIRECT(\"ZeroVal_\"&J$2,0)))","v":0},{"$f":"IF(CommandCell='Reference Cells'!$C$17,NA(),ABS('Data In'!E455-INDIRECT(\"ZeroVal_\"&K$2,0)))","v":0},{"$f":"IF(CommandCell='Reference Cells'!$C$17,NA(),ABS('Data In'!F455-INDIRECT(\"ZeroVal_\"&L$2,0)))","v":0},{"$f":"MAX(BackendTable[[#This Row],[S1]:[S5]])","v":0},{"$f":"IF(ISERROR(BackendTable[[#This Row],[T0Time]]),0,COUNTIFS(BackendTable[T0Time],\"<=\"&3,BackendTable[T0Time],\">=\"&0)-COUNTIFS(BackendTable[T0Time],\">\"&BackendTable[[#This Row],[T0Time]]))","v":500},null,null,null,null,null,null,null,null,null,null,null,null,null,null,null,null,null,null,null,null,null,null,null,null,{"$f":"MATCH(MAX(BackendTable[[#This Row],[T1S1]:[T1S5]]),BackendTable[[#This Row],[T1S1]:[T1S5]],0)","v":{"$error":"#N/A"}},{"$f":"MATCH(MAX(BackendTable[[#This Row],[T2S1]:[T2S5]]),BackendTable[[#This Row],[T2S1]:[T2S5]],0)","v":{"$error":"#N/A"}},{"$f":"MATCH(MAX(BackendTable[[#This Row],[T3S1]:[T3S5]]),BackendTable[[#This Row],[T3S1]:[T3S5]],0)","v":{"$error":"#N/A"}}]
[null,{"$f":"ROW()-ROW(BackendTable[[#Headers],[Row'#]])","v":449},{"$f":"'Data In'!A456","v":0},{"$f":"IF(BackendTable[[#This Row],[Time]]-'Reference Cells'!$C$3<=0,NA(),'Reference Cells'!$C$4-BackendTable[[#This Row],[Time]])*86400","v":{"$error":"#N/A"}},{"$f":"IFERROR(8-BackendTable[[#This Row],[Column1]],\"\")","v":""},{"$f":"IF(ISERROR(BackendTable[[#This Row],[Column1]]),-9,(BackendTable[[#This Row],[Net Time]]-NetTimeMin)*RangeAdj)","v":-9},{"$f":"IF(AND(BackendTable[[#This Row],[Time]]>='Reference Cells'!$C$6,BackendTable[[#This Row],[Time]]<='Reference Cells'!$C$7),(BackendTable[[#This Row],[Time]]-'Reference Cells'!$C$6)*86400,NA())","v":2},{"$f":"IF(CommandCell='Reference Cells'!$C$17,NA(),ABS('Data In'!B456-INDIRECT(\"ZeroVal_\"&H$2,0)))","v":0},{"$f":"IF(CommandCell='Reference Cells'!$C$17,NA(),ABS('Data In'!C456-INDIRECT(\"ZeroVal_\"&I$2,0)))","v":0},{"$f":"IF(CommandCell='Reference Cells'!$C$17,NA(),ABS('Data In'!D456-INDIRECT(\"ZeroVal_\"&J$2,0)))","v":0},{"$f":"IF(CommandCell='Reference Cells'!$C$17,NA(),ABS('Data In'!E456-INDIRECT(\"ZeroVal_\"&K$2,0)))","v":0},{"$f":"IF(CommandCell='Reference Cells'!$C$17,NA(),ABS('Data In'!F456-INDIRECT(\"ZeroVal_\"&L$2,0)))","v":0},{"$f":"MAX(BackendTable[[#This Row],[S1]:[S5]])","v":0},{"$f":"IF(ISERROR(BackendTable[[#This Row],[T0Time]]),0,COUNTIFS(BackendTable[T0Time],\"<=\"&3,BackendTable[T0Time],\">=\"&0)-COUNTIFS(BackendTable[T0Time],\">\"&BackendTable[[#This Row],[T0Time]]))","v":500},null,null,null,null,null,null,null,null,null,null,null,null,null,null,null,null,null,null,null,null,null,null,null,null,{"$f":"MATCH(MAX(BackendTable[[#This Row],[T1S1]:[T1S5]]),BackendTable[[#This Row],[T1S1]:[T1S5]],0)","v":{"$error":"#N/A"}},{"$f":"MATCH(MAX(BackendTable[[#This Row],[T2S1]:[T2S5]]),BackendTable[[#This Row],[T2S1]:[T2S5]],0)","v":{"$error":"#N/A"}},{"$f":"MATCH(MAX(BackendTable[[#This Row],[T3S1]:[T3S5]]),BackendTable[[#This Row],[T3S1]:[T3S5]],0)","v":{"$error":"#N/A"}}]
[null,{"$f":"ROW()-ROW(BackendTable[[#Headers],[Row'#]])","v":450},{"$f":"'Data In'!A457","v":0},{"$f":"IF(BackendTable[[#This Row],[Time]]-'Reference Cells'!$C$3<=0,NA(),'Reference Cells'!$C$4-BackendTable[[#This Row],[Time]])*86400","v":{"$error":"#N/A"}},{"$f":"IFERROR(8-BackendTable[[#This Row],[Column1]],\"\")","v":""},{"$f":"IF(ISERROR(BackendTable[[#This Row],[Column1]]),-9,(BackendTable[[#This Row],[Net Time]]-NetTimeMin)*RangeAdj)","v":-9},{"$f":"IF(AND(BackendTable[[#This Row],[Time]]>='Reference Cells'!$C$6,BackendTable[[#This Row],[Time]]<='Reference Cells'!$C$7),(BackendTable[[#This Row],[Time]]-'Reference Cells'!$C$6)*86400,NA())","v":2},{"$f":"IF(CommandCell='Reference Cells'!$C$17,NA(),ABS('Data In'!B457-INDIRECT(\"ZeroVal_\"&H$2,0)))","v":0},{"$f":"IF(CommandCell='Reference Cells'!$C$17,NA(),ABS('Data In'!C457-INDIRECT(\"ZeroVal_\"&I$2,0)))","v":0},{"$f":"IF(CommandCell='Reference Cells'!$C$17,NA(),ABS('Data In'!D457-INDIRECT(\"ZeroVal_\"&J$2,0)))","v":0},{"$f":"IF(CommandCell='Reference Cells'!$C$17,NA(),ABS('Data In'!E457-INDIRECT(\"ZeroVal_\"&K$2,0)))","v":0},{"$f":"IF(CommandCell='Reference Cells'!$C$17,NA(),ABS('Data In'!F457-INDIRECT(\"ZeroVal_\"&L$2,0)))","v":0},{"$f":"MAX(BackendTable[[#This Row],[S1]:[S5]])","v":0},{"$f":"IF(ISERROR(BackendTable[[#This Row],[T0Time]]),0,COUNTIFS(BackendTable[T0Time],\"<=\"&3,BackendTable[T0Time],\">=\"&0)-COUNTIFS(BackendTable[T0Time],\">\"&BackendTable[[#This Row],[T0Time]]))","v":500},null,null,null,null,null,null,null,null,null,null,null,null,null,null,null,null,null,null,null,null,null,null,null,null,{"$f":"MATCH(MAX(BackendTable[[#This Row],[T1S1]:[T1S5]]),BackendTable[[#This Row],[T1S1]:[T1S5]],0)","v":{"$error":"#N/A"}},{"$f":"MATCH(MAX(BackendTable[[#This Row],[T2S1]:[T2S5]]),BackendTable[[#This Row],[T2S1]:[T2S5]],0)","v":{"$error":"#N/A"}},{"$f":"MATCH(MAX(BackendTable[[#This Row],[T3S1]:[T3S5]]),BackendTable[[#This Row],[T3S1]:[T3S5]],0)","v":{"$error":"#N/A"}}]
[null,{"$f":"ROW()-ROW(BackendTable[[#Headers],[Row'#]])","v":451},{"$f":"'Data In'!A458","v":0},{"$f":"IF(BackendTable[[#This Row],[Time]]-'Reference Cells'!$C$3<=0,NA(),'Reference Cells'!$C$4-BackendTable[[#This Row],[Time]])*86400","v":{"$error":"#N/A"}},{"$f":"IFERROR(8-BackendTable[[#This Row],[Column1]],\"\")","v":""},{"$f":"IF(ISERROR(BackendTable[[#This Row],[Column1]]),-9,(BackendTable[[#This Row],[Net Time]]-NetTimeMin)*RangeAdj)","v":-9},{"$f":"IF(AND(BackendTable[[#This Row],[Time]]>='Reference Cells'!$C$6,BackendTable[[#This Row],[Time]]<='Reference Cells'!$C$7),(BackendTable[[#This Row],[Time]]-'Reference Cells'!$C$6)*86400,NA())","v":2},{"$f":"IF(CommandCell='Reference Cells'!$C$17,NA(),ABS('Data In'!B458-INDIRECT(\"ZeroVal_\"&H$2,0)))","v":0},{"$f":"IF(CommandCell='Reference Cells'!$C$17,NA(),ABS('Data In'!C458-INDIRECT(\"ZeroVal_\"&I$2,0)))","v":0},{"$f":"IF(CommandCell='Reference Cells'!$C$17,NA(),ABS('Data In'!D458-INDIRECT(\"ZeroVal_\"&J$2,0)))","v":0},{"$f":"IF(CommandCell='Reference Cells'!$C$17,NA(),ABS('Data In'!E458-INDIRECT(\"ZeroVal_\"&K$2,0)))","v":0},{"$f":"IF(CommandCell='Reference Cells'!$C$17,NA(),ABS('Data In'!F458-INDIRECT(\"ZeroVal_\"&L$2,0)))","v":0},{"$f":"MAX(BackendTable[[#This Row],[S1]:[S5]])","v":0},{"$f":"IF(ISERROR(BackendTable[[#This Row],[T0Time]]),0,COUNTIFS(BackendTable[T0Time],\"<=\"&3,BackendTable[T0Time],\">=\"&0)-COUNTIFS(BackendTable[T0Time],\">\"&BackendTable[[#This Row],[T0Time]]))","v":500},null,null,null,null,null,null,null,null,null,null,null,null,null,null,null,null,null,null,null,null,null,null,null,null,{"$f":"MATCH(MAX(BackendTable[[#This Row],[T1S1]:[T1S5]]),BackendTable[[#This Row],[T1S1]:[T1S5]],0)","v":{"$error":"#N/A"}},{"$f":"MATCH(MAX(BackendTable[[#This Row],[T2S1]:[T2S5]]),BackendTable[[#This Row],[T2S1]:[T2S5]],0)","v":{"$error":"#N/A"}},{"$f":"MATCH(MAX(BackendTable[[#This Row],[T3S1]:[T3S5]]),BackendTable[[#This Row],[T3S1]:[T3S5]],0)","v":{"$error":"#N/A"}}]
[null,{"$f":"ROW()-ROW(BackendTable[[#Headers],[Row'#]])","v":452},{"$f":"'Data In'!A459","v":0},{"$f":"IF(BackendTable[[#This Row],[Time]]-'Reference Cells'!$C$3<=0,NA(),'Reference Cells'!$C$4-BackendTable[[#This Row],[Time]])*86400","v":{"$error":"#N/A"}},{"$f":"IFERROR(8-BackendTable[[#This Row],[Column1]],\"\")","v":""},{"$f":"IF(ISERROR(BackendTable[[#This Row],[Column1]]),-9,(BackendTable[[#This Row],[Net Time]]-NetTimeMin)*RangeAdj)","v":-9},{"$f":"IF(AND(BackendTable[[#This Row],[Time]]>='Reference Cells'!$C$6,BackendTable[[#This Row],[Time]]<='Reference Cells'!$C$7),(BackendTable[[#This Row],[Time]]-'Reference Cells'!$C$6)*86400,NA())","v":2},{"$f":"IF(CommandCell='Reference Cells'!$C$17,NA(),ABS('Data In'!B459-INDIRECT(\"ZeroVal_\"&H$2,0)))","v":0},{"$f":"IF(CommandCell='Reference Cells'!$C$17,NA(),ABS('Data In'!C459-INDIRECT(\"ZeroVal_\"&I$2,0)))","v":0},{"$f":"IF(CommandCell='Reference Cells'!$C$17,NA(),ABS('Data In'!D459-INDIRECT(\"ZeroVal_\"&J$2,0)))","v":0},{"$f":"IF(CommandCell='Reference Cells'!$C$17,NA(),ABS('Data In'!E459-INDIRECT(\"ZeroVal_\"&K$2,0)))","v":0},{"$f":"IF(CommandCell='Reference Cells'!$C$17,NA(),ABS('Data In'!F459-INDIRECT(\"ZeroVal_\"&L$2,0)))","v":0},{"$f":"MAX(BackendTable[[#This Row],[S1]:[S5]])","v":0},{"$f":"IF(ISERROR(BackendTable[[#This Row],[T0Time]]),0,COUNTIFS(BackendTable[T0Time],\"<=\"&3,BackendTable[T0Time],\">=\"&0)-COUNTIFS(BackendTable[T0Time],\">\"&BackendTable[[#This Row],[T0Time]]))","v":500},null,null,null,null,null,null,null,null,null,null,null,null,null,null,null,null,null,null,null,null,null,null,null,null,{"$f":"MATCH(MAX(BackendTable[[#This Row],[T1S1]:[T1S5]]),BackendTable[[#This Row],[T1S1]:[T1S5]],0)","v":{"$error":"#N/A"}},{"$f":"MATCH(MAX(BackendTable[[#This Row],[T2S1]:[T2S5]]),BackendTable[[#This Row],[T2S1]:[T2S5]],0)","v":{"$error":"#N/A"}},{"$f":"MATCH(MAX(BackendTable[[#This Row],[T3S1]:[T3S5]]),BackendTable[[#This Row],[T3S1]:[T3S5]],0)","v":{"$error":"#N/A"}}]
[null,{"$f":"ROW()-ROW(BackendTable[[#Headers],[Row'#]])","v":453},{"$f":"'Data In'!A460","v":0},{"$f":"IF(BackendTable[[#This Row],[Time]]-'Reference Cells'!$C$3<=0,NA(),'Reference Cells'!$C$4-BackendTable[[#This Row],[Time]])*86400","v":{"$error":"#N/A"}},{"$f":"IFERROR(8-BackendTable[[#This Row],[Column1]],\"\")","v":""},{"$f":"IF(ISERROR(BackendTable[[#This Row],[Column1]]),-9,(BackendTable[[#This Row],[Net Time]]-NetTimeMin)*RangeAdj)","v":-9},{"$f":"IF(AND(BackendTable[[#This Row],[Time]]>='Reference Cells'!$C$6,BackendTable[[#This Row],[Time]]<='Reference Cells'!$C$7),(BackendTable[[#This Row],[Time]]-'Reference Cells'!$C$6)*86400,NA())","v":2},{"$f":"IF(CommandCell='Reference Cells'!$C$17,NA(),ABS('Data In'!B460-INDIRECT(\"ZeroVal_\"&H$2,0)))","v":0},{"$f":"IF(CommandCell='Reference Cells'!$C$17,NA(),ABS('Data In'!C460-INDIRECT(\"ZeroVal_\"&I$2,0)))","v":0},{"$f":"IF(CommandCell='Reference Cells'!$C$17,NA(),ABS('Data In'!D460-INDIRECT(\"ZeroVal_\"&J$2,0)))","v":0},{"$f":"IF(CommandCell='Reference Cells'!$C$17,NA(),ABS('Data In'!E460-INDIRECT(\"ZeroVal_\"&K$2,0)))","v":0},{"$f":"IF(CommandCell='Reference Cells'!$C$17,NA(),ABS('Data In'!F460-INDIRECT(\"ZeroVal_\"&L$2,0)))","v":0},{"$f":"MAX(BackendTable[[#This Row],[S1]:[S5]])","v":0},{"$f":"IF(ISERROR(BackendTable[[#This Row],[T0Time]]),0,COUNTIFS(BackendTable[T0Time],\"<=\"&3,BackendTable[T0Time],\">=\"&0)-COUNTIFS(BackendTable[T0Time],\">\"&BackendTable[[#This Row],[T0Time]]))","v":500},null,null,null,null,null,null,null,null,null,null,null,null,null,null,null,null,null,null,null,null,null,null,null,null,{"$f":"MATCH(MAX(BackendTable[[#This Row],[T1S1]:[T1S5]]),BackendTable[[#This Row],[T1S1]:[T1S5]],0)","v":{"$error":"#N/A"}},{"$f":"MATCH(MAX(BackendTable[[#This Row],[T2S1]:[T2S5]]),BackendTable[[#This Row],[T2S1]:[T2S5]],0)","v":{"$error":"#N/A"}},{"$f":"MATCH(MAX(BackendTable[[#This Row],[T3S1]:[T3S5]]),BackendTable[[#This Row],[T3S1]:[T3S5]],0)","v":{"$error":"#N/A"}}]
[null,{"$f":"ROW()-ROW(BackendTable[[#Headers],[Row'#]])","v":454},{"$f":"'Data In'!A461","v":0},{"$f":"IF(BackendTable[[#This Row],[Time]]-'Reference Cells'!$C$3<=0,NA(),'Reference Cells'!$C$4-BackendTable[[#This Row],[Time]])*86400","v":{"$error":"#N/A"}},{"$f":"IFERROR(8-BackendTable[[#This Row],[Column1]],\"\")","v":""},{"$f":"IF(ISERROR(BackendTable[[#This Row],[Column1]]),-9,(BackendTable[[#This Row],[Net Time]]-NetTimeMin)*RangeAdj)","v":-9},{"$f":"IF(AND(BackendTable[[#This Row],[Time]]>='Reference Cells'!$C$6,BackendTable[[#This Row],[Time]]<='Reference Cells'!$C$7),(BackendTable[[#This Row],[Time]]-'Reference Cells'!$C$6)*86400,NA())","v":2},{"$f":"IF(CommandCell='Reference Cells'!$C$17,NA(),ABS('Data In'!B461-INDIRECT(\"ZeroVal_\"&H$2,0)))","v":0},{"$f":"IF(CommandCell='Reference Cells'!$C$17,NA(),ABS('Data In'!C461-INDIRECT(\"ZeroVal_\"&I$2,0)))","v":0},{"$f":"IF(CommandCell='Reference Cells'!$C$17,NA(),ABS('Data In'!D461-INDIRECT(\"ZeroVal_\"&J$2,0)))","v":0},{"$f":"IF(CommandCell='Reference Cells'!$C$17,NA(),ABS('Data In'!E461-INDIRECT(\"ZeroVal_\"&K$2,0)))","v":0},{"$f":"IF(CommandCell='Reference Cells'!$C$17,NA(),ABS('Data In'!F461-INDIRECT(\"ZeroVal_\"&L$2,0)))","v":0},{"$f":"MAX(BackendTable[[#This Row],[S1]:[S5]])","v":0},{"$f":"IF(ISERROR(BackendTable[[#This Row],[T0Time]]),0,COUNTIFS(BackendTable[T0Time],\"<=\"&3,BackendTable[T0Time],\">=\"&0)-COUNTIFS(BackendTable[T0Time],\">\"&BackendTable[[#This Row],[T0Time]]))","v":500},null,null,null,null,null,null,null,null,null,null,null,null,null,null,null,null,null,null,null,null,null,null,null,null,{"$f":"MATCH(MAX(BackendTable[[#This Row],[T1S1]:[T1S5]]),BackendTable[[#This Row],[T1S1]:[T1S5]],0)","v":{"$error":"#N/A"}},{"$f":"MATCH(MAX(BackendTable[[#This Row],[T2S1]:[T2S5]]),BackendTable[[#This Row],[T2S1]:[T2S5]],0)","v":{"$error":"#N/A"}},{"$f":"MATCH(MAX(BackendTable[[#This Row],[T3S1]:[T3S5]]),BackendTable[[#This Row],[T3S1]:[T3S5]],0)","v":{"$error":"#N/A"}}]
[null,{"$f":"ROW()-ROW(BackendTable[[#Headers],[Row'#]])","v":455},{"$f":"'Data In'!A462","v":0},{"$f":"IF(BackendTable[[#This Row],[Time]]-'Reference Cells'!$C$3<=0,NA(),'Reference Cells'!$C$4-BackendTable[[#This Row],[Time]])*86400","v":{"$error":"#N/A"}},{"$f":"IFERROR(8-BackendTable[[#This Row],[Column1]],\"\")","v":""},{"$f":"IF(ISERROR(BackendTable[[#This Row],[Column1]]),-9,(BackendTable[[#This Row],[Net Time]]-NetTimeMin)*RangeAdj)","v":-9},{"$f":"IF(AND(BackendTable[[#This Row],[Time]]>='Reference Cells'!$C$6,BackendTable[[#This Row],[Time]]<='Reference Cells'!$C$7),(BackendTable[[#This Row],[Time]]-'Reference Cells'!$C$6)*86400,NA())","v":2},{"$f":"IF(CommandCell='Reference Cells'!$C$17,NA(),ABS('Data In'!B462-INDIRECT(\"ZeroVal_\"&H$2,0)))","v":0},{"$f":"IF(CommandCell='Reference Cells'!$C$17,NA(),ABS('Data In'!C462-INDIRECT(\"ZeroVal_\"&I$2,0)))","v":0},{"$f":"IF(CommandCell='Reference Cells'!$C$17,NA(),ABS('Data In'!D462-INDIRECT(\"ZeroVal_\"&J$2,0)))","v":0},{"$f":"IF(CommandCell='Reference Cells'!$C$17,NA(),ABS('Data In'!E462-INDIRECT(\"ZeroVal_\"&K$2,0)))","v":0},{"$f":"IF(CommandCell='Reference Cells'!$C$17,NA(),ABS('Data In'!F462-INDIRECT(\"ZeroVal_\"&L$2,0)))","v":0},{"$f":"MAX(BackendTable[[#This Row],[S1]:[S5]])","v":0},{"$f":"IF(ISERROR(BackendTable[[#This Row],[T0Time]]),0,COUNTIFS(BackendTable[T0Time],\"<=\"&3,BackendTable[T0Time],\">=\"&0)-COUNTIFS(BackendTable[T0Time],\">\"&BackendTable[[#This Row],[T0Time]]))","v":500},null,null,null,null,null,null,null,null,null,null,null,null,null,null,null,null,null,null,null,null,null,null,null,null,{"$f":"MATCH(MAX(BackendTable[[#This Row],[T1S1]:[T1S5]]),BackendTable[[#This Row],[T1S1]:[T1S5]],0)","v":{"$error":"#N/A"}},{"$f":"MATCH(MAX(BackendTable[[#This Row],[T2S1]:[T2S5]]),BackendTable[[#This Row],[T2S1]:[T2S5]],0)","v":{"$error":"#N/A"}},{"$f":"MATCH(MAX(BackendTable[[#This Row],[T3S1]:[T3S5]]),BackendTable[[#This Row],[T3S1]:[T3S5]],0)","v":{"$error":"#N/A"}}]
[null,{"$f":"ROW()-ROW(BackendTable[[#Headers],[Row'#]])","v":456},{"$f":"'Data In'!A463","v":0},{"$f":"IF(BackendTable[[#This Row],[Time]]-'Reference Cells'!$C$3<=0,NA(),'Reference Cells'!$C$4-BackendTable[[#This Row],[Time]])*86400","v":{"$error":"#N/A"}},{"$f":"IFERROR(8-BackendTable[[#This Row],[Column1]],\"\")","v":""},{"$f":"IF(ISERROR(BackendTable[[#This Row],[Column1]]),-9,(BackendTable[[#This Row],[Net Time]]-NetTimeMin)*RangeAdj)","v":-9},{"$f":"IF(AND(BackendTable[[#This Row],[Time]]>='Reference Cells'!$C$6,BackendTable[[#This Row],[Time]]<='Reference Cells'!$C$7),(BackendTable[[#This Row],[Time]]-'Reference Cells'!$C$6)*86400,NA())","v":2},{"$f":"IF(CommandCell='Reference Cells'!$C$17,NA(),ABS('Data In'!B463-INDIRECT(\"ZeroVal_\"&H$2,0)))","v":0},{"$f":"IF(CommandCell='Reference Cells'!$C$17,NA(),ABS('Data In'!C463-INDIRECT(\"ZeroVal_\"&I$2,0)))","v":0},{"$f":"IF(CommandCell='Reference Cells'!$C$17,NA(),ABS('Data In'!D463-INDIRECT(\"ZeroVal_\"&J$2,0)))","v":0},{"$f":"IF(CommandCell='Reference Cells'!$C$17,NA(),ABS('Data In'!E463-INDIRECT(\"ZeroVal_\"&K$2,0)))","v":0},{"$f":"IF(CommandCell='Reference Cells'!$C$17,NA(),ABS('Data In'!F463-INDIRECT(\"ZeroVal_\"&L$2,0)))","v":0},{"$f":"MAX(BackendTable[[#This Row],[S1]:[S5]])","v":0},{"$f":"IF(ISERROR(BackendTable[[#This Row],[T0Time]]),0,COUNTIFS(BackendTable[T0Time],\"<=\"&3,BackendTable[T0Time],\">=\"&0)-COUNTIFS(BackendTable[T0Time],\">\"&BackendTable[[#This Row],[T0Time]]))","v":500},null,null,null,null,null,null,null,null,null,null,null,null,null,null,null,null,null,null,null,null,null,null,null,null,{"$f":"MATCH(MAX(BackendTable[[#This Row],[T1S1]:[T1S5]]),BackendTable[[#This Row],[T1S1]:[T1S5]],0)","v":{"$error":"#N/A"}},{"$f":"MATCH(MAX(BackendTable[[#This Row],[T2S1]:[T2S5]]),BackendTable[[#This Row],[T2S1]:[T2S5]],0)","v":{"$error":"#N/A"}},{"$f":"MATCH(MAX(BackendTable[[#This Row],[T3S1]:[T3S5]]),BackendTable[[#This Row],[T3S1]:[T3S5]],0)","v":{"$error":"#N/A"}}]
[null,{"$f":"ROW()-ROW(BackendTable[[#Headers],[Row'#]])","v":457},{"$f":"'Data In'!A464","v":0},{"$f":"IF(BackendTable[[#This Row],[Time]]-'Reference Cells'!$C$3<=0,NA(),'Reference Cells'!$C$4-BackendTable[[#This Row],[Time]])*86400","v":{"$error":"#N/A"}},{"$f":"IFERROR(8-BackendTable[[#This Row],[Column1]],\"\")","v":""},{"$f":"IF(ISERROR(BackendTable[[#This Row],[Column1]]),-9,(BackendTable[[#This Row],[Net Time]]-NetTimeMin)*RangeAdj)","v":-9},{"$f":"IF(AND(BackendTable[[#This Row],[Time]]>='Reference Cells'!$C$6,BackendTable[[#This Row],[Time]]<='Reference Cells'!$C$7),(BackendTable[[#This Row],[Time]]-'Reference Cells'!$C$6)*86400,NA())","v":2},{"$f":"IF(CommandCell='Reference Cells'!$C$17,NA(),ABS('Data In'!B464-INDIRECT(\"ZeroVal_\"&H$2,0)))","v":0},{"$f":"IF(CommandCell='Reference Cells'!$C$17,NA(),ABS('Data In'!C464-INDIRECT(\"ZeroVal_\"&I$2,0)))","v":0},{"$f":"IF(CommandCell='Reference Cells'!$C$17,NA(),ABS('Data In'!D464-INDIRECT(\"ZeroVal_\"&J$2,0)))","v":0},{"$f":"IF(CommandCell='Reference Cells'!$C$17,NA(),ABS('Data In'!E464-INDIRECT(\"ZeroVal_\"&K$2,0)))","v":0},{"$f":"IF(CommandCell='Reference Cells'!$C$17,NA(),ABS('Data In'!F464-INDIRECT(\"ZeroVal_\"&L$2,0)))","v":0},{"$f":"MAX(BackendTable[[#This Row],[S1]:[S5]])","v":0},{"$f":"IF(ISERROR(BackendTable[[#This Row],[T0Time]]),0,COUNTIFS(BackendTable[T0Time],\"<=\"&3,BackendTable[T0Time],\">=\"&0)-COUNTIFS(BackendTable[T0Time],\">\"&BackendTable[[#This Row],[T0Time]]))","v":500},null,null,null,null,null,null,null,null,null,null,null,null,null,null,null,null,null,null,null,null,null,null,null,null,{"$f":"MATCH(MAX(BackendTable[[#This Row],[T1S1]:[T1S5]]),BackendTable[[#This Row],[T1S1]:[T1S5]],0)","v":{"$error":"#N/A"}},{"$f":"MATCH(MAX(BackendTable[[#This Row],[T2S1]:[T2S5]]),BackendTable[[#This Row],[T2S1]:[T2S5]],0)","v":{"$error":"#N/A"}},{"$f":"MATCH(MAX(BackendTable[[#This Row],[T3S1]:[T3S5]]),BackendTable[[#This Row],[T3S1]:[T3S5]],0)","v":{"$error":"#N/A"}}]
[null,{"$f":"ROW()-ROW(BackendTable[[#Headers],[Row'#]])","v":458},{"$f":"'Data In'!A465","v":0},{"$f":"IF(BackendTable[[#This Row],[Time]]-'Reference Cells'!$C$3<=0,NA(),'Reference Cells'!$C$4-BackendTable[[#This Row],[Time]])*86400","v":{"$error":"#N/A"}},{"$f":"IFERROR(8-BackendTable[[#This Row],[Column1]],\"\")","v":""},{"$f":"IF(ISERROR(BackendTable[[#This Row],[Column1]]),-9,(BackendTable[[#This Row],[Net Time]]-NetTimeMin)*RangeAdj)","v":-9},{"$f":"IF(AND(BackendTable[[#This Row],[Time]]>='Reference Cells'!$C$6,BackendTable[[#This Row],[Time]]<='Reference Cells'!$C$7),(BackendTable[[#This Row],[Time]]-'Reference Cells'!$C$6)*86400,NA())","v":2},{"$f":"IF(CommandCell='Reference Cells'!$C$17,NA(),ABS('Data In'!B465-INDIRECT(\"ZeroVal_\"&H$2,0)))","v":0},{"$f":"IF(CommandCell='Reference Cells'!$C$17,NA(),ABS('Data In'!C465-INDIRECT(\"ZeroVal_\"&I$2,0)))","v":0},{"$f":"IF(CommandCell='Reference Cells'!$C$17,NA(),ABS('Data In'!D465-INDIRECT(\"ZeroVal_\"&J$2,0)))","v":0},{"$f":"IF(CommandCell='Reference Cells'!$C$17,NA(),ABS('Data In'!E465-INDIRECT(\"ZeroVal_\"&K$2,0)))","v":0},{"$f":"IF(CommandCell='Reference Cells'!$C$17,NA(),ABS('Data In'!F465-INDIRECT(\"ZeroVal_\"&L$2,0)))","v":0},{"$f":"MAX(BackendTable[[#This Row],[S1]:[S5]])","v":0},{"$f":"IF(ISERROR(BackendTable[[#This Row],[T0Time]]),0,COUNTIFS(BackendTable[T0Time],\"<=\"&3,BackendTable[T0Time],\">=\"&0)-COUNTIFS(BackendTable[T0Time],\">\"&BackendTable[[#This Row],[T0Time]]))","v":500},null,null,null,null,null,null,null,null,null,null,null,null,null,null,null,null,null,null,null,null,null,null,null,null,{"$f":"MATCH(MAX(BackendTable[[#This Row],[T1S1]:[T1S5]]),BackendTable[[#This Row],[T1S1]:[T1S5]],0)","v":{"$error":"#N/A"}},{"$f":"MATCH(MAX(BackendTable[[#This Row],[T2S1]:[T2S5]]),BackendTable[[#This Row],[T2S1]:[T2S5]],0)","v":{"$error":"#N/A"}},{"$f":"MATCH(MAX(BackendTable[[#This Row],[T3S1]:[T3S5]]),BackendTable[[#This Row],[T3S1]:[T3S5]],0)","v":{"$error":"#N/A"}}]
[null,{"$f":"ROW()-ROW(BackendTable[[#Headers],[Row'#]])","v":459},{"$f":"'Data In'!A466","v":0},{"$f":"IF(BackendTable[[#This Row],[Time]]-'Reference Cells'!$C$3<=0,NA(),'Reference Cells'!$C$4-BackendTable[[#This Row],[Time]])*86400","v":{"$error":"#N/A"}},{"$f":"IFERROR(8-BackendTable[[#This Row],[Column1]],\"\")","v":""},{"$f":"IF(ISERROR(BackendTable[[#This Row],[Column1]]),-9,(BackendTable[[#This Row],[Net Time]]-NetTimeMin)*RangeAdj)","v":-9},{"$f":"IF(AND(BackendTable[[#This Row],[Time]]>='Reference Cells'!$C$6,BackendTable[[#This Row],[Time]]<='Reference Cells'!$C$7),(BackendTable[[#This Row],[Time]]-'Reference Cells'!$C$6)*86400,NA())","v":2},{"$f":"IF(CommandCell='Reference Cells'!$C$17,NA(),ABS('Data In'!B466-INDIRECT(\"ZeroVal_\"&H$2,0)))","v":0},{"$f":"IF(CommandCell='Reference Cells'!$C$17,NA(),ABS('Data In'!C466-INDIRECT(\"ZeroVal_\"&I$2,0)))","v":0},{"$f":"IF(CommandCell='Reference Cells'!$C$17,NA(),ABS('Data In'!D466-INDIRECT(\"ZeroVal_\"&J$2,0)))","v":0},{"$f":"IF(CommandCell='Reference Cells'!$C$17,NA(),ABS('Data In'!E466-INDIRECT(\"ZeroVal_\"&K$2,0)))","v":0},{"$f":"IF(CommandCell='Reference Cells'!$C$17,NA(),ABS('Data In'!F466-INDIRECT(\"ZeroVal_\"&L$2,0)))","v":0},{"$f":"MAX(BackendTable[[#This Row],[S1]:[S5]])","v":0},{"$f":"IF(ISERROR(BackendTable[[#This Row],[T0Time]]),0,COUNTIFS(BackendTable[T0Time],\"<=\"&3,BackendTable[T0Time],\">=\"&0)-COUNTIFS(BackendTable[T0Time],\">\"&BackendTable[[#This Row],[T0Time]]))","v":500},null,null,null,null,null,null,null,null,null,null,null,null,null,null,null,null,null,null,null,null,null,null,null,null,{"$f":"MATCH(MAX(BackendTable[[#This Row],[T1S1]:[T1S5]]),BackendTable[[#This Row],[T1S1]:[T1S5]],0)","v":{"$error":"#N/A"}},{"$f":"MATCH(MAX(BackendTable[[#This Row],[T2S1]:[T2S5]]),BackendTable[[#This Row],[T2S1]:[T2S5]],0)","v":{"$error":"#N/A"}},{"$f":"MATCH(MAX(BackendTable[[#This Row],[T3S1]:[T3S5]]),BackendTable[[#This Row],[T3S1]:[T3S5]],0)","v":{"$error":"#N/A"}}]
[null,{"$f":"ROW()-ROW(BackendTable[[#Headers],[Row'#]])","v":460},{"$f":"'Data In'!A467","v":0},{"$f":"IF(BackendTable[[#This Row],[Time]]-'Reference Cells'!$C$3<=0,NA(),'Reference Cells'!$C$4-BackendTable[[#This Row],[Time]])*86400","v":{"$error":"#N/A"}},{"$f":"IFERROR(8-BackendTable[[#This Row],[Column1]],\"\")","v":""},{"$f":"IF(ISERROR(BackendTable[[#This Row],[Column1]]),-9,(BackendTable[[#This Row],[Net Time]]-NetTimeMin)*RangeAdj)","v":-9},{"$f":"IF(AND(BackendTable[[#This Row],[Time]]>='Reference Cells'!$C$6,BackendTable[[#This Row],[Time]]<='Reference Cells'!$C$7),(BackendTable[[#This Row],[Time]]-'Reference Cells'!$C$6)*86400,NA())","v":2},{"$f":"IF(CommandCell='Reference Cells'!$C$17,NA(),ABS('Data In'!B467-INDIRECT(\"ZeroVal_\"&H$2,0)))","v":0},{"$f":"IF(CommandCell='Reference Cells'!$C$17,NA(),ABS('Data In'!C467-INDIRECT(\"ZeroVal_\"&I$2,0)))","v":0},{"$f":"IF(CommandCell='Reference Cells'!$C$17,NA(),ABS('Data In'!D467-INDIRECT(\"ZeroVal_\"&J$2,0)))","v":0},{"$f":"IF(CommandCell='Reference Cells'!$C$17,NA(),ABS('Data In'!E467-INDIRECT(\"ZeroVal_\"&K$2,0)))","v":0},{"$f":"IF(CommandCell='Reference Cells'!$C$17,NA(),ABS('Data In'!F467-INDIRECT(\"ZeroVal_\"&L$2,0)))","v":0},{"$f":"MAX(BackendTable[[#This Row],[S1]:[S5]])","v":0},{"$f":"IF(ISERROR(BackendTable[[#This Row],[T0Time]]),0,COUNTIFS(BackendTable[T0Time],\"<=\"&3,BackendTable[T0Time],\">=\"&0)-COUNTIFS(BackendTable[T0Time],\">\"&BackendTable[[#This Row],[T0Time]]))","v":500},null,null,null,null,null,null,null,null,null,null,null,null,null,null,null,null,null,null,null,null,null,null,null,null,{"$f":"MATCH(MAX(BackendTable[[#This Row],[T1S1]:[T1S5]]),BackendTable[[#This Row],[T1S1]:[T1S5]],0)","v":{"$error":"#N/A"}},{"$f":"MATCH(MAX(BackendTable[[#This Row],[T2S1]:[T2S5]]),BackendTable[[#This Row],[T2S1]:[T2S5]],0)","v":{"$error":"#N/A"}},{"$f":"MATCH(MAX(BackendTable[[#This Row],[T3S1]:[T3S5]]),BackendTable[[#This Row],[T3S1]:[T3S5]],0)","v":{"$error":"#N/A"}}]
[null,{"$f":"ROW()-ROW(BackendTable[[#Headers],[Row'#]])","v":461},{"$f":"'Data In'!A468","v":0},{"$f":"IF(BackendTable[[#This Row],[Time]]-'Reference Cells'!$C$3<=0,NA(),'Reference Cells'!$C$4-BackendTable[[#This Row],[Time]])*86400","v":{"$error":"#N/A"}},{"$f":"IFERROR(8-BackendTable[[#This Row],[Column1]],\"\")","v":""},{"$f":"IF(ISERROR(BackendTable[[#This Row],[Column1]]),-9,(BackendTable[[#This Row],[Net Time]]-NetTimeMin)*RangeAdj)","v":-9},{"$f":"IF(AND(BackendTable[[#This Row],[Time]]>='Reference Cells'!$C$6,BackendTable[[#This Row],[Time]]<='Reference Cells'!$C$7),(BackendTable[[#This Row],[Time]]-'Reference Cells'!$C$6)*86400,NA())","v":2},{"$f":"IF(CommandCell='Reference Cells'!$C$17,NA(),ABS('Data In'!B468-INDIRECT(\"ZeroVal_\"&H$2,0)))","v":0},{"$f":"IF(CommandCell='Reference Cells'!$C$17,NA(),ABS('Data In'!C468-INDIRECT(\"ZeroVal_\"&I$2,0)))","v":0},{"$f":"IF(CommandCell='Reference Cells'!$C$17,NA(),ABS('Data In'!D468-INDIRECT(\"ZeroVal_\"&J$2,0)))","v":0},{"$f":"IF(CommandCell='Reference Cells'!$C$17,NA(),ABS('Data In'!E468-INDIRECT(\"ZeroVal_\"&K$2,0)))","v":0},{"$f":"IF(CommandCell='Reference Cells'!$C$17,NA(),ABS('Data In'!F468-INDIRECT(\"ZeroVal_\"&L$2,0)))","v":0},{"$f":"MAX(BackendTable[[#This Row],[S1]:[S5]])","v":0},{"$f":"IF(ISERROR(BackendTable[[#This Row],[T0Time]]),0,COUNTIFS(BackendTable[T0Time],\"<=\"&3,BackendTable[T0Time],\">=\"&0)-COUNTIFS(BackendTable[T0Time],\">\"&BackendTable[[#This Row],[T0Time]]))","v":500},null,null,null,null,null,null,null,null,null,null,null,null,null,null,null,null,null,null,null,null,null,null,null,null,{"$f":"MATCH(MAX(BackendTable[[#This Row],[T1S1]:[T1S5]]),BackendTable[[#This Row],[T1S1]:[T1S5]],0)","v":{"$error":"#N/A"}},{"$f":"MATCH(MAX(BackendTable[[#This Row],[T2S1]:[T2S5]]),BackendTable[[#This Row],[T2S1]:[T2S5]],0)","v":{"$error":"#N/A"}},{"$f":"MATCH(MAX(BackendTable[[#This Row],[T3S1]:[T3S5]]),BackendTable[[#This Row],[T3S1]:[T3S5]],0)","v":{"$error":"#N/A"}}]
[null,{"$f":"ROW()-ROW(BackendTable[[#Headers],[Row'#]])","v":462},{"$f":"'Data In'!A469","v":0},{"$f":"IF(BackendTable[[#This Row],[Time]]-'Reference Cells'!$C$3<=0,NA(),'Reference Cells'!$C$4-BackendTable[[#This Row],[Time]])*86400","v":{"$error":"#N/A"}},{"$f":"IFERROR(8-BackendTable[[#This Row],[Column1]],\"\")","v":""},{"$f":"IF(ISERROR(BackendTable[[#This Row],[Column1]]),-9,(BackendTable[[#This Row],[Net Time]]-NetTimeMin)*RangeAdj)","v":-9},{"$f":"IF(AND(BackendTable[[#This Row],[Time]]>='Reference Cells'!$C$6,BackendTable[[#This Row],[Time]]<='Reference Cells'!$C$7),(BackendTable[[#This Row],[Time]]-'Reference Cells'!$C$6)*86400,NA())","v":2},{"$f":"IF(CommandCell='Reference Cells'!$C$17,NA(),ABS('Data In'!B469-INDIRECT(\"ZeroVal_\"&H$2,0)))","v":0},{"$f":"IF(CommandCell='Reference Cells'!$C$17,NA(),ABS('Data In'!C469-INDIRECT(\"ZeroVal_\"&I$2,0)))","v":0},{"$f":"IF(CommandCell='Reference Cells'!$C$17,NA(),ABS('Data In'!D469-INDIRECT(\"ZeroVal_\"&J$2,0)))","v":0},{"$f":"IF(CommandCell='Reference Cells'!$C$17,NA(),ABS('Data In'!E469-INDIRECT(\"ZeroVal_\"&K$2,0)))","v":0},{"$f":"IF(CommandCell='Reference Cells'!$C$17,NA(),ABS('Data In'!F469-INDIRECT(\"ZeroVal_\"&L$2,0)))","v":0},{"$f":"MAX(BackendTable[[#This Row],[S1]:[S5]])","v":0},{"$f":"IF(ISERROR(BackendTable[[#This Row],[T0Time]]),0,COUNTIFS(BackendTable[T0Time],\"<=\"&3,BackendTable[T0Time],\">=\"&0)-COUNTIFS(BackendTable[T0Time],\">\"&BackendTable[[#This Row],[T0Time]]))","v":500},null,null,null,null,null,null,null,null,null,null,null,null,null,null,null,null,null,null,null,null,null,null,null,null,{"$f":"MATCH(MAX(BackendTable[[#This Row],[T1S1]:[T1S5]]),BackendTable[[#This Row],[T1S1]:[T1S5]],0)","v":{"$error":"#N/A"}},{"$f":"MATCH(MAX(BackendTable[[#This Row],[T2S1]:[T2S5]]),BackendTable[[#This Row],[T2S1]:[T2S5]],0)","v":{"$error":"#N/A"}},{"$f":"MATCH(MAX(BackendTable[[#This Row],[T3S1]:[T3S5]]),BackendTable[[#This Row],[T3S1]:[T3S5]],0)","v":{"$error":"#N/A"}}]
[null,{"$f":"ROW()-ROW(BackendTable[[#Headers],[Row'#]])","v":463},{"$f":"'Data In'!A470","v":0},{"$f":"IF(BackendTable[[#This Row],[Time]]-'Reference Cells'!$C$3<=0,NA(),'Reference Cells'!$C$4-BackendTable[[#This Row],[Time]])*86400","v":{"$error":"#N/A"}},{"$f":"IFERROR(8-BackendTable[[#This Row],[Column1]],\"\")","v":""},{"$f":"IF(ISERROR(BackendTable[[#This Row],[Column1]]),-9,(BackendTable[[#This Row],[Net Time]]-NetTimeMin)*RangeAdj)","v":-9},{"$f":"IF(AND(BackendTable[[#This Row],[Time]]>='Reference Cells'!$C$6,BackendTable[[#This Row],[Time]]<='Reference Cells'!$C$7),(BackendTable[[#This Row],[Time]]-'Reference Cells'!$C$6)*86400,NA())","v":2},{"$f":"IF(CommandCell='Reference Cells'!$C$17,NA(),ABS('Data In'!B470-INDIRECT(\"ZeroVal_\"&H$2,0)))","v":0},{"$f":"IF(CommandCell='Reference Cells'!$C$17,NA(),ABS('Data In'!C470-INDIRECT(\"ZeroVal_\"&I$2,0)))","v":0},{"$f":"IF(CommandCell='Reference Cells'!$C$17,NA(),ABS('Data In'!D470-INDIRECT(\"ZeroVal_\"&J$2,0)))","v":0},{"$f":"IF(CommandCell='Reference Cells'!$C$17,NA(),ABS('Data In'!E470-INDIRECT(\"ZeroVal_\"&K$2,0)))","v":0},{"$f":"IF(CommandCell='Reference Cells'!$C$17,NA(),ABS('Data In'!F470-INDIRECT(\"ZeroVal_\"&L$2,0)))","v":0},{"$f":"MAX(BackendTable[[#This Row],[S1]:[S5]])","v":0},{"$f":"IF(ISERROR(BackendTable[[#This Row],[T0Time]]),0,COUNTIFS(BackendTable[T0Time],\"<=\"&3,BackendTable[T0Time],\">=\"&0)-COUNTIFS(BackendTable[T0Time],\">\"&BackendTable[[#This Row],[T0Time]]))","v":500},null,null,null,null,null,null,null,null,null,null,null,null,null,null,null,null,null,null,null,null,null,null,null,null,{"$f":"MATCH(MAX(BackendTable[[#This Row],[T1S1]:[T1S5]]),BackendTable[[#This Row],[T1S1]:[T1S5]],0)","v":{"$error":"#N/A"}},{"$f":"MATCH(MAX(BackendTable[[#This Row],[T2S1]:[T2S5]]),BackendTable[[#This Row],[T2S1]:[T2S5]],0)","v":{"$error":"#N/A"}},{"$f":"MATCH(MAX(BackendTable[[#This Row],[T3S1]:[T3S5]]),BackendTable[[#This Row],[T3S1]:[T3S5]],0)","v":{"$error":"#N/A"}}]
[null,{"$f":"ROW()-ROW(BackendTable[[#Headers],[Row'#]])","v":464},{"$f":"'Data In'!A471","v":0},{"$f":"IF(BackendTable[[#This Row],[Time]]-'Reference Cells'!$C$3<=0,NA(),'Reference Cells'!$C$4-BackendTable[[#This Row],[Time]])*86400","v":{"$error":"#N/A"}},{"$f":"IFERROR(8-BackendTable[[#This Row],[Column1]],\"\")","v":""},{"$f":"IF(ISERROR(BackendTable[[#This Row],[Column1]]),-9,(BackendTable[[#This Row],[Net Time]]-NetTimeMin)*RangeAdj)","v":-9},{"$f":"IF(AND(BackendTable[[#This Row],[Time]]>='Reference Cells'!$C$6,BackendTable[[#This Row],[Time]]<='Reference Cells'!$C$7),(BackendTable[[#This Row],[Time]]-'Reference Cells'!$C$6)*86400,NA())","v":2},{"$f":"IF(CommandCell='Reference Cells'!$C$17,NA(),ABS('Data In'!B471-INDIRECT(\"ZeroVal_\"&H$2,0)))","v":0},{"$f":"IF(CommandCell='Reference Cells'!$C$17,NA(),ABS('Data In'!C471-INDIRECT(\"ZeroVal_\"&I$2,0)))","v":0},{"$f":"IF(CommandCell='Reference Cells'!$C$17,NA(),ABS('Data In'!D471-INDIRECT(\"ZeroVal_\"&J$2,0)))","v":0},{"$f":"IF(CommandCell='Reference Cells'!$C$17,NA(),ABS('Data In'!E471-INDIRECT(\"ZeroVal_\"&K$2,0)))","v":0},{"$f":"IF(CommandCell='Reference Cells'!$C$17,NA(),ABS('Data In'!F471-INDIRECT(\"ZeroVal_\"&L$2,0)))","v":0},{"$f":"MAX(BackendTable[[#This Row],[S1]:[S5]])","v":0},{"$f":"IF(ISERROR(BackendTable[[#This Row],[T0Time]]),0,COUNTIFS(BackendTable[T0Time],\"<=\"&3,BackendTable[T0Time],\">=\"&0)-COUNTIFS(BackendTable[T0Time],\">\"&BackendTable[[#This Row],[T0Time]]))","v":500},null,null,null,null,null,null,null,null,null,null,null,null,null,null,null,null,null,null,null,null,null,null,null,null,{"$f":"MATCH(MAX(BackendTable[[#This Row],[T1S1]:[T1S5]]),BackendTable[[#This Row],[T1S1]:[T1S5]],0)","v":{"$error":"#N/A"}},{"$f":"MATCH(MAX(BackendTable[[#This Row],[T2S1]:[T2S5]]),BackendTable[[#This Row],[T2S1]:[T2S5]],0)","v":{"$error":"#N/A"}},{"$f":"MATCH(MAX(BackendTable[[#This Row],[T3S1]:[T3S5]]),BackendTable[[#This Row],[T3S1]:[T3S5]],0)","v":{"$error":"#N/A"}}]
[null,{"$f":"ROW()-ROW(BackendTable[[#Headers],[Row'#]])","v":465},{"$f":"'Data In'!A472","v":0},{"$f":"IF(BackendTable[[#This Row],[Time]]-'Reference Cells'!$C$3<=0,NA(),'Reference Cells'!$C$4-BackendTable[[#This Row],[Time]])*86400","v":{"$error":"#N/A"}},{"$f":"IFERROR(8-BackendTable[[#This Row],[Column1]],\"\")","v":""},{"$f":"IF(ISERROR(BackendTable[[#This Row],[Column1]]),-9,(BackendTable[[#This Row],[Net Time]]-NetTimeMin)*RangeAdj)","v":-9},{"$f":"IF(AND(BackendTable[[#This Row],[Time]]>='Reference Cells'!$C$6,BackendTable[[#This Row],[Time]]<='Reference Cells'!$C$7),(BackendTable[[#This Row],[Time]]-'Reference Cells'!$C$6)*86400,NA())","v":2},{"$f":"IF(CommandCell='Reference Cells'!$C$17,NA(),ABS('Data In'!B472-INDIRECT(\"ZeroVal_\"&H$2,0)))","v":0},{"$f":"IF(CommandCell='Reference Cells'!$C$17,NA(),ABS('Data In'!C472-INDIRECT(\"ZeroVal_\"&I$2,0)))","v":0},{"$f":"IF(CommandCell='Reference Cells'!$C$17,NA(),ABS('Data In'!D472-INDIRECT(\"ZeroVal_\"&J$2,0)))","v":0},{"$f":"IF(CommandCell='Reference Cells'!$C$17,NA(),ABS('Data In'!E472-INDIRECT(\"ZeroVal_\"&K$2,0)))","v":0},{"$f":"IF(CommandCell='Reference Cells'!$C$17,NA(),ABS('Data In'!F472-INDIRECT(\"ZeroVal_\"&L$2,0)))","v":0},{"$f":"MAX(BackendTable[[#This Row],[S1]:[S5]])","v":0},{"$f":"IF(ISERROR(BackendTable[[#This Row],[T0Time]]),0,COUNTIFS(BackendTable[T0Time],\"<=\"&3,BackendTable[T0Time],\">=\"&0)-COUNTIFS(BackendTable[T0Time],\">\"&BackendTable[[#This Row],[T0Time]]))","v":500},null,null,null,null,null,null,null,null,null,null,null,null,null,null,null,null,null,null,null,null,null,null,null,null,{"$f":"MATCH(MAX(BackendTable[[#This Row],[T1S1]:[T1S5]]),BackendTable[[#This Row],[T1S1]:[T1S5]],0)","v":{"$error":"#N/A"}},{"$f":"MATCH(MAX(BackendTable[[#This Row],[T2S1]:[T2S5]]),BackendTable[[#This Row],[T2S1]:[T2S5]],0)","v":{"$error":"#N/A"}},{"$f":"MATCH(MAX(BackendTable[[#This Row],[T3S1]:[T3S5]]),BackendTable[[#This Row],[T3S1]:[T3S5]],0)","v":{"$error":"#N/A"}}]
[null,{"$f":"ROW()-ROW(BackendTable[[#Headers],[Row'#]])","v":466},{"$f":"'Data In'!A473","v":0},{"$f":"IF(BackendTable[[#This Row],[Time]]-'Reference Cells'!$C$3<=0,NA(),'Reference Cells'!$C$4-BackendTable[[#This Row],[Time]])*86400","v":{"$error":"#N/A"}},{"$f":"IFERROR(8-BackendTable[[#This Row],[Column1]],\"\")","v":""},{"$f":"IF(ISERROR(BackendTable[[#This Row],[Column1]]),-9,(BackendTable[[#This Row],[Net Time]]-NetTimeMin)*RangeAdj)","v":-9},{"$f":"IF(AND(BackendTable[[#This Row],[Time]]>='Reference Cells'!$C$6,BackendTable[[#This Row],[Time]]<='Reference Cells'!$C$7),(BackendTable[[#This Row],[Time]]-'Reference Cells'!$C$6)*86400,NA())","v":2},{"$f":"IF(CommandCell='Reference Cells'!$C$17,NA(),ABS('Data In'!B473-INDIRECT(\"ZeroVal_\"&H$2,0)))","v":0},{"$f":"IF(CommandCell='Reference Cells'!$C$17,NA(),ABS('Data In'!C473-INDIRECT(\"ZeroVal_\"&I$2,0)))","v":0},{"$f":"IF(CommandCell='Reference Cells'!$C$17,NA(),ABS('Data In'!D473-INDIRECT(\"ZeroVal_\"&J$2,0)))","v":0},{"$f":"IF(CommandCell='Reference Cells'!$C$17,NA(),ABS('Data In'!E473-INDIRECT(\"ZeroVal_\"&K$2,0)))","v":0},{"$f":"IF(CommandCell='Reference Cells'!$C$17,NA(),ABS('Data In'!F473-INDIRECT(\"ZeroVal_\"&L$2,0)))","v":0},{"$f":"MAX(BackendTable[[#This Row],[S1]:[S5]])","v":0},{"$f":"IF(ISERROR(BackendTable[[#This Row],[T0Time]]),0,COUNTIFS(BackendTable[T0Time],\"<=\"&3,BackendTable[T0Time],\">=\"&0)-COUNTIFS(BackendTable[T0Time],\">\"&BackendTable[[#This Row],[T0Time]]))","v":500},null,null,null,null,null,null,null,null,null,null,null,null,null,null,null,null,null,null,null,null,null,null,null,null,{"$f":"MATCH(MAX(BackendTable[[#This Row],[T1S1]:[T1S5]]),BackendTable[[#This Row],[T1S1]:[T1S5]],0)","v":{"$error":"#N/A"}},{"$f":"MATCH(MAX(BackendTable[[#This Row],[T2S1]:[T2S5]]),BackendTable[[#This Row],[T2S1]:[T2S5]],0)","v":{"$error":"#N/A"}},{"$f":"MATCH(MAX(BackendTable[[#This Row],[T3S1]:[T3S5]]),BackendTable[[#This Row],[T3S1]:[T3S5]],0)","v":{"$error":"#N/A"}}]
[null,{"$f":"ROW()-ROW(BackendTable[[#Headers],[Row'#]])","v":467},{"$f":"'Data In'!A474","v":0},{"$f":"IF(BackendTable[[#This Row],[Time]]-'Reference Cells'!$C$3<=0,NA(),'Reference Cells'!$C$4-BackendTable[[#This Row],[Time]])*86400","v":{"$error":"#N/A"}},{"$f":"IFERROR(8-BackendTable[[#This Row],[Column1]],\"\")","v":""},{"$f":"IF(ISERROR(BackendTable[[#This Row],[Column1]]),-9,(BackendTable[[#This Row],[Net Time]]-NetTimeMin)*RangeAdj)","v":-9},{"$f":"IF(AND(BackendTable[[#This Row],[Time]]>='Reference Cells'!$C$6,BackendTable[[#This Row],[Time]]<='Reference Cells'!$C$7),(BackendTable[[#This Row],[Time]]-'Reference Cells'!$C$6)*86400,NA())","v":2},{"$f":"IF(CommandCell='Reference Cells'!$C$17,NA(),ABS('Data In'!B474-INDIRECT(\"ZeroVal_\"&H$2,0)))","v":0},{"$f":"IF(CommandCell='Reference Cells'!$C$17,NA(),ABS('Data In'!C474-INDIRECT(\"ZeroVal_\"&I$2,0)))","v":0},{"$f":"IF(CommandCell='Reference Cells'!$C$17,NA(),ABS('Data In'!D474-INDIRECT(\"ZeroVal_\"&J$2,0)))","v":0},{"$f":"IF(CommandCell='Reference Cells'!$C$17,NA(),ABS('Data In'!E474-INDIRECT(\"ZeroVal_\"&K$2,0)))","v":0},{"$f":"IF(CommandCell='Reference Cells'!$C$17,NA(),ABS('Data In'!F474-INDIRECT(\"ZeroVal_\"&L$2,0)))","v":0},{"$f":"MAX(BackendTable[[#This Row],[S1]:[S5]])","v":0},{"$f":"IF(ISERROR(BackendTable[[#This Row],[T0Time]]),0,COUNTIFS(BackendTable[T0Time],\"<=\"&3,BackendTable[T0Time],\">=\"&0)-COUNTIFS(BackendTable[T0Time],\">\"&BackendTable[[#This Row],[T0Time]]))","v":500},null,null,null,null,null,null,null,null,null,null,null,null,null,null,null,null,null,null,null,null,null,null,null,null,{"$f":"MATCH(MAX(BackendTable[[#This Row],[T1S1]:[T1S5]]),BackendTable[[#This Row],[T1S1]:[T1S5]],0)","v":{"$error":"#N/A"}},{"$f":"MATCH(MAX(BackendTable[[#This Row],[T2S1]:[T2S5]]),BackendTable[[#This Row],[T2S1]:[T2S5]],0)","v":{"$error":"#N/A"}},{"$f":"MATCH(MAX(BackendTable[[#This Row],[T3S1]:[T3S5]]),BackendTable[[#This Row],[T3S1]:[T3S5]],0)","v":{"$error":"#N/A"}}]
[null,{"$f":"ROW()-ROW(BackendTable[[#Headers],[Row'#]])","v":468},{"$f":"'Data In'!A475","v":0},{"$f":"IF(BackendTable[[#This Row],[Time]]-'Reference Cells'!$C$3<=0,NA(),'Reference Cells'!$C$4-BackendTable[[#This Row],[Time]])*86400","v":{"$error":"#N/A"}},{"$f":"IFERROR(8-BackendTable[[#This Row],[Column1]],\"\")","v":""},{"$f":"IF(ISERROR(BackendTable[[#This Row],[Column1]]),-9,(BackendTable[[#This Row],[Net Time]]-NetTimeMin)*RangeAdj)","v":-9},{"$f":"IF(AND(BackendTable[[#This Row],[Time]]>='Reference Cells'!$C$6,BackendTable[[#This Row],[Time]]<='Reference Cells'!$C$7),(BackendTable[[#This Row],[Time]]-'Reference Cells'!$C$6)*86400,NA())","v":2},{"$f":"IF(CommandCell='Reference Cells'!$C$17,NA(),ABS('Data In'!B475-INDIRECT(\"ZeroVal_\"&H$2,0)))","v":0},{"$f":"IF(CommandCell='Reference Cells'!$C$17,NA(),ABS('Data In'!C475-INDIRECT(\"ZeroVal_\"&I$2,0)))","v":0},{"$f":"IF(CommandCell='Reference Cells'!$C$17,NA(),ABS('Data In'!D475-INDIRECT(\"ZeroVal_\"&J$2,0)))","v":0},{"$f":"IF(CommandCell='Reference Cells'!$C$17,NA(),ABS('Data In'!E475-INDIRECT(\"ZeroVal_\"&K$2,0)))","v":0},{"$f":"IF(CommandCell='Reference Cells'!$C$17,NA(),ABS('Data In'!F475-INDIRECT(\"ZeroVal_\"&L$2,0)))","v":0},{"$f":"MAX(BackendTable[[#This Row],[S1]:[S5]])","v":0},{"$f":"IF(ISERROR(BackendTable[[#This Row],[T0Time]]),0,COUNTIFS(BackendTable[T0Time],\"<=\"&3,BackendTable[T0Time],\">=\"&0)-COUNTIFS(BackendTable[T0Time],\">\"&BackendTable[[#This Row],[T0Time]]))","v":500},null,null,null,null,null,null,null,null,null,null,null,null,null,null,null,null,null,null,null,null,null,null,null,null,{"$f":"MATCH(MAX(BackendTable[[#This Row],[T1S1]:[T1S5]]),BackendTable[[#This Row],[T1S1]:[T1S5]],0)","v":{"$error":"#N/A"}},{"$f":"MATCH(MAX(BackendTable[[#This Row],[T2S1]:[T2S5]]),BackendTable[[#This Row],[T2S1]:[T2S5]],0)","v":{"$error":"#N/A"}},{"$f":"MATCH(MAX(BackendTable[[#This Row],[T3S1]:[T3S5]]),BackendTable[[#This Row],[T3S1]:[T3S5]],0)","v":{"$error":"#N/A"}}]
[null,{"$f":"ROW()-ROW(BackendTable[[#Headers],[Row'#]])","v":469},{"$f":"'Data In'!A476","v":0},{"$f":"IF(BackendTable[[#This Row],[Time]]-'Reference Cells'!$C$3<=0,NA(),'Reference Cells'!$C$4-BackendTable[[#This Row],[Time]])*86400","v":{"$error":"#N/A"}},{"$f":"IFERROR(8-BackendTable[[#This Row],[Column1]],\"\")","v":""},{"$f":"IF(ISERROR(BackendTable[[#This Row],[Column1]]),-9,(BackendTable[[#This Row],[Net Time]]-NetTimeMin)*RangeAdj)","v":-9},{"$f":"IF(AND(BackendTable[[#This Row],[Time]]>='Reference Cells'!$C$6,BackendTable[[#This Row],[Time]]<='Reference Cells'!$C$7),(BackendTable[[#This Row],[Time]]-'Reference Cells'!$C$6)*86400,NA())","v":2},{"$f":"IF(CommandCell='Reference Cells'!$C$17,NA(),ABS('Data In'!B476-INDIRECT(\"ZeroVal_\"&H$2,0)))","v":0},{"$f":"IF(CommandCell='Reference Cells'!$C$17,NA(),ABS('Data In'!C476-INDIRECT(\"ZeroVal_\"&I$2,0)))","v":0},{"$f":"IF(CommandCell='Reference Cells'!$C$17,NA(),ABS('Data In'!D476-INDIRECT(\"ZeroVal_\"&J$2,0)))","v":0},{"$f":"IF(CommandCell='Reference Cells'!$C$17,NA(),ABS('Data In'!E476-INDIRECT(\"ZeroVal_\"&K$2,0)))","v":0},{"$f":"IF(CommandCell='Reference Cells'!$C$17,NA(),ABS('Data In'!F476-INDIRECT(\"ZeroVal_\"&L$2,0)))","v":0},{"$f":"MAX(BackendTable[[#This Row],[S1]:[S5]])","v":0},{"$f":"IF(ISERROR(BackendTable[[#This Row],[T0Time]]),0,COUNTIFS(BackendTable[T0Time],\"<=\"&3,BackendTable[T0Time],\">=\"&0)-COUNTIFS(BackendTable[T0Time],\">\"&BackendTable[[#This Row],[T0Time]]))","v":500},null,null,null,null,null,null,null,null,null,null,null,null,null,null,null,null,null,null,null,null,null,null,null,null,{"$f":"MATCH(MAX(BackendTable[[#This Row],[T1S1]:[T1S5]]),BackendTable[[#This Row],[T1S1]:[T1S5]],0)","v":{"$error":"#N/A"}},{"$f":"MATCH(MAX(BackendTable[[#This Row],[T2S1]:[T2S5]]),BackendTable[[#This Row],[T2S1]:[T2S5]],0)","v":{"$error":"#N/A"}},{"$f":"MATCH(MAX(BackendTable[[#This Row],[T3S1]:[T3S5]]),BackendTable[[#This Row],[T3S1]:[T3S5]],0)","v":{"$error":"#N/A"}}]
[null,{"$f":"ROW()-ROW(BackendTable[[#Headers],[Row'#]])","v":470},{"$f":"'Data In'!A477","v":0},{"$f":"IF(BackendTable[[#This Row],[Time]]-'Reference Cells'!$C$3<=0,NA(),'Reference Cells'!$C$4-BackendTable[[#This Row],[Time]])*86400","v":{"$error":"#N/A"}},{"$f":"IFERROR(8-BackendTable[[#This Row],[Column1]],\"\")","v":""},{"$f":"IF(ISERROR(BackendTable[[#This Row],[Column1]]),-9,(BackendTable[[#This Row],[Net Time]]-NetTimeMin)*RangeAdj)","v":-9},{"$f":"IF(AND(BackendTable[[#This Row],[Time]]>='Reference Cells'!$C$6,BackendTable[[#This Row],[Time]]<='Reference Cells'!$C$7),(BackendTable[[#This Row],[Time]]-'Reference Cells'!$C$6)*86400,NA())","v":2},{"$f":"IF(CommandCell='Reference Cells'!$C$17,NA(),ABS('Data In'!B477-INDIRECT(\"ZeroVal_\"&H$2,0)))","v":0},{"$f":"IF(CommandCell='Reference Cells'!$C$17,NA(),ABS('Data In'!C477-INDIRECT(\"ZeroVal_\"&I$2,0)))","v":0},{"$f":"IF(CommandCell='Reference Cells'!$C$17,NA(),ABS('Data In'!D477-INDIRECT(\"ZeroVal_\"&J$2,0)))","v":0},{"$f":"IF(CommandCell='Reference Cells'!$C$17,NA(),ABS('Data In'!E477-INDIRECT(\"ZeroVal_\"&K$2,0)))","v":0},{"$f":"IF(CommandCell='Reference Cells'!$C$17,NA(),ABS('Data In'!F477-INDIRECT(\"ZeroVal_\"&L$2,0)))","v":0},{"$f":"MAX(BackendTable[[#This Row],[S1]:[S5]])","v":0},{"$f":"IF(ISERROR(BackendTable[[#This Row],[T0Time]]),0,COUNTIFS(BackendTable[T0Time],\"<=\"&3,BackendTable[T0Time],\">=\"&0)-COUNTIFS(BackendTable[T0Time],\">\"&BackendTable[[#This Row],[T0Time]]))","v":500},null,null,null,null,null,null,null,null,null,null,null,null,null,null,null,null,null,null,null,null,null,null,null,null,{"$f":"MATCH(MAX(BackendTable[[#This Row],[T1S1]:[T1S5]]),BackendTable[[#This Row],[T1S1]:[T1S5]],0)","v":{"$error":"#N/A"}},{"$f":"MATCH(MAX(BackendTable[[#This Row],[T2S1]:[T2S5]]),BackendTable[[#This Row],[T2S1]:[T2S5]],0)","v":{"$error":"#N/A"}},{"$f":"MATCH(MAX(BackendTable[[#This Row],[T3S1]:[T3S5]]),BackendTable[[#This Row],[T3S1]:[T3S5]],0)","v":{"$error":"#N/A"}}]
[null,{"$f":"ROW()-ROW(BackendTable[[#Headers],[Row'#]])","v":471},{"$f":"'Data In'!A478","v":0},{"$f":"IF(BackendTable[[#This Row],[Time]]-'Reference Cells'!$C$3<=0,NA(),'Reference Cells'!$C$4-BackendTable[[#This Row],[Time]])*86400","v":{"$error":"#N/A"}},{"$f":"IFERROR(8-BackendTable[[#This Row],[Column1]],\"\")","v":""},{"$f":"IF(ISERROR(BackendTable[[#This Row],[Column1]]),-9,(BackendTable[[#This Row],[Net Time]]-NetTimeMin)*RangeAdj)","v":-9},{"$f":"IF(AND(BackendTable[[#This Row],[Time]]>='Reference Cells'!$C$6,BackendTable[[#This Row],[Time]]<='Reference Cells'!$C$7),(BackendTable[[#This Row],[Time]]-'Reference Cells'!$C$6)*86400,NA())","v":2},{"$f":"IF(CommandCell='Reference Cells'!$C$17,NA(),ABS('Data In'!B478-INDIRECT(\"ZeroVal_\"&H$2,0)))","v":0},{"$f":"IF(CommandCell='Reference Cells'!$C$17,NA(),ABS('Data In'!C478-INDIRECT(\"ZeroVal_\"&I$2,0)))","v":0},{"$f":"IF(CommandCell='Reference Cells'!$C$17,NA(),ABS('Data In'!D478-INDIRECT(\"ZeroVal_\"&J$2,0)))","v":0},{"$f":"IF(CommandCell='Reference Cells'!$C$17,NA(),ABS('Data In'!E478-INDIRECT(\"ZeroVal_\"&K$2,0)))","v":0},{"$f":"IF(CommandCell='Reference Cells'!$C$17,NA(),ABS('Data In'!F478-INDIRECT(\"ZeroVal_\"&L$2,0)))","v":0},{"$f":"MAX(BackendTable[[#This Row],[S1]:[S5]])","v":0},{"$f":"IF(ISERROR(BackendTable[[#This Row],[T0Time]]),0,COUNTIFS(BackendTable[T0Time],\"<=\"&3,BackendTable[T0Time],\">=\"&0)-COUNTIFS(BackendTable[T0Time],\">\"&BackendTable[[#This Row],[T0Time]]))","v":500},null,null,null,null,null,null,null,null,null,null,null,null,null,null,null,null,null,null,null,null,null,null,null,null,{"$f":"MATCH(MAX(BackendTable[[#This Row],[T1S1]:[T1S5]]),BackendTable[[#This Row],[T1S1]:[T1S5]],0)","v":{"$error":"#N/A"}},{"$f":"MATCH(MAX(BackendTable[[#This Row],[T2S1]:[T2S5]]),BackendTable[[#This Row],[T2S1]:[T2S5]],0)","v":{"$error":"#N/A"}},{"$f":"MATCH(MAX(BackendTable[[#This Row],[T3S1]:[T3S5]]),BackendTable[[#This Row],[T3S1]:[T3S5]],0)","v":{"$error":"#N/A"}}]
[null,{"$f":"ROW()-ROW(BackendTable[[#Headers],[Row'#]])","v":472},{"$f":"'Data In'!A479","v":0},{"$f":"IF(BackendTable[[#This Row],[Time]]-'Reference Cells'!$C$3<=0,NA(),'Reference Cells'!$C$4-BackendTable[[#This Row],[Time]])*86400","v":{"$error":"#N/A"}},{"$f":"IFERROR(8-BackendTable[[#This Row],[Column1]],\"\")","v":""},{"$f":"IF(ISERROR(BackendTable[[#This Row],[Column1]]),-9,(BackendTable[[#This Row],[Net Time]]-NetTimeMin)*RangeAdj)","v":-9},{"$f":"IF(AND(BackendTable[[#This Row],[Time]]>='Reference Cells'!$C$6,BackendTable[[#This Row],[Time]]<='Reference Cells'!$C$7),(BackendTable[[#This Row],[Time]]-'Reference Cells'!$C$6)*86400,NA())","v":2},{"$f":"IF(CommandCell='Reference Cells'!$C$17,NA(),ABS('Data In'!B479-INDIRECT(\"ZeroVal_\"&H$2,0)))","v":0},{"$f":"IF(CommandCell='Reference Cells'!$C$17,NA(),ABS('Data In'!C479-INDIRECT(\"ZeroVal_\"&I$2,0)))","v":0},{"$f":"IF(CommandCell='Reference Cells'!$C$17,NA(),ABS('Data In'!D479-INDIRECT(\"ZeroVal_\"&J$2,0)))","v":0},{"$f":"IF(CommandCell='Reference Cells'!$C$17,NA(),ABS('Data In'!E479-INDIRECT(\"ZeroVal_\"&K$2,0)))","v":0},{"$f":"IF(CommandCell='Reference Cells'!$C$17,NA(),ABS('Data In'!F479-INDIRECT(\"ZeroVal_\"&L$2,0)))","v":0},{"$f":"MAX(BackendTable[[#This Row],[S1]:[S5]])","v":0},{"$f":"IF(ISERROR(BackendTable[[#This Row],[T0Time]]),0,COUNTIFS(BackendTable[T0Time],\"<=\"&3,BackendTable[T0Time],\">=\"&0)-COUNTIFS(BackendTable[T0Time],\">\"&BackendTable[[#This Row],[T0Time]]))","v":500},null,null,null,null,null,null,null,null,null,null,null,null,null,null,null,null,null,null,null,null,null,null,null,null,{"$f":"MATCH(MAX(BackendTable[[#This Row],[T1S1]:[T1S5]]),BackendTable[[#This Row],[T1S1]:[T1S5]],0)","v":{"$error":"#N/A"}},{"$f":"MATCH(MAX(BackendTable[[#This Row],[T2S1]:[T2S5]]),BackendTable[[#This Row],[T2S1]:[T2S5]],0)","v":{"$error":"#N/A"}},{"$f":"MATCH(MAX(BackendTable[[#This Row],[T3S1]:[T3S5]]),BackendTable[[#This Row],[T3S1]:[T3S5]],0)","v":{"$error":"#N/A"}}]
[null,{"$f":"ROW()-ROW(BackendTable[[#Headers],[Row'#]])","v":473},{"$f":"'Data In'!A480","v":0},{"$f":"IF(BackendTable[[#This Row],[Time]]-'Reference Cells'!$C$3<=0,NA(),'Reference Cells'!$C$4-BackendTable[[#This Row],[Time]])*86400","v":{"$error":"#N/A"}},{"$f":"IFERROR(8-BackendTable[[#This Row],[Column1]],\"\")","v":""},{"$f":"IF(ISERROR(BackendTable[[#This Row],[Column1]]),-9,(BackendTable[[#This Row],[Net Time]]-NetTimeMin)*RangeAdj)","v":-9},{"$f":"IF(AND(BackendTable[[#This Row],[Time]]>='Reference Cells'!$C$6,BackendTable[[#This Row],[Time]]<='Reference Cells'!$C$7),(BackendTable[[#This Row],[Time]]-'Reference Cells'!$C$6)*86400,NA())","v":2},{"$f":"IF(CommandCell='Reference Cells'!$C$17,NA(),ABS('Data In'!B480-INDIRECT(\"ZeroVal_\"&H$2,0)))","v":0},{"$f":"IF(CommandCell='Reference Cells'!$C$17,NA(),ABS('Data In'!C480-INDIRECT(\"ZeroVal_\"&I$2,0)))","v":0},{"$f":"IF(CommandCell='Reference Cells'!$C$17,NA(),ABS('Data In'!D480-INDIRECT(\"ZeroVal_\"&J$2,0)))","v":0},{"$f":"IF(CommandCell='Reference Cells'!$C$17,NA(),ABS('Data In'!E480-INDIRECT(\"ZeroVal_\"&K$2,0)))","v":0},{"$f":"IF(CommandCell='Reference Cells'!$C$17,NA(),ABS('Data In'!F480-INDIRECT(\"ZeroVal_\"&L$2,0)))","v":0},{"$f":"MAX(BackendTable[[#This Row],[S1]:[S5]])","v":0},{"$f":"IF(ISERROR(BackendTable[[#This Row],[T0Time]]),0,COUNTIFS(BackendTable[T0Time],\"<=\"&3,BackendTable[T0Time],\">=\"&0)-COUNTIFS(BackendTable[T0Time],\">\"&BackendTable[[#This Row],[T0Time]]))","v":500},null,null,null,null,null,null,null,null,null,null,null,null,null,null,null,null,null,null,null,null,null,null,null,null,{"$f":"MATCH(MAX(BackendTable[[#This Row],[T1S1]:[T1S5]]),BackendTable[[#This Row],[T1S1]:[T1S5]],0)","v":{"$error":"#N/A"}},{"$f":"MATCH(MAX(BackendTable[[#This Row],[T2S1]:[T2S5]]),BackendTable[[#This Row],[T2S1]:[T2S5]],0)","v":{"$error":"#N/A"}},{"$f":"MATCH(MAX(BackendTable[[#This Row],[T3S1]:[T3S5]]),BackendTable[[#This Row],[T3S1]:[T3S5]],0)","v":{"$error":"#N/A"}}]
[null,{"$f":"ROW()-ROW(BackendTable[[#Headers],[Row'#]])","v":474},{"$f":"'Data In'!A481","v":0},{"$f":"IF(BackendTable[[#This Row],[Time]]-'Reference Cells'!$C$3<=0,NA(),'Reference Cells'!$C$4-BackendTable[[#This Row],[Time]])*86400","v":{"$error":"#N/A"}},{"$f":"IFERROR(8-BackendTable[[#This Row],[Column1]],\"\")","v":""},{"$f":"IF(ISERROR(BackendTable[[#This Row],[Column1]]),-9,(BackendTable[[#This Row],[Net Time]]-NetTimeMin)*RangeAdj)","v":-9},{"$f":"IF(AND(BackendTable[[#This Row],[Time]]>='Reference Cells'!$C$6,BackendTable[[#This Row],[Time]]<='Reference Cells'!$C$7),(BackendTable[[#This Row],[Time]]-'Reference Cells'!$C$6)*86400,NA())","v":2},{"$f":"IF(CommandCell='Reference Cells'!$C$17,NA(),ABS('Data In'!B481-INDIRECT(\"ZeroVal_\"&H$2,0)))","v":0},{"$f":"IF(CommandCell='Reference Cells'!$C$17,NA(),ABS('Data In'!C481-INDIRECT(\"ZeroVal_\"&I$2,0)))","v":0},{"$f":"IF(CommandCell='Reference Cells'!$C$17,NA(),ABS('Data In'!D481-INDIRECT(\"ZeroVal_\"&J$2,0)))","v":0},{"$f":"IF(CommandCell='Reference Cells'!$C$17,NA(),ABS('Data In'!E481-INDIRECT(\"ZeroVal_\"&K$2,0)))","v":0},{"$f":"IF(CommandCell='Reference Cells'!$C$17,NA(),ABS('Data In'!F481-INDIRECT(\"ZeroVal_\"&L$2,0)))","v":0},{"$f":"MAX(BackendTable[[#This Row],[S1]:[S5]])","v":0},{"$f":"IF(ISERROR(BackendTable[[#This Row],[T0Time]]),0,COUNTIFS(BackendTable[T0Time],\"<=\"&3,BackendTable[T0Time],\">=\"&0)-COUNTIFS(BackendTable[T0Time],\">\"&BackendTable[[#This Row],[T0Time]]))","v":500},null,null,null,null,null,null,null,null,null,null,null,null,null,null,null,null,null,null,null,null,null,null,null,null,{"$f":"MATCH(MAX(BackendTable[[#This Row],[T1S1]:[T1S5]]),BackendTable[[#This Row],[T1S1]:[T1S5]],0)","v":{"$error":"#N/A"}},{"$f":"MATCH(MAX(BackendTable[[#This Row],[T2S1]:[T2S5]]),BackendTable[[#This Row],[T2S1]:[T2S5]],0)","v":{"$error":"#N/A"}},{"$f":"MATCH(MAX(BackendTable[[#This Row],[T3S1]:[T3S5]]),BackendTable[[#This Row],[T3S1]:[T3S5]],0)","v":{"$error":"#N/A"}}]
[null,{"$f":"ROW()-ROW(BackendTable[[#Headers],[Row'#]])","v":475},{"$f":"'Data In'!A482","v":0},{"$f":"IF(BackendTable[[#This Row],[Time]]-'Reference Cells'!$C$3<=0,NA(),'Reference Cells'!$C$4-BackendTable[[#This Row],[Time]])*86400","v":{"$error":"#N/A"}},{"$f":"IFERROR(8-BackendTable[[#This Row],[Column1]],\"\")","v":""},{"$f":"IF(ISERROR(BackendTable[[#This Row],[Column1]]),-9,(BackendTable[[#This Row],[Net Time]]-NetTimeMin)*RangeAdj)","v":-9},{"$f":"IF(AND(BackendTable[[#This Row],[Time]]>='Reference Cells'!$C$6,BackendTable[[#This Row],[Time]]<='Reference Cells'!$C$7),(BackendTable[[#This Row],[Time]]-'Reference Cells'!$C$6)*86400,NA())","v":2},{"$f":"IF(CommandCell='Reference Cells'!$C$17,NA(),ABS('Data In'!B482-INDIRECT(\"ZeroVal_\"&H$2,0)))","v":0},{"$f":"IF(CommandCell='Reference Cells'!$C$17,NA(),ABS('Data In'!C482-INDIRECT(\"ZeroVal_\"&I$2,0)))","v":0},{"$f":"IF(CommandCell='Reference Cells'!$C$17,NA(),ABS('Data In'!D482-INDIRECT(\"ZeroVal_\"&J$2,0)))","v":0},{"$f":"IF(CommandCell='Reference Cells'!$C$17,NA(),ABS('Data In'!E482-INDIRECT(\"ZeroVal_\"&K$2,0)))","v":0},{"$f":"IF(CommandCell='Reference Cells'!$C$17,NA(),ABS('Data In'!F482-INDIRECT(\"ZeroVal_\"&L$2,0)))","v":0},{"$f":"MAX(BackendTable[[#This Row],[S1]:[S5]])","v":0},{"$f":"IF(ISERROR(BackendTable[[#This Row],[T0Time]]),0,COUNTIFS(BackendTable[T0Time],\"<=\"&3,BackendTable[T0Time],\">=\"&0)-COUNTIFS(BackendTable[T0Time],\">\"&BackendTable[[#This Row],[T0Time]]))","v":500},null,null,null,null,null,null,null,null,null,null,null,null,null,null,null,null,null,null,null,null,null,null,null,null,{"$f":"MATCH(MAX(BackendTable[[#This Row],[T1S1]:[T1S5]]),BackendTable[[#This Row],[T1S1]:[T1S5]],0)","v":{"$error":"#N/A"}},{"$f":"MATCH(MAX(BackendTable[[#This Row],[T2S1]:[T2S5]]),BackendTable[[#This Row],[T2S1]:[T2S5]],0)","v":{"$error":"#N/A"}},{"$f":"MATCH(MAX(BackendTable[[#This Row],[T3S1]:[T3S5]]),BackendTable[[#This Row],[T3S1]:[T3S5]],0)","v":{"$error":"#N/A"}}]
[null,{"$f":"ROW()-ROW(BackendTable[[#Headers],[Row'#]])","v":476},{"$f":"'Data In'!A483","v":0},{"$f":"IF(BackendTable[[#This Row],[Time]]-'Reference Cells'!$C$3<=0,NA(),'Reference Cells'!$C$4-BackendTable[[#This Row],[Time]])*86400","v":{"$error":"#N/A"}},{"$f":"IFERROR(8-BackendTable[[#This Row],[Column1]],\"\")","v":""},{"$f":"IF(ISERROR(BackendTable[[#This Row],[Column1]]),-9,(BackendTable[[#This Row],[Net Time]]-NetTimeMin)*RangeAdj)","v":-9},{"$f":"IF(AND(BackendTable[[#This Row],[Time]]>='Reference Cells'!$C$6,BackendTable[[#This Row],[Time]]<='Reference Cells'!$C$7),(BackendTable[[#This Row],[Time]]-'Reference Cells'!$C$6)*86400,NA())","v":2},{"$f":"IF(CommandCell='Reference Cells'!$C$17,NA(),ABS('Data In'!B483-INDIRECT(\"ZeroVal_\"&H$2,0)))","v":0},{"$f":"IF(CommandCell='Reference Cells'!$C$17,NA(),ABS('Data In'!C483-INDIRECT(\"ZeroVal_\"&I$2,0)))","v":0},{"$f":"IF(CommandCell='Reference Cells'!$C$17,NA(),ABS('Data In'!D483-INDIRECT(\"ZeroVal_\"&J$2,0)))","v":0},{"$f":"IF(CommandCell='Reference Cells'!$C$17,NA(),ABS('Data In'!E483-INDIRECT(\"ZeroVal_\"&K$2,0)))","v":0},{"$f":"IF(CommandCell='Reference Cells'!$C$17,NA(),ABS('Data In'!F483-INDIRECT(\"ZeroVal_\"&L$2,0)))","v":0},{"$f":"MAX(BackendTable[[#This Row],[S1]:[S5]])","v":0},{"$f":"IF(ISERROR(BackendTable[[#This Row],[T0Time]]),0,COUNTIFS(BackendTable[T0Time],\"<=\"&3,BackendTable[T0Time],\">=\"&0)-COUNTIFS(BackendTable[T0Time],\">\"&BackendTable[[#This Row],[T0Time]]))","v":500},null,null,null,null,null,null,null,null,null,null,null,null,null,null,null,null,null,null,null,null,null,null,null,null,{"$f":"MATCH(MAX(BackendTable[[#This Row],[T1S1]:[T1S5]]),BackendTable[[#This Row],[T1S1]:[T1S5]],0)","v":{"$error":"#N/A"}},{"$f":"MATCH(MAX(BackendTable[[#This Row],[T2S1]:[T2S5]]),BackendTable[[#This Row],[T2S1]:[T2S5]],0)","v":{"$error":"#N/A"}},{"$f":"MATCH(MAX(BackendTable[[#This Row],[T3S1]:[T3S5]]),BackendTable[[#This Row],[T3S1]:[T3S5]],0)","v":{"$error":"#N/A"}}]
[null,{"$f":"ROW()-ROW(BackendTable[[#Headers],[Row'#]])","v":477},{"$f":"'Data In'!A484","v":0},{"$f":"IF(BackendTable[[#This Row],[Time]]-'Reference Cells'!$C$3<=0,NA(),'Reference Cells'!$C$4-BackendTable[[#This Row],[Time]])*86400","v":{"$error":"#N/A"}},{"$f":"IFERROR(8-BackendTable[[#This Row],[Column1]],\"\")","v":""},{"$f":"IF(ISERROR(BackendTable[[#This Row],[Column1]]),-9,(BackendTable[[#This Row],[Net Time]]-NetTimeMin)*RangeAdj)","v":-9},{"$f":"IF(AND(BackendTable[[#This Row],[Time]]>='Reference Cells'!$C$6,BackendTable[[#This Row],[Time]]<='Reference Cells'!$C$7),(BackendTable[[#This Row],[Time]]-'Reference Cells'!$C$6)*86400,NA())","v":2},{"$f":"IF(CommandCell='Reference Cells'!$C$17,NA(),ABS('Data In'!B484-INDIRECT(\"ZeroVal_\"&H$2,0)))","v":0},{"$f":"IF(CommandCell='Reference Cells'!$C$17,NA(),ABS('Data In'!C484-INDIRECT(\"ZeroVal_\"&I$2,0)))","v":0},{"$f":"IF(CommandCell='Reference Cells'!$C$17,NA(),ABS('Data In'!D484-INDIRECT(\"ZeroVal_\"&J$2,0)))","v":0},{"$f":"IF(CommandCell='Reference Cells'!$C$17,NA(),ABS('Data In'!E484-INDIRECT(\"ZeroVal_\"&K$2,0)))","v":0},{"$f":"IF(CommandCell='Reference Cells'!$C$17,NA(),ABS('Data In'!F484-INDIRECT(\"ZeroVal_\"&L$2,0)))","v":0},{"$f":"MAX(BackendTable[[#This Row],[S1]:[S5]])","v":0},{"$f":"IF(ISERROR(BackendTable[[#This Row],[T0Time]]),0,COUNTIFS(BackendTable[T0Time],\"<=\"&3,BackendTable[T0Time],\">=\"&0)-COUNTIFS(BackendTable[T0Time],\">\"&BackendTable[[#This Row],[T0Time]]))","v":500},null,null,null,null,null,null,null,null,null,null,null,null,null,null,null,null,null,null,null,null,null,null,null,null,{"$f":"MATCH(MAX(BackendTable[[#This Row],[T1S1]:[T1S5]]),BackendTable[[#This Row],[T1S1]:[T1S5]],0)","v":{"$error":"#N/A"}},{"$f":"MATCH(MAX(BackendTable[[#This Row],[T2S1]:[T2S5]]),BackendTable[[#This Row],[T2S1]:[T2S5]],0)","v":{"$error":"#N/A"}},{"$f":"MATCH(MAX(BackendTable[[#This Row],[T3S1]:[T3S5]]),BackendTable[[#This Row],[T3S1]:[T3S5]],0)","v":{"$error":"#N/A"}}]
[null,{"$f":"ROW()-ROW(BackendTable[[#Headers],[Row'#]])","v":478},{"$f":"'Data In'!A485","v":0},{"$f":"IF(BackendTable[[#This Row],[Time]]-'Reference Cells'!$C$3<=0,NA(),'Reference Cells'!$C$4-BackendTable[[#This Row],[Time]])*86400","v":{"$error":"#N/A"}},{"$f":"IFERROR(8-BackendTable[[#This Row],[Column1]],\"\")","v":""},{"$f":"IF(ISERROR(BackendTable[[#This Row],[Column1]]),-9,(BackendTable[[#This Row],[Net Time]]-NetTimeMin)*RangeAdj)","v":-9},{"$f":"IF(AND(BackendTable[[#This Row],[Time]]>='Reference Cells'!$C$6,BackendTable[[#This Row],[Time]]<='Reference Cells'!$C$7),(BackendTable[[#This Row],[Time]]-'Reference Cells'!$C$6)*86400,NA())","v":2},{"$f":"IF(CommandCell='Reference Cells'!$C$17,NA(),ABS('Data In'!B485-INDIRECT(\"ZeroVal_\"&H$2,0)))","v":0},{"$f":"IF(CommandCell='Reference Cells'!$C$17,NA(),ABS('Data In'!C485-INDIRECT(\"ZeroVal_\"&I$2,0)))","v":0},{"$f":"IF(CommandCell='Reference Cells'!$C$17,NA(),ABS('Data In'!D485-INDIRECT(\"ZeroVal_\"&J$2,0)))","v":0},{"$f":"IF(CommandCell='Reference Cells'!$C$17,NA(),ABS('Data In'!E485-INDIRECT(\"ZeroVal_\"&K$2,0)))","v":0},{"$f":"IF(CommandCell='Reference Cells'!$C$17,NA(),ABS('Data In'!F485-INDIRECT(\"ZeroVal_\"&L$2,0)))","v":0},{"$f":"MAX(BackendTable[[#This Row],[S1]:[S5]])","v":0},{"$f":"IF(ISERROR(BackendTable[[#This Row],[T0Time]]),0,COUNTIFS(BackendTable[T0Time],\"<=\"&3,BackendTable[T0Time],\">=\"&0)-COUNTIFS(BackendTable[T0Time],\">\"&BackendTable[[#This Row],[T0Time]]))","v":500},null,null,null,null,null,null,null,null,null,null,null,null,null,null,null,null,null,null,null,null,null,null,null,null,{"$f":"MATCH(MAX(BackendTable[[#This Row],[T1S1]:[T1S5]]),BackendTable[[#This Row],[T1S1]:[T1S5]],0)","v":{"$error":"#N/A"}},{"$f":"MATCH(MAX(BackendTable[[#This Row],[T2S1]:[T2S5]]),BackendTable[[#This Row],[T2S1]:[T2S5]],0)","v":{"$error":"#N/A"}},{"$f":"MATCH(MAX(BackendTable[[#This Row],[T3S1]:[T3S5]]),BackendTable[[#This Row],[T3S1]:[T3S5]],0)","v":{"$error":"#N/A"}}]
[null,{"$f":"ROW()-ROW(BackendTable[[#Headers],[Row'#]])","v":479},{"$f":"'Data In'!A486","v":0},{"$f":"IF(BackendTable[[#This Row],[Time]]-'Reference Cells'!$C$3<=0,NA(),'Reference Cells'!$C$4-BackendTable[[#This Row],[Time]])*86400","v":{"$error":"#N/A"}},{"$f":"IFERROR(8-BackendTable[[#This Row],[Column1]],\"\")","v":""},{"$f":"IF(ISERROR(BackendTable[[#This Row],[Column1]]),-9,(BackendTable[[#This Row],[Net Time]]-NetTimeMin)*RangeAdj)","v":-9},{"$f":"IF(AND(BackendTable[[#This Row],[Time]]>='Reference Cells'!$C$6,BackendTable[[#This Row],[Time]]<='Reference Cells'!$C$7),(BackendTable[[#This Row],[Time]]-'Reference Cells'!$C$6)*86400,NA())","v":2},{"$f":"IF(CommandCell='Reference Cells'!$C$17,NA(),ABS('Data In'!B486-INDIRECT(\"ZeroVal_\"&H$2,0)))","v":0},{"$f":"IF(CommandCell='Reference Cells'!$C$17,NA(),ABS('Data In'!C486-INDIRECT(\"ZeroVal_\"&I$2,0)))","v":0},{"$f":"IF(CommandCell='Reference Cells'!$C$17,NA(),ABS('Data In'!D486-INDIRECT(\"ZeroVal_\"&J$2,0)))","v":0},{"$f":"IF(CommandCell='Reference Cells'!$C$17,NA(),ABS('Data In'!E486-INDIRECT(\"ZeroVal_\"&K$2,0)))","v":0},{"$f":"IF(CommandCell='Reference Cells'!$C$17,NA(),ABS('Data In'!F486-INDIRECT(\"ZeroVal_\"&L$2,0)))","v":0},{"$f":"MAX(BackendTable[[#This Row],[S1]:[S5]])","v":0},{"$f":"IF(ISERROR(BackendTable[[#This Row],[T0Time]]),0,COUNTIFS(BackendTable[T0Time],\"<=\"&3,BackendTable[T0Time],\">=\"&0)-COUNTIFS(BackendTable[T0Time],\">\"&BackendTable[[#This Row],[T0Time]]))","v":500},null,null,null,null,null,null,null,null,null,null,null,null,null,null,null,null,null,null,null,null,null,null,null,null,{"$f":"MATCH(MAX(BackendTable[[#This Row],[T1S1]:[T1S5]]),BackendTable[[#This Row],[T1S1]:[T1S5]],0)","v":{"$error":"#N/A"}},{"$f":"MATCH(MAX(BackendTable[[#This Row],[T2S1]:[T2S5]]),BackendTable[[#This Row],[T2S1]:[T2S5]],0)","v":{"$error":"#N/A"}},{"$f":"MATCH(MAX(BackendTable[[#This Row],[T3S1]:[T3S5]]),BackendTable[[#This Row],[T3S1]:[T3S5]],0)","v":{"$error":"#N/A"}}]
[null,{"$f":"ROW()-ROW(BackendTable[[#Headers],[Row'#]])","v":480},{"$f":"'Data In'!A487","v":0},{"$f":"IF(BackendTable[[#This Row],[Time]]-'Reference Cells'!$C$3<=0,NA(),'Reference Cells'!$C$4-BackendTable[[#This Row],[Time]])*86400","v":{"$error":"#N/A"}},{"$f":"IFERROR(8-BackendTable[[#This Row],[Column1]],\"\")","v":""},{"$f":"IF(ISERROR(BackendTable[[#This Row],[Column1]]),-9,(BackendTable[[#This Row],[Net Time]]-NetTimeMin)*RangeAdj)","v":-9},{"$f":"IF(AND(BackendTable[[#This Row],[Time]]>='Reference Cells'!$C$6,BackendTable[[#This Row],[Time]]<='Reference Cells'!$C$7),(BackendTable[[#This Row],[Time]]-'Reference Cells'!$C$6)*86400,NA())","v":2},{"$f":"IF(CommandCell='Reference Cells'!$C$17,NA(),ABS('Data In'!B487-INDIRECT(\"ZeroVal_\"&H$2,0)))","v":0},{"$f":"IF(CommandCell='Reference Cells'!$C$17,NA(),ABS('Data In'!C487-INDIRECT(\"ZeroVal_\"&I$2,0)))","v":0},{"$f":"IF(CommandCell='Reference Cells'!$C$17,NA(),ABS('Data In'!D487-INDIRECT(\"ZeroVal_\"&J$2,0)))","v":0},{"$f":"IF(CommandCell='Reference Cells'!$C$17,NA(),ABS('Data In'!E487-INDIRECT(\"ZeroVal_\"&K$2,0)))","v":0},{"$f":"IF(CommandCell='Reference Cells'!$C$17,NA(),ABS('Data In'!F487-INDIRECT(\"ZeroVal_\"&L$2,0)))","v":0},{"$f":"MAX(BackendTable[[#This Row],[S1]:[S5]])","v":0},{"$f":"IF(ISERROR(BackendTable[[#This Row],[T0Time]]),0,COUNTIFS(BackendTable[T0Time],\"<=\"&3,BackendTable[T0Time],\">=\"&0)-COUNTIFS(BackendTable[T0Time],\">\"&BackendTable[[#This Row],[T0Time]]))","v":500},null,null,null,null,null,null,null,null,null,null,null,null,null,null,null,null,null,null,null,null,null,null,null,null,{"$f":"MATCH(MAX(BackendTable[[#This Row],[T1S1]:[T1S5]]),BackendTable[[#This Row],[T1S1]:[T1S5]],0)","v":{"$error":"#N/A"}},{"$f":"MATCH(MAX(BackendTable[[#This Row],[T2S1]:[T2S5]]),BackendTable[[#This Row],[T2S1]:[T2S5]],0)","v":{"$error":"#N/A"}},{"$f":"MATCH(MAX(BackendTable[[#This Row],[T3S1]:[T3S5]]),BackendTable[[#This Row],[T3S1]:[T3S5]],0)","v":{"$error":"#N/A"}}]
[null,{"$f":"ROW()-ROW(BackendTable[[#Headers],[Row'#]])","v":481},{"$f":"'Data In'!A488","v":0},{"$f":"IF(BackendTable[[#This Row],[Time]]-'Reference Cells'!$C$3<=0,NA(),'Reference Cells'!$C$4-BackendTable[[#This Row],[Time]])*86400","v":{"$error":"#N/A"}},{"$f":"IFERROR(8-BackendTable[[#This Row],[Column1]],\"\")","v":""},{"$f":"IF(ISERROR(BackendTable[[#This Row],[Column1]]),-9,(BackendTable[[#This Row],[Net Time]]-NetTimeMin)*RangeAdj)","v":-9},{"$f":"IF(AND(BackendTable[[#This Row],[Time]]>='Reference Cells'!$C$6,BackendTable[[#This Row],[Time]]<='Reference Cells'!$C$7),(BackendTable[[#This Row],[Time]]-'Reference Cells'!$C$6)*86400,NA())","v":2},{"$f":"IF(CommandCell='Reference Cells'!$C$17,NA(),ABS('Data In'!B488-INDIRECT(\"ZeroVal_\"&H$2,0)))","v":0},{"$f":"IF(CommandCell='Reference Cells'!$C$17,NA(),ABS('Data In'!C488-INDIRECT(\"ZeroVal_\"&I$2,0)))","v":0},{"$f":"IF(CommandCell='Reference Cells'!$C$17,NA(),ABS('Data In'!D488-INDIRECT(\"ZeroVal_\"&J$2,0)))","v":0},{"$f":"IF(CommandCell='Reference Cells'!$C$17,NA(),ABS('Data In'!E488-INDIRECT(\"ZeroVal_\"&K$2,0)))","v":0},{"$f":"IF(CommandCell='Reference Cells'!$C$17,NA(),ABS('Data In'!F488-INDIRECT(\"ZeroVal_\"&L$2,0)))","v":0},{"$f":"MAX(BackendTable[[#This Row],[S1]:[S5]])","v":0},{"$f":"IF(ISERROR(BackendTable[[#This Row],[T0Time]]),0,COUNTIFS(BackendTable[T0Time],\"<=\"&3,BackendTable[T0Time],\">=\"&0)-COUNTIFS(BackendTable[T0Time],\">\"&BackendTable[[#This Row],[T0Time]]))","v":500},null,null,null,null,null,null,null,null,null,null,null,null,null,null,null,null,null,null,null,null,null,null,null,null,{"$f":"MATCH(MAX(BackendTable[[#This Row],[T1S1]:[T1S5]]),BackendTable[[#This Row],[T1S1]:[T1S5]],0)","v":{"$error":"#N/A"}},{"$f":"MATCH(MAX(BackendTable[[#This Row],[T2S1]:[T2S5]]),BackendTable[[#This Row],[T2S1]:[T2S5]],0)","v":{"$error":"#N/A"}},{"$f":"MATCH(MAX(BackendTable[[#This Row],[T3S1]:[T3S5]]),BackendTable[[#This Row],[T3S1]:[T3S5]],0)","v":{"$error":"#N/A"}}]
[null,{"$f":"ROW()-ROW(BackendTable[[#Headers],[Row'#]])","v":482},{"$f":"'Data In'!A489","v":0},{"$f":"IF(BackendTable[[#This Row],[Time]]-'Reference Cells'!$C$3<=0,NA(),'Reference Cells'!$C$4-BackendTable[[#This Row],[Time]])*86400","v":{"$error":"#N/A"}},{"$f":"IFERROR(8-BackendTable[[#This Row],[Column1]],\"\")","v":""},{"$f":"IF(ISERROR(BackendTable[[#This Row],[Column1]]),-9,(BackendTable[[#This Row],[Net Time]]-NetTimeMin)*RangeAdj)","v":-9},{"$f":"IF(AND(BackendTable[[#This Row],[Time]]>='Reference Cells'!$C$6,BackendTable[[#This Row],[Time]]<='Reference Cells'!$C$7),(BackendTable[[#This Row],[Time]]-'Reference Cells'!$C$6)*86400,NA())","v":2},{"$f":"IF(CommandCell='Reference Cells'!$C$17,NA(),ABS('Data In'!B489-INDIRECT(\"ZeroVal_\"&H$2,0)))","v":0},{"$f":"IF(CommandCell='Reference Cells'!$C$17,NA(),ABS('Data In'!C489-INDIRECT(\"ZeroVal_\"&I$2,0)))","v":0},{"$f":"IF(CommandCell='Reference Cells'!$C$17,NA(),ABS('Data In'!D489-INDIRECT(\"ZeroVal_\"&J$2,0)))","v":0},{"$f":"IF(CommandCell='Reference Cells'!$C$17,NA(),ABS('Data In'!E489-INDIRECT(\"ZeroVal_\"&K$2,0)))","v":0},{"$f":"IF(CommandCell='Reference Cells'!$C$17,NA(),ABS('Data In'!F489-INDIRECT(\"ZeroVal_\"&L$2,0)))","v":0},{"$f":"MAX(BackendTable[[#This Row],[S1]:[S5]])","v":0},{"$f":"IF(ISERROR(BackendTable[[#This Row],[T0Time]]),0,COUNTIFS(BackendTable[T0Time],\"<=\"&3,BackendTable[T0Time],\">=\"&0)-COUNTIFS(BackendTable[T0Time],\">\"&BackendTable[[#This Row],[T0Time]]))","v":500},null,null,null,null,null,null,null,null,null,null,null,null,null,null,null,null,null,null,null,null,null,null,null,null,{"$f":"MATCH(MAX(BackendTable[[#This Row],[T1S1]:[T1S5]]),BackendTable[[#This Row],[T1S1]:[T1S5]],0)","v":{"$error":"#N/A"}},{"$f":"MATCH(MAX(BackendTable[[#This Row],[T2S1]:[T2S5]]),BackendTable[[#This Row],[T2S1]:[T2S5]],0)","v":{"$error":"#N/A"}},{"$f":"MATCH(MAX(BackendTable[[#This Row],[T3S1]:[T3S5]]),BackendTable[[#This Row],[T3S1]:[T3S5]],0)","v":{"$error":"#N/A"}}]
[null,{"$f":"ROW()-ROW(BackendTable[[#Headers],[Row'#]])","v":483},{"$f":"'Data In'!A490","v":0},{"$f":"IF(BackendTable[[#This Row],[Time]]-'Reference Cells'!$C$3<=0,NA(),'Reference Cells'!$C$4-BackendTable[[#This Row],[Time]])*86400","v":{"$error":"#N/A"}},{"$f":"IFERROR(8-BackendTable[[#This Row],[Column1]],\"\")","v":""},{"$f":"IF(ISERROR(BackendTable[[#This Row],[Column1]]),-9,(BackendTable[[#This Row],[Net Time]]-NetTimeMin)*RangeAdj)","v":-9},{"$f":"IF(AND(BackendTable[[#This Row],[Time]]>='Reference Cells'!$C$6,BackendTable[[#This Row],[Time]]<='Reference Cells'!$C$7),(BackendTable[[#This Row],[Time]]-'Reference Cells'!$C$6)*86400,NA())","v":2},{"$f":"IF(CommandCell='Reference Cells'!$C$17,NA(),ABS('Data In'!B490-INDIRECT(\"ZeroVal_\"&H$2,0)))","v":0},{"$f":"IF(CommandCell='Reference Cells'!$C$17,NA(),ABS('Data In'!C490-INDIRECT(\"ZeroVal_\"&I$2,0)))","v":0},{"$f":"IF(CommandCell='Reference Cells'!$C$17,NA(),ABS('Data In'!D490-INDIRECT(\"ZeroVal_\"&J$2,0)))","v":0},{"$f":"IF(CommandCell='Reference Cells'!$C$17,NA(),ABS('Data In'!E490-INDIRECT(\"ZeroVal_\"&K$2,0)))","v":0},{"$f":"IF(CommandCell='Reference Cells'!$C$17,NA(),ABS('Data In'!F490-INDIRECT(\"ZeroVal_\"&L$2,0)))","v":0},{"$f":"MAX(BackendTable[[#This Row],[S1]:[S5]])","v":0},{"$f":"IF(ISERROR(BackendTable[[#This Row],[T0Time]]),0,COUNTIFS(BackendTable[T0Time],\"<=\"&3,BackendTable[T0Time],\">=\"&0)-COUNTIFS(BackendTable[T0Time],\">\"&BackendTable[[#This Row],[T0Time]]))","v":500},null,null,null,null,null,null,null,null,null,null,null,null,null,null,null,null,null,null,null,null,null,null,null,null,{"$f":"MATCH(MAX(BackendTable[[#This Row],[T1S1]:[T1S5]]),BackendTable[[#This Row],[T1S1]:[T1S5]],0)","v":{"$error":"#N/A"}},{"$f":"MATCH(MAX(BackendTable[[#This Row],[T2S1]:[T2S5]]),BackendTable[[#This Row],[T2S1]:[T2S5]],0)","v":{"$error":"#N/A"}},{"$f":"MATCH(MAX(BackendTable[[#This Row],[T3S1]:[T3S5]]),BackendTable[[#This Row],[T3S1]:[T3S5]],0)","v":{"$error":"#N/A"}}]
[null,{"$f":"ROW()-ROW(BackendTable[[#Headers],[Row'#]])","v":484},{"$f":"'Data In'!A491","v":0},{"$f":"IF(BackendTable[[#This Row],[Time]]-'Reference Cells'!$C$3<=0,NA(),'Reference Cells'!$C$4-BackendTable[[#This Row],[Time]])*86400","v":{"$error":"#N/A"}},{"$f":"IFERROR(8-BackendTable[[#This Row],[Column1]],\"\")","v":""},{"$f":"IF(ISERROR(BackendTable[[#This Row],[Column1]]),-9,(BackendTable[[#This Row],[Net Time]]-NetTimeMin)*RangeAdj)","v":-9},{"$f":"IF(AND(BackendTable[[#This Row],[Time]]>='Reference Cells'!$C$6,BackendTable[[#This Row],[Time]]<='Reference Cells'!$C$7),(BackendTable[[#This Row],[Time]]-'Reference Cells'!$C$6)*86400,NA())","v":2},{"$f":"IF(CommandCell='Reference Cells'!$C$17,NA(),ABS('Data In'!B491-INDIRECT(\"ZeroVal_\"&H$2,0)))","v":0},{"$f":"IF(CommandCell='Reference Cells'!$C$17,NA(),ABS('Data In'!C491-INDIRECT(\"ZeroVal_\"&I$2,0)))","v":0},{"$f":"IF(CommandCell='Reference Cells'!$C$17,NA(),ABS('Data In'!D491-INDIRECT(\"ZeroVal_\"&J$2,0)))","v":0},{"$f":"IF(CommandCell='Reference Cells'!$C$17,NA(),ABS('Data In'!E491-INDIRECT(\"ZeroVal_\"&K$2,0)))","v":0},{"$f":"IF(CommandCell='Reference Cells'!$C$17,NA(),ABS('Data In'!F491-INDIRECT(\"ZeroVal_\"&L$2,0)))","v":0},{"$f":"MAX(BackendTable[[#This Row],[S1]:[S5]])","v":0},{"$f":"IF(ISERROR(BackendTable[[#This Row],[T0Time]]),0,COUNTIFS(BackendTable[T0Time],\"<=\"&3,BackendTable[T0Time],\">=\"&0)-COUNTIFS(BackendTable[T0Time],\">\"&BackendTable[[#This Row],[T0Time]]))","v":500},null,null,null,null,null,null,null,null,null,null,null,null,null,null,null,null,null,null,null,null,null,null,null,null,{"$f":"MATCH(MAX(BackendTable[[#This Row],[T1S1]:[T1S5]]),BackendTable[[#This Row],[T1S1]:[T1S5]],0)","v":{"$error":"#N/A"}},{"$f":"MATCH(MAX(BackendTable[[#This Row],[T2S1]:[T2S5]]),BackendTable[[#This Row],[T2S1]:[T2S5]],0)","v":{"$error":"#N/A"}},{"$f":"MATCH(MAX(BackendTable[[#This Row],[T3S1]:[T3S5]]),BackendTable[[#This Row],[T3S1]:[T3S5]],0)","v":{"$error":"#N/A"}}]
[null,{"$f":"ROW()-ROW(BackendTable[[#Headers],[Row'#]])","v":485},{"$f":"'Data In'!A492","v":0},{"$f":"IF(BackendTable[[#This Row],[Time]]-'Reference Cells'!$C$3<=0,NA(),'Reference Cells'!$C$4-BackendTable[[#This Row],[Time]])*86400","v":{"$error":"#N/A"}},{"$f":"IFERROR(8-BackendTable[[#This Row],[Column1]],\"\")","v":""},{"$f":"IF(ISERROR(BackendTable[[#This Row],[Column1]]),-9,(BackendTable[[#This Row],[Net Time]]-NetTimeMin)*RangeAdj)","v":-9},{"$f":"IF(AND(BackendTable[[#This Row],[Time]]>='Reference Cells'!$C$6,BackendTable[[#This Row],[Time]]<='Reference Cells'!$C$7),(BackendTable[[#This Row],[Time]]-'Reference Cells'!$C$6)*86400,NA())","v":2},{"$f":"IF(CommandCell='Reference Cells'!$C$17,NA(),ABS('Data In'!B492-INDIRECT(\"ZeroVal_\"&H$2,0)))","v":0},{"$f":"IF(CommandCell='Reference Cells'!$C$17,NA(),ABS('Data In'!C492-INDIRECT(\"ZeroVal_\"&I$2,0)))","v":0},{"$f":"IF(CommandCell='Reference Cells'!$C$17,NA(),ABS('Data In'!D492-INDIRECT(\"ZeroVal_\"&J$2,0)))","v":0},{"$f":"IF(CommandCell='Reference Cells'!$C$17,NA(),ABS('Data In'!E492-INDIRECT(\"ZeroVal_\"&K$2,0)))","v":0},{"$f":"IF(CommandCell='Reference Cells'!$C$17,NA(),ABS('Data In'!F492-INDIRECT(\"ZeroVal_\"&L$2,0)))","v":0},{"$f":"MAX(BackendTable[[#This Row],[S1]:[S5]])","v":0},{"$f":"IF(ISERROR(BackendTable[[#This Row],[T0Time]]),0,COUNTIFS(BackendTable[T0Time],\"<=\"&3,BackendTable[T0Time],\">=\"&0)-COUNTIFS(BackendTable[T0Time],\">\"&BackendTable[[#This Row],[T0Time]]))","v":500},null,null,null,null,null,null,null,null,null,null,null,null,null,null,null,null,null,null,null,null,null,null,null,null,{"$f":"MATCH(MAX(BackendTable[[#This Row],[T1S1]:[T1S5]]),BackendTable[[#This Row],[T1S1]:[T1S5]],0)","v":{"$error":"#N/A"}},{"$f":"MATCH(MAX(BackendTable[[#This Row],[T2S1]:[T2S5]]),BackendTable[[#This Row],[T2S1]:[T2S5]],0)","v":{"$error":"#N/A"}},{"$f":"MATCH(MAX(BackendTable[[#This Row],[T3S1]:[T3S5]]),BackendTable[[#This Row],[T3S1]:[T3S5]],0)","v":{"$error":"#N/A"}}]
[null,{"$f":"ROW()-ROW(BackendTable[[#Headers],[Row'#]])","v":486},{"$f":"'Data In'!A493","v":0},{"$f":"IF(BackendTable[[#This Row],[Time]]-'Reference Cells'!$C$3<=0,NA(),'Reference Cells'!$C$4-BackendTable[[#This Row],[Time]])*86400","v":{"$error":"#N/A"}},{"$f":"IFERROR(8-BackendTable[[#This Row],[Column1]],\"\")","v":""},{"$f":"IF(ISERROR(BackendTable[[#This Row],[Column1]]),-9,(BackendTable[[#This Row],[Net Time]]-NetTimeMin)*RangeAdj)","v":-9},{"$f":"IF(AND(BackendTable[[#This Row],[Time]]>='Reference Cells'!$C$6,BackendTable[[#This Row],[Time]]<='Reference Cells'!$C$7),(BackendTable[[#This Row],[Time]]-'Reference Cells'!$C$6)*86400,NA())","v":2},{"$f":"IF(CommandCell='Reference Cells'!$C$17,NA(),ABS('Data In'!B493-INDIRECT(\"ZeroVal_\"&H$2,0)))","v":0},{"$f":"IF(CommandCell='Reference Cells'!$C$17,NA(),ABS('Data In'!C493-INDIRECT(\"ZeroVal_\"&I$2,0)))","v":0},{"$f":"IF(CommandCell='Reference Cells'!$C$17,NA(),ABS('Data In'!D493-INDIRECT(\"ZeroVal_\"&J$2,0)))","v":0},{"$f":"IF(CommandCell='Reference Cells'!$C$17,NA(),ABS('Data In'!E493-INDIRECT(\"ZeroVal_\"&K$2,0)))","v":0},{"$f":"IF(CommandCell='Reference Cells'!$C$17,NA(),ABS('Data In'!F493-INDIRECT(\"ZeroVal_\"&L$2,0)))","v":0},{"$f":"MAX(BackendTable[[#This Row],[S1]:[S5]])","v":0},{"$f":"IF(ISERROR(BackendTable[[#This Row],[T0Time]]),0,COUNTIFS(BackendTable[T0Time],\"<=\"&3,BackendTable[T0Time],\">=\"&0)-COUNTIFS(BackendTable[T0Time],\">\"&BackendTable[[#This Row],[T0Time]]))","v":500},null,null,null,null,null,null,null,null,null,null,null,null,null,null,null,null,null,null,null,null,null,null,null,null,{"$f":"MATCH(MAX(BackendTable[[#This Row],[T1S1]:[T1S5]]),BackendTable[[#This Row],[T1S1]:[T1S5]],0)","v":{"$error":"#N/A"}},{"$f":"MATCH(MAX(BackendTable[[#This Row],[T2S1]:[T2S5]]),BackendTable[[#This Row],[T2S1]:[T2S5]],0)","v":{"$error":"#N/A"}},{"$f":"MATCH(MAX(BackendTable[[#This Row],[T3S1]:[T3S5]]),BackendTable[[#This Row],[T3S1]:[T3S5]],0)","v":{"$error":"#N/A"}}]
[null,{"$f":"ROW()-ROW(BackendTable[[#Headers],[Row'#]])","v":487},{"$f":"'Data In'!A494","v":0},{"$f":"IF(BackendTable[[#This Row],[Time]]-'Reference Cells'!$C$3<=0,NA(),'Reference Cells'!$C$4-BackendTable[[#This Row],[Time]])*86400","v":{"$error":"#N/A"}},{"$f":"IFERROR(8-BackendTable[[#This Row],[Column1]],\"\")","v":""},{"$f":"IF(ISERROR(BackendTable[[#This Row],[Column1]]),-9,(BackendTable[[#This Row],[Net Time]]-NetTimeMin)*RangeAdj)","v":-9},{"$f":"IF(AND(BackendTable[[#This Row],[Time]]>='Reference Cells'!$C$6,BackendTable[[#This Row],[Time]]<='Reference Cells'!$C$7),(BackendTable[[#This Row],[Time]]-'Reference Cells'!$C$6)*86400,NA())","v":2},{"$f":"IF(CommandCell='Reference Cells'!$C$17,NA(),ABS('Data In'!B494-INDIRECT(\"ZeroVal_\"&H$2,0)))","v":0},{"$f":"IF(CommandCell='Reference Cells'!$C$17,NA(),ABS('Data In'!C494-INDIRECT(\"ZeroVal_\"&I$2,0)))","v":0},{"$f":"IF(CommandCell='Reference Cells'!$C$17,NA(),ABS('Data In'!D494-INDIRECT(\"ZeroVal_\"&J$2,0)))","v":0},{"$f":"IF(CommandCell='Reference Cells'!$C$17,NA(),ABS('Data In'!E494-INDIRECT(\"ZeroVal_\"&K$2,0)))","v":0},{"$f":"IF(CommandCell='Reference Cells'!$C$17,NA(),ABS('Data In'!F494-INDIRECT(\"ZeroVal_\"&L$2,0)))","v":0},{"$f":"MAX(BackendTable[[#This Row],[S1]:[S5]])","v":0},{"$f":"IF(ISERROR(BackendTable[[#This Row],[T0Time]]),0,COUNTIFS(BackendTable[T0Time],\"<=\"&3,BackendTable[T0Time],\">=\"&0)-COUNTIFS(BackendTable[T0Time],\">\"&BackendTable[[#This Row],[T0Time]]))","v":500},null,null,null,null,null,null,null,null,null,null,null,null,null,null,null,null,null,null,null,null,null,null,null,null,{"$f":"MATCH(MAX(BackendTable[[#This Row],[T1S1]:[T1S5]]),BackendTable[[#This Row],[T1S1]:[T1S5]],0)","v":{"$error":"#N/A"}},{"$f":"MATCH(MAX(BackendTable[[#This Row],[T2S1]:[T2S5]]),BackendTable[[#This Row],[T2S1]:[T2S5]],0)","v":{"$error":"#N/A"}},{"$f":"MATCH(MAX(BackendTable[[#This Row],[T3S1]:[T3S5]]),BackendTable[[#This Row],[T3S1]:[T3S5]],0)","v":{"$error":"#N/A"}}]
[null,{"$f":"ROW()-ROW(BackendTable[[#Headers],[Row'#]])","v":488},{"$f":"'Data In'!A495","v":0},{"$f":"IF(BackendTable[[#This Row],[Time]]-'Reference Cells'!$C$3<=0,NA(),'Reference Cells'!$C$4-BackendTable[[#This Row],[Time]])*86400","v":{"$error":"#N/A"}},{"$f":"IFERROR(8-BackendTable[[#This Row],[Column1]],\"\")","v":""},{"$f":"IF(ISERROR(BackendTable[[#This Row],[Column1]]),-9,(BackendTable[[#This Row],[Net Time]]-NetTimeMin)*RangeAdj)","v":-9},{"$f":"IF(AND(BackendTable[[#This Row],[Time]]>='Reference Cells'!$C$6,BackendTable[[#This Row],[Time]]<='Reference Cells'!$C$7),(BackendTable[[#This Row],[Time]]-'Reference Cells'!$C$6)*86400,NA())","v":2},{"$f":"IF(CommandCell='Reference Cells'!$C$17,NA(),ABS('Data In'!B495-INDIRECT(\"ZeroVal_\"&H$2,0)))","v":0},{"$f":"IF(CommandCell='Reference Cells'!$C$17,NA(),ABS('Data In'!C495-INDIRECT(\"ZeroVal_\"&I$2,0)))","v":0},{"$f":"IF(CommandCell='Reference Cells'!$C$17,NA(),ABS('Data In'!D495-INDIRECT(\"ZeroVal_\"&J$2,0)))","v":0},{"$f":"IF(CommandCell='Reference Cells'!$C$17,NA(),ABS('Data In'!E495-INDIRECT(\"ZeroVal_\"&K$2,0)))","v":0},{"$f":"IF(CommandCell='Reference Cells'!$C$17,NA(),ABS('Data In'!F495-INDIRECT(\"ZeroVal_\"&L$2,0)))","v":0},{"$f":"MAX(BackendTable[[#This Row],[S1]:[S5]])","v":0},{"$f":"IF(ISERROR(BackendTable[[#This Row],[T0Time]]),0,COUNTIFS(BackendTable[T0Time],\"<=\"&3,BackendTable[T0Time],\">=\"&0)-COUNTIFS(BackendTable[T0Time],\">\"&BackendTable[[#This Row],[T0Time]]))","v":500},null,null,null,null,null,null,null,null,null,null,null,null,null,null,null,null,null,null,null,null,null,null,null,null,{"$f":"MATCH(MAX(BackendTable[[#This Row],[T1S1]:[T1S5]]),BackendTable[[#This Row],[T1S1]:[T1S5]],0)","v":{"$error":"#N/A"}},{"$f":"MATCH(MAX(BackendTable[[#This Row],[T2S1]:[T2S5]]),BackendTable[[#This Row],[T2S1]:[T2S5]],0)","v":{"$error":"#N/A"}},{"$f":"MATCH(MAX(BackendTable[[#This Row],[T3S1]:[T3S5]]),BackendTable[[#This Row],[T3S1]:[T3S5]],0)","v":{"$error":"#N/A"}}]
[null,{"$f":"ROW()-ROW(BackendTable[[#Headers],[Row'#]])","v":489},{"$f":"'Data In'!A496","v":0},{"$f":"IF(BackendTable[[#This Row],[Time]]-'Reference Cells'!$C$3<=0,NA(),'Reference Cells'!$C$4-BackendTable[[#This Row],[Time]])*86400","v":{"$error":"#N/A"}},{"$f":"IFERROR(8-BackendTable[[#This Row],[Column1]],\"\")","v":""},{"$f":"IF(ISERROR(BackendTable[[#This Row],[Column1]]),-9,(BackendTable[[#This Row],[Net Time]]-NetTimeMin)*RangeAdj)","v":-9},{"$f":"IF(AND(BackendTable[[#This Row],[Time]]>='Reference Cells'!$C$6,BackendTable[[#This Row],[Time]]<='Reference Cells'!$C$7),(BackendTable[[#This Row],[Time]]-'Reference Cells'!$C$6)*86400,NA())","v":2},{"$f":"IF(CommandCell='Reference Cells'!$C$17,NA(),ABS('Data In'!B496-INDIRECT(\"ZeroVal_\"&H$2,0)))","v":0},{"$f":"IF(CommandCell='Reference Cells'!$C$17,NA(),ABS('Data In'!C496-INDIRECT(\"ZeroVal_\"&I$2,0)))","v":0},{"$f":"IF(CommandCell='Reference Cells'!$C$17,NA(),ABS('Data In'!D496-INDIRECT(\"ZeroVal_\"&J$2,0)))","v":0},{"$f":"IF(CommandCell='Reference Cells'!$C$17,NA(),ABS('Data In'!E496-INDIRECT(\"ZeroVal_\"&K$2,0)))","v":0},{"$f":"IF(CommandCell='Reference Cells'!$C$17,NA(),ABS('Data In'!F496-INDIRECT(\"ZeroVal_\"&L$2,0)))","v":0},{"$f":"MAX(BackendTable[[#This Row],[S1]:[S5]])","v":0},{"$f":"IF(ISERROR(BackendTable[[#This Row],[T0Time]]),0,COUNTIFS(BackendTable[T0Time],\"<=\"&3,BackendTable[T0Time],\">=\"&0)-COUNTIFS(BackendTable[T0Time],\">\"&BackendTable[[#This Row],[T0Time]]))","v":500},null,null,null,null,null,null,null,null,null,null,null,null,null,null,null,null,null,null,null,null,null,null,null,null,{"$f":"MATCH(MAX(BackendTable[[#This Row],[T1S1]:[T1S5]]),BackendTable[[#This Row],[T1S1]:[T1S5]],0)","v":{"$error":"#N/A"}},{"$f":"MATCH(MAX(BackendTable[[#This Row],[T2S1]:[T2S5]]),BackendTable[[#This Row],[T2S1]:[T2S5]],0)","v":{"$error":"#N/A"}},{"$f":"MATCH(MAX(BackendTable[[#This Row],[T3S1]:[T3S5]]),BackendTable[[#This Row],[T3S1]:[T3S5]],0)","v":{"$error":"#N/A"}}]
[null,{"$f":"ROW()-ROW(BackendTable[[#Headers],[Row'#]])","v":490},{"$f":"'Data In'!A497","v":0},{"$f":"IF(BackendTable[[#This Row],[Time]]-'Reference Cells'!$C$3<=0,NA(),'Reference Cells'!$C$4-BackendTable[[#This Row],[Time]])*86400","v":{"$error":"#N/A"}},{"$f":"IFERROR(8-BackendTable[[#This Row],[Column1]],\"\")","v":""},{"$f":"IF(ISERROR(BackendTable[[#This Row],[Column1]]),-9,(BackendTable[[#This Row],[Net Time]]-NetTimeMin)*RangeAdj)","v":-9},{"$f":"IF(AND(BackendTable[[#This Row],[Time]]>='Reference Cells'!$C$6,BackendTable[[#This Row],[Time]]<='Reference Cells'!$C$7),(BackendTable[[#This Row],[Time]]-'Reference Cells'!$C$6)*86400,NA())","v":2},{"$f":"IF(CommandCell='Reference Cells'!$C$17,NA(),ABS('Data In'!B497-INDIRECT(\"ZeroVal_\"&H$2,0)))","v":0},{"$f":"IF(CommandCell='Reference Cells'!$C$17,NA(),ABS('Data In'!C497-INDIRECT(\"ZeroVal_\"&I$2,0)))","v":0},{"$f":"IF(CommandCell='Reference Cells'!$C$17,NA(),ABS('Data In'!D497-INDIRECT(\"ZeroVal_\"&J$2,0)))","v":0},{"$f":"IF(CommandCell='Reference Cells'!$C$17,NA(),ABS('Data In'!E497-INDIRECT(\"ZeroVal_\"&K$2,0)))","v":0},{"$f":"IF(CommandCell='Reference Cells'!$C$17,NA(),ABS('Data In'!F497-INDIRECT(\"ZeroVal_\"&L$2,0)))","v":0},{"$f":"MAX(BackendTable[[#This Row],[S1]:[S5]])","v":0},{"$f":"IF(ISERROR(BackendTable[[#This Row],[T0Time]]),0,COUNTIFS(BackendTable[T0Time],\"<=\"&3,BackendTable[T0Time],\">=\"&0)-COUNTIFS(BackendTable[T0Time],\">\"&BackendTable[[#This Row],[T0Time]]))","v":500},null,null,null,null,null,null,null,null,null,null,null,null,null,null,null,null,null,null,null,null,null,null,null,null,{"$f":"MATCH(MAX(BackendTable[[#This Row],[T1S1]:[T1S5]]),BackendTable[[#This Row],[T1S1]:[T1S5]],0)","v":{"$error":"#N/A"}},{"$f":"MATCH(MAX(BackendTable[[#This Row],[T2S1]:[T2S5]]),BackendTable[[#This Row],[T2S1]:[T2S5]],0)","v":{"$error":"#N/A"}},{"$f":"MATCH(MAX(BackendTable[[#This Row],[T3S1]:[T3S5]]),BackendTable[[#This Row],[T3S1]:[T3S5]],0)","v":{"$error":"#N/A"}}]
[null,{"$f":"ROW()-ROW(BackendTable[[#Headers],[Row'#]])","v":491},{"$f":"'Data In'!A498","v":0},{"$f":"IF(BackendTable[[#This Row],[Time]]-'Reference Cells'!$C$3<=0,NA(),'Reference Cells'!$C$4-BackendTable[[#This Row],[Time]])*86400","v":{"$error":"#N/A"}},{"$f":"IFERROR(8-BackendTable[[#This Row],[Column1]],\"\")","v":""},{"$f":"IF(ISERROR(BackendTable[[#This Row],[Column1]]),-9,(BackendTable[[#This Row],[Net Time]]-NetTimeMin)*RangeAdj)","v":-9},{"$f":"IF(AND(BackendTable[[#This Row],[Time]]>='Reference Cells'!$C$6,BackendTable[[#This Row],[Time]]<='Reference Cells'!$C$7),(BackendTable[[#This Row],[Time]]-'Reference Cells'!$C$6)*86400,NA())","v":2},{"$f":"IF(CommandCell='Reference Cells'!$C$17,NA(),ABS('Data In'!B498-INDIRECT(\"ZeroVal_\"&H$2,0)))","v":0},{"$f":"IF(CommandCell='Reference Cells'!$C$17,NA(),ABS('Data In'!C498-INDIRECT(\"ZeroVal_\"&I$2,0)))","v":0},{"$f":"IF(CommandCell='Reference Cells'!$C$17,NA(),ABS('Data In'!D498-INDIRECT(\"ZeroVal_\"&J$2,0)))","v":0},{"$f":"IF(CommandCell='Reference Cells'!$C$17,NA(),ABS('Data In'!E498-INDIRECT(\"ZeroVal_\"&K$2,0)))","v":0},{"$f":"IF(CommandCell='Reference Cells'!$C$17,NA(),ABS('Data In'!F498-INDIRECT(\"ZeroVal_\"&L$2,0)))","v":0},{"$f":"MAX(BackendTable[[#This Row],[S1]:[S5]])","v":0},{"$f":"IF(ISERROR(BackendTable[[#This Row],[T0Time]]),0,COUNTIFS(BackendTable[T0Time],\"<=\"&3,BackendTable[T0Time],\">=\"&0)-COUNTIFS(BackendTable[T0Time],\">\"&BackendTable[[#This Row],[T0Time]]))","v":500},null,null,null,null,null,null,null,null,null,null,null,null,null,null,null,null,null,null,null,null,null,null,null,null,{"$f":"MATCH(MAX(BackendTable[[#This Row],[T1S1]:[T1S5]]),BackendTable[[#This Row],[T1S1]:[T1S5]],0)","v":{"$error":"#N/A"}},{"$f":"MATCH(MAX(BackendTable[[#This Row],[T2S1]:[T2S5]]),BackendTable[[#This Row],[T2S1]:[T2S5]],0)","v":{"$error":"#N/A"}},{"$f":"MATCH(MAX(BackendTable[[#This Row],[T3S1]:[T3S5]]),BackendTable[[#This Row],[T3S1]:[T3S5]],0)","v":{"$error":"#N/A"}}]
[null,{"$f":"ROW()-ROW(BackendTable[[#Headers],[Row'#]])","v":492},{"$f":"'Data In'!A499","v":0},{"$f":"IF(BackendTable[[#This Row],[Time]]-'Reference Cells'!$C$3<=0,NA(),'Reference Cells'!$C$4-BackendTable[[#This Row],[Time]])*86400","v":{"$error":"#N/A"}},{"$f":"IFERROR(8-BackendTable[[#This Row],[Column1]],\"\")","v":""},{"$f":"IF(ISERROR(BackendTable[[#This Row],[Column1]]),-9,(BackendTable[[#This Row],[Net Time]]-NetTimeMin)*RangeAdj)","v":-9},{"$f":"IF(AND(BackendTable[[#This Row],[Time]]>='Reference Cells'!$C$6,BackendTable[[#This Row],[Time]]<='Reference Cells'!$C$7),(BackendTable[[#This Row],[Time]]-'Reference Cells'!$C$6)*86400,NA())","v":2},{"$f":"IF(CommandCell='Reference Cells'!$C$17,NA(),ABS('Data In'!B499-INDIRECT(\"ZeroVal_\"&H$2,0)))","v":0},{"$f":"IF(CommandCell='Reference Cells'!$C$17,NA(),ABS('Data In'!C499-INDIRECT(\"ZeroVal_\"&I$2,0)))","v":0},{"$f":"IF(CommandCell='Reference Cells'!$C$17,NA(),ABS('Data In'!D499-INDIRECT(\"ZeroVal_\"&J$2,0)))","v":0},{"$f":"IF(CommandCell='Reference Cells'!$C$17,NA(),ABS('Data In'!E499-INDIRECT(\"ZeroVal_\"&K$2,0)))","v":0},{"$f":"IF(CommandCell='Reference Cells'!$C$17,NA(),ABS('Data In'!F499-INDIRECT(\"ZeroVal_\"&L$2,0)))","v":0},{"$f":"MAX(BackendTable[[#This Row],[S1]:[S5]])","v":0},{"$f":"IF(ISERROR(BackendTable[[#This Row],[T0Time]]),0,COUNTIFS(BackendTable[T0Time],\"<=\"&3,BackendTable[T0Time],\">=\"&0)-COUNTIFS(BackendTable[T0Time],\">\"&BackendTable[[#This Row],[T0Time]]))","v":500},null,null,null,null,null,null,null,null,null,null,null,null,null,null,null,null,null,null,null,null,null,null,null,null,{"$f":"MATCH(MAX(BackendTable[[#This Row],[T1S1]:[T1S5]]),BackendTable[[#This Row],[T1S1]:[T1S5]],0)","v":{"$error":"#N/A"}},{"$f":"MATCH(MAX(BackendTable[[#This Row],[T2S1]:[T2S5]]),BackendTable[[#This Row],[T2S1]:[T2S5]],0)","v":{"$error":"#N/A"}},{"$f":"MATCH(MAX(BackendTable[[#This Row],[T3S1]:[T3S5]]),BackendTable[[#This Row],[T3S1]:[T3S5]],0)","v":{"$error":"#N/A"}}]
[null,{"$f":"ROW()-ROW(BackendTable[[#Headers],[Row'#]])","v":493},{"$f":"'Data In'!A500","v":0},{"$f":"IF(BackendTable[[#This Row],[Time]]-'Reference Cells'!$C$3<=0,NA(),'Reference Cells'!$C$4-BackendTable[[#This Row],[Time]])*86400","v":{"$error":"#N/A"}},{"$f":"IFERROR(8-BackendTable[[#This Row],[Column1]],\"\")","v":""},{"$f":"IF(ISERROR(BackendTable[[#This Row],[Column1]]),-9,(BackendTable[[#This Row],[Net Time]]-NetTimeMin)*RangeAdj)","v":-9},{"$f":"IF(AND(BackendTable[[#This Row],[Time]]>='Reference Cells'!$C$6,BackendTable[[#This Row],[Time]]<='Reference Cells'!$C$7),(BackendTable[[#This Row],[Time]]-'Reference Cells'!$C$6)*86400,NA())","v":2},{"$f":"IF(CommandCell='Reference Cells'!$C$17,NA(),ABS('Data In'!B500-INDIRECT(\"ZeroVal_\"&H$2,0)))","v":0},{"$f":"IF(CommandCell='Reference Cells'!$C$17,NA(),ABS('Data In'!C500-INDIRECT(\"ZeroVal_\"&I$2,0)))","v":0},{"$f":"IF(CommandCell='Reference Cells'!$C$17,NA(),ABS('Data In'!D500-INDIRECT(\"ZeroVal_\"&J$2,0)))","v":0},{"$f":"IF(CommandCell='Reference Cells'!$C$17,NA(),ABS('Data In'!E500-INDIRECT(\"ZeroVal_\"&K$2,0)))","v":0},{"$f":"IF(CommandCell='Reference Cells'!$C$17,NA(),ABS('Data In'!F500-INDIRECT(\"ZeroVal_\"&L$2,0)))","v":0},{"$f":"MAX(BackendTable[[#This Row],[S1]:[S5]])","v":0},{"$f":"IF(ISERROR(BackendTable[[#This Row],[T0Time]]),0,COUNTIFS(BackendTable[T0Time],\"<=\"&3,BackendTable[T0Time],\">=\"&0)-COUNTIFS(BackendTable[T0Time],\">\"&BackendTable[[#This Row],[T0Time]]))","v":500},null,null,null,null,null,null,null,null,null,null,null,null,null,null,null,null,null,null,null,null,null,null,null,null,{"$f":"MATCH(MAX(BackendTable[[#This Row],[T1S1]:[T1S5]]),BackendTable[[#This Row],[T1S1]:[T1S5]],0)","v":{"$error":"#N/A"}},{"$f":"MATCH(MAX(BackendTable[[#This Row],[T2S1]:[T2S5]]),BackendTable[[#This Row],[T2S1]:[T2S5]],0)","v":{"$error":"#N/A"}},{"$f":"MATCH(MAX(BackendTable[[#This Row],[T3S1]:[T3S5]]),BackendTable[[#This Row],[T3S1]:[T3S5]],0)","v":{"$error":"#N/A"}}]
[null,{"$f":"ROW()-ROW(BackendTable[[#Headers],[Row'#]])","v":494},{"$f":"'Data In'!A501","v":0},{"$f":"IF(BackendTable[[#This Row],[Time]]-'Reference Cells'!$C$3<=0,NA(),'Reference Cells'!$C$4-BackendTable[[#This Row],[Time]])*86400","v":{"$error":"#N/A"}},{"$f":"IFERROR(8-BackendTable[[#This Row],[Column1]],\"\")","v":""},{"$f":"IF(ISERROR(BackendTable[[#This Row],[Column1]]),-9,(BackendTable[[#This Row],[Net Time]]-NetTimeMin)*RangeAdj)","v":-9},{"$f":"IF(AND(BackendTable[[#This Row],[Time]]>='Reference Cells'!$C$6,BackendTable[[#This Row],[Time]]<='Reference Cells'!$C$7),(BackendTable[[#This Row],[Time]]-'Reference Cells'!$C$6)*86400,NA())","v":2},{"$f":"IF(CommandCell='Reference Cells'!$C$17,NA(),ABS('Data In'!B501-INDIRECT(\"ZeroVal_\"&H$2,0)))","v":0},{"$f":"IF(CommandCell='Reference Cells'!$C$17,NA(),ABS('Data In'!C501-INDIRECT(\"ZeroVal_\"&I$2,0)))","v":0},{"$f":"IF(CommandCell='Reference Cells'!$C$17,NA(),ABS('Data In'!D501-INDIRECT(\"ZeroVal_\"&J$2,0)))","v":0},{"$f":"IF(CommandCell='Reference Cells'!$C$17,NA(),ABS('Data In'!E501-INDIRECT(\"ZeroVal_\"&K$2,0)))","v":0},{"$f":"IF(CommandCell='Reference Cells'!$C$17,NA(),ABS('Data In'!F501-INDIRECT(\"ZeroVal_\"&L$2,0)))","v":0},{"$f":"MAX(BackendTable[[#This Row],[S1]:[S5]])","v":0},{"$f":"IF(ISERROR(BackendTable[[#This Row],[T0Time]]),0,COUNTIFS(BackendTable[T0Time],\"<=\"&3,BackendTable[T0Time],\">=\"&0)-COUNTIFS(BackendTable[T0Time],\">\"&BackendTable[[#This Row],[T0Time]]))","v":500},null,null,null,null,null,null,null,null,null,null,null,null,null,null,null,null,null,null,null,null,null,null,null,null,{"$f":"MATCH(MAX(BackendTable[[#This Row],[T1S1]:[T1S5]]),BackendTable[[#This Row],[T1S1]:[T1S5]],0)","v":{"$error":"#N/A"}},{"$f":"MATCH(MAX(BackendTable[[#This Row],[T2S1]:[T2S5]]),BackendTable[[#This Row],[T2S1]:[T2S5]],0)","v":{"$error":"#N/A"}},{"$f":"MATCH(MAX(BackendTable[[#This Row],[T3S1]:[T3S5]]),BackendTable[[#This Row],[T3S1]:[T3S5]],0)","v":{"$error":"#N/A"}}]
[null,{"$f":"ROW()-ROW(BackendTable[[#Headers],[Row'#]])","v":495},{"$f":"'Data In'!A502","v":0},{"$f":"IF(BackendTable[[#This Row],[Time]]-'Reference Cells'!$C$3<=0,NA(),'Reference Cells'!$C$4-BackendTable[[#This Row],[Time]])*86400","v":{"$error":"#N/A"}},{"$f":"IFERROR(8-BackendTable[[#This Row],[Column1]],\"\")","v":""},{"$f":"IF(ISERROR(BackendTable[[#This Row],[Column1]]),-9,(BackendTable[[#This Row],[Net Time]]-NetTimeMin)*RangeAdj)","v":-9},{"$f":"IF(AND(BackendTable[[#This Row],[Time]]>='Reference Cells'!$C$6,BackendTable[[#This Row],[Time]]<='Reference Cells'!$C$7),(BackendTable[[#This Row],[Time]]-'Reference Cells'!$C$6)*86400,NA())","v":2},{"$f":"IF(CommandCell='Reference Cells'!$C$17,NA(),ABS('Data In'!B502-INDIRECT(\"ZeroVal_\"&H$2,0)))","v":0},{"$f":"IF(CommandCell='Reference Cells'!$C$17,NA(),ABS('Data In'!C502-INDIRECT(\"ZeroVal_\"&I$2,0)))","v":0},{"$f":"IF(CommandCell='Reference Cells'!$C$17,NA(),ABS('Data In'!D502-INDIRECT(\"ZeroVal_\"&J$2,0)))","v":0},{"$f":"IF(CommandCell='Reference Cells'!$C$17,NA(),ABS('Data In'!E502-INDIRECT(\"ZeroVal_\"&K$2,0)))","v":0},{"$f":"IF(CommandCell='Reference Cells'!$C$17,NA(),ABS('Data In'!F502-INDIRECT(\"ZeroVal_\"&L$2,0)))","v":0},{"$f":"MAX(BackendTable[[#This Row],[S1]:[S5]])","v":0},{"$f":"IF(ISERROR(BackendTable[[#This Row],[T0Time]]),0,COUNTIFS(BackendTable[T0Time],\"<=\"&3,BackendTable[T0Time],\">=\"&0)-COUNTIFS(BackendTable[T0Time],\">\"&BackendTable[[#This Row],[T0Time]]))","v":500},null,null,null,null,null,null,null,null,null,null,null,null,null,null,null,null,null,null,null,null,null,null,null,null,{"$f":"MATCH(MAX(BackendTable[[#This Row],[T1S1]:[T1S5]]),BackendTable[[#This Row],[T1S1]:[T1S5]],0)","v":{"$error":"#N/A"}},{"$f":"MATCH(MAX(BackendTable[[#This Row],[T2S1]:[T2S5]]),BackendTable[[#This Row],[T2S1]:[T2S5]],0)","v":{"$error":"#N/A"}},{"$f":"MATCH(MAX(BackendTable[[#This Row],[T3S1]:[T3S5]]),BackendTable[[#This Row],[T3S1]:[T3S5]],0)","v":{"$error":"#N/A"}}]
[null,{"$f":"ROW()-ROW(BackendTable[[#Headers],[Row'#]])","v":496},{"$f":"'Data In'!A503","v":0},{"$f":"IF(BackendTable[[#This Row],[Time]]-'Reference Cells'!$C$3<=0,NA(),'Reference Cells'!$C$4-BackendTable[[#This Row],[Time]])*86400","v":{"$error":"#N/A"}},{"$f":"IFERROR(8-BackendTable[[#This Row],[Column1]],\"\")","v":""},{"$f":"IF(ISERROR(BackendTable[[#This Row],[Column1]]),-9,(BackendTable[[#This Row],[Net Time]]-NetTimeMin)*RangeAdj)","v":-9},{"$f":"IF(AND(BackendTable[[#This Row],[Time]]>='Reference Cells'!$C$6,BackendTable[[#This Row],[Time]]<='Reference Cells'!$C$7),(BackendTable[[#This Row],[Time]]-'Reference Cells'!$C$6)*86400,NA())","v":2},{"$f":"IF(CommandCell='Reference Cells'!$C$17,NA(),ABS('Data In'!B503-INDIRECT(\"ZeroVal_\"&H$2,0)))","v":0},{"$f":"IF(CommandCell='Reference Cells'!$C$17,NA(),ABS('Data In'!C503-INDIRECT(\"ZeroVal_\"&I$2,0)))","v":0},{"$f":"IF(CommandCell='Reference Cells'!$C$17,NA(),ABS('Data In'!D503-INDIRECT(\"ZeroVal_\"&J$2,0)))","v":0},{"$f":"IF(CommandCell='Reference Cells'!$C$17,NA(),ABS('Data In'!E503-INDIRECT(\"ZeroVal_\"&K$2,0)))","v":0},{"$f":"IF(CommandCell='Reference Cells'!$C$17,NA(),ABS('Data In'!F503-INDIRECT(\"ZeroVal_\"&L$2,0)))","v":0},{"$f":"MAX(BackendTable[[#This Row],[S1]:[S5]])","v":0},{"$f":"IF(ISERROR(BackendTable[[#This Row],[T0Time]]),0,COUNTIFS(BackendTable[T0Time],\"<=\"&3,BackendTable[T0Time],\">=\"&0)-COUNTIFS(BackendTable[T0Time],\">\"&BackendTable[[#This Row],[T0Time]]))","v":500},null,null,null,null,null,null,null,null,null,null,null,null,null,null,null,null,null,null,null,null,null,null,null,null,{"$f":"MATCH(MAX(BackendTable[[#This Row],[T1S1]:[T1S5]]),BackendTable[[#This Row],[T1S1]:[T1S5]],0)","v":{"$error":"#N/A"}},{"$f":"MATCH(MAX(BackendTable[[#This Row],[T2S1]:[T2S5]]),BackendTable[[#This Row],[T2S1]:[T2S5]],0)","v":{"$error":"#N/A"}},{"$f":"MATCH(MAX(BackendTable[[#This Row],[T3S1]:[T3S5]]),BackendTable[[#This Row],[T3S1]:[T3S5]],0)","v":{"$error":"#N/A"}}]
[null,{"$f":"ROW()-ROW(BackendTable[[#Headers],[Row'#]])","v":497},{"$f":"'Data In'!A504","v":0},{"$f":"IF(BackendTable[[#This Row],[Time]]-'Reference Cells'!$C$3<=0,NA(),'Reference Cells'!$C$4-BackendTable[[#This Row],[Time]])*86400","v":{"$error":"#N/A"}},{"$f":"IFERROR(8-BackendTable[[#This Row],[Column1]],\"\")","v":""},{"$f":"IF(ISERROR(BackendTable[[#This Row],[Column1]]),-9,(BackendTable[[#This Row],[Net Time]]-NetTimeMin)*RangeAdj)","v":-9},{"$f":"IF(AND(BackendTable[[#This Row],[Time]]>='Reference Cells'!$C$6,BackendTable[[#This Row],[Time]]<='Reference Cells'!$C$7),(BackendTable[[#This Row],[Time]]-'Reference Cells'!$C$6)*86400,NA())","v":2},{"$f":"IF(CommandCell='Reference Cells'!$C$17,NA(),ABS('Data In'!B504-INDIRECT(\"ZeroVal_\"&H$2,0)))","v":0},{"$f":"IF(CommandCell='Reference Cells'!$C$17,NA(),ABS('Data In'!C504-INDIRECT(\"ZeroVal_\"&I$2,0)))","v":0},{"$f":"IF(CommandCell='Reference Cells'!$C$17,NA(),ABS('Data In'!D504-INDIRECT(\"ZeroVal_\"&J$2,0)))","v":0},{"$f":"IF(CommandCell='Reference Cells'!$C$17,NA(),ABS('Data In'!E504-INDIRECT(\"ZeroVal_\"&K$2,0)))","v":0},{"$f":"IF(CommandCell='Reference Cells'!$C$17,NA(),ABS('Data In'!F504-INDIRECT(\"ZeroVal_\"&L$2,0)))","v":0},{"$f":"MAX(BackendTable[[#This Row],[S1]:[S5]])","v":0},{"$f":"IF(ISERROR(BackendTable[[#This Row],[T0Time]]),0,COUNTIFS(BackendTable[T0Time],\"<=\"&3,BackendTable[T0Time],\">=\"&0)-COUNTIFS(BackendTable[T0Time],\">\"&BackendTable[[#This Row],[T0Time]]))","v":500},null,null,null,null,null,null,null,null,null,null,null,null,null,null,null,null,null,null,null,null,null,null,null,null,{"$f":"MATCH(MAX(BackendTable[[#This Row],[T1S1]:[T1S5]]),BackendTable[[#This Row],[T1S1]:[T1S5]],0)","v":{"$error":"#N/A"}},{"$f":"MATCH(MAX(BackendTable[[#This Row],[T2S1]:[T2S5]]),BackendTable[[#This Row],[T2S1]:[T2S5]],0)","v":{"$error":"#N/A"}},{"$f":"MATCH(MAX(BackendTable[[#This Row],[T3S1]:[T3S5]]),BackendTable[[#This Row],[T3S1]:[T3S5]],0)","v":{"$error":"#N/A"}}]
[null,{"$f":"ROW()-ROW(BackendTable[[#Headers],[Row'#]])","v":498},{"$f":"'Data In'!A505","v":0},{"$f":"IF(BackendTable[[#This Row],[Time]]-'Reference Cells'!$C$3<=0,NA(),'Reference Cells'!$C$4-BackendTable[[#This Row],[Time]])*86400","v":{"$error":"#N/A"}},{"$f":"IFERROR(8-BackendTable[[#This Row],[Column1]],\"\")","v":""},{"$f":"IF(ISERROR(BackendTable[[#This Row],[Column1]]),-9,(BackendTable[[#This Row],[Net Time]]-NetTimeMin)*RangeAdj)","v":-9},{"$f":"IF(AND(BackendTable[[#This Row],[Time]]>='Reference Cells'!$C$6,BackendTable[[#This Row],[Time]]<='Reference Cells'!$C$7),(BackendTable[[#This Row],[Time]]-'Reference Cells'!$C$6)*86400,NA())","v":2},{"$f":"IF(CommandCell='Reference Cells'!$C$17,NA(),ABS('Data In'!B505-INDIRECT(\"ZeroVal_\"&H$2,0)))","v":0},{"$f":"IF(CommandCell='Reference Cells'!$C$17,NA(),ABS('Data In'!C505-INDIRECT(\"ZeroVal_\"&I$2,0)))","v":0},{"$f":"IF(CommandCell='Reference Cells'!$C$17,NA(),ABS('Data In'!D505-INDIRECT(\"ZeroVal_\"&J$2,0)))","v":0},{"$f":"IF(CommandCell='Reference Cells'!$C$17,NA(),ABS('Data In'!E505-INDIRECT(\"ZeroVal_\"&K$2,0)))","v":0},{"$f":"IF(CommandCell='Reference Cells'!$C$17,NA(),ABS('Data In'!F505-INDIRECT(\"ZeroVal_\"&L$2,0)))","v":0},{"$f":"MAX(BackendTable[[#This Row],[S1]:[S5]])","v":0},{"$f":"IF(ISERROR(BackendTable[[#This Row],[T0Time]]),0,COUNTIFS(BackendTable[T0Time],\"<=\"&3,BackendTable[T0Time],\">=\"&0)-COUNTIFS(BackendTable[T0Time],\">\"&BackendTable[[#This Row],[T0Time]]))","v":500},null,null,null,null,null,null,null,null,null,null,null,null,null,null,null,null,null,null,null,null,null,null,null,null,{"$f":"MATCH(MAX(BackendTable[[#This Row],[T1S1]:[T1S5]]),BackendTable[[#This Row],[T1S1]:[T1S5]],0)","v":{"$error":"#N/A"}},{"$f":"MATCH(MAX(BackendTable[[#This Row],[T2S1]:[T2S5]]),BackendTable[[#This Row],[T2S1]:[T2S5]],0)","v":{"$error":"#N/A"}},{"$f":"MATCH(MAX(BackendTable[[#This Row],[T3S1]:[T3S5]]),BackendTable[[#This Row],[T3S1]:[T3S5]],0)","v":{"$error":"#N/A"}}]
[null,{"$f":"ROW()-ROW(BackendTable[[#Headers],[Row'#]])","v":499},{"$f":"'Data In'!A506","v":0},{"$f":"IF(BackendTable[[#This Row],[Time]]-'Reference Cells'!$C$3<=0,NA(),'Reference Cells'!$C$4-BackendTable[[#This Row],[Time]])*86400","v":{"$error":"#N/A"}},{"$f":"IFERROR(8-BackendTable[[#This Row],[Column1]],\"\")","v":""},{"$f":"IF(ISERROR(BackendTable[[#This Row],[Column1]]),-9,(BackendTable[[#This Row],[Net Time]]-NetTimeMin)*RangeAdj)","v":-9},{"$f":"IF(AND(BackendTable[[#This Row],[Time]]>='Reference Cells'!$C$6,BackendTable[[#This Row],[Time]]<='Reference Cells'!$C$7),(BackendTable[[#This Row],[Time]]-'Reference Cells'!$C$6)*86400,NA())","v":2},{"$f":"IF(CommandCell='Reference Cells'!$C$17,NA(),ABS('Data In'!B506-INDIRECT(\"ZeroVal_\"&H$2,0)))","v":0},{"$f":"IF(CommandCell='Reference Cells'!$C$17,NA(),ABS('Data In'!C506-INDIRECT(\"ZeroVal_\"&I$2,0)))","v":0},{"$f":"IF(CommandCell='Reference Cells'!$C$17,NA(),ABS('Data In'!D506-INDIRECT(\"ZeroVal_\"&J$2,0)))","v":0},{"$f":"IF(CommandCell='Reference Cells'!$C$17,NA(),ABS('Data In'!E506-INDIRECT(\"ZeroVal_\"&K$2,0)))","v":0},{"$f":"IF(CommandCell='Reference Cells'!$C$17,NA(),ABS('Data In'!F506-INDIRECT(\"ZeroVal_\"&L$2,0)))","v":0},{"$f":"MAX(BackendTable[[#This Row],[S1]:[S5]])","v":0},{"$f":"IF(ISERROR(BackendTable[[#This Row],[T0Time]]),0,COUNTIFS(BackendTable[T0Time],\"<=\"&3,BackendTable[T0Time],\">=\"&0)-COUNTIFS(BackendTable[T0Time],\">\"&BackendTable[[#This Row],[T0Time]]))","v":500},null,null,null,null,null,null,null,null,null,null,null,null,null,null,null,null,null,null,null,null,null,null,null,null,{"$f":"MATCH(MAX(BackendTable[[#This Row],[T1S1]:[T1S5]]),BackendTable[[#This Row],[T1S1]:[T1S5]],0)","v":{"$error":"#N/A"}},{"$f":"MATCH(MAX(BackendTable[[#This Row],[T2S1]:[T2S5]]),BackendTable[[#This Row],[T2S1]:[T2S5]],0)","v":{"$error":"#N/A"}},{"$f":"MATCH(MAX(BackendTable[[#This Row],[T3S1]:[T3S5]]),BackendTable[[#This Row],[T3S1]:[T3S5]],0)","v":{"$error":"#N/A"}}]
[null,{"$f":"ROW()-ROW(BackendTable[[#Headers],[Row'#]])","v":500},{"$f":"'Data In'!A507","v":0},{"$f":"IF(BackendTable[[#This Row],[Time]]-'Reference Cells'!$C$3<=0,NA(),'Reference Cells'!$C$4-BackendTable[[#This Row],[Time]])*86400","v":{"$error":"#N/A"}},{"$f":"IFERROR(8-BackendTable[[#This Row],[Column1]],\"\")","v":""},{"$f":"IF(ISERROR(BackendTable[[#This Row],[Column1]]),-9,(BackendTable[[#This Row],[Net Time]]-NetTimeMin)*RangeAdj)","v":-9},{"$f":"IF(AND(BackendTable[[#This Row],[Time]]>='Reference Cells'!$C$6,BackendTable[[#This Row],[Time]]<='Reference Cells'!$C$7),(BackendTable[[#This Row],[Time]]-'Reference Cells'!$C$6)*86400,NA())","v":2},{"$f":"IF(CommandCell='Reference Cells'!$C$17,NA(),ABS('Data In'!B507-INDIRECT(\"ZeroVal_\"&H$2,0)))","v":0},{"$f":"IF(CommandCell='Reference Cells'!$C$17,NA(),ABS('Data In'!C507-INDIRECT(\"ZeroVal_\"&I$2,0)))","v":0},{"$f":"IF(CommandCell='Reference Cells'!$C$17,NA(),ABS('Data In'!D507-INDIRECT(\"ZeroVal_\"&J$2,0)))","v":0},{"$f":"IF(CommandCell='Reference Cells'!$C$17,NA(),ABS('Data In'!E507-INDIRECT(\"ZeroVal_\"&K$2,0)))","v":0},{"$f":"IF(CommandCell='Reference Cells'!$C$17,NA(),ABS('Data In'!F507-INDIRECT(\"ZeroVal_\"&L$2,0)))","v":0},{"$f":"MAX(BackendTable[[#This Row],[S1]:[S5]])","v":0},{"$f":"IF(ISERROR(BackendTable[[#This Row],[T0Time]]),0,COUNTIFS(BackendTable[T0Time],\"<=\"&3,BackendTable[T0Time],\">=\"&0)-COUNTIFS(BackendTable[T0Time],\">\"&BackendTable[[#This Row],[T0Time]]))","v":500},null,null,null,null,null,null,null,null,null,null,null,null,null,null,null,null,null,null,null,null,null,null,null,null,{"$f":"MATCH(MAX(BackendTable[[#This Row],[T1S1]:[T1S5]]),BackendTable[[#This Row],[T1S1]:[T1S5]],0)","v":{"$error":"#N/A"}},{"$f":"MATCH(MAX(BackendTable[[#This Row],[T2S1]:[T2S5]]),BackendTable[[#This Row],[T2S1]:[T2S5]],0)","v":{"$error":"#N/A"}},{"$f":"MATCH(MAX(BackendTable[[#This Row],[T3S1]:[T3S5]]),BackendTable[[#This Row],[T3S1]:[T3S5]],0)","v":{"$error":"#N/A"}}]